{"text_format":"1","workbook":"xlsx","n_sheets":327,"sheets":["Menú","Datos Empresa","Listado de Puestos de Trabajo","TABLA 1 P1","TABLA 1 P2","TABLA 1 P3","TABLA 1 P4","TABLA 1 P5","TABLA 1 P6","TABLA 1 P7","TABLA 1 P8","TABLA 1 P9","TABLA 1 P10","TABLA 3T1P1","TABLA 3T1P2","TABLA 3T1P3","TABLA 3T1P4","TABLA 3T1P5","TABLA 3T1P6","TABLA 3T1P7","TABLA 3T1P8","TABLA 3T1P9","TABLA 3T1P10","TABLA 4T1P1","TABLA 4T1P2","TABLA 4T1P3","TABLA 4T1P4","TABLA 4T1P5","TABLA 4T1P6","TABLA 4T1P7","TABLA 4T1P8","TABLA 4T1P9","TABLA 4T1P10","TABLA 3T2P1","TABLA 3T2P2","TABLA 3T2P3","TABLA 3T2P4","TABLA 3T2P5","TABLA 3T2P6","TABLA 3T2P7","TABLA 3T2P8","TABLA 3T2P9","TABLA 3T2P10","TABLA 4T2P1","TABLA 4T2P2","TABLA 4T2P3","TABLA 4T2P4","TABLA 4T2P5","TABLA 4T2P6","TABLA 4T2P7","TABLA 4T2P8","TABLA 4T2P9","TABLA 4T2P10","TABLA 3T3P1","TABLA 3T3P2","TABLA 3T3P3","TABLA 3T3P4","TABLA 3T3P5","TABLA 3T3P6","TABLA 3T3P7","TABLA 3T3P8","TABLA 3T3P9","TABLA 3T3P10","TABLA 3T4P3","TABLA 3T4P4","TABLA 3T4P5","TABLA 3T4P6","TABLA 3T4P7","TABLA 3T4P8","TABLA 3T4P9","TABLA 3T4P10","TABLA 4T3P1","TABLA 4T3P2","TABLA 4T3P3","TABLA 4T3P4","TABLA 4T3P5","TABLA 4T3P6","TABLA 4T3P7","TABLA 4T3P8","TABLA 4T3P9","TABLA 4T3P10","TABLA 4T4P3","TABLA 4T4P4","TABLA 4T4P5","TABLA 4T4P6","TABLA 4T4P7","TABLA 4T4P8","TABLA 4T4P9","TABLA 4T4P10","TABLA 3T4P1","TABLA 3T4P2","TABLA 4T4P1","TABLA 4T4P2","TABLA 3T5P1","TABLA 3T5P2","TABLA 3T5P3","TABLA 3T5P4","TABLA 3T5P5","TABLA 3T5P6","TABLA 3T5P7","TABLA 3T5P8","TABLA 3T5P9","TABLA 3T5P10","TABLA 4T5P1","TABLA 4T5P2","TABLA 4T5P3","TABLA 4T5P4","TABLA 4T5P5","TABLA 4T5P6","TABLA 4T5P7","TABLA 4T5P8","TABLA 4T5P9","TABLA 4T5P10","TABLA 5T1P1","TABLA 5T1P2","TABLA 5T1P3","TABLA 5T1P4","TABLA 5T1P5","TABLA 5T1P6","TABLA 5T1P7","TABLA 5T1P8","TABLA 5T1P9","TABLA 5T1P10","TABLA 6T1P1","TABLA 6T1P2","TABLA 6T1P3","TABLA 6T1P4","TABLA 6T1P5","TABLA 6T1P6","TABLA 6T1P7","TABLA 6T1P8","TABLA 6T1P9","TABLA 6T1P10","TABLA 5T2P1","TABLA 5T2P2","TABLA 5T2P3","TABLA 5T2P4","TABLA 5T2P5","TABLA 5T2P6","TABLA 5T2P7","TABLA 5T2P8","TABLA 5T2P9","TABLA 5T2P10","TABLA 6T2P1","TABLA 6T2P2","TABLA 6T2P3","TABLA 6T2P4","TABLA 6T2P5","TABLA 6T2P6","TABLA 6T2P7","TABLA 6T2P8","TABLA 6T2P9","TABLA 6T2P10","TABLA 5T3P1","TABLA 5T3P2","TABLA 5T3P3","TABLA 5T3P4","TABLA 5T3P5","TABLA 5T3P6","TABLA 5T3P7","TABLA 5T3P8","TABLA 5T3P9","TABLA 5T3P10","TABLA 6T3P1","TABLA 6T3P2","TABLA 6T3P3","TABLA 6T3P4","TABLA 6T3P5","TABLA 6T3P6","TABLA 6T3P7","TABLA 6T3P8","TABLA 6T3P9","TABLA 6T3P10","TABLA 5T4P1","TABLA 5T4P2","TABLA 5T4P3","TABLA 5T4P4","TABLA 5T4P5","TABLA 5T4P6","TABLA 5T4P7","TABLA 5T4P8","TABLA 5T4P9","TABLA 5T4P10","TABLA 6T4P1","TABLA 6T4P2","TABLA 6T4P3","TABLA 6T4P4","TABLA 6T4P5","TABLA 6T4P6","TABLA 6T4P7","TABLA 6T4P8","TABLA 6T4P9","TABLA 6T4P10","TABLA 5T5P1","TABLA 5T5P2","TABLA 5T5P3","TABLA 5T5P4","TABLA 5T5P5","TABLA 5T5P6","TABLA 5T5P7","TABLA 5T5P8","TABLA 5T5P9","TABLA 5T5P10","TABLA 6T5P1","TABLA 6T5P2","TABLA 6T5P3","TABLA 6T5P4","TABLA 6T5P5","TABLA 6T5P6","TABLA 6T5P7","TABLA 6T5P8","TABLA 6T5P9","TABLA 6T5P10","TABLA 7T1P1","TABLA 7T1P2","TABLA 7T1P3","TABLA 7T1P4","TABLA 7T1P5","TABLA 7T1P6","TABLA 7T1P7","TABLA 7T1P8","TABLA 7T1P9","TABLA 7T1P10","TABLA 8T1P1","TABLA 8T1P2","TABLA 8T1P3","TABLA 8T1P4","TABLA 8T1P5","TABLA 8T1P6","TABLA 8T1P7","TABLA 8T1P8","TABLA 8T1P9","TABLA 8T1P10","TABLA 7T2P1","TABLA 7T2P2","TABLA 7T2P3","TABLA 7T2P4","TABLA 7T2P5","TABLA 7T2P6","TABLA 7T2P7","TABLA 7T2P8","TABLA 7T2P9","TABLA 7T2P10","TABLA 8T2P1","TABLA 8T2P2","TABLA 8T2P3","TABLA 8T2P4","TABLA 8T2P5","TABLA 8T2P6","TABLA 8T2P7","TABLA 8T2P8","TABLA 8T2P9","TABLA 8T2P10","TABLA 7T3P1","TABLA 7T3P2","TABLA 7T3P3","TABLA 7T3P4","TABLA 7T3P5","TABLA 7T3P6","TABLA 7T3P7","TABLA 7T3P8","TABLA 7T3P9","TABLA 7T3P10","TABLA 8T3P1","TABLA 8T3P2","TABLA 8T3P3","TABLA 8T3P4","TABLA 8T3P5","TABLA 8T3P6","TABLA 8T3P7","TABLA 8T3P8","TABLA 8T3P9","TABLA 8T3P10","TABLA 7T4P1","TABLA 7T4P2","TABLA 7T4P3","TABLA 7T4P4","TABLA 7T4P5","TABLA 7T4P6","TABLA 7T4P7","TABLA 7T4P8","TABLA 7T4P9","TABLA 7T4P10","TABLA 8T4P1","TABLA 8T4P2","TABLA 8T4P3","TABLA 8T4P4","TABLA 8T4P5","TABLA 8T4P6","TABLA 8T4P7","TABLA 8T4P8","TABLA 8T4P9","TABLA 8T4P10","TABLA 7T5P1","TABLA 7T5P2","TABLA 7T5P3","TABLA 7T5P4","TABLA 7T5P5","TABLA 7T5P6","TABLA 7T5P7","TABLA 7T5P8","TABLA 7T5P9","TABLA 7T5P10","TABLA 8T5P1","TABLA 8T5P2","TABLA 8T5P3","TABLA 8T5P4","TABLA 8T5P5","TABLA 8T5P6","TABLA 8T5P7","TABLA 8T5P8","TABLA 8T5P9","TABLA 8T5P10","FICHA RESULTADOS PUESTOS","TABLA 9 P1","TABLA 9 P2","TABLA 9 P3","TABLA 9 P4","TABLA 9 P5","TABLA 9 P6","TABLA 9 P7","TABLA 9 P8","TABLA 9 P9","TABLA 9 P10","MEDIDAS DE CONTROL","RESUMEN","DATA"],"not_rendered":{"charts":0,"images":12,"macros":1,"external_links":0,"defined_names":0,"comments":11,"pivot_tables":0},"unopened":[],"bounds":{"document_bytes":16777216,"sheet_cells":100000,"rows_first":2000,"rows_last":500,"rows_between":2000,"halvings":0,"cell_chars":16384,"cell_head_chars":4096},"cells_cut":0,"cells_raw":0,"read":"whole","date_system":"1900"}

{"sheet":"Menú","index":0,"n_rows":0,"n_cols":0,"rows_kept":0,"cut":false,"hidden":false,"merged":[]}

{"sheet":"Datos Empresa","index":1,"n_rows":36,"n_cols":5,"rows_kept":36,"cut":false,"hidden":false,"merged":[]}
[]
[null,null,null,"DATOS GENERALES DE LA EMPRESA/ INSTITUCIÓN"]
[]
[null,null,null,"Razón Social"]
[null,null,{"$f":"IF(ISBLANK(D5),\"*Este Campo es Obligatorio>>\",\"\")","v":"*Este Campo es Obligatorio>>"},null,{"$f":"IF(C5=\"*Este Campo es Obligatorio>>\",\"1\",\"0\")","v":"1"}]
[]
[null,null,null,"RUT Empresa (Formato Sin puntos Con Guión, Ejemplo: 11111111-1)"]
[null,null,{"$f":"IF(ISBLANK(D8),\"*Este Campo es Obligatorio>>\",\"\")","v":"*Este Campo es Obligatorio>>"},null,{"$f":"IF(C8=\"*Este Campo es Obligatorio>>\",\"1\",\"0\")","v":"1"}]
[]
[null,null,null,"Actividad Económica"]
[null,null,{"$f":"IF(ISBLANK(D11),\"*Este Campo es Obligatorio>>\",\"\")","v":"*Este Campo es Obligatorio>>"},null,{"$f":"IF(C11=\"*Este Campo es Obligatorio>>\",\"1\",\"0\")","v":"1"}]
[]
[null,null,null,"Dirección del Centro de Trabajo (Calle, N°)"]
[null,null,{"$f":"IF(ISBLANK(D14),\"*Este Campo es Obligatorio>>\",\"\")","v":"*Este Campo es Obligatorio>>"},null,{"$f":"IF(C14=\"*Este Campo es Obligatorio>>\",\"1\",\"0\")","v":"1"}]
[]
[null,null,null,"Región"]
[null,null,{"$f":"IF(ISBLANK(D17),\"*Este Campo es Obligatorio>>\",\"\")","v":"*Este Campo es Obligatorio>>"},null,{"$f":"IF(C17=\"*Este Campo es Obligatorio>>\",\"1\",\"0\")","v":"1"}]
[]
[null,null,null,"Comuna"]
[null,null,{"$f":"IF(ISBLANK(D20),\"*Este Campo es Obligatorio>>\",\"\")","v":"*Este Campo es Obligatorio>>"},null,{"$f":"IF(C20=\"*Este Campo es Obligatorio>>\",\"1\",\"0\")","v":"1"}]
[]
[null,null,null,"RUN Responsable (Formato Sin puntos Con Guión, Ejemplo: 11111111-1)"]
[null,null,{"$f":"IF(ISBLANK(D23),\"*Este Campo es Obligatorio>>\",\"\")","v":"*Este Campo es Obligatorio>>"},null,{"$f":"IF(C23=\"*Este Campo es Obligatorio>>\",\"1\",\"0\")","v":"1"}]
[]
[null,null,null,"Responsable (Nombre y Apellidos)"]
[null,null,{"$f":"IF(ISBLANK(D26),\"*Este Campo es Obligatorio>>\",\"\")","v":"*Este Campo es Obligatorio>>"},null,{"$f":"IF(C26=\"*Este Campo es Obligatorio>>\",\"1\",\"0\")","v":"1"}]
[]
[null,null,null,"Cargo Responsable"]
[null,null,{"$f":"IF(ISBLANK(D29),\"*Este Campo es Obligatorio>>\",\"\")","v":"*Este Campo es Obligatorio>>"},null,{"$f":"IF(C29=\"*Este Campo es Obligatorio>>\",\"1\",\"0\")","v":"1"}]
[]
[null,null,null,"Correo Electrónico Responsable"]
[null,null,{"$f":"IF(ISBLANK(D32),\"*Este Campo es Obligatorio>>\",\"\")","v":"*Este Campo es Obligatorio>>"},null,{"$f":"IF(C32=\"*Este Campo es Obligatorio>>\",\"1\",\"0\")","v":"1"}]
[]
[null,null,null,"Teléfono de Contacto"]
[null,null,{"$f":"IF(ISBLANK(D35),\"*Este Campo es Obligatorio>>\",\"\")","v":"*Este Campo es Obligatorio>>"},null,{"$f":"IF(C35=\"*Este Campo es Obligatorio>>\",\"1\",\"0\")","v":"1"}]
[null,null,{"$f":"E36","v":11},{"$f":"IF(E36>=1,\"Debe completar todos los datos solicitados\",\"Carga de datos exitosa, puede continuar\")","v":"Debe completar todos los datos solicitados"},{"$f":"E5+E8+E11+E14+E17+E20+E23+E26+E29+E32+E35","v":11}]

{"sheet":"Listado de Puestos de Trabajo","index":2,"n_rows":33,"n_cols":20,"rows_kept":33,"cut":false,"hidden":false,"merged":[]}
[]
[null,null,null,"                                                                                                INFORMACIÓN GENERAL DE LOS PUESTOS DE TRABAJO "]
[]
[null,null,null,"LISTADO DE PUESTOS DE TRABAJO                                                     "]
[null,null,"N°","Puesto de Trabajo",null,"N°  de Mujeres en PT",null,null,null,null,null,"N°  de Hombres en PT",null,null,null,null,null,"N°  de Personas  en PT",null,"Haga clic en el siguiente link para ir a Información General del Puesto N° 1."]
[null,null,"❶","Disponible Puesto 1",null,0,null,"NA",null,"NA",null,0,null,"NA",null,"NA",null,{"$f":"F6+L6","v":0},null,"Ir a Tabla 1 Puesto 1"]
[]
[null,null,"N°","Puesto de Trabajo",null,"N°  de Mujeres en PT",null,null,null,null,null,"N°  de Hombres en PT",null,null,null,null,null,"N°  de Personas  en PT",null,"Haga clic en el siguiente link para ir a Información General del Puesto N° 2."]
[null,null,"❷","Disponible Puesto 2",null,0,null,"NA",null,"NA",null,0,null,"NA",null,"NA",null,{"$f":"F9+L9","v":0},null,"Ir a Tabla 1 Puesto 2"]
[]
[null,null,"N°","Puesto de Trabajo",null,"N°  de Mujeres en PT",null,null,null,null,null,"N°  de Hombres en PT",null,null,null,null,null,"N°  de Personas  en PT",null,"Haga clic en el siguiente link para ir a Información General del Puesto N° 3."]
[null,null,"❸","Disponible Puesto 3",null,0,null,"NA",null,"NA",null,0,null,"NA",null,"NA",null,{"$f":"F12+L12","v":0},null,"Ir a Tabla 1 Puesto 3"]
[]
[null,null,"N°","Puesto de Trabajo",null,"N°  de Mujeres en PT",null,null,null,null,null,"N°  de Hombres en PT",null,null,null,null,null,"N°  de Personas  en PT",null,"Haga clic en el siguiente link para ir a Información General del Puesto N° 4."]
[null,null,"❹","Disponible Puesto 4",null,0,null,"NA",null,"NA",null,0,null,"NA",null,"NA",null,{"$f":"F15+L15","v":0},null,"Ir a Tabla 1 Puesto 4"]
[]
[null,null,"N°","Puesto de Trabajo",null,"N°  de Mujeres en PT",null,null,null,null,null,"N°  de Hombres en PT",null,null,null,null,null,"N°  de Personas  en PT",null,"Haga clic en el siguiente link para ir a Información General del Puesto N° 5."]
[null,null,"❺","Disponible Puesto 5",null,0,null,"NA",null,"NA",null,0,null,"NA",null,"NA",null,{"$f":"F18+L18","v":0},null,"Ir a Tabla 1 Puesto 5"]
[]
[null,null,"N°","Puesto de Trabajo",null,"N°  de Mujeres en PT",null,null,null,null,null,"N°  de Hombres en PT",null,null,null,null,null,"N°  de Personas  en PT",null,"Haga clic en el siguiente link para ir a Información General del Puesto N° 6."]
[null,null,"❻","Disponible Puesto 6",null,0,null,"NA",null,"NA",null,0,null,"NA",null,"NA",null,{"$f":"F21+L21","v":0},null,"Ir a Tabla 1 Puesto 6"]
[]
[null,null,"N°","Puesto de Trabajo",null,"N°  de Mujeres en PT",null,null,null,null,null,"N°  de Hombres en PT",null,null,null,null,null,"N°  de Personas  en PT",null,"Haga clic en el siguiente link para ir a Información General del Puesto N° 7."]
[null,null,"❼","Disponible Puesto 7",null,0,null,"NA",null,"NA",null,0,null,"NA",null,"NA",null,{"$f":"F24+L24","v":0},null,"Ir a Tabla 1 Puesto 7"]
[]
[null,null,"N°","Puesto de Trabajo",null,"N°  de Mujeres en PT",null,null,null,null,null,"N°  de Hombres en PT",null,null,null,null,null,"N°  de Personas  en PT",null,"Haga clic en el siguiente link para ir a Información General del Puesto N° 8."]
[null,null,"❽","Disponible Puesto 8",null,0,null,"NA",null,"NA",null,0,null,"NA",null,"NA",null,{"$f":"F27+L27","v":0},null,"Ir a Tabla 1 Puesto 8"]
[]
[null,null,"N°","Puesto de Trabajo",null,"N°  de Mujeres en PT",null,null,null,null,null,"N°  de Hombres en PT",null,null,null,null,null,"N°  de Personas  en PT",null,"Haga clic en el siguiente link para ir a Información General del Puesto N° 9."]
[null,null,"❾","Disponible Puesto 9",null,0,null,"NA",null,"NA",null,0,null,"NA",null,"NA",null,{"$f":"F30+L30","v":0},null,"Ir a Tabla 1 Puesto 9"]
[]
[null,null,"N°","Puesto de Trabajo",null,"N°  de Mujeres en PT",null,null,null,null,null,"N°  de Hombres en PT",null,null,null,null,null,"N°  de Personas  en PT",null,"Haga clic en el siguiente link para ir a Información General del Puesto N° 10."]
[null,null,"❿","Disponible Puesto 10",null,0,null,"NA",null,"NA",null,0,null,"NA",null,"NA",null,{"$f":"F33+L33","v":0},null,"Ir a Tabla 1 Puesto 10"]

{"sheet":"TABLA 1 P1","index":3,"n_rows":15,"n_cols":41,"rows_kept":15,"cut":false,"hidden":false,"merged":[]}
[]
[null,null,"                                                                                  INFORMACIÓN GENERAL DEL PUESTO DE TRABAJO\n",null,null,null,null,null,null,null,null,null,null,null,null,null,null,null,null,null,null,null,null,null,null,"IDENTIFICACIÓN INICIAL"]
[null,null,"Puesto de Trabajo (PT)"]
[null,"❶",{"$f":"'Listado de Puestos de Trabajo'!D6","v":"Disponible Puesto 1"}]
[null,null,"Tarea de MMC o MMP",null,"¿Existe Manipulación Manual de Carga/Personas?",null,"Tiempo Diario por Tarea (hrs.)",null,"Carga",null,"Forma de Manipulación",null,"Distancia Recorrida",null,"Peso (Kg)",null,"Frecuencia (Levantamiento-Desenso-Tranporte)","(N° Veces/Tiempo)",null,"Escala de BORG (Empuje- Arrastre)",null,null,null,null,"¿Existe levantamiento, descenso o transporte manual de un objeto de 3 kg o más?",null,"¿Existe empuje o arrastre de un objeto utilizando 1 o 2 manos?",null,"¿Existe manejo manual de personas/pacientes?",null,"¿Existe al menos una “tarea repetitiva” de extremidad superior con duración total de 1 o más horas diarias o con tiempo total de 5 o más horas a la semana?",null,null,null,null,"                                                                                          CUADRO DE RESULTADO IDENTIFICACIÓN INICIAL"]
[null,"N° 1","NA",null,"No existe",null,"NA",null,"NA",null,"NA",null,"NA",null,"NA",null,"NA","NA",null,"NA",null,null,null,{"$f":"IF(AND(Y6=\"Si\",AA6=\"Si\",AC6=\"No\"),\" ***Error***         Solo puede seleccionar una respuesta afirmativa por tarea\",\"\")","v":""},"No",{"$f":"IF(AND(Y6=\"No\",AA6=\"Si\",AC6=\"Si\"),\"***Error***         Solo puede seleccionar una respuesta afirmativa por tarea\",\"\")","v":""},"No",{"$f":"IF(AND(Y6=\"Si\",AA6=\"No\",AC6=\"Si\"),\"***Error***         Solo puede seleccionar una respuesta afirmativa por tarea\",\"\")","v":""},"No",{"$f":"IF(AND(Y6=\"Si\",AA6=\"Si\",AC6=\"Si\"),\"***Error***         Solo puede seleccionar una respuesta afirmativa por tarea\",\"\")","v":""},"No",{"$f":"IF(AE6=\"Si\",\"Debe Aplicar NT-TMERT-EESS\",\"\")","v":""},null,"Tarea N° 1",{"$f":"AF7","v":0},{"$f":"IF(AND(Y6=\"No\",AA6=\"No\",AC6=\"No\"),\"Ha terminado el Proceso de Identificación para esta Tarea\",\"Requiere Identificación Avanzada\")","v":"Ha terminado el Proceso de Identificación para esta Tarea"},null,{"$f":"IF(AJ6=\"Requiere Identificación Avanzada\",\"Seleccione la(s) Tabla(s) de Identificación Avanzada Condición Aceptable indicadas\",\"\")","v":""},{"$f":"IF(Y6=\"Si\",\"Aplicar Tabla 3\",\"\")","v":""},{"$f":"IF(AA6=\"Si\",\"Aplicar Tabla 5\",\"\")","v":""},{"$f":"IF(AC6=\"Si\",\"Aplicar Tabla 7\",\"\")","v":""}]
[null,null,null,null,null,null,null,null,null,null,null,null,null,null,null,null,null,null,null,null,null,null,null,null,{"$f":"IF(Y6=\"No\",\"0\",\"1\")","v":"0"},null,{"$f":"IF(AA6=\"No\",\"0\",\"1\")","v":"0"},null,{"$f":"IF(AC6=\"No\",\"0\",\"1\")","v":"0"},null,null,{"$f":"Y7+AA7+AC7","v":0}]
[null,"N° 2","NA",null,"No existe",null,"NA",null,"NA",null,"NA",null,"NA",null,"NA",null,"NA","NA",null,"NA",null,null,null,{"$f":"IF(AND(Y8=\"Si\",AA8=\"Si\",AC8=\"No\"),\" ***Error***         Solo puede seleccionar una respuesta afirmativa por tarea\",\"\")","v":""},"No",{"$f":"IF(AND(Y8=\"No\",AA8=\"Si\",AC8=\"Si\"),\"***Error***         Solo puede seleccionar una respuesta afirmativa por tarea\",\"\")","v":""},"No",{"$f":"IF(AND(Y8=\"Si\",AA8=\"No\",AC8=\"Si\"),\"***Error***         Solo puede seleccionar una respuesta afirmativa por tarea\",\"\")","v":""},"No",{"$f":"IF(AND(Y8=\"Si\",AA8=\"Si\",AC8=\"Si\"),\"***Error***         Solo puede seleccionar una respuesta afirmativa por tarea\",\"\")","v":""},"No",{"$f":"IF(AE8=\"Si\",\"Debe Aplicar NT-TMERT-EESS\",\"\")","v":""},null,"Tarea N° 2",{"$f":"AF9","v":0},{"$f":"IF(AND(Y8=\"No\",AA8=\"No\",AC8=\"No\"),\"Ha terminado el Proceso de Identificación para esta Tarea\",\"Requiere Identificación Avanzada\")","v":"Ha terminado el Proceso de Identificación para esta Tarea"},null,{"$f":"IF(AJ8=\"Requiere Identificación Avanzada\",\"Seleccione la(s) Tabla(s) de Identificación Avanzada Condición Aceptable indicadas\",\"\")","v":""},{"$f":"IF(Y8=\"Si\",\"Aplicar Tabla 3\",\"\")","v":""},{"$f":"IF(AA8=\"Si\",\"Aplicar Tabla 5\",\"\")","v":""},{"$f":"IF(AC8=\"Si\",\"Aplicar Tabla 7\",\"\")","v":""}]
[null,null,null,null,null,null,null,null,null,null,null,null,null,null,null,null,null,null,null,null,null,null,null,null,{"$f":"IF(Y8=\"No\",\"0\",\"1\")","v":"0"},null,{"$f":"IF(AA8=\"No\",\"0\",\"1\")","v":"0"},null,{"$f":"IF(AC8=\"No\",\"0\",\"1\")","v":"0"},null,null,{"$f":"Y9+AA9+AC9","v":0}]
[null,"N° 3","NA",null,"No existe",null,"NA",null,"NA",null,"NA",null,"NA",null,"NA",null,"NA","NA",null,"NA",null,null,null,{"$f":"IF(AND(Y10=\"Si\",AA10=\"Si\",AC10=\"No\"),\" ***Error***         Solo puede seleccionar una respuesta afirmativa por tarea\",\"\")","v":""},"No",{"$f":"IF(AND(Y10=\"No\",AA10=\"Si\",AC10=\"Si\"),\"***Error***         Solo puede seleccionar una respuesta afirmativa por tarea\",\"\")","v":""},"No",{"$f":"IF(AND(Y10=\"Si\",AA10=\"No\",AC10=\"Si\"),\"***Error***         Solo puede seleccionar una respuesta afirmativa por tarea\",\"\")","v":""},"No",{"$f":"IF(AND(Y10=\"Si\",AA10=\"Si\",AC10=\"Si\"),\"***Error***         Solo puede seleccionar una respuesta afirmativa por tarea\",\"\")","v":""},"No",{"$f":"IF(AE10=\"Si\",\"Debe Aplicar NT-TMERT-EESS\",\"\")","v":""},null,"Tarea N° 3",{"$f":"AF11","v":0},{"$f":"IF(AND(Y10=\"No\",AA10=\"No\",AC10=\"No\"),\"Ha terminado el Proceso de Identificación para esta Tarea\",\"Requiere Identificación Avanzada\")","v":"Ha terminado el Proceso de Identificación para esta Tarea"},null,{"$f":"IF(AJ10=\"Requiere Identificación Avanzada\",\"Seleccione la(s) Tabla(s) de Identificación Avanzada Condición Aceptable indicadas\",\"\")","v":""},{"$f":"IF(Y10=\"Si\",\"Aplicar Tabla 3\",\"\")","v":""},{"$f":"IF(AA10=\"Si\",\"Aplicar Tabla 5\",\"\")","v":""},{"$f":"IF(AC10=\"Si\",\"Aplicar Tabla 7\",\"\")","v":""}]
[null,null,null,null,null,null,null,null,null,null,null,null,null,null,null,null,null,null,null,null,null,null,null,null,{"$f":"IF(Y10=\"No\",\"0\",\"1\")","v":"0"},null,{"$f":"IF(AA10=\"No\",\"0\",\"1\")","v":"0"},null,{"$f":"IF(AC10=\"No\",\"0\",\"1\")","v":"0"},null,null,{"$f":"Y11+AA11+AC11","v":0}]
[null,"N°4","NA",null,"No existe",null,"NA",null,"NA",null,"NA",null,"NA",null,"NA",null,"NA","NA",null,"NA",null,null,null,{"$f":"IF(AND(Y12=\"Si\",AA12=\"Si\",AC12=\"No\"),\" ***Error***         Solo puede seleccionar una respuesta afirmativa por tarea\",\"\")","v":""},"No",{"$f":"IF(AND(Y12=\"No\",AA12=\"Si\",AC12=\"Si\"),\"***Error***         Solo puede seleccionar una respuesta afirmativa por tarea\",\"\")","v":""},"No",{"$f":"IF(AND(Y12=\"Si\",AA12=\"No\",AC12=\"Si\"),\"***Error***         Solo puede seleccionar una respuesta afirmativa por tarea\",\"\")","v":""},"No",{"$f":"IF(AND(Y12=\"Si\",AA12=\"Si\",AC12=\"Si\"),\"***Error***         Solo puede seleccionar una respuesta afirmativa por tarea\",\"\")","v":""},"No","",null,"Tarea N° 4",{"$f":"AF13","v":0},{"$f":"IF(AND(Y12=\"No\",AA12=\"No\",AC12=\"No\"),\"Ha terminado el Proceso de Identificación para esta Tarea\",\"Requiere Identificación Avanzada\")","v":"Ha terminado el Proceso de Identificación para esta Tarea"},null,{"$f":"IF(AJ12=\"Requiere Identificación Avanzada\",\"Seleccione la(s) Tabla(s) de Identificación Avanzada Condición Aceptable indicadas\",\"\")","v":""},{"$f":"IF(Y12=\"Si\",\"Aplicar Tabla 3\",\"\")","v":""},{"$f":"IF(AA12=\"Si\",\"Aplicar Tabla 5\",\"\")","v":""},{"$f":"IF(AC12=\"Si\",\"Aplicar Tabla 7\",\"\")","v":""}]
[null,null,null,null,null,null,null,null,null,null,null,null,null,null,null,null,null,null,null,null,null,null,null,null,{"$f":"IF(Y12=\"No\",\"0\",\"1\")","v":"0"},null,{"$f":"IF(AA12=\"No\",\"0\",\"1\")","v":"0"},null,{"$f":"IF(AC12=\"No\",\"0\",\"1\")","v":"0"},null,null,{"$f":"Y13+AA13+AC13","v":0}]
[null,"N°5","NA",null,"No existe",null,"NA",null,"NA",null,"NA",null,"NA",null,"NA",null,"NA","NA",null,"NA",null,null,null,{"$f":"IF(AND(Y14=\"Si\",AA14=\"Si\",AC14=\"No\"),\" ***Error***         Solo puede seleccionar una respuesta afirmativa por tarea\",\"\")","v":""},"No",{"$f":"IF(AND(Y14=\"No\",AA14=\"Si\",AC14=\"Si\"),\"***Error***         Solo puede seleccionar una respuesta afirmativa por tarea\",\"\")","v":""},"No",{"$f":"IF(AND(Y14=\"Si\",AA14=\"No\",AC14=\"Si\"),\"***Error***         Solo puede seleccionar una respuesta afirmativa por tarea\",\"\")","v":""},"No",{"$f":"IF(AND(Y14=\"Si\",AA14=\"Si\",AC14=\"Si\"),\"***Error***         Solo puede seleccionar una respuesta afirmativa por tarea\",\"\")","v":""},"No","",null,"Tarea N° 5",{"$f":"AF15","v":0},{"$f":"IF(AND(Y14=\"No\",AA14=\"No\",AC14=\"No\"),\"Ha terminado el Proceso de Identificación para esta Tarea\",\"Requiere Identificación Avanzada\")","v":"Ha terminado el Proceso de Identificación para esta Tarea"},null,{"$f":"IF(AJ14=\"Requiere Identificación Avanzada\",\"Seleccione la(s) Tabla(s) de Identificación Avanzada Condición Aceptable indicadas\",\"\")","v":""},{"$f":"IF(Y14=\"Si\",\"Aplicar Tabla 3\",\"\")","v":""},{"$f":"IF(AA14=\"Si\",\"Aplicar Tabla 5\",\"\")","v":""},{"$f":"IF(AC14=\"Si\",\"Aplicar Tabla 7\",\"\")","v":""}]
[null,null,null,null,null,null,null,null,null,null,null,null,null,null,null,null,null,null,null,null,null,null,null,null,{"$f":"IF(Y14=\"No\",\"0\",\"1\")","v":"0"},null,{"$f":"IF(AA14=\"No\",\"0\",\"1\")","v":"0"},null,{"$f":"IF(AC14=\"No\",\"0\",\"1\")","v":"0"},null,null,{"$f":"Y15+AA15+AC15","v":0}]

{"sheet":"TABLA 1 P2","index":4,"n_rows":15,"n_cols":41,"rows_kept":15,"cut":false,"hidden":false,"merged":[]}
[]
[null,null,"                                                                                  INFORMACIÓN GENERAL DEL PUESTO DE TRABAJO\n",null,null,null,null,null,null,null,null,null,null,null,null,null,null,null,null,null,null,null,null,null,null,"IDENTIFICACIÓN INICIAL"]
[null,null,"Puesto de Trabajo (PT)"]
[null,"❷",{"$f":"'Listado de Puestos de Trabajo'!D9","v":"Disponible Puesto 2"}]
[null,null,"Tarea de MMC o MMP",null,"¿Existe Manipulación Manual de Carga/Personas?",null,"Tiempo Diario por Tarea (hrs.)",null,"Carga",null,"Forma de Manipulación",null,"Distancia Recorrida",null,"Peso (Kg)",null,"Frecuencia (Levantamiento-Desenso-Tranporte)","(N° Veces/Tiempo)",null,"Escala de BORG (Empuje- Arrastre)",null,null,null,null,"¿Existe levantamiento, descenso o transporte manual de un objeto de 3 kg o más?",null,"¿Existe empuje o arrastre de un objeto utilizando 1 o 2 manos?",null,"¿Existe manejo manual de personas/pacientes?",null,"¿Existe al menos una “tarea repetitiva” de extremidad superior con duración total de 1 o más horas diarias o con tiempo total de 5 o más horas a la semana?",null,null,null,null,"                                                                                          CUADRO DE RESULTADO IDENTIFICACIÓN INICIAL"]
[null,"N° 1","NA",null,"No existe",null,"NA",null,"NA",null,"NA",null,"NA",null,"NA",null,"NA","NA",null,"NA",null,null,null,{"$f":"IF(AND(Y6=\"Si\",AA6=\"Si\",AC6=\"No\"),\" ***Error***         Solo puede seleccionar una respuesta afirmativa por tarea\",\"\")","v":""},"No",{"$f":"IF(AND(Y6=\"No\",AA6=\"Si\",AC6=\"Si\"),\"***Error***         Solo puede seleccionar una respuesta afirmativa por tarea\",\"\")","v":""},"No",{"$f":"IF(AND(Y6=\"Si\",AA6=\"No\",AC6=\"Si\"),\"***Error***         Solo puede seleccionar una respuesta afirmativa por tarea\",\"\")","v":""},"No",{"$f":"IF(AND(Y6=\"Si\",AA6=\"Si\",AC6=\"Si\"),\"***Error***         Solo puede seleccionar una respuesta afirmativa por tarea\",\"\")","v":""},"No",{"$f":"IF(AE6=\"Si\",\"Debe Aplicar NT-TMERT-EESS\",\"\")","v":""},null,"Tarea N° 1",{"$f":"AF7","v":0},{"$f":"IF(AND(Y6=\"No\",AA6=\"No\",AC6=\"No\"),\"Ha terminado el Proceso de Identificación para esta Tarea\",\"Requiere Identificación Avanzada\")","v":"Ha terminado el Proceso de Identificación para esta Tarea"},null,{"$f":"IF(AJ6=\"Requiere Identificación Avanzada\",\"Seleccione la(s) Tabla(s) de Identificación Avanzada Condición Aceptable indicadas\",\"\")","v":""},{"$f":"IF(Y6=\"Si\",\"Aplicar Tabla 3\",\"\")","v":""},{"$f":"IF(AA6=\"Si\",\"Aplicar Tabla 5\",\"\")","v":""},{"$f":"IF(AC6=\"Si\",\"Aplicar Tabla 7\",\"\")","v":""}]
[null,null,null,null,null,null,null,null,null,null,null,null,null,null,null,null,null,null,null,null,null,null,null,null,{"$f":"IF(Y6=\"No\",\"0\",\"1\")","v":"0"},null,{"$f":"IF(AA6=\"No\",\"0\",\"1\")","v":"0"},null,{"$f":"IF(AC6=\"No\",\"0\",\"1\")","v":"0"},null,null,{"$f":"Y7+AA7+AC7","v":0}]
[null,"N° 2","NA",null,"No existe",null,"NA",null,"NA",null,"NA",null,"NA",null,"NA",null,"NA","NA",null,"NA",null,null,null,{"$f":"IF(AND(Y8=\"Si\",AA8=\"Si\",AC8=\"No\"),\" ***Error***         Solo puede seleccionar una respuesta afirmativa por tarea\",\"\")","v":""},"No",{"$f":"IF(AND(Y8=\"No\",AA8=\"Si\",AC8=\"Si\"),\"***Error***         Solo puede seleccionar una respuesta afirmativa por tarea\",\"\")","v":""},"No",{"$f":"IF(AND(Y8=\"Si\",AA8=\"No\",AC8=\"Si\"),\"***Error***         Solo puede seleccionar una respuesta afirmativa por tarea\",\"\")","v":""},"No",{"$f":"IF(AND(Y8=\"Si\",AA8=\"Si\",AC8=\"Si\"),\"***Error***         Solo puede seleccionar una respuesta afirmativa por tarea\",\"\")","v":""},"No",{"$f":"IF(AE8=\"Si\",\"Debe Aplicar NT-TMERT-EESS\",\"\")","v":""},null,"Tarea N° 2",{"$f":"AF9","v":0},{"$f":"IF(AND(Y8=\"No\",AA8=\"No\",AC8=\"No\"),\"Ha terminado el Proceso de Identificación para esta Tarea\",\"Requiere Identificación Avanzada\")","v":"Ha terminado el Proceso de Identificación para esta Tarea"},null,{"$f":"IF(AJ8=\"Requiere Identificación Avanzada\",\"Seleccione la(s) Tabla(s) de Identificación Avanzada Condición Aceptable indicadas\",\"\")","v":""},{"$f":"IF(Y8=\"Si\",\"Aplicar Tabla 3\",\"\")","v":""},{"$f":"IF(AA8=\"Si\",\"Aplicar Tabla 5\",\"\")","v":""},{"$f":"IF(AC8=\"Si\",\"Aplicar Tabla 7\",\"\")","v":""}]
[null,null,null,null,null,null,null,null,null,null,null,null,null,null,null,null,null,null,null,null,null,null,null,null,{"$f":"IF(Y8=\"No\",\"0\",\"1\")","v":"0"},null,{"$f":"IF(AA8=\"No\",\"0\",\"1\")","v":"0"},null,{"$f":"IF(AC8=\"No\",\"0\",\"1\")","v":"0"},null,null,{"$f":"Y9+AA9+AC9","v":0}]
[null,"N° 3","NA",null,"No existe",null,"NA",null,"NA",null,"NA",null,"NA",null,"NA",null,"NA","NA",null,"NA",null,null,null,{"$f":"IF(AND(Y10=\"Si\",AA10=\"Si\",AC10=\"No\"),\" ***Error***         Solo puede seleccionar una respuesta afirmativa por tarea\",\"\")","v":""},"No",{"$f":"IF(AND(Y10=\"No\",AA10=\"Si\",AC10=\"Si\"),\"***Error***         Solo puede seleccionar una respuesta afirmativa por tarea\",\"\")","v":""},"No",{"$f":"IF(AND(Y10=\"Si\",AA10=\"No\",AC10=\"Si\"),\"***Error***         Solo puede seleccionar una respuesta afirmativa por tarea\",\"\")","v":""},"No",{"$f":"IF(AND(Y10=\"Si\",AA10=\"Si\",AC10=\"Si\"),\"***Error***         Solo puede seleccionar una respuesta afirmativa por tarea\",\"\")","v":""},"No",{"$f":"IF(AE10=\"Si\",\"Debe Aplicar NT-TMERT-EESS\",\"\")","v":""},null,"Tarea N° 3",{"$f":"AF11","v":0},{"$f":"IF(AND(Y10=\"No\",AA10=\"No\",AC10=\"No\"),\"Ha terminado el Proceso de Identificación para esta Tarea\",\"Requiere Identificación Avanzada\")","v":"Ha terminado el Proceso de Identificación para esta Tarea"},null,{"$f":"IF(AJ10=\"Requiere Identificación Avanzada\",\"Seleccione la(s) Tabla(s) de Identificación Avanzada Condición Aceptable indicadas\",\"\")","v":""},{"$f":"IF(Y10=\"Si\",\"Aplicar Tabla 3\",\"\")","v":""},{"$f":"IF(AA10=\"Si\",\"Aplicar Tabla 5\",\"\")","v":""},{"$f":"IF(AC10=\"Si\",\"Aplicar Tabla 7\",\"\")","v":""}]
[null,null,null,null,null,null,null,null,null,null,null,null,null,null,null,null,null,null,null,null,null,null,null,null,{"$f":"IF(Y10=\"No\",\"0\",\"1\")","v":"0"},null,{"$f":"IF(AA10=\"No\",\"0\",\"1\")","v":"0"},null,{"$f":"IF(AC10=\"No\",\"0\",\"1\")","v":"0"},null,null,{"$f":"Y11+AA11+AC11","v":0}]
[null,"N°4","NA",null,"No existe",null,"NA",null,"NA",null,"NA",null,"NA",null,"NA",null,"NA","NA",null,"NA",null,null,null,{"$f":"IF(AND(Y12=\"Si\",AA12=\"Si\",AC12=\"No\"),\" ***Error***         Solo puede seleccionar una respuesta afirmativa por tarea\",\"\")","v":""},"No",{"$f":"IF(AND(Y12=\"No\",AA12=\"Si\",AC12=\"Si\"),\"***Error***         Solo puede seleccionar una respuesta afirmativa por tarea\",\"\")","v":""},"No",{"$f":"IF(AND(Y12=\"Si\",AA12=\"No\",AC12=\"Si\"),\"***Error***         Solo puede seleccionar una respuesta afirmativa por tarea\",\"\")","v":""},"No",{"$f":"IF(AND(Y12=\"Si\",AA12=\"Si\",AC12=\"Si\"),\"***Error***         Solo puede seleccionar una respuesta afirmativa por tarea\",\"\")","v":""},"No","",null,"Tarea N° 4",{"$f":"AF13","v":0},{"$f":"IF(AND(Y12=\"No\",AA12=\"No\",AC12=\"No\"),\"Ha terminado el Proceso de Identificación para esta Tarea\",\"Requiere Identificación Avanzada\")","v":"Ha terminado el Proceso de Identificación para esta Tarea"},null,{"$f":"IF(AJ12=\"Requiere Identificación Avanzada\",\"Seleccione la(s) Tabla(s) de Identificación Avanzada Condición Aceptable indicadas\",\"\")","v":""},{"$f":"IF(Y12=\"Si\",\"Aplicar Tabla 3\",\"\")","v":""},{"$f":"IF(AA12=\"Si\",\"Aplicar Tabla 5\",\"\")","v":""},{"$f":"IF(AC12=\"Si\",\"Aplicar Tabla 7\",\"\")","v":""}]
[null,null,null,null,null,null,null,null,null,null,null,null,null,null,null,null,null,null,null,null,null,null,null,null,{"$f":"IF(Y12=\"No\",\"0\",\"1\")","v":"0"},null,{"$f":"IF(AA12=\"No\",\"0\",\"1\")","v":"0"},null,{"$f":"IF(AC12=\"No\",\"0\",\"1\")","v":"0"},null,null,{"$f":"Y13+AA13+AC13","v":0}]
[null,"N°5","NA",null,"No existe",null,"NA",null,"NA",null,"NA",null,"NA",null,"NA",null,"NA","NA",null,"NA",null,null,null,{"$f":"IF(AND(Y14=\"Si\",AA14=\"Si\",AC14=\"No\"),\" ***Error***         Solo puede seleccionar una respuesta afirmativa por tarea\",\"\")","v":""},"No",{"$f":"IF(AND(Y14=\"No\",AA14=\"Si\",AC14=\"Si\"),\"***Error***         Solo puede seleccionar una respuesta afirmativa por tarea\",\"\")","v":""},"No",{"$f":"IF(AND(Y14=\"Si\",AA14=\"No\",AC14=\"Si\"),\"***Error***         Solo puede seleccionar una respuesta afirmativa por tarea\",\"\")","v":""},"No",{"$f":"IF(AND(Y14=\"Si\",AA14=\"Si\",AC14=\"Si\"),\"***Error***         Solo puede seleccionar una respuesta afirmativa por tarea\",\"\")","v":""},"No","",null,"Tarea N° 5",{"$f":"AF15","v":0},{"$f":"IF(AND(Y14=\"No\",AA14=\"No\",AC14=\"No\"),\"Ha terminado el Proceso de Identificación para esta Tarea\",\"Requiere Identificación Avanzada\")","v":"Ha terminado el Proceso de Identificación para esta Tarea"},null,{"$f":"IF(AJ14=\"Requiere Identificación Avanzada\",\"Seleccione la(s) Tabla(s) de Identificación Avanzada Condición Aceptable indicadas\",\"\")","v":""},{"$f":"IF(Y14=\"Si\",\"Aplicar Tabla 3\",\"\")","v":""},{"$f":"IF(AA14=\"Si\",\"Aplicar Tabla 5\",\"\")","v":""},{"$f":"IF(AC14=\"Si\",\"Aplicar Tabla 7\",\"\")","v":""}]
[null,null,null,null,null,null,null,null,null,null,null,null,null,null,null,null,null,null,null,null,null,null,null,null,{"$f":"IF(Y14=\"No\",\"0\",\"1\")","v":"0"},null,{"$f":"IF(AA14=\"No\",\"0\",\"1\")","v":"0"},null,{"$f":"IF(AC14=\"No\",\"0\",\"1\")","v":"0"},null,null,{"$f":"Y15+AA15+AC15","v":0}]

{"sheet":"TABLA 1 P3","index":5,"n_rows":15,"n_cols":41,"rows_kept":15,"cut":false,"hidden":false,"merged":[]}
[]
[null,null,"                                                                                  INFORMACIÓN GENERAL DEL PUESTO DE TRABAJO\n",null,null,null,null,null,null,null,null,null,null,null,null,null,null,null,null,null,null,null,null,null,null,"IDENTIFICACIÓN INICIAL"]
[null,null,"Puesto de Trabajo (PT)"]
[null,"❸",{"$f":"'Listado de Puestos de Trabajo'!D12","v":"Disponible Puesto 3"}]
[null,null,"Tarea de MMC o MMP",null,"¿Existe Manipulación Manual de Carga/Personas?",null,"Tiempo Diario por Tarea (hrs.)",null,"Carga",null,"Forma de Manipulación",null,"Distancia Recorrida",null,"Peso (Kg)",null,"Frecuencia (Levantamiento-Desenso-Tranporte)","(N° Veces/Tiempo)",null,"Escala de BORG (Empuje- Arrastre)",null,null,null,null,"¿Existe levantamiento, descenso o transporte manual de un objeto de 3 kg o más?",null,"¿Existe empuje o arrastre de un objeto utilizando 1 o 2 manos?",null,"¿Existe manejo manual de personas/pacientes?",null,"¿Existe al menos una “tarea repetitiva” de extremidad superior con duración total de 1 o más horas diarias o con tiempo total de 5 o más horas a la semana?",null,null,null,null,"                                                                                          CUADRO DE RESULTADO IDENTIFICACIÓN INICIAL"]
[null,"N° 1","NA",null,"No existe",null,"NA",null,"NA",null,"NA",null,"NA",null,"NA",null,"NA","NA",null,"NA",null,null,null,{"$f":"IF(AND(Y6=\"Si\",AA6=\"Si\",AC6=\"No\"),\" ***Error***         Solo puede seleccionar una respuesta afirmativa por tarea\",\"\")","v":""},"No",{"$f":"IF(AND(Y6=\"No\",AA6=\"Si\",AC6=\"Si\"),\"***Error***         Solo puede seleccionar una respuesta afirmativa por tarea\",\"\")","v":""},"No",{"$f":"IF(AND(Y6=\"Si\",AA6=\"No\",AC6=\"Si\"),\"***Error***         Solo puede seleccionar una respuesta afirmativa por tarea\",\"\")","v":""},"No",{"$f":"IF(AND(Y6=\"Si\",AA6=\"Si\",AC6=\"Si\"),\"***Error***         Solo puede seleccionar una respuesta afirmativa por tarea\",\"\")","v":""},"No",{"$f":"IF(AE6=\"Si\",\"Debe Aplicar NT-TMERT-EESS\",\"\")","v":""},null,"Tarea N° 1",{"$f":"AF7","v":0},{"$f":"IF(AND(Y6=\"No\",AA6=\"No\",AC6=\"No\"),\"Ha terminado el Proceso de Identificación para esta Tarea\",\"Requiere Identificación Avanzada\")","v":"Ha terminado el Proceso de Identificación para esta Tarea"},null,{"$f":"IF(AJ6=\"Requiere Identificación Avanzada\",\"Seleccione la(s) Tabla(s) de Identificación Avanzada Condición Aceptable indicadas\",\"\")","v":""},{"$f":"IF(Y6=\"Si\",\"Aplicar Tabla 3\",\"\")","v":""},{"$f":"IF(AA6=\"Si\",\"Aplicar Tabla 5\",\"\")","v":""},{"$f":"IF(AC6=\"Si\",\"Aplicar Tabla 7\",\"\")","v":""}]
[null,null,null,null,null,null,null,null,null,null,null,null,null,null,null,null,null,null,null,null,null,null,null,null,{"$f":"IF(Y6=\"No\",\"0\",\"1\")","v":"0"},null,{"$f":"IF(AA6=\"No\",\"0\",\"1\")","v":"0"},null,{"$f":"IF(AC6=\"No\",\"0\",\"1\")","v":"0"},null,null,{"$f":"Y7+AA7+AC7","v":0}]
[null,"N° 2","NA",null,"No existe",null,"NA",null,"NA",null,"NA",null,"NA",null,"NA",null,"NA","NA",null,"NA",null,null,null,{"$f":"IF(AND(Y8=\"Si\",AA8=\"Si\",AC8=\"No\"),\" ***Error***         Solo puede seleccionar una respuesta afirmativa por tarea\",\"\")","v":""},"No",{"$f":"IF(AND(Y8=\"No\",AA8=\"Si\",AC8=\"Si\"),\"***Error***         Solo puede seleccionar una respuesta afirmativa por tarea\",\"\")","v":""},"No",{"$f":"IF(AND(Y8=\"Si\",AA8=\"No\",AC8=\"Si\"),\"***Error***         Solo puede seleccionar una respuesta afirmativa por tarea\",\"\")","v":""},"No",{"$f":"IF(AND(Y8=\"Si\",AA8=\"Si\",AC8=\"Si\"),\"***Error***         Solo puede seleccionar una respuesta afirmativa por tarea\",\"\")","v":""},"No",{"$f":"IF(AE8=\"Si\",\"Debe Aplicar NT-TMERT-EESS\",\"\")","v":""},null,"Tarea N° 2",{"$f":"AF9","v":0},{"$f":"IF(AND(Y8=\"No\",AA8=\"No\",AC8=\"No\"),\"Ha terminado el Proceso de Identificación para esta Tarea\",\"Requiere Identificación Avanzada\")","v":"Ha terminado el Proceso de Identificación para esta Tarea"},null,{"$f":"IF(AJ8=\"Requiere Identificación Avanzada\",\"Seleccione la(s) Tabla(s) de Identificación Avanzada Condición Aceptable indicadas\",\"\")","v":""},{"$f":"IF(Y8=\"Si\",\"Aplicar Tabla 3\",\"\")","v":""},{"$f":"IF(AA8=\"Si\",\"Aplicar Tabla 5\",\"\")","v":""},{"$f":"IF(AC8=\"Si\",\"Aplicar Tabla 7\",\"\")","v":""}]
[null,null,null,null,null,null,null,null,null,null,null,null,null,null,null,null,null,null,null,null,null,null,null,null,{"$f":"IF(Y8=\"No\",\"0\",\"1\")","v":"0"},null,{"$f":"IF(AA8=\"No\",\"0\",\"1\")","v":"0"},null,{"$f":"IF(AC8=\"No\",\"0\",\"1\")","v":"0"},null,null,{"$f":"Y9+AA9+AC9","v":0}]
[null,"N° 3","NA",null,"No existe",null,"NA",null,"NA",null,"NA",null,"NA",null,"NA",null,"NA","NA",null,"NA",null,null,null,{"$f":"IF(AND(Y10=\"Si\",AA10=\"Si\",AC10=\"No\"),\" ***Error***         Solo puede seleccionar una respuesta afirmativa por tarea\",\"\")","v":""},"No",{"$f":"IF(AND(Y10=\"No\",AA10=\"Si\",AC10=\"Si\"),\"***Error***         Solo puede seleccionar una respuesta afirmativa por tarea\",\"\")","v":""},"No",{"$f":"IF(AND(Y10=\"Si\",AA10=\"No\",AC10=\"Si\"),\"***Error***         Solo puede seleccionar una respuesta afirmativa por tarea\",\"\")","v":""},"No",{"$f":"IF(AND(Y10=\"Si\",AA10=\"Si\",AC10=\"Si\"),\"***Error***         Solo puede seleccionar una respuesta afirmativa por tarea\",\"\")","v":""},"No",{"$f":"IF(AE10=\"Si\",\"Debe Aplicar NT-TMERT-EESS\",\"\")","v":""},null,"Tarea N° 3",{"$f":"AF11","v":0},{"$f":"IF(AND(Y10=\"No\",AA10=\"No\",AC10=\"No\"),\"Ha terminado el Proceso de Identificación para esta Tarea\",\"Requiere Identificación Avanzada\")","v":"Ha terminado el Proceso de Identificación para esta Tarea"},null,{"$f":"IF(AJ10=\"Requiere Identificación Avanzada\",\"Seleccione la(s) Tabla(s) de Identificación Avanzada Condición Aceptable indicadas\",\"\")","v":""},{"$f":"IF(Y10=\"Si\",\"Aplicar Tabla 3\",\"\")","v":""},{"$f":"IF(AA10=\"Si\",\"Aplicar Tabla 5\",\"\")","v":""},{"$f":"IF(AC10=\"Si\",\"Aplicar Tabla 7\",\"\")","v":""}]
[null,null,null,null,null,null,null,null,null,null,null,null,null,null,null,null,null,null,null,null,null,null,null,null,{"$f":"IF(Y10=\"No\",\"0\",\"1\")","v":"0"},null,{"$f":"IF(AA10=\"No\",\"0\",\"1\")","v":"0"},null,{"$f":"IF(AC10=\"No\",\"0\",\"1\")","v":"0"},null,null,{"$f":"Y11+AA11+AC11","v":0}]
[null,"N°4","NA",null,"No existe",null,"NA",null,"NA",null,"NA",null,"NA",null,"NA",null,"NA","NA",null,"NA",null,null,null,{"$f":"IF(AND(Y12=\"Si\",AA12=\"Si\",AC12=\"No\"),\" ***Error***         Solo puede seleccionar una respuesta afirmativa por tarea\",\"\")","v":""},"No",{"$f":"IF(AND(Y12=\"No\",AA12=\"Si\",AC12=\"Si\"),\"***Error***         Solo puede seleccionar una respuesta afirmativa por tarea\",\"\")","v":""},"No",{"$f":"IF(AND(Y12=\"Si\",AA12=\"No\",AC12=\"Si\"),\"***Error***         Solo puede seleccionar una respuesta afirmativa por tarea\",\"\")","v":""},"No",{"$f":"IF(AND(Y12=\"Si\",AA12=\"Si\",AC12=\"Si\"),\"***Error***         Solo puede seleccionar una respuesta afirmativa por tarea\",\"\")","v":""},"No","",null,"Tarea N° 4",{"$f":"AF13","v":0},{"$f":"IF(AND(Y12=\"No\",AA12=\"No\",AC12=\"No\"),\"Ha terminado el Proceso de Identificación para esta Tarea\",\"Requiere Identificación Avanzada\")","v":"Ha terminado el Proceso de Identificación para esta Tarea"},null,{"$f":"IF(AJ12=\"Requiere Identificación Avanzada\",\"Seleccione la(s) Tabla(s) de Identificación Avanzada Condición Aceptable indicadas\",\"\")","v":""},{"$f":"IF(Y12=\"Si\",\"Aplicar Tabla 3\",\"\")","v":""},{"$f":"IF(AA12=\"Si\",\"Aplicar Tabla 5\",\"\")","v":""},{"$f":"IF(AC12=\"Si\",\"Aplicar Tabla 7\",\"\")","v":""}]
[null,null,null,null,null,null,null,null,null,null,null,null,null,null,null,null,null,null,null,null,null,null,null,null,{"$f":"IF(Y12=\"No\",\"0\",\"1\")","v":"0"},null,{"$f":"IF(AA12=\"No\",\"0\",\"1\")","v":"0"},null,{"$f":"IF(AC12=\"No\",\"0\",\"1\")","v":"0"},null,null,{"$f":"Y13+AA13+AC13","v":0}]
[null,"N°5","NA",null,"No existe",null,"NA",null,"NA",null,"NA",null,"NA",null,"NA",null,"NA","NA",null,"NA",null,null,null,{"$f":"IF(AND(Y14=\"Si\",AA14=\"Si\",AC14=\"No\"),\" ***Error***         Solo puede seleccionar una respuesta afirmativa por tarea\",\"\")","v":""},"No",{"$f":"IF(AND(Y14=\"No\",AA14=\"Si\",AC14=\"Si\"),\"***Error***         Solo puede seleccionar una respuesta afirmativa por tarea\",\"\")","v":""},"No",{"$f":"IF(AND(Y14=\"Si\",AA14=\"No\",AC14=\"Si\"),\"***Error***         Solo puede seleccionar una respuesta afirmativa por tarea\",\"\")","v":""},"No",{"$f":"IF(AND(Y14=\"Si\",AA14=\"Si\",AC14=\"Si\"),\"***Error***         Solo puede seleccionar una respuesta afirmativa por tarea\",\"\")","v":""},"No","",null,"Tarea N° 5",{"$f":"AF15","v":0},{"$f":"IF(AND(Y14=\"No\",AA14=\"No\",AC14=\"No\"),\"Ha terminado el Proceso de Identificación para esta Tarea\",\"Requiere Identificación Avanzada\")","v":"Ha terminado el Proceso de Identificación para esta Tarea"},null,{"$f":"IF(AJ14=\"Requiere Identificación Avanzada\",\"Seleccione la(s) Tabla(s) de Identificación Avanzada Condición Aceptable indicadas\",\"\")","v":""},{"$f":"IF(Y14=\"Si\",\"Aplicar Tabla 3\",\"\")","v":""},{"$f":"IF(AA14=\"Si\",\"Aplicar Tabla 5\",\"\")","v":""},{"$f":"IF(AC14=\"Si\",\"Aplicar Tabla 7\",\"\")","v":""}]
[null,null,null,null,null,null,null,null,null,null,null,null,null,null,null,null,null,null,null,null,null,null,null,null,{"$f":"IF(Y14=\"No\",\"0\",\"1\")","v":"0"},null,{"$f":"IF(AA14=\"No\",\"0\",\"1\")","v":"0"},null,{"$f":"IF(AC14=\"No\",\"0\",\"1\")","v":"0"},null,null,{"$f":"Y15+AA15+AC15","v":0}]

{"sheet":"TABLA 1 P4","index":6,"n_rows":15,"n_cols":41,"rows_kept":15,"cut":false,"hidden":false,"merged":[]}
[]
[null,null,"                                                                                  INFORMACIÓN GENERAL DEL PUESTO DE TRABAJO\n",null,null,null,null,null,null,null,null,null,null,null,null,null,null,null,null,null,null,null,null,null,null,"IDENTIFICACIÓN INICIAL"]
[null,null,"Puesto de Trabajo (PT)"]
[null,"❹",{"$f":"'Listado de Puestos de Trabajo'!D15","v":"Disponible Puesto 4"}]
[null,null,"Tarea de MMC o MMP",null,"¿Existe Manipulación Manual de Carga/Personas?",null,"Tiempo Diario por Tarea (hrs.)",null,"Carga",null,"Forma de Manipulación",null,"Distancia Recorrida",null,"Peso (Kg)",null,"Frecuencia (Levantamiento-Desenso-Tranporte)","(N° Veces/Tiempo)",null,"Escala de BORG (Empuje- Arrastre)",null,null,null,null,"¿Existe levantamiento, descenso o transporte manual de un objeto de 3 kg o más?",null,"¿Existe empuje o arrastre de un objeto utilizando 1 o 2 manos?",null,"¿Existe manejo manual de personas/pacientes?",null,"¿Existe al menos una “tarea repetitiva” de extremidad superior con duración total de 1 o más horas diarias o con tiempo total de 5 o más horas a la semana?",null,null,null,null,"                                                                                          CUADRO DE RESULTADO IDENTIFICACIÓN INICIAL"]
[null,"N° 1","NA",null,"No existe",null,"NA",null,"NA",null,"NA",null,"NA",null,"NA",null,"NA","NA",null,"NA",null,null,null,{"$f":"IF(AND(Y6=\"Si\",AA6=\"Si\",AC6=\"No\"),\" ***Error***         Solo puede seleccionar una respuesta afirmativa por tarea\",\"\")","v":""},"No",{"$f":"IF(AND(Y6=\"No\",AA6=\"Si\",AC6=\"Si\"),\"***Error***         Solo puede seleccionar una respuesta afirmativa por tarea\",\"\")","v":""},"No",{"$f":"IF(AND(Y6=\"Si\",AA6=\"No\",AC6=\"Si\"),\"***Error***         Solo puede seleccionar una respuesta afirmativa por tarea\",\"\")","v":""},"No",{"$f":"IF(AND(Y6=\"Si\",AA6=\"Si\",AC6=\"Si\"),\"***Error***         Solo puede seleccionar una respuesta afirmativa por tarea\",\"\")","v":""},"No",{"$f":"IF(AE6=\"Si\",\"Debe Aplicar NT-TMERT-EESS\",\"\")","v":""},null,"Tarea N° 1",{"$f":"AF7","v":0},{"$f":"IF(AND(Y6=\"No\",AA6=\"No\",AC6=\"No\"),\"Ha terminado el Proceso de Identificación para esta Tarea\",\"Requiere Identificación Avanzada\")","v":"Ha terminado el Proceso de Identificación para esta Tarea"},null,{"$f":"IF(AJ6=\"Requiere Identificación Avanzada\",\"Seleccione la(s) Tabla(s) de Identificación Avanzada Condición Aceptable indicadas\",\"\")","v":""},{"$f":"IF(Y6=\"Si\",\"Aplicar Tabla 3\",\"\")","v":""},{"$f":"IF(AA6=\"Si\",\"Aplicar Tabla 5\",\"\")","v":""},{"$f":"IF(AC6=\"Si\",\"Aplicar Tabla 7\",\"\")","v":""}]
[null,null,null,null,null,null,null,null,null,null,null,null,null,null,null,null,null,null,null,null,null,null,null,null,{"$f":"IF(Y6=\"No\",\"0\",\"1\")","v":"0"},null,{"$f":"IF(AA6=\"No\",\"0\",\"1\")","v":"0"},null,{"$f":"IF(AC6=\"No\",\"0\",\"1\")","v":"0"},null,null,{"$f":"Y7+AA7+AC7","v":0}]
[null,"N° 2","NA",null,"No existe",null,"NA",null,"NA",null,"NA",null,"NA",null,"NA",null,"NA","NA",null,"NA",null,null,null,{"$f":"IF(AND(Y8=\"Si\",AA8=\"Si\",AC8=\"No\"),\" ***Error***         Solo puede seleccionar una respuesta afirmativa por tarea\",\"\")","v":""},"No",{"$f":"IF(AND(Y8=\"No\",AA8=\"Si\",AC8=\"Si\"),\"***Error***         Solo puede seleccionar una respuesta afirmativa por tarea\",\"\")","v":""},"No",{"$f":"IF(AND(Y8=\"Si\",AA8=\"No\",AC8=\"Si\"),\"***Error***         Solo puede seleccionar una respuesta afirmativa por tarea\",\"\")","v":""},"No",{"$f":"IF(AND(Y8=\"Si\",AA8=\"Si\",AC8=\"Si\"),\"***Error***         Solo puede seleccionar una respuesta afirmativa por tarea\",\"\")","v":""},"No",{"$f":"IF(AE8=\"Si\",\"Debe Aplicar NT-TMERT-EESS\",\"\")","v":""},null,"Tarea N° 2",{"$f":"AF9","v":0},{"$f":"IF(AND(Y8=\"No\",AA8=\"No\",AC8=\"No\"),\"Ha terminado el Proceso de Identificación para esta Tarea\",\"Requiere Identificación Avanzada\")","v":"Ha terminado el Proceso de Identificación para esta Tarea"},null,{"$f":"IF(AJ8=\"Requiere Identificación Avanzada\",\"Seleccione la(s) Tabla(s) de Identificación Avanzada Condición Aceptable indicadas\",\"\")","v":""},{"$f":"IF(Y8=\"Si\",\"Aplicar Tabla 3\",\"\")","v":""},{"$f":"IF(AA8=\"Si\",\"Aplicar Tabla 5\",\"\")","v":""},{"$f":"IF(AC8=\"Si\",\"Aplicar Tabla 7\",\"\")","v":""}]
[null,null,null,null,null,null,null,null,null,null,null,null,null,null,null,null,null,null,null,null,null,null,null,null,{"$f":"IF(Y8=\"No\",\"0\",\"1\")","v":"0"},null,{"$f":"IF(AA8=\"No\",\"0\",\"1\")","v":"0"},null,{"$f":"IF(AC8=\"No\",\"0\",\"1\")","v":"0"},null,null,{"$f":"Y9+AA9+AC9","v":0}]
[null,"N° 3","NA",null,"No existe",null,"NA",null,"NA",null,"NA",null,"NA",null,"NA",null,"NA","NA",null,"NA",null,null,null,{"$f":"IF(AND(Y10=\"Si\",AA10=\"Si\",AC10=\"No\"),\" ***Error***         Solo puede seleccionar una respuesta afirmativa por tarea\",\"\")","v":""},"No",{"$f":"IF(AND(Y10=\"No\",AA10=\"Si\",AC10=\"Si\"),\"***Error***         Solo puede seleccionar una respuesta afirmativa por tarea\",\"\")","v":""},"No",{"$f":"IF(AND(Y10=\"Si\",AA10=\"No\",AC10=\"Si\"),\"***Error***         Solo puede seleccionar una respuesta afirmativa por tarea\",\"\")","v":""},"No",{"$f":"IF(AND(Y10=\"Si\",AA10=\"Si\",AC10=\"Si\"),\"***Error***         Solo puede seleccionar una respuesta afirmativa por tarea\",\"\")","v":""},"No",{"$f":"IF(AE10=\"Si\",\"Debe Aplicar NT-TMERT-EESS\",\"\")","v":""},null,"Tarea N° 3",{"$f":"AF11","v":0},{"$f":"IF(AND(Y10=\"No\",AA10=\"No\",AC10=\"No\"),\"Ha terminado el Proceso de Identificación para esta Tarea\",\"Requiere Identificación Avanzada\")","v":"Ha terminado el Proceso de Identificación para esta Tarea"},null,{"$f":"IF(AJ10=\"Requiere Identificación Avanzada\",\"Seleccione la(s) Tabla(s) de Identificación Avanzada Condición Aceptable indicadas\",\"\")","v":""},{"$f":"IF(Y10=\"Si\",\"Aplicar Tabla 3\",\"\")","v":""},{"$f":"IF(AA10=\"Si\",\"Aplicar Tabla 5\",\"\")","v":""},{"$f":"IF(AC10=\"Si\",\"Aplicar Tabla 7\",\"\")","v":""}]
[null,null,null,null,null,null,null,null,null,null,null,null,null,null,null,null,null,null,null,null,null,null,null,null,{"$f":"IF(Y10=\"No\",\"0\",\"1\")","v":"0"},null,{"$f":"IF(AA10=\"No\",\"0\",\"1\")","v":"0"},null,{"$f":"IF(AC10=\"No\",\"0\",\"1\")","v":"0"},null,null,{"$f":"Y11+AA11+AC11","v":0}]
[null,"N°4","NA",null,"No existe",null,"NA",null,"NA",null,"NA",null,"NA",null,"NA",null,"NA","NA",null,"NA",null,null,null,{"$f":"IF(AND(Y12=\"Si\",AA12=\"Si\",AC12=\"No\"),\" ***Error***         Solo puede seleccionar una respuesta afirmativa por tarea\",\"\")","v":""},"No",{"$f":"IF(AND(Y12=\"No\",AA12=\"Si\",AC12=\"Si\"),\"***Error***         Solo puede seleccionar una respuesta afirmativa por tarea\",\"\")","v":""},"No",{"$f":"IF(AND(Y12=\"Si\",AA12=\"No\",AC12=\"Si\"),\"***Error***         Solo puede seleccionar una respuesta afirmativa por tarea\",\"\")","v":""},"No",{"$f":"IF(AND(Y12=\"Si\",AA12=\"Si\",AC12=\"Si\"),\"***Error***         Solo puede seleccionar una respuesta afirmativa por tarea\",\"\")","v":""},"No","",null,"Tarea N° 4",{"$f":"AF13","v":0},{"$f":"IF(AND(Y12=\"No\",AA12=\"No\",AC12=\"No\"),\"Ha terminado el Proceso de Identificación para esta Tarea\",\"Requiere Identificación Avanzada\")","v":"Ha terminado el Proceso de Identificación para esta Tarea"},null,{"$f":"IF(AJ12=\"Requiere Identificación Avanzada\",\"Seleccione la(s) Tabla(s) de Identificación Avanzada Condición Aceptable indicadas\",\"\")","v":""},{"$f":"IF(Y12=\"Si\",\"Aplicar Tabla 3\",\"\")","v":""},{"$f":"IF(AA12=\"Si\",\"Aplicar Tabla 5\",\"\")","v":""},{"$f":"IF(AC12=\"Si\",\"Aplicar Tabla 7\",\"\")","v":""}]
[null,null,null,null,null,null,null,null,null,null,null,null,null,null,null,null,null,null,null,null,null,null,null,null,{"$f":"IF(Y12=\"No\",\"0\",\"1\")","v":"0"},null,{"$f":"IF(AA12=\"No\",\"0\",\"1\")","v":"0"},null,{"$f":"IF(AC12=\"No\",\"0\",\"1\")","v":"0"},null,null,{"$f":"Y13+AA13+AC13","v":0}]
[null,"N°5","NA",null,"No existe",null,"NA",null,"NA",null,"NA",null,"NA",null,"NA",null,"NA","NA",null,"NA",null,null,null,{"$f":"IF(AND(Y14=\"Si\",AA14=\"Si\",AC14=\"No\"),\" ***Error***         Solo puede seleccionar una respuesta afirmativa por tarea\",\"\")","v":""},"No",{"$f":"IF(AND(Y14=\"No\",AA14=\"Si\",AC14=\"Si\"),\"***Error***         Solo puede seleccionar una respuesta afirmativa por tarea\",\"\")","v":""},"No",{"$f":"IF(AND(Y14=\"Si\",AA14=\"No\",AC14=\"Si\"),\"***Error***         Solo puede seleccionar una respuesta afirmativa por tarea\",\"\")","v":""},"No",{"$f":"IF(AND(Y14=\"Si\",AA14=\"Si\",AC14=\"Si\"),\"***Error***         Solo puede seleccionar una respuesta afirmativa por tarea\",\"\")","v":""},"No","",null,"Tarea N° 5",{"$f":"AF15","v":0},{"$f":"IF(AND(Y14=\"No\",AA14=\"No\",AC14=\"No\"),\"Ha terminado el Proceso de Identificación para esta Tarea\",\"Requiere Identificación Avanzada\")","v":"Ha terminado el Proceso de Identificación para esta Tarea"},null,{"$f":"IF(AJ14=\"Requiere Identificación Avanzada\",\"Seleccione la(s) Tabla(s) de Identificación Avanzada Condición Aceptable indicadas\",\"\")","v":""},{"$f":"IF(Y14=\"Si\",\"Aplicar Tabla 3\",\"\")","v":""},{"$f":"IF(AA14=\"Si\",\"Aplicar Tabla 5\",\"\")","v":""},{"$f":"IF(AC14=\"Si\",\"Aplicar Tabla 7\",\"\")","v":""}]
[null,null,null,null,null,null,null,null,null,null,null,null,null,null,null,null,null,null,null,null,null,null,null,null,{"$f":"IF(Y14=\"No\",\"0\",\"1\")","v":"0"},null,{"$f":"IF(AA14=\"No\",\"0\",\"1\")","v":"0"},null,{"$f":"IF(AC14=\"No\",\"0\",\"1\")","v":"0"},null,null,{"$f":"Y15+AA15+AC15","v":0}]

{"sheet":"TABLA 1 P5","index":7,"n_rows":15,"n_cols":41,"rows_kept":15,"cut":false,"hidden":false,"merged":[]}
[]
[null,null,"                                                                                  INFORMACIÓN GENERAL DEL PUESTO DE TRABAJO\n",null,null,null,null,null,null,null,null,null,null,null,null,null,null,null,null,null,null,null,null,null,null,"IDENTIFICACIÓN INICIAL"]
[null,null,"Puesto de Trabajo (PT)"]
[null,"❺",{"$f":"'Listado de Puestos de Trabajo'!D18","v":"Disponible Puesto 5"}]
[null,null,"Tarea de MMC o MMP",null,"¿Existe Manipulación Manual de Carga/Personas?",null,"Tiempo Diario por Tarea (hrs.)",null,"Carga",null,"Forma de Manipulación",null,"Distancia Recorrida",null,"Peso (Kg)",null,"Frecuencia (Levantamiento-Desenso-Tranporte)","(N° Veces/Tiempo)",null,"Escala de BORG (Empuje- Arrastre)",null,null,null,null,"¿Existe levantamiento, descenso o transporte manual de un objeto de 3 kg o más?",null,"¿Existe empuje o arrastre de un objeto utilizando 1 o 2 manos?",null,"¿Existe manejo manual de personas/pacientes?",null,"¿Existe al menos una “tarea repetitiva” de extremidad superior con duración total de 1 o más horas diarias o con tiempo total de 5 o más horas a la semana?",null,null,null,null,"                                                                                          CUADRO DE RESULTADO IDENTIFICACIÓN INICIAL"]
[null,"N° 1","NA",null,"No existe",null,"NA",null,"NA",null,"NA",null,"NA",null,"NA",null,"NA","NA",null,"NA",null,null,null,{"$f":"IF(AND(Y6=\"Si\",AA6=\"Si\",AC6=\"No\"),\" ***Error***         Solo puede seleccionar una respuesta afirmativa por tarea\",\"\")","v":""},"No",{"$f":"IF(AND(Y6=\"No\",AA6=\"Si\",AC6=\"Si\"),\"***Error***         Solo puede seleccionar una respuesta afirmativa por tarea\",\"\")","v":""},"No",{"$f":"IF(AND(Y6=\"Si\",AA6=\"No\",AC6=\"Si\"),\"***Error***         Solo puede seleccionar una respuesta afirmativa por tarea\",\"\")","v":""},"No",{"$f":"IF(AND(Y6=\"Si\",AA6=\"Si\",AC6=\"Si\"),\"***Error***         Solo puede seleccionar una respuesta afirmativa por tarea\",\"\")","v":""},"No",{"$f":"IF(AE6=\"Si\",\"Debe Aplicar NT-TMERT-EESS\",\"\")","v":""},null,"Tarea N° 1",{"$f":"AF7","v":0},{"$f":"IF(AND(Y6=\"No\",AA6=\"No\",AC6=\"No\"),\"Ha terminado el Proceso de Identificación para esta Tarea\",\"Requiere Identificación Avanzada\")","v":"Ha terminado el Proceso de Identificación para esta Tarea"},null,{"$f":"IF(AJ6=\"Requiere Identificación Avanzada\",\"Seleccione la(s) Tabla(s) de Identificación Avanzada Condición Aceptable indicadas\",\"\")","v":""},{"$f":"IF(Y6=\"Si\",\"Aplicar Tabla 3\",\"\")","v":""},{"$f":"IF(AA6=\"Si\",\"Aplicar Tabla 5\",\"\")","v":""},{"$f":"IF(AC6=\"Si\",\"Aplicar Tabla 7\",\"\")","v":""}]
[null,null,null,null,null,null,null,null,null,null,null,null,null,null,null,null,null,null,null,null,null,null,null,null,{"$f":"IF(Y6=\"No\",\"0\",\"1\")","v":"0"},null,{"$f":"IF(AA6=\"No\",\"0\",\"1\")","v":"0"},null,{"$f":"IF(AC6=\"No\",\"0\",\"1\")","v":"0"},null,null,{"$f":"Y7+AA7+AC7","v":0}]
[null,"N° 2","NA",null,"No existe",null,"NA",null,"NA",null,"NA",null,"NA",null,"NA",null,"NA","NA",null,"NA",null,null,null,{"$f":"IF(AND(Y8=\"Si\",AA8=\"Si\",AC8=\"No\"),\" ***Error***         Solo puede seleccionar una respuesta afirmativa por tarea\",\"\")","v":""},"No",{"$f":"IF(AND(Y8=\"No\",AA8=\"Si\",AC8=\"Si\"),\"***Error***         Solo puede seleccionar una respuesta afirmativa por tarea\",\"\")","v":""},"No",{"$f":"IF(AND(Y8=\"Si\",AA8=\"No\",AC8=\"Si\"),\"***Error***         Solo puede seleccionar una respuesta afirmativa por tarea\",\"\")","v":""},"No",{"$f":"IF(AND(Y8=\"Si\",AA8=\"Si\",AC8=\"Si\"),\"***Error***         Solo puede seleccionar una respuesta afirmativa por tarea\",\"\")","v":""},"No",{"$f":"IF(AE8=\"Si\",\"Debe Aplicar NT-TMERT-EESS\",\"\")","v":""},null,"Tarea N° 2",{"$f":"AF9","v":0},{"$f":"IF(AND(Y8=\"No\",AA8=\"No\",AC8=\"No\"),\"Ha terminado el Proceso de Identificación para esta Tarea\",\"Requiere Identificación Avanzada\")","v":"Ha terminado el Proceso de Identificación para esta Tarea"},null,{"$f":"IF(AJ8=\"Requiere Identificación Avanzada\",\"Seleccione la(s) Tabla(s) de Identificación Avanzada Condición Aceptable indicadas\",\"\")","v":""},{"$f":"IF(Y8=\"Si\",\"Aplicar Tabla 3\",\"\")","v":""},{"$f":"IF(AA8=\"Si\",\"Aplicar Tabla 5\",\"\")","v":""},{"$f":"IF(AC8=\"Si\",\"Aplicar Tabla 7\",\"\")","v":""}]
[null,null,null,null,null,null,null,null,null,null,null,null,null,null,null,null,null,null,null,null,null,null,null,null,{"$f":"IF(Y8=\"No\",\"0\",\"1\")","v":"0"},null,{"$f":"IF(AA8=\"No\",\"0\",\"1\")","v":"0"},null,{"$f":"IF(AC8=\"No\",\"0\",\"1\")","v":"0"},null,null,{"$f":"Y9+AA9+AC9","v":0}]
[null,"N° 3","NA",null,"No existe",null,"NA",null,"NA",null,"NA",null,"NA",null,"NA",null,"NA","NA",null,"NA",null,null,null,{"$f":"IF(AND(Y10=\"Si\",AA10=\"Si\",AC10=\"No\"),\" ***Error***         Solo puede seleccionar una respuesta afirmativa por tarea\",\"\")","v":""},"No",{"$f":"IF(AND(Y10=\"No\",AA10=\"Si\",AC10=\"Si\"),\"***Error***         Solo puede seleccionar una respuesta afirmativa por tarea\",\"\")","v":""},"No",{"$f":"IF(AND(Y10=\"Si\",AA10=\"No\",AC10=\"Si\"),\"***Error***         Solo puede seleccionar una respuesta afirmativa por tarea\",\"\")","v":""},"No",{"$f":"IF(AND(Y10=\"Si\",AA10=\"Si\",AC10=\"Si\"),\"***Error***         Solo puede seleccionar una respuesta afirmativa por tarea\",\"\")","v":""},"No",{"$f":"IF(AE10=\"Si\",\"Debe Aplicar NT-TMERT-EESS\",\"\")","v":""},null,"Tarea N° 3",{"$f":"AF11","v":0},{"$f":"IF(AND(Y10=\"No\",AA10=\"No\",AC10=\"No\"),\"Ha terminado el Proceso de Identificación para esta Tarea\",\"Requiere Identificación Avanzada\")","v":"Ha terminado el Proceso de Identificación para esta Tarea"},null,{"$f":"IF(AJ10=\"Requiere Identificación Avanzada\",\"Seleccione la(s) Tabla(s) de Identificación Avanzada Condición Aceptable indicadas\",\"\")","v":""},{"$f":"IF(Y10=\"Si\",\"Aplicar Tabla 3\",\"\")","v":""},{"$f":"IF(AA10=\"Si\",\"Aplicar Tabla 5\",\"\")","v":""},{"$f":"IF(AC10=\"Si\",\"Aplicar Tabla 7\",\"\")","v":""}]
[null,null,null,null,null,null,null,null,null,null,null,null,null,null,null,null,null,null,null,null,null,null,null,null,{"$f":"IF(Y10=\"No\",\"0\",\"1\")","v":"0"},null,{"$f":"IF(AA10=\"No\",\"0\",\"1\")","v":"0"},null,{"$f":"IF(AC10=\"No\",\"0\",\"1\")","v":"0"},null,null,{"$f":"Y11+AA11+AC11","v":0}]
[null,"N°4","NA",null,"No existe",null,"NA",null,"NA",null,"NA",null,"NA",null,"NA",null,"NA","NA",null,"NA",null,null,null,{"$f":"IF(AND(Y12=\"Si\",AA12=\"Si\",AC12=\"No\"),\" ***Error***         Solo puede seleccionar una respuesta afirmativa por tarea\",\"\")","v":""},"No",{"$f":"IF(AND(Y12=\"No\",AA12=\"Si\",AC12=\"Si\"),\"***Error***         Solo puede seleccionar una respuesta afirmativa por tarea\",\"\")","v":""},"No",{"$f":"IF(AND(Y12=\"Si\",AA12=\"No\",AC12=\"Si\"),\"***Error***         Solo puede seleccionar una respuesta afirmativa por tarea\",\"\")","v":""},"No",{"$f":"IF(AND(Y12=\"Si\",AA12=\"Si\",AC12=\"Si\"),\"***Error***         Solo puede seleccionar una respuesta afirmativa por tarea\",\"\")","v":""},"No","",null,"Tarea N° 4",{"$f":"AF13","v":0},{"$f":"IF(AND(Y12=\"No\",AA12=\"No\",AC12=\"No\"),\"Ha terminado el Proceso de Identificación para esta Tarea\",\"Requiere Identificación Avanzada\")","v":"Ha terminado el Proceso de Identificación para esta Tarea"},null,{"$f":"IF(AJ12=\"Requiere Identificación Avanzada\",\"Seleccione la(s) Tabla(s) de Identificación Avanzada Condición Aceptable indicadas\",\"\")","v":""},{"$f":"IF(Y12=\"Si\",\"Aplicar Tabla 3\",\"\")","v":""},{"$f":"IF(AA12=\"Si\",\"Aplicar Tabla 5\",\"\")","v":""},{"$f":"IF(AC12=\"Si\",\"Aplicar Tabla 7\",\"\")","v":""}]
[null,null,null,null,null,null,null,null,null,null,null,null,null,null,null,null,null,null,null,null,null,null,null,null,{"$f":"IF(Y12=\"No\",\"0\",\"1\")","v":"0"},null,{"$f":"IF(AA12=\"No\",\"0\",\"1\")","v":"0"},null,{"$f":"IF(AC12=\"No\",\"0\",\"1\")","v":"0"},null,null,{"$f":"Y13+AA13+AC13","v":0}]
[null,"N°5","NA",null,"No existe",null,"NA",null,"NA",null,"NA",null,"NA",null,"NA",null,"NA","NA",null,"NA",null,null,null,{"$f":"IF(AND(Y14=\"Si\",AA14=\"Si\",AC14=\"No\"),\" ***Error***         Solo puede seleccionar una respuesta afirmativa por tarea\",\"\")","v":""},"No",{"$f":"IF(AND(Y14=\"No\",AA14=\"Si\",AC14=\"Si\"),\"***Error***         Solo puede seleccionar una respuesta afirmativa por tarea\",\"\")","v":""},"No",{"$f":"IF(AND(Y14=\"Si\",AA14=\"No\",AC14=\"Si\"),\"***Error***         Solo puede seleccionar una respuesta afirmativa por tarea\",\"\")","v":""},"No",{"$f":"IF(AND(Y14=\"Si\",AA14=\"Si\",AC14=\"Si\"),\"***Error***         Solo puede seleccionar una respuesta afirmativa por tarea\",\"\")","v":""},"No","",null,"Tarea N° 5",{"$f":"AF15","v":0},{"$f":"IF(AND(Y14=\"No\",AA14=\"No\",AC14=\"No\"),\"Ha terminado el Proceso de Identificación para esta Tarea\",\"Requiere Identificación Avanzada\")","v":"Ha terminado el Proceso de Identificación para esta Tarea"},null,{"$f":"IF(AJ14=\"Requiere Identificación Avanzada\",\"Seleccione la(s) Tabla(s) de Identificación Avanzada Condición Aceptable indicadas\",\"\")","v":""},{"$f":"IF(Y14=\"Si\",\"Aplicar Tabla 3\",\"\")","v":""},{"$f":"IF(AA14=\"Si\",\"Aplicar Tabla 5\",\"\")","v":""},{"$f":"IF(AC14=\"Si\",\"Aplicar Tabla 7\",\"\")","v":""}]
[null,null,null,null,null,null,null,null,null,null,null,null,null,null,null,null,null,null,null,null,null,null,null,null,{"$f":"IF(Y14=\"No\",\"0\",\"1\")","v":"0"},null,{"$f":"IF(AA14=\"No\",\"0\",\"1\")","v":"0"},null,{"$f":"IF(AC14=\"No\",\"0\",\"1\")","v":"0"},null,null,{"$f":"Y15+AA15+AC15","v":0}]

{"sheet":"TABLA 1 P6","index":8,"n_rows":15,"n_cols":41,"rows_kept":15,"cut":false,"hidden":false,"merged":[]}
[]
[null,null,"                                                                                  INFORMACIÓN GENERAL DEL PUESTO DE TRABAJO\n",null,null,null,null,null,null,null,null,null,null,null,null,null,null,null,null,null,null,null,null,null,null,"IDENTIFICACIÓN INICIAL"]
[null,null,"Puesto de Trabajo (PT)"]
[null,"❻",{"$f":"'Listado de Puestos de Trabajo'!D21","v":"Disponible Puesto 6"}]
[null,null,"Tarea de MMC o MMP",null,"¿Existe Manipulación Manual de Carga/Personas?",null,"Tiempo Diario por Tarea (hrs.)",null,"Carga",null,"Forma de Manipulación",null,"Distancia Recorrida",null,"Peso (Kg)",null,"Frecuencia (Levantamiento-Desenso-Tranporte)","(N° Veces/Tiempo)",null,"Escala de BORG (Empuje- Arrastre)",null,null,null,null,"¿Existe levantamiento, descenso o transporte manual de un objeto de 3 kg o más?",null,"¿Existe empuje o arrastre de un objeto utilizando 1 o 2 manos?",null,"¿Existe manejo manual de personas/pacientes?",null,"¿Existe al menos una “tarea repetitiva” de extremidad superior con duración total de 1 o más horas diarias o con tiempo total de 5 o más horas a la semana?",null,null,null,null,"                                                                                          CUADRO DE RESULTADO IDENTIFICACIÓN INICIAL"]
[null,"N° 1","NA",null,"No existe",null,"NA",null,"NA",null,"NA",null,"NA",null,"NA",null,"NA","NA",null,"NA",null,null,null,{"$f":"IF(AND(Y6=\"Si\",AA6=\"Si\",AC6=\"No\"),\" ***Error***         Solo puede seleccionar una respuesta afirmativa por tarea\",\"\")","v":""},"No",{"$f":"IF(AND(Y6=\"No\",AA6=\"Si\",AC6=\"Si\"),\"***Error***         Solo puede seleccionar una respuesta afirmativa por tarea\",\"\")","v":""},"No",{"$f":"IF(AND(Y6=\"Si\",AA6=\"No\",AC6=\"Si\"),\"***Error***         Solo puede seleccionar una respuesta afirmativa por tarea\",\"\")","v":""},"No",{"$f":"IF(AND(Y6=\"Si\",AA6=\"Si\",AC6=\"Si\"),\"***Error***         Solo puede seleccionar una respuesta afirmativa por tarea\",\"\")","v":""},"No",{"$f":"IF(AE6=\"Si\",\"Debe Aplicar NT-TMERT-EESS\",\"\")","v":""},null,"Tarea N° 1",{"$f":"AF7","v":0},{"$f":"IF(AND(Y6=\"No\",AA6=\"No\",AC6=\"No\"),\"Ha terminado el Proceso de Identificación para esta Tarea\",\"Requiere Identificación Avanzada\")","v":"Ha terminado el Proceso de Identificación para esta Tarea"},null,{"$f":"IF(AJ6=\"Requiere Identificación Avanzada\",\"Seleccione la(s) Tabla(s) de Identificación Avanzada Condición Aceptable indicadas\",\"\")","v":""},{"$f":"IF(Y6=\"Si\",\"Aplicar Tabla 3\",\"\")","v":""},{"$f":"IF(AA6=\"Si\",\"Aplicar Tabla 5\",\"\")","v":""},{"$f":"IF(AC6=\"Si\",\"Aplicar Tabla 7\",\"\")","v":""}]
[null,null,null,null,null,null,null,null,null,null,null,null,null,null,null,null,null,null,null,null,null,null,null,null,{"$f":"IF(Y6=\"No\",\"0\",\"1\")","v":"0"},null,{"$f":"IF(AA6=\"No\",\"0\",\"1\")","v":"0"},null,{"$f":"IF(AC6=\"No\",\"0\",\"1\")","v":"0"},null,null,{"$f":"Y7+AA7+AC7","v":0}]
[null,"N° 2","NA",null,"No existe",null,"NA",null,"NA",null,"NA",null,"NA",null,"NA",null,"NA","NA",null,"NA",null,null,null,{"$f":"IF(AND(Y8=\"Si\",AA8=\"Si\",AC8=\"No\"),\" ***Error***         Solo puede seleccionar una respuesta afirmativa por tarea\",\"\")","v":""},"No",{"$f":"IF(AND(Y8=\"No\",AA8=\"Si\",AC8=\"Si\"),\"***Error***         Solo puede seleccionar una respuesta afirmativa por tarea\",\"\")","v":""},"No",{"$f":"IF(AND(Y8=\"Si\",AA8=\"No\",AC8=\"Si\"),\"***Error***         Solo puede seleccionar una respuesta afirmativa por tarea\",\"\")","v":""},"No",{"$f":"IF(AND(Y8=\"Si\",AA8=\"Si\",AC8=\"Si\"),\"***Error***         Solo puede seleccionar una respuesta afirmativa por tarea\",\"\")","v":""},"No",{"$f":"IF(AE8=\"Si\",\"Debe Aplicar NT-TMERT-EESS\",\"\")","v":""},null,"Tarea N° 2",{"$f":"AF9","v":0},{"$f":"IF(AND(Y8=\"No\",AA8=\"No\",AC8=\"No\"),\"Ha terminado el Proceso de Identificación para esta Tarea\",\"Requiere Identificación Avanzada\")","v":"Ha terminado el Proceso de Identificación para esta Tarea"},null,{"$f":"IF(AJ8=\"Requiere Identificación Avanzada\",\"Seleccione la(s) Tabla(s) de Identificación Avanzada Condición Aceptable indicadas\",\"\")","v":""},{"$f":"IF(Y8=\"Si\",\"Aplicar Tabla 3\",\"\")","v":""},{"$f":"IF(AA8=\"Si\",\"Aplicar Tabla 5\",\"\")","v":""},{"$f":"IF(AC8=\"Si\",\"Aplicar Tabla 7\",\"\")","v":""}]
[null,null,null,null,null,null,null,null,null,null,null,null,null,null,null,null,null,null,null,null,null,null,null,null,{"$f":"IF(Y8=\"No\",\"0\",\"1\")","v":"0"},null,{"$f":"IF(AA8=\"No\",\"0\",\"1\")","v":"0"},null,{"$f":"IF(AC8=\"No\",\"0\",\"1\")","v":"0"},null,null,{"$f":"Y9+AA9+AC9","v":0}]
[null,"N° 3","NA",null,"No existe",null,"NA",null,"NA",null,"NA",null,"NA",null,"NA",null,"NA","NA",null,"NA",null,null,null,{"$f":"IF(AND(Y10=\"Si\",AA10=\"Si\",AC10=\"No\"),\" ***Error***         Solo puede seleccionar una respuesta afirmativa por tarea\",\"\")","v":""},"No",{"$f":"IF(AND(Y10=\"No\",AA10=\"Si\",AC10=\"Si\"),\"***Error***         Solo puede seleccionar una respuesta afirmativa por tarea\",\"\")","v":""},"No",{"$f":"IF(AND(Y10=\"Si\",AA10=\"No\",AC10=\"Si\"),\"***Error***         Solo puede seleccionar una respuesta afirmativa por tarea\",\"\")","v":""},"No",{"$f":"IF(AND(Y10=\"Si\",AA10=\"Si\",AC10=\"Si\"),\"***Error***         Solo puede seleccionar una respuesta afirmativa por tarea\",\"\")","v":""},"No",{"$f":"IF(AE10=\"Si\",\"Debe Aplicar NT-TMERT-EESS\",\"\")","v":""},null,"Tarea N° 3",{"$f":"AF11","v":0},{"$f":"IF(AND(Y10=\"No\",AA10=\"No\",AC10=\"No\"),\"Ha terminado el Proceso de Identificación para esta Tarea\",\"Requiere Identificación Avanzada\")","v":"Ha terminado el Proceso de Identificación para esta Tarea"},null,{"$f":"IF(AJ10=\"Requiere Identificación Avanzada\",\"Seleccione la(s) Tabla(s) de Identificación Avanzada Condición Aceptable indicadas\",\"\")","v":""},{"$f":"IF(Y10=\"Si\",\"Aplicar Tabla 3\",\"\")","v":""},{"$f":"IF(AA10=\"Si\",\"Aplicar Tabla 5\",\"\")","v":""},{"$f":"IF(AC10=\"Si\",\"Aplicar Tabla 7\",\"\")","v":""}]
[null,null,null,null,null,null,null,null,null,null,null,null,null,null,null,null,null,null,null,null,null,null,null,null,{"$f":"IF(Y10=\"No\",\"0\",\"1\")","v":"0"},null,{"$f":"IF(AA10=\"No\",\"0\",\"1\")","v":"0"},null,{"$f":"IF(AC10=\"No\",\"0\",\"1\")","v":"0"},null,null,{"$f":"Y11+AA11+AC11","v":0}]
[null,"N°4","NA",null,"No existe",null,"NA",null,"NA",null,"NA",null,"NA",null,"NA",null,"NA","NA",null,"NA",null,null,null,{"$f":"IF(AND(Y12=\"Si\",AA12=\"Si\",AC12=\"No\"),\" ***Error***         Solo puede seleccionar una respuesta afirmativa por tarea\",\"\")","v":""},"No",{"$f":"IF(AND(Y12=\"No\",AA12=\"Si\",AC12=\"Si\"),\"***Error***         Solo puede seleccionar una respuesta afirmativa por tarea\",\"\")","v":""},"No",{"$f":"IF(AND(Y12=\"Si\",AA12=\"No\",AC12=\"Si\"),\"***Error***         Solo puede seleccionar una respuesta afirmativa por tarea\",\"\")","v":""},"No",{"$f":"IF(AND(Y12=\"Si\",AA12=\"Si\",AC12=\"Si\"),\"***Error***         Solo puede seleccionar una respuesta afirmativa por tarea\",\"\")","v":""},"No","",null,"Tarea N° 4",{"$f":"AF13","v":0},{"$f":"IF(AND(Y12=\"No\",AA12=\"No\",AC12=\"No\"),\"Ha terminado el Proceso de Identificación para esta Tarea\",\"Requiere Identificación Avanzada\")","v":"Ha terminado el Proceso de Identificación para esta Tarea"},null,{"$f":"IF(AJ12=\"Requiere Identificación Avanzada\",\"Seleccione la(s) Tabla(s) de Identificación Avanzada Condición Aceptable indicadas\",\"\")","v":""},{"$f":"IF(Y12=\"Si\",\"Aplicar Tabla 3\",\"\")","v":""},{"$f":"IF(AA12=\"Si\",\"Aplicar Tabla 5\",\"\")","v":""},{"$f":"IF(AC12=\"Si\",\"Aplicar Tabla 7\",\"\")","v":""}]
[null,null,null,null,null,null,null,null,null,null,null,null,null,null,null,null,null,null,null,null,null,null,null,null,{"$f":"IF(Y12=\"No\",\"0\",\"1\")","v":"0"},null,{"$f":"IF(AA12=\"No\",\"0\",\"1\")","v":"0"},null,{"$f":"IF(AC12=\"No\",\"0\",\"1\")","v":"0"},null,null,{"$f":"Y13+AA13+AC13","v":0}]
[null,"N°5","NA",null,"No existe",null,"NA",null,"NA",null,"NA",null,"NA",null,"NA",null,"NA","NA",null,"NA",null,null,null,{"$f":"IF(AND(Y14=\"Si\",AA14=\"Si\",AC14=\"No\"),\" ***Error***         Solo puede seleccionar una respuesta afirmativa por tarea\",\"\")","v":""},"No",{"$f":"IF(AND(Y14=\"No\",AA14=\"Si\",AC14=\"Si\"),\"***Error***         Solo puede seleccionar una respuesta afirmativa por tarea\",\"\")","v":""},"No",{"$f":"IF(AND(Y14=\"Si\",AA14=\"No\",AC14=\"Si\"),\"***Error***         Solo puede seleccionar una respuesta afirmativa por tarea\",\"\")","v":""},"No",{"$f":"IF(AND(Y14=\"Si\",AA14=\"Si\",AC14=\"Si\"),\"***Error***         Solo puede seleccionar una respuesta afirmativa por tarea\",\"\")","v":""},"No","",null,"Tarea N° 5",{"$f":"AF15","v":0},{"$f":"IF(AND(Y14=\"No\",AA14=\"No\",AC14=\"No\"),\"Ha terminado el Proceso de Identificación para esta Tarea\",\"Requiere Identificación Avanzada\")","v":"Ha terminado el Proceso de Identificación para esta Tarea"},null,{"$f":"IF(AJ14=\"Requiere Identificación Avanzada\",\"Seleccione la(s) Tabla(s) de Identificación Avanzada Condición Aceptable indicadas\",\"\")","v":""},{"$f":"IF(Y14=\"Si\",\"Aplicar Tabla 3\",\"\")","v":""},{"$f":"IF(AA14=\"Si\",\"Aplicar Tabla 5\",\"\")","v":""},{"$f":"IF(AC14=\"Si\",\"Aplicar Tabla 7\",\"\")","v":""}]
[null,null,null,null,null,null,null,null,null,null,null,null,null,null,null,null,null,null,null,null,null,null,null,null,{"$f":"IF(Y14=\"No\",\"0\",\"1\")","v":"0"},null,{"$f":"IF(AA14=\"No\",\"0\",\"1\")","v":"0"},null,{"$f":"IF(AC14=\"No\",\"0\",\"1\")","v":"0"},null,null,{"$f":"Y15+AA15+AC15","v":0}]

{"sheet":"TABLA 1 P7","index":9,"n_rows":15,"n_cols":41,"rows_kept":15,"cut":false,"hidden":false,"merged":[]}
[]
[null,null,"                                                                                  INFORMACIÓN GENERAL DEL PUESTO DE TRABAJO\n",null,null,null,null,null,null,null,null,null,null,null,null,null,null,null,null,null,null,null,null,null,null,"IDENTIFICACIÓN INICIAL"]
[null,null,"Puesto de Trabajo (PT)"]
[null,"❼",{"$f":"'Listado de Puestos de Trabajo'!D24","v":"Disponible Puesto 7"}]
[null,null,"Tarea de MMC o MMP",null,"¿Existe Manipulación Manual de Carga/Personas?",null,"Tiempo Diario por Tarea (hrs.)",null,"Carga",null,"Forma de Manipulación",null,"Distancia Recorrida",null,"Peso (Kg)",null,"Frecuencia (Levantamiento-Desenso-Tranporte)","(N° Veces/Tiempo)",null,"Escala de BORG (Empuje- Arrastre)",null,null,null,null,"¿Existe levantamiento, descenso o transporte manual de un objeto de 3 kg o más?",null,"¿Existe empuje o arrastre de un objeto utilizando 1 o 2 manos?",null,"¿Existe manejo manual de personas/pacientes?",null,"¿Existe al menos una “tarea repetitiva” de extremidad superior con duración total de 1 o más horas diarias o con tiempo total de 5 o más horas a la semana?",null,null,null,null,"                                                                                          CUADRO DE RESULTADO IDENTIFICACIÓN INICIAL"]
[null,"N° 1","NA",null,"No existe",null,"NA",null,"NA",null,"NA",null,"NA",null,"NA",null,"NA","NA",null,"NA",null,null,null,{"$f":"IF(AND(Y6=\"Si\",AA6=\"Si\",AC6=\"No\"),\" ***Error***         Solo puede seleccionar una respuesta afirmativa por tarea\",\"\")","v":""},"No",{"$f":"IF(AND(Y6=\"No\",AA6=\"Si\",AC6=\"Si\"),\"***Error***         Solo puede seleccionar una respuesta afirmativa por tarea\",\"\")","v":""},"No",{"$f":"IF(AND(Y6=\"Si\",AA6=\"No\",AC6=\"Si\"),\"***Error***         Solo puede seleccionar una respuesta afirmativa por tarea\",\"\")","v":""},"No",{"$f":"IF(AND(Y6=\"Si\",AA6=\"Si\",AC6=\"Si\"),\"***Error***         Solo puede seleccionar una respuesta afirmativa por tarea\",\"\")","v":""},"No",{"$f":"IF(AE6=\"Si\",\"Debe Aplicar NT-TMERT-EESS\",\"\")","v":""},null,"Tarea N° 1",{"$f":"AF7","v":0},{"$f":"IF(AND(Y6=\"No\",AA6=\"No\",AC6=\"No\"),\"Ha terminado el Proceso de Identificación para esta Tarea\",\"Requiere Identificación Avanzada\")","v":"Ha terminado el Proceso de Identificación para esta Tarea"},null,{"$f":"IF(AJ6=\"Requiere Identificación Avanzada\",\"Seleccione la(s) Tabla(s) de Identificación Avanzada Condición Aceptable indicadas\",\"\")","v":""},{"$f":"IF(Y6=\"Si\",\"Aplicar Tabla 3\",\"\")","v":""},{"$f":"IF(AA6=\"Si\",\"Aplicar Tabla 5\",\"\")","v":""},{"$f":"IF(AC6=\"Si\",\"Aplicar Tabla 7\",\"\")","v":""}]
[null,null,null,null,null,null,null,null,null,null,null,null,null,null,null,null,null,null,null,null,null,null,null,null,{"$f":"IF(Y6=\"No\",\"0\",\"1\")","v":"0"},null,{"$f":"IF(AA6=\"No\",\"0\",\"1\")","v":"0"},null,{"$f":"IF(AC6=\"No\",\"0\",\"1\")","v":"0"},null,null,{"$f":"Y7+AA7+AC7","v":0}]
[null,"N° 2","NA",null,"No existe",null,"NA",null,"NA",null,"NA",null,"NA",null,"NA",null,"NA","NA",null,"NA",null,null,null,{"$f":"IF(AND(Y8=\"Si\",AA8=\"Si\",AC8=\"No\"),\" ***Error***         Solo puede seleccionar una respuesta afirmativa por tarea\",\"\")","v":""},"No",{"$f":"IF(AND(Y8=\"No\",AA8=\"Si\",AC8=\"Si\"),\"***Error***         Solo puede seleccionar una respuesta afirmativa por tarea\",\"\")","v":""},"No",{"$f":"IF(AND(Y8=\"Si\",AA8=\"No\",AC8=\"Si\"),\"***Error***         Solo puede seleccionar una respuesta afirmativa por tarea\",\"\")","v":""},"No",{"$f":"IF(AND(Y8=\"Si\",AA8=\"Si\",AC8=\"Si\"),\"***Error***         Solo puede seleccionar una respuesta afirmativa por tarea\",\"\")","v":""},"No",{"$f":"IF(AE8=\"Si\",\"Debe Aplicar NT-TMERT-EESS\",\"\")","v":""},null,"Tarea N° 2",{"$f":"AF9","v":0},{"$f":"IF(AND(Y8=\"No\",AA8=\"No\",AC8=\"No\"),\"Ha terminado el Proceso de Identificación para esta Tarea\",\"Requiere Identificación Avanzada\")","v":"Ha terminado el Proceso de Identificación para esta Tarea"},null,{"$f":"IF(AJ8=\"Requiere Identificación Avanzada\",\"Seleccione la(s) Tabla(s) de Identificación Avanzada Condición Aceptable indicadas\",\"\")","v":""},{"$f":"IF(Y8=\"Si\",\"Aplicar Tabla 3\",\"\")","v":""},{"$f":"IF(AA8=\"Si\",\"Aplicar Tabla 5\",\"\")","v":""},{"$f":"IF(AC8=\"Si\",\"Aplicar Tabla 7\",\"\")","v":""}]
[null,null,null,null,null,null,null,null,null,null,null,null,null,null,null,null,null,null,null,null,null,null,null,null,{"$f":"IF(Y8=\"No\",\"0\",\"1\")","v":"0"},null,{"$f":"IF(AA8=\"No\",\"0\",\"1\")","v":"0"},null,{"$f":"IF(AC8=\"No\",\"0\",\"1\")","v":"0"},null,null,{"$f":"Y9+AA9+AC9","v":0}]
[null,"N° 3","NA",null,"No existe",null,"NA",null,"NA",null,"NA",null,"NA",null,"NA",null,"NA","NA",null,"NA",null,null,null,{"$f":"IF(AND(Y10=\"Si\",AA10=\"Si\",AC10=\"No\"),\" ***Error***         Solo puede seleccionar una respuesta afirmativa por tarea\",\"\")","v":""},"No",{"$f":"IF(AND(Y10=\"No\",AA10=\"Si\",AC10=\"Si\"),\"***Error***         Solo puede seleccionar una respuesta afirmativa por tarea\",\"\")","v":""},"No",{"$f":"IF(AND(Y10=\"Si\",AA10=\"No\",AC10=\"Si\"),\"***Error***         Solo puede seleccionar una respuesta afirmativa por tarea\",\"\")","v":""},"No",{"$f":"IF(AND(Y10=\"Si\",AA10=\"Si\",AC10=\"Si\"),\"***Error***         Solo puede seleccionar una respuesta afirmativa por tarea\",\"\")","v":""},"No",{"$f":"IF(AE10=\"Si\",\"Debe Aplicar NT-TMERT-EESS\",\"\")","v":""},null,"Tarea N° 3",{"$f":"AF11","v":0},{"$f":"IF(AND(Y10=\"No\",AA10=\"No\",AC10=\"No\"),\"Ha terminado el Proceso de Identificación para esta Tarea\",\"Requiere Identificación Avanzada\")","v":"Ha terminado el Proceso de Identificación para esta Tarea"},null,{"$f":"IF(AJ10=\"Requiere Identificación Avanzada\",\"Seleccione la(s) Tabla(s) de Identificación Avanzada Condición Aceptable indicadas\",\"\")","v":""},{"$f":"IF(Y10=\"Si\",\"Aplicar Tabla 3\",\"\")","v":""},{"$f":"IF(AA10=\"Si\",\"Aplicar Tabla 5\",\"\")","v":""},{"$f":"IF(AC10=\"Si\",\"Aplicar Tabla 7\",\"\")","v":""}]
[null,null,null,null,null,null,null,null,null,null,null,null,null,null,null,null,null,null,null,null,null,null,null,null,{"$f":"IF(Y10=\"No\",\"0\",\"1\")","v":"0"},null,{"$f":"IF(AA10=\"No\",\"0\",\"1\")","v":"0"},null,{"$f":"IF(AC10=\"No\",\"0\",\"1\")","v":"0"},null,null,{"$f":"Y11+AA11+AC11","v":0}]
[null,"N°4","NA",null,"No existe",null,"NA",null,"NA",null,"NA",null,"NA",null,"NA",null,"NA","NA",null,"NA",null,null,null,{"$f":"IF(AND(Y12=\"Si\",AA12=\"Si\",AC12=\"No\"),\" ***Error***         Solo puede seleccionar una respuesta afirmativa por tarea\",\"\")","v":""},"No",{"$f":"IF(AND(Y12=\"No\",AA12=\"Si\",AC12=\"Si\"),\"***Error***         Solo puede seleccionar una respuesta afirmativa por tarea\",\"\")","v":""},"No",{"$f":"IF(AND(Y12=\"Si\",AA12=\"No\",AC12=\"Si\"),\"***Error***         Solo puede seleccionar una respuesta afirmativa por tarea\",\"\")","v":""},"No",{"$f":"IF(AND(Y12=\"Si\",AA12=\"Si\",AC12=\"Si\"),\"***Error***         Solo puede seleccionar una respuesta afirmativa por tarea\",\"\")","v":""},"No","",null,"Tarea N° 4",{"$f":"AF13","v":0},{"$f":"IF(AND(Y12=\"No\",AA12=\"No\",AC12=\"No\"),\"Ha terminado el Proceso de Identificación para esta Tarea\",\"Requiere Identificación Avanzada\")","v":"Ha terminado el Proceso de Identificación para esta Tarea"},null,{"$f":"IF(AJ12=\"Requiere Identificación Avanzada\",\"Seleccione la(s) Tabla(s) de Identificación Avanzada Condición Aceptable indicadas\",\"\")","v":""},{"$f":"IF(Y12=\"Si\",\"Aplicar Tabla 3\",\"\")","v":""},{"$f":"IF(AA12=\"Si\",\"Aplicar Tabla 5\",\"\")","v":""},{"$f":"IF(AC12=\"Si\",\"Aplicar Tabla 7\",\"\")","v":""}]
[null,null,null,null,null,null,null,null,null,null,null,null,null,null,null,null,null,null,null,null,null,null,null,null,{"$f":"IF(Y12=\"No\",\"0\",\"1\")","v":"0"},null,{"$f":"IF(AA12=\"No\",\"0\",\"1\")","v":"0"},null,{"$f":"IF(AC12=\"No\",\"0\",\"1\")","v":"0"},null,null,{"$f":"Y13+AA13+AC13","v":0}]
[null,"N°5","NA",null,"No existe",null,"NA",null,"NA",null,"NA",null,"NA",null,"NA",null,"NA","NA",null,"NA",null,null,null,{"$f":"IF(AND(Y14=\"Si\",AA14=\"Si\",AC14=\"No\"),\" ***Error***         Solo puede seleccionar una respuesta afirmativa por tarea\",\"\")","v":""},"No",{"$f":"IF(AND(Y14=\"No\",AA14=\"Si\",AC14=\"Si\"),\"***Error***         Solo puede seleccionar una respuesta afirmativa por tarea\",\"\")","v":""},"No",{"$f":"IF(AND(Y14=\"Si\",AA14=\"No\",AC14=\"Si\"),\"***Error***         Solo puede seleccionar una respuesta afirmativa por tarea\",\"\")","v":""},"No",{"$f":"IF(AND(Y14=\"Si\",AA14=\"Si\",AC14=\"Si\"),\"***Error***         Solo puede seleccionar una respuesta afirmativa por tarea\",\"\")","v":""},"No","",null,"Tarea N° 5",{"$f":"AF15","v":0},{"$f":"IF(AND(Y14=\"No\",AA14=\"No\",AC14=\"No\"),\"Ha terminado el Proceso de Identificación para esta Tarea\",\"Requiere Identificación Avanzada\")","v":"Ha terminado el Proceso de Identificación para esta Tarea"},null,{"$f":"IF(AJ14=\"Requiere Identificación Avanzada\",\"Seleccione la(s) Tabla(s) de Identificación Avanzada Condición Aceptable indicadas\",\"\")","v":""},{"$f":"IF(Y14=\"Si\",\"Aplicar Tabla 3\",\"\")","v":""},{"$f":"IF(AA14=\"Si\",\"Aplicar Tabla 5\",\"\")","v":""},{"$f":"IF(AC14=\"Si\",\"Aplicar Tabla 7\",\"\")","v":""}]
[null,null,null,null,null,null,null,null,null,null,null,null,null,null,null,null,null,null,null,null,null,null,null,null,{"$f":"IF(Y14=\"No\",\"0\",\"1\")","v":"0"},null,{"$f":"IF(AA14=\"No\",\"0\",\"1\")","v":"0"},null,{"$f":"IF(AC14=\"No\",\"0\",\"1\")","v":"0"},null,null,{"$f":"Y15+AA15+AC15","v":0}]

{"sheet":"TABLA 1 P8","index":10,"n_rows":15,"n_cols":41,"rows_kept":15,"cut":false,"hidden":false,"merged":[]}
[]
[null,null,"                                                                                  INFORMACIÓN GENERAL DEL PUESTO DE TRABAJO\n",null,null,null,null,null,null,null,null,null,null,null,null,null,null,null,null,null,null,null,null,null,null,"IDENTIFICACIÓN INICIAL"]
[null,null,"Puesto de Trabajo (PT)"]
[null,"❽",{"$f":"'Listado de Puestos de Trabajo'!D27","v":"Disponible Puesto 8"}]
[null,null,"Tarea de MMC o MMP",null,"¿Existe Manipulación Manual de Carga/Personas?",null,"Tiempo Diario por Tarea (hrs.)",null,"Carga",null,"Forma de Manipulación",null,"Distancia Recorrida",null,"Peso (Kg)",null,"Frecuencia (Levantamiento-Desenso-Tranporte)","(N° Veces/Tiempo)",null,"Escala de BORG (Empuje- Arrastre)",null,null,null,null,"¿Existe levantamiento, descenso o transporte manual de un objeto de 3 kg o más?",null,"¿Existe empuje o arrastre de un objeto utilizando 1 o 2 manos?",null,"¿Existe manejo manual de personas/pacientes?",null,"¿Existe al menos una “tarea repetitiva” de extremidad superior con duración total de 1 o más horas diarias o con tiempo total de 5 o más horas a la semana?",null,null,null,null,"                                                                                          CUADRO DE RESULTADO IDENTIFICACIÓN INICIAL"]
[null,"N° 1","NA",null,"No existe",null,"NA",null,"NA",null,"NA",null,"NA",null,"NA",null,"NA","NA",null,"NA",null,null,null,{"$f":"IF(AND(Y6=\"Si\",AA6=\"Si\",AC6=\"No\"),\" ***Error***         Solo puede seleccionar una respuesta afirmativa por tarea\",\"\")","v":""},"No",{"$f":"IF(AND(Y6=\"No\",AA6=\"Si\",AC6=\"Si\"),\"***Error***         Solo puede seleccionar una respuesta afirmativa por tarea\",\"\")","v":""},"No",{"$f":"IF(AND(Y6=\"Si\",AA6=\"No\",AC6=\"Si\"),\"***Error***         Solo puede seleccionar una respuesta afirmativa por tarea\",\"\")","v":""},"No",{"$f":"IF(AND(Y6=\"Si\",AA6=\"Si\",AC6=\"Si\"),\"***Error***         Solo puede seleccionar una respuesta afirmativa por tarea\",\"\")","v":""},"No",{"$f":"IF(AE6=\"Si\",\"Debe Aplicar NT-TMERT-EESS\",\"\")","v":""},null,"Tarea N° 1",{"$f":"AF7","v":0},{"$f":"IF(AND(Y6=\"No\",AA6=\"No\",AC6=\"No\"),\"Ha terminado el Proceso de Identificación para esta Tarea\",\"Requiere Identificación Avanzada\")","v":"Ha terminado el Proceso de Identificación para esta Tarea"},null,{"$f":"IF(AJ6=\"Requiere Identificación Avanzada\",\"Seleccione la(s) Tabla(s) de Identificación Avanzada Condición Aceptable indicadas\",\"\")","v":""},{"$f":"IF(Y6=\"Si\",\"Aplicar Tabla 3\",\"\")","v":""},{"$f":"IF(AA6=\"Si\",\"Aplicar Tabla 5\",\"\")","v":""},{"$f":"IF(AC6=\"Si\",\"Aplicar Tabla 7\",\"\")","v":""}]
[null,null,null,null,null,null,null,null,null,null,null,null,null,null,null,null,null,null,null,null,null,null,null,null,{"$f":"IF(Y6=\"No\",\"0\",\"1\")","v":"0"},null,{"$f":"IF(AA6=\"No\",\"0\",\"1\")","v":"0"},null,{"$f":"IF(AC6=\"No\",\"0\",\"1\")","v":"0"},null,null,{"$f":"Y7+AA7+AC7","v":0}]
[null,"N° 2","NA",null,"No existe",null,"NA",null,"NA",null,"NA",null,"NA",null,"NA",null,"NA","NA",null,"NA",null,null,null,{"$f":"IF(AND(Y8=\"Si\",AA8=\"Si\",AC8=\"No\"),\" ***Error***         Solo puede seleccionar una respuesta afirmativa por tarea\",\"\")","v":""},"No",{"$f":"IF(AND(Y8=\"No\",AA8=\"Si\",AC8=\"Si\"),\"***Error***         Solo puede seleccionar una respuesta afirmativa por tarea\",\"\")","v":""},"No",{"$f":"IF(AND(Y8=\"Si\",AA8=\"No\",AC8=\"Si\"),\"***Error***         Solo puede seleccionar una respuesta afirmativa por tarea\",\"\")","v":""},"No",{"$f":"IF(AND(Y8=\"Si\",AA8=\"Si\",AC8=\"Si\"),\"***Error***         Solo puede seleccionar una respuesta afirmativa por tarea\",\"\")","v":""},"No",{"$f":"IF(AE8=\"Si\",\"Debe Aplicar NT-TMERT-EESS\",\"\")","v":""},null,"Tarea N° 2",{"$f":"AF9","v":0},{"$f":"IF(AND(Y8=\"No\",AA8=\"No\",AC8=\"No\"),\"Ha terminado el Proceso de Identificación para esta Tarea\",\"Requiere Identificación Avanzada\")","v":"Ha terminado el Proceso de Identificación para esta Tarea"},null,{"$f":"IF(AJ8=\"Requiere Identificación Avanzada\",\"Seleccione la(s) Tabla(s) de Identificación Avanzada Condición Aceptable indicadas\",\"\")","v":""},{"$f":"IF(Y8=\"Si\",\"Aplicar Tabla 3\",\"\")","v":""},{"$f":"IF(AA8=\"Si\",\"Aplicar Tabla 5\",\"\")","v":""},{"$f":"IF(AC8=\"Si\",\"Aplicar Tabla 7\",\"\")","v":""}]
[null,null,null,null,null,null,null,null,null,null,null,null,null,null,null,null,null,null,null,null,null,null,null,null,{"$f":"IF(Y8=\"No\",\"0\",\"1\")","v":"0"},null,{"$f":"IF(AA8=\"No\",\"0\",\"1\")","v":"0"},null,{"$f":"IF(AC8=\"No\",\"0\",\"1\")","v":"0"},null,null,{"$f":"Y9+AA9+AC9","v":0}]
[null,"N° 3","NA",null,"No existe",null,"NA",null,"NA",null,"NA",null,"NA",null,"NA",null,"NA","NA",null,"NA",null,null,null,{"$f":"IF(AND(Y10=\"Si\",AA10=\"Si\",AC10=\"No\"),\" ***Error***         Solo puede seleccionar una respuesta afirmativa por tarea\",\"\")","v":""},"No",{"$f":"IF(AND(Y10=\"No\",AA10=\"Si\",AC10=\"Si\"),\"***Error***         Solo puede seleccionar una respuesta afirmativa por tarea\",\"\")","v":""},"No",{"$f":"IF(AND(Y10=\"Si\",AA10=\"No\",AC10=\"Si\"),\"***Error***         Solo puede seleccionar una respuesta afirmativa por tarea\",\"\")","v":""},"No",{"$f":"IF(AND(Y10=\"Si\",AA10=\"Si\",AC10=\"Si\"),\"***Error***         Solo puede seleccionar una respuesta afirmativa por tarea\",\"\")","v":""},"No",{"$f":"IF(AE10=\"Si\",\"Debe Aplicar NT-TMERT-EESS\",\"\")","v":""},null,"Tarea N° 3",{"$f":"AF11","v":0},{"$f":"IF(AND(Y10=\"No\",AA10=\"No\",AC10=\"No\"),\"Ha terminado el Proceso de Identificación para esta Tarea\",\"Requiere Identificación Avanzada\")","v":"Ha terminado el Proceso de Identificación para esta Tarea"},null,{"$f":"IF(AJ10=\"Requiere Identificación Avanzada\",\"Seleccione la(s) Tabla(s) de Identificación Avanzada Condición Aceptable indicadas\",\"\")","v":""},{"$f":"IF(Y10=\"Si\",\"Aplicar Tabla 3\",\"\")","v":""},{"$f":"IF(AA10=\"Si\",\"Aplicar Tabla 5\",\"\")","v":""},{"$f":"IF(AC10=\"Si\",\"Aplicar Tabla 7\",\"\")","v":""}]
[null,null,null,null,null,null,null,null,null,null,null,null,null,null,null,null,null,null,null,null,null,null,null,null,{"$f":"IF(Y10=\"No\",\"0\",\"1\")","v":"0"},null,{"$f":"IF(AA10=\"No\",\"0\",\"1\")","v":"0"},null,{"$f":"IF(AC10=\"No\",\"0\",\"1\")","v":"0"},null,null,{"$f":"Y11+AA11+AC11","v":0}]
[null,"N°4","NA",null,"No existe",null,"NA",null,"NA",null,"NA",null,"NA",null,"NA",null,"NA","NA",null,"NA",null,null,null,{"$f":"IF(AND(Y12=\"Si\",AA12=\"Si\",AC12=\"No\"),\" ***Error***         Solo puede seleccionar una respuesta afirmativa por tarea\",\"\")","v":""},"No",{"$f":"IF(AND(Y12=\"No\",AA12=\"Si\",AC12=\"Si\"),\"***Error***         Solo puede seleccionar una respuesta afirmativa por tarea\",\"\")","v":""},"No",{"$f":"IF(AND(Y12=\"Si\",AA12=\"No\",AC12=\"Si\"),\"***Error***         Solo puede seleccionar una respuesta afirmativa por tarea\",\"\")","v":""},"No",{"$f":"IF(AND(Y12=\"Si\",AA12=\"Si\",AC12=\"Si\"),\"***Error***         Solo puede seleccionar una respuesta afirmativa por tarea\",\"\")","v":""},"No","",null,"Tarea N° 4",{"$f":"AF13","v":0},{"$f":"IF(AND(Y12=\"No\",AA12=\"No\",AC12=\"No\"),\"Ha terminado el Proceso de Identificación para esta Tarea\",\"Requiere Identificación Avanzada\")","v":"Ha terminado el Proceso de Identificación para esta Tarea"},null,{"$f":"IF(AJ12=\"Requiere Identificación Avanzada\",\"Seleccione la(s) Tabla(s) de Identificación Avanzada Condición Aceptable indicadas\",\"\")","v":""},{"$f":"IF(Y12=\"Si\",\"Aplicar Tabla 3\",\"\")","v":""},{"$f":"IF(AA12=\"Si\",\"Aplicar Tabla 5\",\"\")","v":""},{"$f":"IF(AC12=\"Si\",\"Aplicar Tabla 7\",\"\")","v":""}]
[null,null,null,null,null,null,null,null,null,null,null,null,null,null,null,null,null,null,null,null,null,null,null,null,{"$f":"IF(Y12=\"No\",\"0\",\"1\")","v":"0"},null,{"$f":"IF(AA12=\"No\",\"0\",\"1\")","v":"0"},null,{"$f":"IF(AC12=\"No\",\"0\",\"1\")","v":"0"},null,null,{"$f":"Y13+AA13+AC13","v":0}]
[null,"N°5","NA",null,"No existe",null,"NA",null,"NA",null,"NA",null,"NA",null,"NA",null,"NA","NA",null,"NA",null,null,null,{"$f":"IF(AND(Y14=\"Si\",AA14=\"Si\",AC14=\"No\"),\" ***Error***         Solo puede seleccionar una respuesta afirmativa por tarea\",\"\")","v":""},"No",{"$f":"IF(AND(Y14=\"No\",AA14=\"Si\",AC14=\"Si\"),\"***Error***         Solo puede seleccionar una respuesta afirmativa por tarea\",\"\")","v":""},"No",{"$f":"IF(AND(Y14=\"Si\",AA14=\"No\",AC14=\"Si\"),\"***Error***         Solo puede seleccionar una respuesta afirmativa por tarea\",\"\")","v":""},"No",{"$f":"IF(AND(Y14=\"Si\",AA14=\"Si\",AC14=\"Si\"),\"***Error***         Solo puede seleccionar una respuesta afirmativa por tarea\",\"\")","v":""},"No","",null,"Tarea N° 5",{"$f":"AF15","v":0},{"$f":"IF(AND(Y14=\"No\",AA14=\"No\",AC14=\"No\"),\"Ha terminado el Proceso de Identificación para esta Tarea\",\"Requiere Identificación Avanzada\")","v":"Ha terminado el Proceso de Identificación para esta Tarea"},null,{"$f":"IF(AJ14=\"Requiere Identificación Avanzada\",\"Seleccione la(s) Tabla(s) de Identificación Avanzada Condición Aceptable indicadas\",\"\")","v":""},{"$f":"IF(Y14=\"Si\",\"Aplicar Tabla 3\",\"\")","v":""},{"$f":"IF(AA14=\"Si\",\"Aplicar Tabla 5\",\"\")","v":""},{"$f":"IF(AC14=\"Si\",\"Aplicar Tabla 7\",\"\")","v":""}]
[null,null,null,null,null,null,null,null,null,null,null,null,null,null,null,null,null,null,null,null,null,null,null,null,{"$f":"IF(Y14=\"No\",\"0\",\"1\")","v":"0"},null,{"$f":"IF(AA14=\"No\",\"0\",\"1\")","v":"0"},null,{"$f":"IF(AC14=\"No\",\"0\",\"1\")","v":"0"},null,null,{"$f":"Y15+AA15+AC15","v":0}]

{"sheet":"TABLA 1 P9","index":11,"n_rows":15,"n_cols":41,"rows_kept":15,"cut":false,"hidden":false,"merged":[]}
[]
[null,null,"                                                                                  INFORMACIÓN GENERAL DEL PUESTO DE TRABAJO\n",null,null,null,null,null,null,null,null,null,null,null,null,null,null,null,null,null,null,null,null,null,null,"IDENTIFICACIÓN INICIAL"]
[null,null,"Puesto de Trabajo (PT)"]
[null,"❾",{"$f":"'Listado de Puestos de Trabajo'!D30","v":"Disponible Puesto 9"}]
[null,null,"Tarea de MMC o MMP",null,"¿Existe Manipulación Manual de Carga/Personas?",null,"Tiempo Diario por Tarea (hrs.)",null,"Carga",null,"Forma de Manipulación",null,"Distancia Recorrida",null,"Peso (Kg)",null,"Frecuencia (Levantamiento-Desenso-Tranporte)","(N° Veces/Tiempo)",null,"Escala de BORG (Empuje- Arrastre)",null,null,null,null,"¿Existe levantamiento, descenso o transporte manual de un objeto de 3 kg o más?",null,"¿Existe empuje o arrastre de un objeto utilizando 1 o 2 manos?",null,"¿Existe manejo manual de personas/pacientes?",null,"¿Existe al menos una “tarea repetitiva” de extremidad superior con duración total de 1 o más horas diarias o con tiempo total de 5 o más horas a la semana?",null,null,null,null,"                                                                                          CUADRO DE RESULTADO IDENTIFICACIÓN INICIAL"]
[null,"N° 1","NA",null,"No existe",null,"NA",null,"NA",null,"NA",null,"NA",null,"NA",null,"NA","NA",null,"NA",null,null,null,{"$f":"IF(AND(Y6=\"Si\",AA6=\"Si\",AC6=\"No\"),\" ***Error***         Solo puede seleccionar una respuesta afirmativa por tarea\",\"\")","v":""},"No",{"$f":"IF(AND(Y6=\"No\",AA6=\"Si\",AC6=\"Si\"),\"***Error***         Solo puede seleccionar una respuesta afirmativa por tarea\",\"\")","v":""},"No",{"$f":"IF(AND(Y6=\"Si\",AA6=\"No\",AC6=\"Si\"),\"***Error***         Solo puede seleccionar una respuesta afirmativa por tarea\",\"\")","v":""},"No",{"$f":"IF(AND(Y6=\"Si\",AA6=\"Si\",AC6=\"Si\"),\"***Error***         Solo puede seleccionar una respuesta afirmativa por tarea\",\"\")","v":""},"No",{"$f":"IF(AE6=\"Si\",\"Debe Aplicar NT-TMERT-EESS\",\"\")","v":""},null,"Tarea N° 1",{"$f":"AF7","v":0},{"$f":"IF(AND(Y6=\"No\",AA6=\"No\",AC6=\"No\"),\"Ha terminado el Proceso de Identificación para esta Tarea\",\"Requiere Identificación Avanzada\")","v":"Ha terminado el Proceso de Identificación para esta Tarea"},null,{"$f":"IF(AJ6=\"Requiere Identificación Avanzada\",\"Seleccione la(s) Tabla(s) de Identificación Avanzada Condición Aceptable indicadas\",\"\")","v":""},{"$f":"IF(Y6=\"Si\",\"Aplicar Tabla 3\",\"\")","v":""},{"$f":"IF(AA6=\"Si\",\"Aplicar Tabla 5\",\"\")","v":""},{"$f":"IF(AC6=\"Si\",\"Aplicar Tabla 7\",\"\")","v":""}]
[null,null,null,null,null,null,null,null,null,null,null,null,null,null,null,null,null,null,null,null,null,null,null,null,{"$f":"IF(Y6=\"No\",\"0\",\"1\")","v":"0"},null,{"$f":"IF(AA6=\"No\",\"0\",\"1\")","v":"0"},null,{"$f":"IF(AC6=\"No\",\"0\",\"1\")","v":"0"},null,null,{"$f":"Y7+AA7+AC7","v":0}]
[null,"N° 2","NA",null,"No existe",null,"NA",null,"NA",null,"NA",null,"NA",null,"NA",null,"NA","NA",null,"NA",null,null,null,{"$f":"IF(AND(Y8=\"Si\",AA8=\"Si\",AC8=\"No\"),\" ***Error***         Solo puede seleccionar una respuesta afirmativa por tarea\",\"\")","v":""},"No",{"$f":"IF(AND(Y8=\"No\",AA8=\"Si\",AC8=\"Si\"),\"***Error***         Solo puede seleccionar una respuesta afirmativa por tarea\",\"\")","v":""},"No",{"$f":"IF(AND(Y8=\"Si\",AA8=\"No\",AC8=\"Si\"),\"***Error***         Solo puede seleccionar una respuesta afirmativa por tarea\",\"\")","v":""},"No",{"$f":"IF(AND(Y8=\"Si\",AA8=\"Si\",AC8=\"Si\"),\"***Error***         Solo puede seleccionar una respuesta afirmativa por tarea\",\"\")","v":""},"No",{"$f":"IF(AE8=\"Si\",\"Debe Aplicar NT-TMERT-EESS\",\"\")","v":""},null,"Tarea N° 2",{"$f":"AF9","v":0},{"$f":"IF(AND(Y8=\"No\",AA8=\"No\",AC8=\"No\"),\"Ha terminado el Proceso de Identificación para esta Tarea\",\"Requiere Identificación Avanzada\")","v":"Ha terminado el Proceso de Identificación para esta Tarea"},null,{"$f":"IF(AJ8=\"Requiere Identificación Avanzada\",\"Seleccione la(s) Tabla(s) de Identificación Avanzada Condición Aceptable indicadas\",\"\")","v":""},{"$f":"IF(Y8=\"Si\",\"Aplicar Tabla 3\",\"\")","v":""},{"$f":"IF(AA8=\"Si\",\"Aplicar Tabla 5\",\"\")","v":""},{"$f":"IF(AC8=\"Si\",\"Aplicar Tabla 7\",\"\")","v":""}]
[null,null,null,null,null,null,null,null,null,null,null,null,null,null,null,null,null,null,null,null,null,null,null,null,{"$f":"IF(Y8=\"No\",\"0\",\"1\")","v":"0"},null,{"$f":"IF(AA8=\"No\",\"0\",\"1\")","v":"0"},null,{"$f":"IF(AC8=\"No\",\"0\",\"1\")","v":"0"},null,null,{"$f":"Y9+AA9+AC9","v":0}]
[null,"N° 3","NA",null,"No existe",null,"NA",null,"NA",null,"NA",null,"NA",null,"NA",null,"NA","NA",null,"NA",null,null,null,{"$f":"IF(AND(Y10=\"Si\",AA10=\"Si\",AC10=\"No\"),\" ***Error***         Solo puede seleccionar una respuesta afirmativa por tarea\",\"\")","v":""},"No",{"$f":"IF(AND(Y10=\"No\",AA10=\"Si\",AC10=\"Si\"),\"***Error***         Solo puede seleccionar una respuesta afirmativa por tarea\",\"\")","v":""},"No",{"$f":"IF(AND(Y10=\"Si\",AA10=\"No\",AC10=\"Si\"),\"***Error***         Solo puede seleccionar una respuesta afirmativa por tarea\",\"\")","v":""},"No",{"$f":"IF(AND(Y10=\"Si\",AA10=\"Si\",AC10=\"Si\"),\"***Error***         Solo puede seleccionar una respuesta afirmativa por tarea\",\"\")","v":""},"No",{"$f":"IF(AE10=\"Si\",\"Debe Aplicar NT-TMERT-EESS\",\"\")","v":""},null,"Tarea N° 3",{"$f":"AF11","v":0},{"$f":"IF(AND(Y10=\"No\",AA10=\"No\",AC10=\"No\"),\"Ha terminado el Proceso de Identificación para esta Tarea\",\"Requiere Identificación Avanzada\")","v":"Ha terminado el Proceso de Identificación para esta Tarea"},null,{"$f":"IF(AJ10=\"Requiere Identificación Avanzada\",\"Seleccione la(s) Tabla(s) de Identificación Avanzada Condición Aceptable indicadas\",\"\")","v":""},{"$f":"IF(Y10=\"Si\",\"Aplicar Tabla 3\",\"\")","v":""},{"$f":"IF(AA10=\"Si\",\"Aplicar Tabla 5\",\"\")","v":""},{"$f":"IF(AC10=\"Si\",\"Aplicar Tabla 7\",\"\")","v":""}]
[null,null,null,null,null,null,null,null,null,null,null,null,null,null,null,null,null,null,null,null,null,null,null,null,{"$f":"IF(Y10=\"No\",\"0\",\"1\")","v":"0"},null,{"$f":"IF(AA10=\"No\",\"0\",\"1\")","v":"0"},null,{"$f":"IF(AC10=\"No\",\"0\",\"1\")","v":"0"},null,null,{"$f":"Y11+AA11+AC11","v":0}]
[null,"N°4","NA",null,"No existe",null,"NA",null,"NA",null,"NA",null,"NA",null,"NA",null,"NA","NA",null,"NA",null,null,null,{"$f":"IF(AND(Y12=\"Si\",AA12=\"Si\",AC12=\"No\"),\" ***Error***         Solo puede seleccionar una respuesta afirmativa por tarea\",\"\")","v":""},"No",{"$f":"IF(AND(Y12=\"No\",AA12=\"Si\",AC12=\"Si\"),\"***Error***         Solo puede seleccionar una respuesta afirmativa por tarea\",\"\")","v":""},"No",{"$f":"IF(AND(Y12=\"Si\",AA12=\"No\",AC12=\"Si\"),\"***Error***         Solo puede seleccionar una respuesta afirmativa por tarea\",\"\")","v":""},"No",{"$f":"IF(AND(Y12=\"Si\",AA12=\"Si\",AC12=\"Si\"),\"***Error***         Solo puede seleccionar una respuesta afirmativa por tarea\",\"\")","v":""},"No","",null,"Tarea N° 4",{"$f":"AF13","v":0},{"$f":"IF(AND(Y12=\"No\",AA12=\"No\",AC12=\"No\"),\"Ha terminado el Proceso de Identificación para esta Tarea\",\"Requiere Identificación Avanzada\")","v":"Ha terminado el Proceso de Identificación para esta Tarea"},null,{"$f":"IF(AJ12=\"Requiere Identificación Avanzada\",\"Seleccione la(s) Tabla(s) de Identificación Avanzada Condición Aceptable indicadas\",\"\")","v":""},{"$f":"IF(Y12=\"Si\",\"Aplicar Tabla 3\",\"\")","v":""},{"$f":"IF(AA12=\"Si\",\"Aplicar Tabla 5\",\"\")","v":""},{"$f":"IF(AC12=\"Si\",\"Aplicar Tabla 7\",\"\")","v":""}]
[null,null,null,null,null,null,null,null,null,null,null,null,null,null,null,null,null,null,null,null,null,null,null,null,{"$f":"IF(Y12=\"No\",\"0\",\"1\")","v":"0"},null,{"$f":"IF(AA12=\"No\",\"0\",\"1\")","v":"0"},null,{"$f":"IF(AC12=\"No\",\"0\",\"1\")","v":"0"},null,null,{"$f":"Y13+AA13+AC13","v":0}]
[null,"N°5","NA",null,"No existe",null,"NA",null,"NA",null,"NA",null,"NA",null,"NA",null,"NA","NA",null,"NA",null,null,null,{"$f":"IF(AND(Y14=\"Si\",AA14=\"Si\",AC14=\"No\"),\" ***Error***         Solo puede seleccionar una respuesta afirmativa por tarea\",\"\")","v":""},"No",{"$f":"IF(AND(Y14=\"No\",AA14=\"Si\",AC14=\"Si\"),\"***Error***         Solo puede seleccionar una respuesta afirmativa por tarea\",\"\")","v":""},"No",{"$f":"IF(AND(Y14=\"Si\",AA14=\"No\",AC14=\"Si\"),\"***Error***         Solo puede seleccionar una respuesta afirmativa por tarea\",\"\")","v":""},"No",{"$f":"IF(AND(Y14=\"Si\",AA14=\"Si\",AC14=\"Si\"),\"***Error***         Solo puede seleccionar una respuesta afirmativa por tarea\",\"\")","v":""},"No","",null,"Tarea N° 5",{"$f":"AF15","v":0},{"$f":"IF(AND(Y14=\"No\",AA14=\"No\",AC14=\"No\"),\"Ha terminado el Proceso de Identificación para esta Tarea\",\"Requiere Identificación Avanzada\")","v":"Ha terminado el Proceso de Identificación para esta Tarea"},null,{"$f":"IF(AJ14=\"Requiere Identificación Avanzada\",\"Seleccione la(s) Tabla(s) de Identificación Avanzada Condición Aceptable indicadas\",\"\")","v":""},{"$f":"IF(Y14=\"Si\",\"Aplicar Tabla 3\",\"\")","v":""},{"$f":"IF(AA14=\"Si\",\"Aplicar Tabla 5\",\"\")","v":""},{"$f":"IF(AC14=\"Si\",\"Aplicar Tabla 7\",\"\")","v":""}]
[null,null,null,null,null,null,null,null,null,null,null,null,null,null,null,null,null,null,null,null,null,null,null,null,{"$f":"IF(Y14=\"No\",\"0\",\"1\")","v":"0"},null,{"$f":"IF(AA14=\"No\",\"0\",\"1\")","v":"0"},null,{"$f":"IF(AC14=\"No\",\"0\",\"1\")","v":"0"},null,null,{"$f":"Y15+AA15+AC15","v":0}]

{"sheet":"TABLA 1 P10","index":12,"n_rows":15,"n_cols":41,"rows_kept":15,"cut":false,"hidden":false,"merged":[]}
[]
[null,null,"                                                                                  INFORMACIÓN GENERAL DEL PUESTO DE TRABAJO\n",null,null,null,null,null,null,null,null,null,null,null,null,null,null,null,null,null,null,null,null,null,null,"IDENTIFICACIÓN INICIAL"]
[null,null,"Puesto de Trabajo (PT)"]
[null,"❿",{"$f":"'Listado de Puestos de Trabajo'!D33","v":"Disponible Puesto 10"}]
[null,null,"Tarea de MMC o MMP",null,"¿Existe Manipulación Manual de Carga/Personas?",null,"Tiempo Diario por Tarea (hrs.)",null,"Carga",null,"Forma de Manipulación",null,"Distancia Recorrida",null,"Peso (Kg)",null,"Frecuencia (Levantamiento-Desenso-Tranporte)","(N° Veces/Tiempo)",null,"Escala de BORG (Empuje- Arrastre)",null,null,null,null,"¿Existe levantamiento, descenso o transporte manual de un objeto de 3 kg o más?",null,"¿Existe empuje o arrastre de un objeto utilizando 1 o 2 manos?",null,"¿Existe manejo manual de personas/pacientes?",null,"¿Existe al menos una “tarea repetitiva” de extremidad superior con duración total de 1 o más horas diarias o con tiempo total de 5 o más horas a la semana?",null,null,null,null,"                                                                                          CUADRO DE RESULTADO IDENTIFICACIÓN INICIAL"]
[null,"N° 1","NA",null,"No existe",null,"NA",null,"NA",null,"NA",null,"NA",null,"NA",null,"NA","NA",null,"NA",null,null,null,{"$f":"IF(AND(Y6=\"Si\",AA6=\"Si\",AC6=\"No\"),\" ***Error***         Solo puede seleccionar una respuesta afirmativa por tarea\",\"\")","v":""},"No",{"$f":"IF(AND(Y6=\"No\",AA6=\"Si\",AC6=\"Si\"),\"***Error***         Solo puede seleccionar una respuesta afirmativa por tarea\",\"\")","v":""},"No",{"$f":"IF(AND(Y6=\"Si\",AA6=\"No\",AC6=\"Si\"),\"***Error***         Solo puede seleccionar una respuesta afirmativa por tarea\",\"\")","v":""},"No",{"$f":"IF(AND(Y6=\"Si\",AA6=\"Si\",AC6=\"Si\"),\"***Error***         Solo puede seleccionar una respuesta afirmativa por tarea\",\"\")","v":""},"No",{"$f":"IF(AE6=\"Si\",\"Debe Aplicar NT-TMERT-EESS\",\"\")","v":""},null,"Tarea N° 1",{"$f":"AF7","v":0},{"$f":"IF(AND(Y6=\"No\",AA6=\"No\",AC6=\"No\"),\"Ha terminado el Proceso de Identificación para esta Tarea\",\"Requiere Identificación Avanzada\")","v":"Ha terminado el Proceso de Identificación para esta Tarea"},null,{"$f":"IF(AJ6=\"Requiere Identificación Avanzada\",\"Seleccione la(s) Tabla(s) de Identificación Avanzada Condición Aceptable indicadas\",\"\")","v":""},{"$f":"IF(Y6=\"Si\",\"Aplicar Tabla 3\",\"\")","v":""},{"$f":"IF(AA6=\"Si\",\"Aplicar Tabla 5\",\"\")","v":""},{"$f":"IF(AC6=\"Si\",\"Aplicar Tabla 7\",\"\")","v":""}]
[null,null,null,null,null,null,null,null,null,null,null,null,null,null,null,null,null,null,null,null,null,null,null,null,{"$f":"IF(Y6=\"No\",\"0\",\"1\")","v":"0"},null,{"$f":"IF(AA6=\"No\",\"0\",\"1\")","v":"0"},null,{"$f":"IF(AC6=\"No\",\"0\",\"1\")","v":"0"},null,null,{"$f":"Y7+AA7+AC7","v":0}]
[null,"N° 2","NA",null,"No existe",null,"NA",null,"NA",null,"NA",null,"NA",null,"NA",null,"NA","NA",null,"NA",null,null,null,{"$f":"IF(AND(Y8=\"Si\",AA8=\"Si\",AC8=\"No\"),\" ***Error***         Solo puede seleccionar una respuesta afirmativa por tarea\",\"\")","v":""},"No",{"$f":"IF(AND(Y8=\"No\",AA8=\"Si\",AC8=\"Si\"),\"***Error***         Solo puede seleccionar una respuesta afirmativa por tarea\",\"\")","v":""},"No",{"$f":"IF(AND(Y8=\"Si\",AA8=\"No\",AC8=\"Si\"),\"***Error***         Solo puede seleccionar una respuesta afirmativa por tarea\",\"\")","v":""},"No",{"$f":"IF(AND(Y8=\"Si\",AA8=\"Si\",AC8=\"Si\"),\"***Error***         Solo puede seleccionar una respuesta afirmativa por tarea\",\"\")","v":""},"No",{"$f":"IF(AE8=\"Si\",\"Debe Aplicar NT-TMERT-EESS\",\"\")","v":""},null,"Tarea N° 2",{"$f":"AF9","v":0},{"$f":"IF(AND(Y8=\"No\",AA8=\"No\",AC8=\"No\"),\"Ha terminado el Proceso de Identificación para esta Tarea\",\"Requiere Identificación Avanzada\")","v":"Ha terminado el Proceso de Identificación para esta Tarea"},null,{"$f":"IF(AJ8=\"Requiere Identificación Avanzada\",\"Seleccione la(s) Tabla(s) de Identificación Avanzada Condición Aceptable indicadas\",\"\")","v":""},{"$f":"IF(Y8=\"Si\",\"Aplicar Tabla 3\",\"\")","v":""},{"$f":"IF(AA8=\"Si\",\"Aplicar Tabla 5\",\"\")","v":""},{"$f":"IF(AC8=\"Si\",\"Aplicar Tabla 7\",\"\")","v":""}]
[null,null,null,null,null,null,null,null,null,null,null,null,null,null,null,null,null,null,null,null,null,null,null,null,{"$f":"IF(Y8=\"No\",\"0\",\"1\")","v":"0"},null,{"$f":"IF(AA8=\"No\",\"0\",\"1\")","v":"0"},null,{"$f":"IF(AC8=\"No\",\"0\",\"1\")","v":"0"},null,null,{"$f":"Y9+AA9+AC9","v":0}]
[null,"N° 3","NA",null,"No existe",null,"NA",null,"NA",null,"NA",null,"NA",null,"NA",null,"NA","NA",null,"NA",null,null,null,{"$f":"IF(AND(Y10=\"Si\",AA10=\"Si\",AC10=\"No\"),\" ***Error***         Solo puede seleccionar una respuesta afirmativa por tarea\",\"\")","v":""},"No",{"$f":"IF(AND(Y10=\"No\",AA10=\"Si\",AC10=\"Si\"),\"***Error***         Solo puede seleccionar una respuesta afirmativa por tarea\",\"\")","v":""},"No",{"$f":"IF(AND(Y10=\"Si\",AA10=\"No\",AC10=\"Si\"),\"***Error***         Solo puede seleccionar una respuesta afirmativa por tarea\",\"\")","v":""},"No",{"$f":"IF(AND(Y10=\"Si\",AA10=\"Si\",AC10=\"Si\"),\"***Error***         Solo puede seleccionar una respuesta afirmativa por tarea\",\"\")","v":""},"No",{"$f":"IF(AE10=\"Si\",\"Debe Aplicar NT-TMERT-EESS\",\"\")","v":""},null,"Tarea N° 3",{"$f":"AF11","v":0},{"$f":"IF(AND(Y10=\"No\",AA10=\"No\",AC10=\"No\"),\"Ha terminado el Proceso de Identificación para esta Tarea\",\"Requiere Identificación Avanzada\")","v":"Ha terminado el Proceso de Identificación para esta Tarea"},null,{"$f":"IF(AJ10=\"Requiere Identificación Avanzada\",\"Seleccione la(s) Tabla(s) de Identificación Avanzada Condición Aceptable indicadas\",\"\")","v":""},{"$f":"IF(Y10=\"Si\",\"Aplicar Tabla 3\",\"\")","v":""},{"$f":"IF(AA10=\"Si\",\"Aplicar Tabla 5\",\"\")","v":""},{"$f":"IF(AC10=\"Si\",\"Aplicar Tabla 7\",\"\")","v":""}]
[null,null,null,null,null,null,null,null,null,null,null,null,null,null,null,null,null,null,null,null,null,null,null,null,{"$f":"IF(Y10=\"No\",\"0\",\"1\")","v":"0"},null,{"$f":"IF(AA10=\"No\",\"0\",\"1\")","v":"0"},null,{"$f":"IF(AC10=\"No\",\"0\",\"1\")","v":"0"},null,null,{"$f":"Y11+AA11+AC11","v":0}]
[null,"N°4","NA",null,"No existe",null,"NA",null,"NA",null,"NA",null,"NA",null,"NA",null,"NA","NA",null,"NA",null,null,null,{"$f":"IF(AND(Y12=\"Si\",AA12=\"Si\",AC12=\"No\"),\" ***Error***         Solo puede seleccionar una respuesta afirmativa por tarea\",\"\")","v":""},"No",{"$f":"IF(AND(Y12=\"No\",AA12=\"Si\",AC12=\"Si\"),\"***Error***         Solo puede seleccionar una respuesta afirmativa por tarea\",\"\")","v":""},"No",{"$f":"IF(AND(Y12=\"Si\",AA12=\"No\",AC12=\"Si\"),\"***Error***         Solo puede seleccionar una respuesta afirmativa por tarea\",\"\")","v":""},"No",{"$f":"IF(AND(Y12=\"Si\",AA12=\"Si\",AC12=\"Si\"),\"***Error***         Solo puede seleccionar una respuesta afirmativa por tarea\",\"\")","v":""},"No","",null,"Tarea N° 4",{"$f":"AF13","v":0},{"$f":"IF(AND(Y12=\"No\",AA12=\"No\",AC12=\"No\"),\"Ha terminado el Proceso de Identificación para esta Tarea\",\"Requiere Identificación Avanzada\")","v":"Ha terminado el Proceso de Identificación para esta Tarea"},null,{"$f":"IF(AJ12=\"Requiere Identificación Avanzada\",\"Seleccione la(s) Tabla(s) de Identificación Avanzada Condición Aceptable indicadas\",\"\")","v":""},{"$f":"IF(Y12=\"Si\",\"Aplicar Tabla 3\",\"\")","v":""},{"$f":"IF(AA12=\"Si\",\"Aplicar Tabla 5\",\"\")","v":""},{"$f":"IF(AC12=\"Si\",\"Aplicar Tabla 7\",\"\")","v":""}]
[null,null,null,null,null,null,null,null,null,null,null,null,null,null,null,null,null,null,null,null,null,null,null,null,{"$f":"IF(Y12=\"No\",\"0\",\"1\")","v":"0"},null,{"$f":"IF(AA12=\"No\",\"0\",\"1\")","v":"0"},null,{"$f":"IF(AC12=\"No\",\"0\",\"1\")","v":"0"},null,null,{"$f":"Y13+AA13+AC13","v":0}]
[null,"N°5","NA",null,"No existe",null,"NA",null,"NA",null,"NA",null,"NA",null,"NA",null,"NA","NA",null,"NA",null,null,null,{"$f":"IF(AND(Y14=\"Si\",AA14=\"Si\",AC14=\"No\"),\" ***Error***         Solo puede seleccionar una respuesta afirmativa por tarea\",\"\")","v":""},"No",{"$f":"IF(AND(Y14=\"No\",AA14=\"Si\",AC14=\"Si\"),\"***Error***         Solo puede seleccionar una respuesta afirmativa por tarea\",\"\")","v":""},"No",{"$f":"IF(AND(Y14=\"Si\",AA14=\"No\",AC14=\"Si\"),\"***Error***         Solo puede seleccionar una respuesta afirmativa por tarea\",\"\")","v":""},"No",{"$f":"IF(AND(Y14=\"Si\",AA14=\"Si\",AC14=\"Si\"),\"***Error***         Solo puede seleccionar una respuesta afirmativa por tarea\",\"\")","v":""},"No","",null,"Tarea N° 5",{"$f":"AF15","v":0},{"$f":"IF(AND(Y14=\"No\",AA14=\"No\",AC14=\"No\"),\"Ha terminado el Proceso de Identificación para esta Tarea\",\"Requiere Identificación Avanzada\")","v":"Ha terminado el Proceso de Identificación para esta Tarea"},null,{"$f":"IF(AJ14=\"Requiere Identificación Avanzada\",\"Seleccione la(s) Tabla(s) de Identificación Avanzada Condición Aceptable indicadas\",\"\")","v":""},{"$f":"IF(Y14=\"Si\",\"Aplicar Tabla 3\",\"\")","v":""},{"$f":"IF(AA14=\"Si\",\"Aplicar Tabla 5\",\"\")","v":""},{"$f":"IF(AC14=\"Si\",\"Aplicar Tabla 7\",\"\")","v":""}]
[null,null,null,null,null,null,null,null,null,null,null,null,null,null,null,null,null,null,null,null,null,null,null,null,{"$f":"IF(Y14=\"No\",\"0\",\"1\")","v":"0"},null,{"$f":"IF(AA14=\"No\",\"0\",\"1\")","v":"0"},null,{"$f":"IF(AC14=\"No\",\"0\",\"1\")","v":"0"},null,null,{"$f":"Y15+AA15+AC15","v":0}]

{"sheet":"TABLA 3T1P1","index":13,"n_rows":34,"n_cols":11,"rows_kept":34,"cut":false,"hidden":false,"merged":[]}
[]
[null,null,null,"LEVANTAMIENTO, DESCENSO Y TRANSPORTE DE CARGA - IDENTIFICACIÓN AVANZADA  CONDICIÓN ACEPTABLE  \n",null,null,null,null,null,"Cuadro de Resultado Tabla 3"]
[null,null,"Condición","Levantamiento/descenso y transporte manual de carga","Si / No / NA"]
[null,null,"Ambiente de Trabajo","La temperatura en donde se realiza la tarea es entre los 18° y 26° (grados Celsius).","NA",{"$f":"IF(E4=\"SI\",\"0\",IF(E4=\"NA\",\"0\",\"1\"))","v":"0"},null,null,null,"La Tarea:"]
[null,null,null,"El piso se encuentra en buenas condiciones (regular, seco y estable).","NA",{"$f":"IF(E5=\"SI\",\"0\",IF(E5=\"NA\",\"0\",\"1\"))","v":"0"},null,null,{"$f":"'TABLA 1 P1'!B6","v":"N° 1"},{"$f":"'TABLA 1 P1'!C6","v":"NA"}]
[null,null,null,"El espacio de trabajo permite el normal movimiento de los trabajadores (sin generar posturas incómodas) durante el levantamiento/descenso y/o transporte.","NA","0",null,null,null,"Resultado:"]
[null,null,"Característica de la Carga","El tamaño de la carga permite la visibilidad y movimientos normales del trabajador.","NA","0",null,null,{"$f":"F31","v":0},{"$f":"IF(F31>=1,\"No es Aceptable\",\"Aceptable\")","v":"Aceptable"}]
[null,null,null,"El centro de gravedad de la carga es estable.","NA","0",null,null,null,"Por lo que usted:"]
[null,null,null,"La carga permite su agarre sin riesgo de cortes, compresión o quemaduras.","NA","0",null,null,null,{"$f":"IF(J7=\"Aceptable\",\"Ha Terminado el Proceso de Identificación para esta Tarea\",\"Debe Aplicar Tabla 4\")","v":"Ha Terminado el Proceso de Identificación para esta Tarea"},{"$f":"F31","v":0}]
[null,null,"Horas de Trabajo\n","La tarea de levantamiento/descenso o transporte de carga dura menos de 8 hrs.","NA","0"]
[null,null,"3 a 5 Kgs","Se observa ausencia de asimetría (Ej: cuerpo rotado,torsión y/o inclinación de tronco).","NA","0",null,null,null,{"$f":"IF(J9=\"Ha Terminado el Proceso de Identificación para esta Tarea\",\"Si terminó de responder toda la Tabla 3 Presione Aquí para  regresar a Tabla 1 Información General del Puesto de Trabajo donde podrá continuar con la siguiente Tarea\",\"\")","v":"Si terminó de responder toda la Tabla 3 Presione Aquí para  regresar a Tabla 1 Información General del Puesto de Trabajo donde podrá continuar con la siguiente Tarea"},{"$f":"F31","v":0}]
[null,null,null,"La carga es mantenida cerca del cuerpo.","NA","0",null,null,null,null,{"$f":"F31","v":0}]
[null,null,null,"El desplazamiento vertical de la carga se realiza entrelas caderas y los hombros.","NA","0"]
[null,null,null,"Frecuencia máxima de MMC: el levantamiento/descenso es menor a 5 veces por minuto","NA","0",null,null,null,null,{"$f":"F31","v":0}]
[null,null,"5,1 a 10 Kgs","Se observa ausencia de asimetría (Ej: cuerpo rotado,torsión y/o inclinación de tronco).","NA","0"]
[null,null,null,"La carga es mantenida cerca del cuerpo.","NA","0"]
[null,null,null,"El desplazamiento vertical de la carga se realiza entre las caderas y los hombros.","NA","0",null,null,null,null,{"$f":"F31","v":0}]
[null,null,null,"Frecuencia máxima de MMC: el levantamiento/descenso es menor a 1 veces por minuto.","NA","0"]
[null,null,"+ de 10 Kgs","Ausencia de cargas mayores a 10 Kgs.","NA","0"]
[null,null,null,null,null,{"$f":"F4+F5+F6+F7+F8+F9+F10+F11+F12+F13+F14+F15+F16+F17+F18+F19","v":0},null,null,null,null,{"$f":"F31","v":0}]
[null,null,null,"Transporte Manual de Carga"]
[]
[null,null,null,null,null,null,null,null,null,null,{"$f":"F31","v":0}]
[]
[null,null,null,null,"Si / No / NA"]
[null,null,null,null,"NA",{"$f":"IF(E26=\"SI\",\"0\",IF(E26=\"NA\",\"0\",\"1\"))","v":"0"}]
[null,null,null,null,"NA",{"$f":"IF(E27=\"SI\",\"0\",IF(E27=\"NA\",\"0\",\"1\"))","v":"0"},null,null,null,null,{"$f":"F31","v":0}]
[null,null,null,null,"NA","0"]
[null,null,null,"Ausencia de posturas inadecuadas durante el transporte de carga.","NA","0"]
[null,null,null,null,null,{"$f":"F26+F27+F28+F29","v":0},null,null,null,null,{"$f":"F31","v":0}]
[null,null,null,null,null,{"$f":"(F20+F30)","v":0}]
[]
[]
[null,null,null,null,null,null,null,null,null,"Presione solo si al completar Tabla 3  se lo indica el Cuadro de Resultado",{"$f":"F31","v":0}]

{"sheet":"TABLA 3T1P2","index":14,"n_rows":34,"n_cols":11,"rows_kept":34,"cut":false,"hidden":false,"merged":[]}
[]
[null,null,null,"LEVANTAMIENTO, DESCENSO Y TRANSPORTE DE CARGA - IDENTIFICACIÓN AVANZADA  CONDICIÓN ACEPTABLE  \n",null,null,null,null,null,"Cuadro de Resultado Tabla 3"]
[null,null,"Condición","Levantamiento/descenso y transporte manual de carga","Si / No / NA"]
[null,null,"Ambiente de Trabajo","La temperatura en donde se realiza la tarea es entre los 18° y 26° (grados Celsius).","NA",{"$f":"IF(E4=\"SI\",\"0\",IF(E4=\"NA\",\"0\",\"1\"))","v":"0"},null,null,null,"La Tarea:"]
[null,null,null,"El piso se encuentra en buenas condiciones (regular, seco y estable).","NA",{"$f":"IF(E5=\"SI\",\"0\",IF(E5=\"NA\",\"0\",\"1\"))","v":"0"},null,null,{"$f":"'TABLA 1 P1'!B6","v":"N° 1"},{"$f":"'TABLA 1 P2'!C6","v":"NA"}]
[null,null,null,"El espacio de trabajo permite el normal movimiento de los trabajadores (sin generar posturas incómodas) durante el levantamiento/descenso y/o transporte.","NA","0",null,null,null,"Resultado:"]
[null,null,"Característica de la Carga","El tamaño de la carga permite la visibilidad y movimientos normales del trabajador.","NA","0",null,null,{"$f":"F31","v":0},{"$f":"IF(F31>=1,\"No es Aceptable\",\"Aceptable\")","v":"Aceptable"}]
[null,null,null,"El centro de gravedad de la carga es estable.","NA","0",null,null,null,"Por lo que usted:"]
[null,null,null,"La carga permite su agarre sin riesgo de cortes, compresión o quemaduras.","NA","0",null,null,null,{"$f":"IF(J7=\"Aceptable\",\"Ha Terminado el Proceso de Identificación para esta Tarea\",\"Debe Aplicar Tabla 4\")","v":"Ha Terminado el Proceso de Identificación para esta Tarea"},{"$f":"F31","v":0}]
[null,null,"Horas de Trabajo\n","La tarea de levantamiento/descenso o transporte de carga dura menos de 8 hrs.","NA","0"]
[null,null,"3 a 5 Kgs","Se observa ausencia de asimetría (Ej: cuerpo rotado,torsión y/o inclinación de tronco).","NA","0",null,null,null,{"$f":"IF(J9=\"Ha Terminado el Proceso de Identificación para esta Tarea\",\"Si terminó de responder toda la Tabla 3 Presione Aquí para  regresar a Tabla 1 Información General del Puesto de Trabajo donde podrá continuar con la siguiente Tarea\",\"\")","v":"Si terminó de responder toda la Tabla 3 Presione Aquí para  regresar a Tabla 1 Información General del Puesto de Trabajo donde podrá continuar con la siguiente Tarea"},{"$f":"F31","v":0}]
[null,null,null,"La carga es mantenida cerca del cuerpo.","NA","0",null,null,null,null,{"$f":"F31","v":0}]
[null,null,null,"El desplazamiento vertical de la carga se realiza entrelas caderas y los hombros.","NA","0"]
[null,null,null,"Frecuencia máxima de MMC: el levantamiento/descenso es menor a 5 veces por minuto","NA","0",null,null,null,null,{"$f":"F31","v":0}]
[null,null,"5,1 a 10 Kgs","Se observa ausencia de asimetría (Ej: cuerpo rotado,torsión y/o inclinación de tronco).","NA","0"]
[null,null,null,"La carga es mantenida cerca del cuerpo.","NA","0"]
[null,null,null,"El desplazamiento vertical de la carga se realiza entre las caderas y los hombros.","NA","0",null,null,null,null,{"$f":"F31","v":0}]
[null,null,null,"Frecuencia máxima de MMC: el levantamiento/descenso es menor a 1 veces por minuto.","NA","0"]
[null,null,"+ de 10 Kgs","Ausencia de cargas mayores a 10 Kgs.","NA","0"]
[null,null,null,null,null,{"$f":"F4+F5+F6+F7+F8+F9+F10+F11+F12+F13+F14+F15+F16+F17+F18+F19","v":0},null,null,null,null,{"$f":"F31","v":0}]
[null,null,null,"Transporte Manual de Carga"]
[]
[null,null,null,null,null,null,null,null,null,null,{"$f":"F31","v":0}]
[]
[null,null,null,null,"Si / No / NA"]
[null,null,null,null,"NA",{"$f":"IF(E26=\"SI\",\"0\",IF(E26=\"NA\",\"0\",\"1\"))","v":"0"}]
[null,null,null,null,"NA",{"$f":"IF(E27=\"SI\",\"0\",IF(E27=\"NA\",\"0\",\"1\"))","v":"0"},null,null,null,null,{"$f":"F31","v":0}]
[null,null,null,null,"NA","0"]
[null,null,null,"Ausencia de posturas inadecuadas durante el transporte de carga.","NA","0"]
[null,null,null,null,null,{"$f":"F26+F27+F28+F29","v":0},null,null,null,null,{"$f":"F31","v":0}]
[null,null,null,null,null,{"$f":"(F20+F30)","v":0}]
[]
[]
[null,null,null,null,null,null,null,null,null,"Presione solo si al completar Tabla 3  se lo indica el Cuadro de Resultado",{"$f":"F31","v":0}]

{"sheet":"TABLA 3T1P3","index":15,"n_rows":34,"n_cols":11,"rows_kept":34,"cut":false,"hidden":false,"merged":[]}
[]
[null,null,null,"LEVANTAMIENTO, DESCENSO Y TRANSPORTE DE CARGA - IDENTIFICACIÓN AVANZADA  CONDICIÓN ACEPTABLE  \n",null,null,null,null,null,"Cuadro de Resultado Tabla 3"]
[null,null,"Condición","Levantamiento/descenso y transporte manual de carga","Si / No / NA"]
[null,null,"Ambiente de Trabajo","La temperatura en donde se realiza la tarea es entre los 18° y 26° (grados Celsius).","NA",{"$f":"IF(E4=\"SI\",\"0\",IF(E4=\"NA\",\"0\",\"1\"))","v":"0"},null,null,null,"La Tarea:"]
[null,null,null,"El piso se encuentra en buenas condiciones (regular, seco y estable).","NA",{"$f":"IF(E5=\"SI\",\"0\",IF(E5=\"NA\",\"0\",\"1\"))","v":"0"},null,null,{"$f":"'TABLA 1 P3'!B6","v":"N° 1"},{"$f":"'TABLA 1 P3'!C6","v":"NA"}]
[null,null,null,"El espacio de trabajo permite el normal movimiento de los trabajadores (sin generar posturas incómodas) durante el levantamiento/descenso y/o transporte.","NA","0",null,null,null,"Resultado:"]
[null,null,"Característica de la Carga","El tamaño de la carga permite la visibilidad y movimientos normales del trabajador.","NA","0",null,null,{"$f":"F31","v":0},{"$f":"IF(F31>=1,\"No es Aceptable\",\"Aceptable\")","v":"Aceptable"}]
[null,null,null,"El centro de gravedad de la carga es estable.","NA","0",null,null,null,"Por lo que usted:"]
[null,null,null,"La carga permite su agarre sin riesgo de cortes, compresión o quemaduras.","NA","0",null,null,null,{"$f":"IF(J7=\"Aceptable\",\"Ha Terminado el Proceso de Identificación para esta Tarea\",\"Debe Aplicar Tabla 4\")","v":"Ha Terminado el Proceso de Identificación para esta Tarea"},{"$f":"F31","v":0}]
[null,null,"Horas de Trabajo\n","La tarea de levantamiento/descenso o transporte de carga dura menos de 8 hrs.","NA","0"]
[null,null,"3 a 5 Kgs","Se observa ausencia de asimetría (Ej: cuerpo rotado,torsión y/o inclinación de tronco).","NA","0",null,null,null,{"$f":"IF(J9=\"Ha Terminado el Proceso de Identificación para esta Tarea\",\"Si terminó de responder toda la Tabla 3 Presione Aquí para  regresar a Tabla 1 Información General del Puesto de Trabajo donde podrá continuar con la siguiente Tarea\",\"\")","v":"Si terminó de responder toda la Tabla 3 Presione Aquí para  regresar a Tabla 1 Información General del Puesto de Trabajo donde podrá continuar con la siguiente Tarea"},{"$f":"F31","v":0}]
[null,null,null,"La carga es mantenida cerca del cuerpo.","NA","0",null,null,null,null,{"$f":"F31","v":0}]
[null,null,null,"El desplazamiento vertical de la carga se realiza entrelas caderas y los hombros.","NA","0"]
[null,null,null,"Frecuencia máxima de MMC: el levantamiento/descenso es menor a 5 veces por minuto","NA","0",null,null,null,null,{"$f":"F31","v":0}]
[null,null,"5,1 a 10 Kgs","Se observa ausencia de asimetría (Ej: cuerpo rotado,torsión y/o inclinación de tronco).","NA","0"]
[null,null,null,"La carga es mantenida cerca del cuerpo.","NA","0"]
[null,null,null,"El desplazamiento vertical de la carga se realiza entre las caderas y los hombros.","NA","0",null,null,null,null,{"$f":"F31","v":0}]
[null,null,null,"Frecuencia máxima de MMC: el levantamiento/descenso es menor a 1 veces por minuto.","NA","0"]
[null,null,"+ de 10 Kgs","Ausencia de cargas mayores a 10 Kgs.","NA","0"]
[null,null,null,null,null,{"$f":"F4+F5+F6+F7+F8+F9+F10+F11+F12+F13+F14+F15+F16+F17+F18+F19","v":0},null,null,null,null,{"$f":"F31","v":0}]
[null,null,null,"Transporte Manual de Carga"]
[]
[null,null,null,null,null,null,null,null,null,null,{"$f":"F31","v":0}]
[]
[null,null,null,null,"Si / No / NA"]
[null,null,null,null,"NA",{"$f":"IF(E26=\"SI\",\"0\",IF(E26=\"NA\",\"0\",\"1\"))","v":"0"}]
[null,null,null,null,"NA",{"$f":"IF(E27=\"SI\",\"0\",IF(E27=\"NA\",\"0\",\"1\"))","v":"0"},null,null,null,null,{"$f":"F31","v":0}]
[null,null,null,null,"NA","0"]
[null,null,null,"Ausencia de posturas inadecuadas durante el transporte de carga.","NA","0"]
[null,null,null,null,null,{"$f":"F26+F27+F28+F29","v":0},null,null,null,null,{"$f":"F31","v":0}]
[null,null,null,null,null,{"$f":"(F20+F30)","v":0}]
[]
[]
[null,null,null,null,null,null,null,null,null,"Presione solo si al completar Tabla 3  se lo indica el Cuadro de Resultado",{"$f":"F31","v":0}]

{"sheet":"TABLA 3T1P4","index":16,"n_rows":34,"n_cols":11,"rows_kept":34,"cut":false,"hidden":false,"merged":[]}
[]
[null,null,null,"LEVANTAMIENTO, DESCENSO Y TRANSPORTE DE CARGA - IDENTIFICACIÓN AVANZADA  CONDICIÓN ACEPTABLE  \n",null,null,null,null,null,"Cuadro de Resultado Tabla 3"]
[null,null,"Condición","Levantamiento/descenso y transporte manual de carga","Si / No / NA"]
[null,null,"Ambiente de Trabajo","La temperatura en donde se realiza la tarea es entre los 18° y 26° (grados Celsius).","NA",{"$f":"IF(E4=\"SI\",\"0\",IF(E4=\"NA\",\"0\",\"1\"))","v":"0"},null,null,null,"La Tarea:"]
[null,null,null,"El piso se encuentra en buenas condiciones (regular, seco y estable).","NA",{"$f":"IF(E5=\"SI\",\"0\",IF(E5=\"NA\",\"0\",\"1\"))","v":"0"},null,null,{"$f":"'TABLA 1 P4'!B6","v":"N° 1"},{"$f":"'TABLA 1 P4'!C6","v":"NA"}]
[null,null,null,"El espacio de trabajo permite el normal movimiento de los trabajadores (sin generar posturas incómodas) durante el levantamiento/descenso y/o transporte.","NA","0",null,null,null,"Resultado:"]
[null,null,"Característica de la Carga","El tamaño de la carga permite la visibilidad y movimientos normales del trabajador.","NA","0",null,null,{"$f":"F31","v":0},{"$f":"IF(F31>=1,\"No es Aceptable\",\"Aceptable\")","v":"Aceptable"}]
[null,null,null,"El centro de gravedad de la carga es estable.","NA","0",null,null,null,"Por lo que usted:"]
[null,null,null,"La carga permite su agarre sin riesgo de cortes, compresión o quemaduras.","NA","0",null,null,null,{"$f":"IF(J7=\"Aceptable\",\"Ha Terminado el Proceso de Identificación para esta Tarea\",\"Debe Aplicar Tabla 4\")","v":"Ha Terminado el Proceso de Identificación para esta Tarea"},{"$f":"F31","v":0}]
[null,null,"Horas de Trabajo\n","La tarea de levantamiento/descenso o transporte de carga dura menos de 8 hrs.","NA","0"]
[null,null,"3 a 5 Kgs","Se observa ausencia de asimetría (Ej: cuerpo rotado,torsión y/o inclinación de tronco).","NA","0",null,null,null,{"$f":"IF(J9=\"Ha Terminado el Proceso de Identificación para esta Tarea\",\"Si terminó de responder toda la Tabla 3 Presione Aquí para  regresar a Tabla 1 Información General del Puesto de Trabajo donde podrá continuar con la siguiente Tarea\",\"\")","v":"Si terminó de responder toda la Tabla 3 Presione Aquí para  regresar a Tabla 1 Información General del Puesto de Trabajo donde podrá continuar con la siguiente Tarea"},{"$f":"F31","v":0}]
[null,null,null,"La carga es mantenida cerca del cuerpo.","NA","0",null,null,null,null,{"$f":"F31","v":0}]
[null,null,null,"El desplazamiento vertical de la carga se realiza entrelas caderas y los hombros.","NA","0"]
[null,null,null,"Frecuencia máxima de MMC: el levantamiento/descenso es menor a 5 veces por minuto","NA","0",null,null,null,null,{"$f":"F31","v":0}]
[null,null,"5,1 a 10 Kgs","Se observa ausencia de asimetría (Ej: cuerpo rotado,torsión y/o inclinación de tronco).","NA","0"]
[null,null,null,"La carga es mantenida cerca del cuerpo.","NA","0"]
[null,null,null,"El desplazamiento vertical de la carga se realiza entre las caderas y los hombros.","NA","0",null,null,null,null,{"$f":"F31","v":0}]
[null,null,null,"Frecuencia máxima de MMC: el levantamiento/descenso es menor a 1 veces por minuto.","NA","0"]
[null,null,"+ de 10 Kgs","Ausencia de cargas mayores a 10 Kgs.","NA","0"]
[null,null,null,null,null,{"$f":"F4+F5+F6+F7+F8+F9+F10+F11+F12+F13+F14+F15+F16+F17+F18+F19","v":0},null,null,null,null,{"$f":"F31","v":0}]
[null,null,null,"Transporte Manual de Carga"]
[]
[null,null,null,null,null,null,null,null,null,null,{"$f":"F31","v":0}]
[]
[null,null,null,null,"Si / No / NA"]
[null,null,null,null,"NA",{"$f":"IF(E26=\"SI\",\"0\",IF(E26=\"NA\",\"0\",\"1\"))","v":"0"}]
[null,null,null,null,"NA",{"$f":"IF(E27=\"SI\",\"0\",IF(E27=\"NA\",\"0\",\"1\"))","v":"0"},null,null,null,null,{"$f":"F31","v":0}]
[null,null,null,null,"NA","0"]
[null,null,null,"Ausencia de posturas inadecuadas durante el transporte de carga.","NA","0"]
[null,null,null,null,null,{"$f":"F26+F27+F28+F29","v":0},null,null,null,null,{"$f":"F31","v":0}]
[null,null,null,null,null,{"$f":"(F20+F30)","v":0}]
[]
[]
[null,null,null,null,null,null,null,null,null,"Presione solo si al completar Tabla 3  se lo indica el Cuadro de Resultado",{"$f":"F31","v":0}]

{"sheet":"TABLA 3T1P5","index":17,"n_rows":34,"n_cols":11,"rows_kept":34,"cut":false,"hidden":false,"merged":[]}
[]
[null,null,null,"LEVANTAMIENTO, DESCENSO Y TRANSPORTE DE CARGA - IDENTIFICACIÓN AVANZADA  CONDICIÓN ACEPTABLE  \n",null,null,null,null,null,"Cuadro de Resultado Tabla 3"]
[null,null,"Condición","Levantamiento/descenso y transporte manual de carga","Si / No / NA"]
[null,null,"Ambiente de Trabajo","La temperatura en donde se realiza la tarea es entre los 18° y 26° (grados Celsius).","NA",{"$f":"IF(E4=\"SI\",\"0\",IF(E4=\"NA\",\"0\",\"1\"))","v":"0"},null,null,null,"La Tarea:"]
[null,null,null,"El piso se encuentra en buenas condiciones (regular, seco y estable).","NA",{"$f":"IF(E5=\"SI\",\"0\",IF(E5=\"NA\",\"0\",\"1\"))","v":"0"},null,null,{"$f":"'TABLA 1 P5'!B6","v":"N° 1"},{"$f":"'TABLA 1 P5'!C6","v":"NA"}]
[null,null,null,"El espacio de trabajo permite el normal movimiento de los trabajadores (sin generar posturas incómodas) durante el levantamiento/descenso y/o transporte.","NA","0",null,null,null,"Resultado:"]
[null,null,"Característica de la Carga","El tamaño de la carga permite la visibilidad y movimientos normales del trabajador.","NA","0",null,null,{"$f":"F31","v":0},{"$f":"IF(F31>=1,\"No es Aceptable\",\"Aceptable\")","v":"Aceptable"}]
[null,null,null,"El centro de gravedad de la carga es estable.","NA","0",null,null,null,"Por lo que usted:"]
[null,null,null,"La carga permite su agarre sin riesgo de cortes, compresión o quemaduras.","NA","0",null,null,null,{"$f":"IF(J7=\"Aceptable\",\"Ha Terminado el Proceso de Identificación para esta Tarea\",\"Debe Aplicar Tabla 4\")","v":"Ha Terminado el Proceso de Identificación para esta Tarea"},{"$f":"F31","v":0}]
[null,null,"Horas de Trabajo\n","La tarea de levantamiento/descenso o transporte de carga dura menos de 8 hrs.","NA","0"]
[null,null,"3 a 5 Kgs","Se observa ausencia de asimetría (Ej: cuerpo rotado,torsión y/o inclinación de tronco).","NA","0",null,null,null,{"$f":"IF(J9=\"Ha Terminado el Proceso de Identificación para esta Tarea\",\"Si terminó de responder toda la Tabla 3 Presione Aquí para  regresar a Tabla 1 Información General del Puesto de Trabajo donde podrá continuar con la siguiente Tarea\",\"\")","v":"Si terminó de responder toda la Tabla 3 Presione Aquí para  regresar a Tabla 1 Información General del Puesto de Trabajo donde podrá continuar con la siguiente Tarea"},{"$f":"F31","v":0}]
[null,null,null,"La carga es mantenida cerca del cuerpo.","NA","0",null,null,null,null,{"$f":"F31","v":0}]
[null,null,null,"El desplazamiento vertical de la carga se realiza entrelas caderas y los hombros.","NA","0"]
[null,null,null,"Frecuencia máxima de MMC: el levantamiento/descenso es menor a 5 veces por minuto","NA","0",null,null,null,null,{"$f":"F31","v":0}]
[null,null,"5,1 a 10 Kgs","Se observa ausencia de asimetría (Ej: cuerpo rotado,torsión y/o inclinación de tronco).","NA","0"]
[null,null,null,"La carga es mantenida cerca del cuerpo.","NA","0"]
[null,null,null,"El desplazamiento vertical de la carga se realiza entre las caderas y los hombros.","NA","0",null,null,null,null,{"$f":"F31","v":0}]
[null,null,null,"Frecuencia máxima de MMC: el levantamiento/descenso es menor a 1 veces por minuto.","NA","0"]
[null,null,"+ de 10 Kgs","Ausencia de cargas mayores a 10 Kgs.","NA","0"]
[null,null,null,null,null,{"$f":"F4+F5+F6+F7+F8+F9+F10+F11+F12+F13+F14+F15+F16+F17+F18+F19","v":0},null,null,null,null,{"$f":"F31","v":0}]
[null,null,null,"Transporte Manual de Carga"]
[]
[null,null,null,null,null,null,null,null,null,null,{"$f":"F31","v":0}]
[]
[null,null,null,null,"Si / No / NA"]
[null,null,null,null,"NA",{"$f":"IF(E26=\"SI\",\"0\",IF(E26=\"NA\",\"0\",\"1\"))","v":"0"}]
[null,null,null,null,"NA",{"$f":"IF(E27=\"SI\",\"0\",IF(E27=\"NA\",\"0\",\"1\"))","v":"0"},null,null,null,null,{"$f":"F31","v":0}]
[null,null,null,null,"NA","0"]
[null,null,null,"Ausencia de posturas inadecuadas durante el transporte de carga.","NA","0"]
[null,null,null,null,null,{"$f":"F26+F27+F28+F29","v":0},null,null,null,null,{"$f":"F31","v":0}]
[null,null,null,null,null,{"$f":"(F20+F30)","v":0}]
[]
[]
[null,null,null,null,null,null,null,null,null,"Presione solo si al completar Tabla 3  se lo indica el Cuadro de Resultado",{"$f":"F31","v":0}]

{"sheet":"TABLA 3T1P6","index":18,"n_rows":34,"n_cols":11,"rows_kept":34,"cut":false,"hidden":false,"merged":[]}
[]
[null,null,null,"LEVANTAMIENTO, DESCENSO Y TRANSPORTE DE CARGA - IDENTIFICACIÓN AVANZADA  CONDICIÓN ACEPTABLE  \n",null,null,null,null,null,"Cuadro de Resultado Tabla 3"]
[null,null,"Condición","Levantamiento/descenso y transporte manual de carga","Si / No / NA"]
[null,null,"Ambiente de Trabajo","La temperatura en donde se realiza la tarea es entre los 18° y 26° (grados Celsius).","NA",{"$f":"IF(E4=\"SI\",\"0\",IF(E4=\"NA\",\"0\",\"1\"))","v":"0"},null,null,null,"La Tarea:"]
[null,null,null,"El piso se encuentra en buenas condiciones (regular, seco y estable).","NA",{"$f":"IF(E5=\"SI\",\"0\",IF(E5=\"NA\",\"0\",\"1\"))","v":"0"},null,null,{"$f":"'TABLA 1 P6'!B6","v":"N° 1"},{"$f":"'TABLA 1 P6'!C6","v":"NA"}]
[null,null,null,"El espacio de trabajo permite el normal movimiento de los trabajadores (sin generar posturas incómodas) durante el levantamiento/descenso y/o transporte.","NA","0",null,null,null,"Resultado:"]
[null,null,"Característica de la Carga","El tamaño de la carga permite la visibilidad y movimientos normales del trabajador.","NA","0",null,null,{"$f":"F31","v":0},{"$f":"IF(F31>=1,\"No es Aceptable\",\"Aceptable\")","v":"Aceptable"}]
[null,null,null,"El centro de gravedad de la carga es estable.","NA","0",null,null,null,"Por lo que usted:"]
[null,null,null,"La carga permite su agarre sin riesgo de cortes, compresión o quemaduras.","NA","0",null,null,null,{"$f":"IF(J7=\"Aceptable\",\"Ha Terminado el Proceso de Identificación para esta Tarea\",\"Debe Aplicar Tabla 4\")","v":"Ha Terminado el Proceso de Identificación para esta Tarea"},{"$f":"F31","v":0}]
[null,null,"Horas de Trabajo\n","La tarea de levantamiento/descenso o transporte de carga dura menos de 8 hrs.","NA","0"]
[null,null,"3 a 5 Kgs","Se observa ausencia de asimetría (Ej: cuerpo rotado,torsión y/o inclinación de tronco).","NA","0",null,null,null,{"$f":"IF(J9=\"Ha Terminado el Proceso de Identificación para esta Tarea\",\"Si terminó de responder toda la Tabla 3 Presione Aquí para  regresar a Tabla 1 Información General del Puesto de Trabajo donde podrá continuar con la siguiente Tarea\",\"\")","v":"Si terminó de responder toda la Tabla 3 Presione Aquí para  regresar a Tabla 1 Información General del Puesto de Trabajo donde podrá continuar con la siguiente Tarea"},{"$f":"F31","v":0}]
[null,null,null,"La carga es mantenida cerca del cuerpo.","NA","0",null,null,null,null,{"$f":"F31","v":0}]
[null,null,null,"El desplazamiento vertical de la carga se realiza entrelas caderas y los hombros.","NA","0"]
[null,null,null,"Frecuencia máxima de MMC: el levantamiento/descenso es menor a 5 veces por minuto","NA","0",null,null,null,null,{"$f":"F31","v":0}]
[null,null,"5,1 a 10 Kgs","Se observa ausencia de asimetría (Ej: cuerpo rotado,torsión y/o inclinación de tronco).","NA","0"]
[null,null,null,"La carga es mantenida cerca del cuerpo.","NA","0"]
[null,null,null,"El desplazamiento vertical de la carga se realiza entre las caderas y los hombros.","NA","0",null,null,null,null,{"$f":"F31","v":0}]
[null,null,null,"Frecuencia máxima de MMC: el levantamiento/descenso es menor a 1 veces por minuto.","NA","0"]
[null,null,"+ de 10 Kgs","Ausencia de cargas mayores a 10 Kgs.","NA","0"]
[null,null,null,null,null,{"$f":"F4+F5+F6+F7+F8+F9+F10+F11+F12+F13+F14+F15+F16+F17+F18+F19","v":0},null,null,null,null,{"$f":"F31","v":0}]
[null,null,null,"Transporte Manual de Carga"]
[]
[null,null,null,null,null,null,null,null,null,null,{"$f":"F31","v":0}]
[]
[null,null,null,null,"Si / No / NA"]
[null,null,null,null,"NA",{"$f":"IF(E26=\"SI\",\"0\",IF(E26=\"NA\",\"0\",\"1\"))","v":"0"}]
[null,null,null,null,"NA",{"$f":"IF(E27=\"SI\",\"0\",IF(E27=\"NA\",\"0\",\"1\"))","v":"0"},null,null,null,null,{"$f":"F31","v":0}]
[null,null,null,null,"NA","0"]
[null,null,null,"Ausencia de posturas inadecuadas durante el transporte de carga.","NA","0"]
[null,null,null,null,null,{"$f":"F26+F27+F28+F29","v":0},null,null,null,null,{"$f":"F31","v":0}]
[null,null,null,null,null,{"$f":"(F20+F30)","v":0}]
[]
[]
[null,null,null,null,null,null,null,null,null,"Presione solo si al completar Tabla 3  se lo indica el Cuadro de Resultado",{"$f":"F31","v":0}]

{"sheet":"TABLA 3T1P7","index":19,"n_rows":34,"n_cols":11,"rows_kept":34,"cut":false,"hidden":false,"merged":[]}
[]
[null,null,null,"LEVANTAMIENTO, DESCENSO Y TRANSPORTE DE CARGA - IDENTIFICACIÓN AVANZADA  CONDICIÓN ACEPTABLE  \n",null,null,null,null,null,"Cuadro de Resultado Tabla 3"]
[null,null,"Condición","Levantamiento/descenso y transporte manual de carga","Si / No / NA"]
[null,null,"Ambiente de Trabajo","La temperatura en donde se realiza la tarea es entre los 18° y 26° (grados Celsius).","NA",{"$f":"IF(E4=\"SI\",\"0\",IF(E4=\"NA\",\"0\",\"1\"))","v":"0"},null,null,null,"La Tarea:"]
[null,null,null,"El piso se encuentra en buenas condiciones (regular, seco y estable).","NA",{"$f":"IF(E5=\"SI\",\"0\",IF(E5=\"NA\",\"0\",\"1\"))","v":"0"},null,null,{"$f":"'TABLA 1 P7'!B6","v":"N° 1"},{"$f":"'TABLA 1 P7'!C6","v":"NA"}]
[null,null,null,"El espacio de trabajo permite el normal movimiento de los trabajadores (sin generar posturas incómodas) durante el levantamiento/descenso y/o transporte.","NA","0",null,null,null,"Resultado:"]
[null,null,"Característica de la Carga","El tamaño de la carga permite la visibilidad y movimientos normales del trabajador.","NA","0",null,null,{"$f":"F31","v":0},{"$f":"IF(F31>=1,\"No es Aceptable\",\"Aceptable\")","v":"Aceptable"}]
[null,null,null,"El centro de gravedad de la carga es estable.","NA","0",null,null,null,"Por lo que usted:"]
[null,null,null,"La carga permite su agarre sin riesgo de cortes, compresión o quemaduras.","NA","0",null,null,null,{"$f":"IF(J7=\"Aceptable\",\"Ha Terminado el Proceso de Identificación para esta Tarea\",\"Debe Aplicar Tabla 4\")","v":"Ha Terminado el Proceso de Identificación para esta Tarea"},{"$f":"F31","v":0}]
[null,null,"Horas de Trabajo\n","La tarea de levantamiento/descenso o transporte de carga dura menos de 8 hrs.","NA","0"]
[null,null,"3 a 5 Kgs","Se observa ausencia de asimetría (Ej: cuerpo rotado,torsión y/o inclinación de tronco).","NA","0",null,null,null,{"$f":"IF(J9=\"Ha Terminado el Proceso de Identificación para esta Tarea\",\"Si terminó de responder toda la Tabla 3 Presione Aquí para  regresar a Tabla 1 Información General del Puesto de Trabajo donde podrá continuar con la siguiente Tarea\",\"\")","v":"Si terminó de responder toda la Tabla 3 Presione Aquí para  regresar a Tabla 1 Información General del Puesto de Trabajo donde podrá continuar con la siguiente Tarea"},{"$f":"F31","v":0}]
[null,null,null,"La carga es mantenida cerca del cuerpo.","NA","0",null,null,null,null,{"$f":"F31","v":0}]
[null,null,null,"El desplazamiento vertical de la carga se realiza entrelas caderas y los hombros.","NA","0"]
[null,null,null,"Frecuencia máxima de MMC: el levantamiento/descenso es menor a 5 veces por minuto","NA","0",null,null,null,null,{"$f":"F31","v":0}]
[null,null,"5,1 a 10 Kgs","Se observa ausencia de asimetría (Ej: cuerpo rotado,torsión y/o inclinación de tronco).","NA","0"]
[null,null,null,"La carga es mantenida cerca del cuerpo.","NA","0"]
[null,null,null,"El desplazamiento vertical de la carga se realiza entre las caderas y los hombros.","NA","0",null,null,null,null,{"$f":"F31","v":0}]
[null,null,null,"Frecuencia máxima de MMC: el levantamiento/descenso es menor a 1 veces por minuto.","NA","0"]
[null,null,"+ de 10 Kgs","Ausencia de cargas mayores a 10 Kgs.","NA","0"]
[null,null,null,null,null,{"$f":"F4+F5+F6+F7+F8+F9+F10+F11+F12+F13+F14+F15+F16+F17+F18+F19","v":0},null,null,null,null,{"$f":"F31","v":0}]
[null,null,null,"Transporte Manual de Carga"]
[]
[null,null,null,null,null,null,null,null,null,null,{"$f":"F31","v":0}]
[]
[null,null,null,null,"Si / No / NA"]
[null,null,null,null,"NA",{"$f":"IF(E26=\"SI\",\"0\",IF(E26=\"NA\",\"0\",\"1\"))","v":"0"}]
[null,null,null,null,"NA",{"$f":"IF(E27=\"SI\",\"0\",IF(E27=\"NA\",\"0\",\"1\"))","v":"0"},null,null,null,null,{"$f":"F31","v":0}]
[null,null,null,null,"NA","0"]
[null,null,null,"Ausencia de posturas inadecuadas durante el transporte de carga.","NA","0"]
[null,null,null,null,null,{"$f":"F26+F27+F28+F29","v":0},null,null,null,null,{"$f":"F31","v":0}]
[null,null,null,null,null,{"$f":"(F20+F30)","v":0}]
[]
[]
[null,null,null,null,null,null,null,null,null,"Presione solo si al completar Tabla 3  se lo indica el Cuadro de Resultado",{"$f":"F31","v":0}]

{"sheet":"TABLA 3T1P8","index":20,"n_rows":34,"n_cols":11,"rows_kept":34,"cut":false,"hidden":false,"merged":[]}
[]
[null,null,null,"LEVANTAMIENTO, DESCENSO Y TRANSPORTE DE CARGA - IDENTIFICACIÓN AVANZADA  CONDICIÓN ACEPTABLE  \n",null,null,null,null,null,"Cuadro de Resultado Tabla 3"]
[null,null,"Condición","Levantamiento/descenso y transporte manual de carga","Si / No / NA"]
[null,null,"Ambiente de Trabajo","La temperatura en donde se realiza la tarea es entre los 18° y 26° (grados Celsius).","NA",{"$f":"IF(E4=\"SI\",\"0\",IF(E4=\"NA\",\"0\",\"1\"))","v":"0"},null,null,null,"La Tarea:"]
[null,null,null,"El piso se encuentra en buenas condiciones (regular, seco y estable).","NA",{"$f":"IF(E5=\"SI\",\"0\",IF(E5=\"NA\",\"0\",\"1\"))","v":"0"},null,null,{"$f":"'TABLA 1 P8'!B6","v":"N° 1"},{"$f":"'TABLA 1 P8'!C6","v":"NA"}]
[null,null,null,"El espacio de trabajo permite el normal movimiento de los trabajadores (sin generar posturas incómodas) durante el levantamiento/descenso y/o transporte.","NA","0",null,null,null,"Resultado:"]
[null,null,"Característica de la Carga","El tamaño de la carga permite la visibilidad y movimientos normales del trabajador.","NA","0",null,null,{"$f":"F31","v":0},{"$f":"IF(F31>=1,\"No es Aceptable\",\"Aceptable\")","v":"Aceptable"}]
[null,null,null,"El centro de gravedad de la carga es estable.","NA","0",null,null,null,"Por lo que usted:"]
[null,null,null,"La carga permite su agarre sin riesgo de cortes, compresión o quemaduras.","NA","0",null,null,null,{"$f":"IF(J7=\"Aceptable\",\"Ha Terminado el Proceso de Identificación para esta Tarea\",\"Debe Aplicar Tabla 4\")","v":"Ha Terminado el Proceso de Identificación para esta Tarea"},{"$f":"F31","v":0}]
[null,null,"Horas de Trabajo\n","La tarea de levantamiento/descenso o transporte de carga dura menos de 8 hrs.","NA","0"]
[null,null,"3 a 5 Kgs","Se observa ausencia de asimetría (Ej: cuerpo rotado,torsión y/o inclinación de tronco).","NA","0",null,null,null,{"$f":"IF(J9=\"Ha Terminado el Proceso de Identificación para esta Tarea\",\"Si terminó de responder toda la Tabla 3 Presione Aquí para  regresar a Tabla 1 Información General del Puesto de Trabajo donde podrá continuar con la siguiente Tarea\",\"\")","v":"Si terminó de responder toda la Tabla 3 Presione Aquí para  regresar a Tabla 1 Información General del Puesto de Trabajo donde podrá continuar con la siguiente Tarea"},{"$f":"F31","v":0}]
[null,null,null,"La carga es mantenida cerca del cuerpo.","NA","0",null,null,null,null,{"$f":"F31","v":0}]
[null,null,null,"El desplazamiento vertical de la carga se realiza entrelas caderas y los hombros.","NA","0"]
[null,null,null,"Frecuencia máxima de MMC: el levantamiento/descenso es menor a 5 veces por minuto","NA","0",null,null,null,null,{"$f":"F31","v":0}]
[null,null,"5,1 a 10 Kgs","Se observa ausencia de asimetría (Ej: cuerpo rotado,torsión y/o inclinación de tronco).","NA","0"]
[null,null,null,"La carga es mantenida cerca del cuerpo.","NA","0"]
[null,null,null,"El desplazamiento vertical de la carga se realiza entre las caderas y los hombros.","NA","0",null,null,null,null,{"$f":"F31","v":0}]
[null,null,null,"Frecuencia máxima de MMC: el levantamiento/descenso es menor a 1 veces por minuto.","NA","0"]
[null,null,"+ de 10 Kgs","Ausencia de cargas mayores a 10 Kgs.","NA","0"]
[null,null,null,null,null,{"$f":"F4+F5+F6+F7+F8+F9+F10+F11+F12+F13+F14+F15+F16+F17+F18+F19","v":0},null,null,null,null,{"$f":"F31","v":0}]
[null,null,null,"Transporte Manual de Carga"]
[]
[null,null,null,null,null,null,null,null,null,null,{"$f":"F31","v":0}]
[]
[null,null,null,null,"Si / No / NA"]
[null,null,null,null,"NA",{"$f":"IF(E26=\"SI\",\"0\",IF(E26=\"NA\",\"0\",\"1\"))","v":"0"}]
[null,null,null,null,"NA",{"$f":"IF(E27=\"SI\",\"0\",IF(E27=\"NA\",\"0\",\"1\"))","v":"0"},null,null,null,null,{"$f":"F31","v":0}]
[null,null,null,null,"NA","0"]
[null,null,null,"Ausencia de posturas inadecuadas durante el transporte de carga.","NA","0"]
[null,null,null,null,null,{"$f":"F26+F27+F28+F29","v":0},null,null,null,null,{"$f":"F31","v":0}]
[null,null,null,null,null,{"$f":"(F20+F30)","v":0}]
[]
[]
[null,null,null,null,null,null,null,null,null,"Presione solo si al completar Tabla 3  se lo indica el Cuadro de Resultado",{"$f":"F31","v":0}]

{"sheet":"TABLA 3T1P9","index":21,"n_rows":34,"n_cols":11,"rows_kept":34,"cut":false,"hidden":false,"merged":[]}
[]
[null,null,null,"LEVANTAMIENTO, DESCENSO Y TRANSPORTE DE CARGA - IDENTIFICACIÓN AVANZADA  CONDICIÓN ACEPTABLE  \n",null,null,null,null,null,"Cuadro de Resultado Tabla 3"]
[null,null,"Condición","Levantamiento/descenso y transporte manual de carga","Si / No / NA"]
[null,null,"Ambiente de Trabajo","La temperatura en donde se realiza la tarea es entre los 18° y 26° (grados Celsius).","NA",{"$f":"IF(E4=\"SI\",\"0\",IF(E4=\"NA\",\"0\",\"1\"))","v":"0"},null,null,null,"La Tarea:"]
[null,null,null,"El piso se encuentra en buenas condiciones (regular, seco y estable).","NA",{"$f":"IF(E5=\"SI\",\"0\",IF(E5=\"NA\",\"0\",\"1\"))","v":"0"},null,null,{"$f":"'TABLA 1 P9'!B6","v":"N° 1"},{"$f":"'TABLA 1 P9'!C6","v":"NA"}]
[null,null,null,"El espacio de trabajo permite el normal movimiento de los trabajadores (sin generar posturas incómodas) durante el levantamiento/descenso y/o transporte.","NA","0",null,null,null,"Resultado:"]
[null,null,"Característica de la Carga","El tamaño de la carga permite la visibilidad y movimientos normales del trabajador.","NA","0",null,null,{"$f":"F31","v":0},{"$f":"IF(F31>=1,\"No es Aceptable\",\"Aceptable\")","v":"Aceptable"}]
[null,null,null,"El centro de gravedad de la carga es estable.","NA","0",null,null,null,"Por lo que usted:"]
[null,null,null,"La carga permite su agarre sin riesgo de cortes, compresión o quemaduras.","NA","0",null,null,null,{"$f":"IF(J7=\"Aceptable\",\"Ha Terminado el Proceso de Identificación para esta Tarea\",\"Debe Aplicar Tabla 4\")","v":"Ha Terminado el Proceso de Identificación para esta Tarea"},{"$f":"F31","v":0}]
[null,null,"Horas de Trabajo\n","La tarea de levantamiento/descenso o transporte de carga dura menos de 8 hrs.","NA","0"]
[null,null,"3 a 5 Kgs","Se observa ausencia de asimetría (Ej: cuerpo rotado,torsión y/o inclinación de tronco).","NA","0",null,null,null,{"$f":"IF(J9=\"Ha Terminado el Proceso de Identificación para esta Tarea\",\"Si terminó de responder toda la Tabla 3 Presione Aquí para  regresar a Tabla 1 Información General del Puesto de Trabajo donde podrá continuar con la siguiente Tarea\",\"\")","v":"Si terminó de responder toda la Tabla 3 Presione Aquí para  regresar a Tabla 1 Información General del Puesto de Trabajo donde podrá continuar con la siguiente Tarea"},{"$f":"F31","v":0}]
[null,null,null,"La carga es mantenida cerca del cuerpo.","NA","0",null,null,null,null,{"$f":"F31","v":0}]
[null,null,null,"El desplazamiento vertical de la carga se realiza entrelas caderas y los hombros.","NA","0"]
[null,null,null,"Frecuencia máxima de MMC: el levantamiento/descenso es menor a 5 veces por minuto","NA","0",null,null,null,null,{"$f":"F31","v":0}]
[null,null,"5,1 a 10 Kgs","Se observa ausencia de asimetría (Ej: cuerpo rotado,torsión y/o inclinación de tronco).","NA","0"]
[null,null,null,"La carga es mantenida cerca del cuerpo.","NA","0"]
[null,null,null,"El desplazamiento vertical de la carga se realiza entre las caderas y los hombros.","NA","0",null,null,null,null,{"$f":"F31","v":0}]
[null,null,null,"Frecuencia máxima de MMC: el levantamiento/descenso es menor a 1 veces por minuto.","NA","0"]
[null,null,"+ de 10 Kgs","Ausencia de cargas mayores a 10 Kgs.","NA","0"]
[null,null,null,null,null,{"$f":"F4+F5+F6+F7+F8+F9+F10+F11+F12+F13+F14+F15+F16+F17+F18+F19","v":0},null,null,null,null,{"$f":"F31","v":0}]
[null,null,null,"Transporte Manual de Carga"]
[]
[null,null,null,null,null,null,null,null,null,null,{"$f":"F31","v":0}]
[]
[null,null,null,null,"Si / No / NA"]
[null,null,null,null,"NA",{"$f":"IF(E26=\"SI\",\"0\",IF(E26=\"NA\",\"0\",\"1\"))","v":"0"}]
[null,null,null,null,"NA",{"$f":"IF(E27=\"SI\",\"0\",IF(E27=\"NA\",\"0\",\"1\"))","v":"0"},null,null,null,null,{"$f":"F31","v":0}]
[null,null,null,null,"NA","0"]
[null,null,null,"Ausencia de posturas inadecuadas durante el transporte de carga.","NA","0"]
[null,null,null,null,null,{"$f":"F26+F27+F28+F29","v":0},null,null,null,null,{"$f":"F31","v":0}]
[null,null,null,null,null,{"$f":"(F20+F30)","v":0}]
[]
[]
[null,null,null,null,null,null,null,null,null,"Presione solo si al completar Tabla 3  se lo indica el Cuadro de Resultado",{"$f":"F31","v":0}]

{"sheet":"TABLA 3T1P10","index":22,"n_rows":34,"n_cols":11,"rows_kept":34,"cut":false,"hidden":false,"merged":[]}
[]
[null,null,null,"LEVANTAMIENTO, DESCENSO Y TRANSPORTE DE CARGA - IDENTIFICACIÓN AVANZADA  CONDICIÓN ACEPTABLE  \n",null,null,null,null,null,"Cuadro de Resultado Tabla 3"]
[null,null,"Condición","Levantamiento/descenso y transporte manual de carga","Si / No / NA"]
[null,null,"Ambiente de Trabajo","La temperatura en donde se realiza la tarea es entre los 18° y 26° (grados Celsius).","NA",{"$f":"IF(E4=\"SI\",\"0\",IF(E4=\"NA\",\"0\",\"1\"))","v":"0"},null,null,null,"La Tarea:"]
[null,null,null,"El piso se encuentra en buenas condiciones (regular, seco y estable).","NA",{"$f":"IF(E5=\"SI\",\"0\",IF(E5=\"NA\",\"0\",\"1\"))","v":"0"},null,null,{"$f":"'TABLA 1 P10'!B6","v":"N° 1"},{"$f":"'TABLA 1 P10'!C6","v":"NA"}]
[null,null,null,"El espacio de trabajo permite el normal movimiento de los trabajadores (sin generar posturas incómodas) durante el levantamiento/descenso y/o transporte.","NA","0",null,null,null,"Resultado:"]
[null,null,"Característica de la Carga","El tamaño de la carga permite la visibilidad y movimientos normales del trabajador.","NA","0",null,null,{"$f":"F31","v":0},{"$f":"IF(F31>=1,\"No es Aceptable\",\"Aceptable\")","v":"Aceptable"}]
[null,null,null,"El centro de gravedad de la carga es estable.","NA","0",null,null,null,"Por lo que usted:"]
[null,null,null,"La carga permite su agarre sin riesgo de cortes, compresión o quemaduras.","NA","0",null,null,null,{"$f":"IF(J7=\"Aceptable\",\"Ha Terminado el Proceso de Identificación para esta Tarea\",\"Debe Aplicar Tabla 4\")","v":"Ha Terminado el Proceso de Identificación para esta Tarea"},{"$f":"F31","v":0}]
[null,null,"Horas de Trabajo\n","La tarea de levantamiento/descenso o transporte de carga dura menos de 8 hrs.","NA","0"]
[null,null,"3 a 5 Kgs","Se observa ausencia de asimetría (Ej: cuerpo rotado,torsión y/o inclinación de tronco).","NA","0",null,null,null,{"$f":"IF(J9=\"Ha Terminado el Proceso de Identificación para esta Tarea\",\"Si terminó de responder toda la Tabla 3 Presione Aquí para  regresar a Tabla 1 Información General del Puesto de Trabajo donde podrá continuar con la siguiente Tarea\",\"\")","v":"Si terminó de responder toda la Tabla 3 Presione Aquí para  regresar a Tabla 1 Información General del Puesto de Trabajo donde podrá continuar con la siguiente Tarea"},{"$f":"F31","v":0}]
[null,null,null,"La carga es mantenida cerca del cuerpo.","NA","0",null,null,null,null,{"$f":"F31","v":0}]
[null,null,null,"El desplazamiento vertical de la carga se realiza entrelas caderas y los hombros.","NA","0"]
[null,null,null,"Frecuencia máxima de MMC: el levantamiento/descenso es menor a 5 veces por minuto","NA","0",null,null,null,null,{"$f":"F31","v":0}]
[null,null,"5,1 a 10 Kgs","Se observa ausencia de asimetría (Ej: cuerpo rotado,torsión y/o inclinación de tronco).","NA","0"]
[null,null,null,"La carga es mantenida cerca del cuerpo.","NA","0"]
[null,null,null,"El desplazamiento vertical de la carga se realiza entre las caderas y los hombros.","NA","0",null,null,null,null,{"$f":"F31","v":0}]
[null,null,null,"Frecuencia máxima de MMC: el levantamiento/descenso es menor a 1 veces por minuto.","NA","0"]
[null,null,"+ de 10 Kgs","Ausencia de cargas mayores a 10 Kgs.","NA","0"]
[null,null,null,null,null,{"$f":"F4+F5+F6+F7+F8+F9+F10+F11+F12+F13+F14+F15+F16+F17+F18+F19","v":0},null,null,null,null,{"$f":"F31","v":0}]
[null,null,null,"Transporte Manual de Carga"]
[]
[null,null,null,null,null,null,null,null,null,null,{"$f":"F31","v":0}]
[]
[null,null,null,null,"Si / No / NA"]
[null,null,null,null,"NA",{"$f":"IF(E26=\"SI\",\"0\",IF(E26=\"NA\",\"0\",\"1\"))","v":"0"}]
[null,null,null,null,"NA",{"$f":"IF(E27=\"SI\",\"0\",IF(E27=\"NA\",\"0\",\"1\"))","v":"0"},null,null,null,null,{"$f":"F31","v":0}]
[null,null,null,null,"NA","0"]
[null,null,null,"Ausencia de posturas inadecuadas durante el transporte de carga.","NA","0"]
[null,null,null,null,null,{"$f":"F26+F27+F28+F29","v":0},null,null,null,null,{"$f":"F31","v":0}]
[null,null,null,null,null,{"$f":"(F20+F30)","v":0}]
[]
[]
[null,null,null,null,null,null,null,null,null,"Presione solo si al completar Tabla 3  se lo indica el Cuadro de Resultado",{"$f":"F31","v":0}]

{"sheet":"TABLA 4T1P1","index":23,"n_rows":31,"n_cols":10,"rows_kept":31,"cut":false,"hidden":false,"merged":[]}
[]
[null,null,null,"LEVANTAMIENTO, DESCENSO Y TRANSPORTE DE CARGA - IDENTIFICACIÓN AVANZADA CONDICIÓN CRÍTICA  ",null,null,null,null,null,"Cuadro de Resultado Tabla 4"]
[null,null,"Condición","Levantamiento/descenso y transporte manual de carga","Si / No / NA"]
[null,null,"Ambiente de Trabajo","Presencia de temperatura extrema (bajo 16° o superior a los 26° grados Celsius) y sin ropa que proteja de las temperaturas extremas.","NA",{"$f":"IF(E4=\"No\",\"0\",IF(E4=\"NA\",\"0\",\"1\"))","v":"0"},null,null,null,"La Tarea:"]
[null,null,null,"Presencia de suelo resbaladizo, irregular o inestable.","NA",{"$f":"IF(E5=\"No\",\"0\",IF(E5=\"NA\",\"0\",\"1\"))","v":"0"},null,null,{"$f":"'TABLA 1 P1'!B6","v":"N° 1"},{"$f":"'TABLA 1 P1'!C6","v":"NA"}]
[null,null,null,"Presencia de espacio insuficiente para el levantamiento/descenso y transporte de carga que genera posturas incomodas o restricción en el movimiento.","NA","0",null,null,null,"Resultado:"]
[null,null,"Característica de la Carga","El tamaño de la carga reduce la visión del trabajador y/o dificulta su movimiento.","NA","0",null,null,{"$f":"F31","v":0},{"$f":"IF(F31>=1,\"Crítica\",\"No Crítica\")","v":"No Crítica"}]
[null,null,null,"El centro de gravedad de la carga no es estable (ej.: líquidos, elementos que se mueven dentro de la carga).","NA","0",null,null,null,"Por lo que usted:"]
[null,null,null,"La forma/configuración de la carga presenta bordes,\nsuperficies o protuberancias afiladas.","NA","0",null,null,null,{"$f":"IF(J7=\"No Crítica\",\"Ha terminado el Proceso de Identificación para esta Tarea y deberá iniciar el proceso de Evaluación Cuantitativa del riesgo\",\"Ha terminado el Proceso de Identificación para esta Tarea y deberá aplicar medidas para reducir el riesgo\")","v":"Ha terminado el Proceso de Identificación para esta Tarea y deberá iniciar el proceso de Evaluación Cuantitativa del riesgo"}]
[null,null,null,"Las superficies de contacto son demasiado frías o demasiado calientes.","NA","0"]
[null,null,"Horas de Trabajo","La tarea de levantamiento/descenso o transporte de\ncarga dura más de 8 hrs.","NA","0"]
[null,null,null,"Condición crítica: presencia de tarea de Levantamiento/descenso y transporte de carga con condiciones de diseño y frecuencia que exceden los valores máximos sugeridos ",null,{"$f":"F4+F5+F6+F7+F8+F9+F10+F11","v":0},null,null,null,"Si terminó de responder toda la Tabla 4 Presione Aquí para  regresar a Tabla 1 Información General del Puesto de Trabajo donde podrá continuar con la siguiente Tarea"]
[null,null,null,null,"Si / No / NA"]
[null,null,"Posición Vertical","La ubicación de las manos al inicio o final del levantamiento/descenso\nde una carga es superior a 155 cm o inferior a 20 cm°.","NA",{"$f":"IF(E14=\"No\",\"0\",IF(E14=\"NA\",\"0\",\"1\"))","v":"0"}]
[null,null,"Desplazamiento Vertical","La distancia vertical entre el origen y el destino del objeto manipulado\nes mayor a 135 cm°.","NA",{"$f":"IF(E15=\"No\",\"0\",IF(E15=\"NA\",\"0\",\"1\"))","v":"0"}]
[null,null,"Posición Horizontal","La distancia horizontal entre el cuerpo y las manos (nudillos) es superior a 55 cm correspondiente a la zona de alcance máximo de brazos","NA","0"]
[null,null,"Asimetría","Rotación o inclinación extrema del tronco sin movimientos de los pies","NA","0"]
[null,null,"Frecuencia","Corta duración: más de 15 levantamientos/descensos por minuto, en\nuna tarea que no supere los 60 minutos seguidos en el turno de trabajo\ny seguida de al menos 60 minutos de descanso o tarea liviana (que no\nimplique MMC).","NA","0"]
[null,null,null,"Media duración: más de 12 levantamientos/descensos por minuto,\nen una tarea que no supere los 120 minutos seguidos en el turno de\ntrabajo y seguida de al menos 30 minutos de descanso o tarea liviana\n(que no implique MMC).","NA","0"]
[null,null,null,"Larga duración: más de 8 levantamientos/descensos por minuto, en\nuna tarea que supere los 120 minutos seguidos en el turno de trabajo.","NA","0"]
[null,null,null,"Condición crítica: presencia de tarea de Levantamiento/descenso y transporte con peso de la carga que exceda los siguientes límites ","Si / No / NA",{"$f":"F14+F15+F16+F17+F18+F19+F20","v":0}]
[null,null,"Hombres \n(18-45 años) + ","25 kgs","NA",{"$f":"IF(E22=\"No\",\"0\",IF(E22=\"NA\",\"0\",\"1\"))","v":"0"}]
[null,null,"Mujeres\n(18-45 años) + ","20 kgs","NA",{"$f":"IF(E23=\"No\",\"0\",IF(E23=\"NA\",\"0\",\"1\"))","v":"0"}]
[null,null,"Hombres \n(< 18-45 años o > 45 años) + ","20 kgs","NA","0"]
[null,null,"Mujeres \n(< 18-45 años o > 45 años) + ","15 kgs","NA","0"]
[null,null,"Mujer\nEmbarazada","3 kgs","NA","0"]
[null,null,null,"Condición crítica: presencia de tarea de Levantamiento/descenso y transporte con peso de la carga que exceda los siguientes límites ","Si / No / NA",{"$f":"F22+F23+F24+F25+F26","v":0}]
[null,null,"Distancia de transporte de 20 mts. o más","6.000 Kgs. en 8 hrs.","NA",{"$f":"IF(E28=\"No\",\"0\",IF(E28=\"NA\",\"0\",\"1\"))","v":"0"}]
[null,null,"Distancia de transporte menos a 20 mts.","10.000 Kgs. en 8 hrs.","NA",{"$f":"IF(E29=\"No\",\"0\",IF(E29=\"NA\",\"0\",\"1\"))","v":"0"}]
[null,null,null,null,null,{"$f":"F28+F29","v":0}]
[null,null,null,null,null,{"$f":"F12+F21+F27+F30","v":0}]

{"sheet":"TABLA 4T1P2","index":24,"n_rows":31,"n_cols":10,"rows_kept":31,"cut":false,"hidden":false,"merged":[]}
[]
[null,null,null,"LEVANTAMIENTO, DESCENSO Y TRANSPORTE DE CARGA - IDENTIFICACIÓN AVANZADA CONDICIÓN CRÍTICA  ",null,null,null,null,null,"Cuadro de Resultado Tabla 4"]
[null,null,"Condición","Levantamiento/descenso y transporte manual de carga","Si / No / NA"]
[null,null,"Ambiente de Trabajo","Presencia de temperatura extrema (bajo 16° o superior a los 26° grados Celsius) y sin ropa que proteja de las temperaturas extremas.","NA",{"$f":"IF(E4=\"No\",\"0\",IF(E4=\"NA\",\"0\",\"1\"))","v":"0"},null,null,null,"La Tarea:"]
[null,null,null,"Presencia de suelo resbaladizo, irregular o inestable.","NA",{"$f":"IF(E5=\"No\",\"0\",IF(E5=\"NA\",\"0\",\"1\"))","v":"0"},null,null,{"$f":"'TABLA 1 P1'!B6","v":"N° 1"},{"$f":"'TABLA 1 P2'!C6","v":"NA"}]
[null,null,null,"Presencia de espacio insuficiente para el levantamiento/descenso y transporte de carga que genera posturas incomodas o restricción en el movimiento.","NA","0",null,null,null,"Resultado:"]
[null,null,"Característica de la Carga","El tamaño de la carga reduce la visión del trabajador y/o dificulta su movimiento.","NA","0",null,null,{"$f":"F31","v":0},{"$f":"IF(F31>=1,\"Crítica\",\"No Crítica\")","v":"No Crítica"}]
[null,null,null,"El centro de gravedad de la carga no es estable (ej.: líquidos, elementos que se mueven dentro de la carga).","NA","0",null,null,null,"Por lo que usted:"]
[null,null,null,"La forma/configuración de la carga presenta bordes,\nsuperficies o protuberancias afiladas.","NA","0",null,null,null,{"$f":"IF(J7=\"No Crítica\",\"Ha terminado el Proceso de Identificación para esta Tarea y deberá iniciar el proceso de Evaluación Cuantitativa del riesgo\",\"Ha terminado el Proceso de Identificación para esta Tarea y deberá aplicar medidas para reducir el riesgo\")","v":"Ha terminado el Proceso de Identificación para esta Tarea y deberá iniciar el proceso de Evaluación Cuantitativa del riesgo"}]
[null,null,null,"Las superficies de contacto son demasiado frías o demasiado calientes.","NA","0"]
[null,null,"Horas de Trabajo","La tarea de levantamiento/descenso o transporte de\ncarga dura más de 8 hrs.","NA","0"]
[null,null,null,"Condición crítica: presencia de tarea de Levantamiento/descenso y transporte de carga con condiciones de diseño y frecuencia que exceden los valores máximos sugeridos ",null,{"$f":"F4+F5+F6+F7+F8+F9+F10+F11","v":0},null,null,null,"Si terminó de responder toda la Tabla 4 Presione Aquí para  regresar a Tabla 1 Información General del Puesto de Trabajo donde podrá continuar con la siguiente Tarea"]
[null,null,null,null,"Si / No / NA"]
[null,null,"Posición Vertical","La ubicación de las manos al inicio o final del levantamiento/descenso\nde una carga es superior a 155 cm o inferior a 20 cm°.","NA",{"$f":"IF(E14=\"No\",\"0\",IF(E14=\"NA\",\"0\",\"1\"))","v":"0"}]
[null,null,"Desplazamiento Vertical","La distancia vertical entre el origen y el destino del objeto manipulado\nes mayor a 135 cm°.","NA",{"$f":"IF(E15=\"No\",\"0\",IF(E15=\"NA\",\"0\",\"1\"))","v":"0"}]
[null,null,"Posición Horizontal","La distancia horizontal entre el cuerpo y las manos (nudillos) es superior a 55 cm correspondiente a la zona de alcance máximo de brazos","NA","0"]
[null,null,"Asimetría","Rotación o inclinación extrema del tronco sin movimientos de los pies","NA","0"]
[null,null,"Frecuencia","Corta duración: más de 15 levantamientos/descensos por minuto, en\nuna tarea que no supere los 60 minutos seguidos en el turno de trabajo\ny seguida de al menos 60 minutos de descanso o tarea liviana (que no\nimplique MMC).","NA","0"]
[null,null,null,"Media duración: más de 12 levantamientos/descensos por minuto,\nen una tarea que no supere los 120 minutos seguidos en el turno de\ntrabajo y seguida de al menos 30 minutos de descanso o tarea liviana\n(que no implique MMC).","NA","0"]
[null,null,null,"Larga duración: más de 8 levantamientos/descensos por minuto, en\nuna tarea que supere los 120 minutos seguidos en el turno de trabajo.","NA","0"]
[null,null,null,"Condición crítica: presencia de tarea de Levantamiento/descenso y transporte con peso de la carga que exceda los siguientes límites ","Si / No / NA",{"$f":"F14+F15+F16+F17+F18+F19+F20","v":0}]
[null,null,"Hombres \n(18-45 años) + ","25 kgs","NA",{"$f":"IF(E22=\"No\",\"0\",IF(E22=\"NA\",\"0\",\"1\"))","v":"0"}]
[null,null,"Mujeres\n(18-45 años) + ","20 kgs","NA",{"$f":"IF(E23=\"No\",\"0\",IF(E23=\"NA\",\"0\",\"1\"))","v":"0"}]
[null,null,"Hombres \n(< 18-45 años o > 45 años) + ","20 kgs","NA","0"]
[null,null,"Mujeres \n(< 18-45 años o > 45 años) + ","15 kgs","NA","0"]
[null,null,"Mujer\nEmbarazada","3 kgs","NA","0"]
[null,null,null,"Condición crítica: presencia de tarea de Levantamiento/descenso y transporte con peso de la carga que exceda los siguientes límites ","Si / No / NA",{"$f":"F22+F23+F24+F25+F26","v":0}]
[null,null,"Distancia de transporte de 20 mts. o más","6.000 Kgs. en 8 hrs.","NA",{"$f":"IF(E28=\"No\",\"0\",IF(E28=\"NA\",\"0\",\"1\"))","v":"0"}]
[null,null,"Distancia de transporte menos a 20 mts.","10.000 Kgs. en 8 hrs.","NA",{"$f":"IF(E29=\"No\",\"0\",IF(E29=\"NA\",\"0\",\"1\"))","v":"0"}]
[null,null,null,null,null,{"$f":"F28+F29","v":0}]
[null,null,null,null,null,{"$f":"F12+F21+F27+F30","v":0}]

{"sheet":"TABLA 4T1P3","index":25,"n_rows":31,"n_cols":10,"rows_kept":31,"cut":false,"hidden":false,"merged":[]}
[]
[null,null,null,"LEVANTAMIENTO, DESCENSO Y TRANSPORTE DE CARGA - IDENTIFICACIÓN AVANZADA CONDICIÓN CRÍTICA  ",null,null,null,null,null,"Cuadro de Resultado Tabla 4"]
[null,null,"Condición","Levantamiento/descenso y transporte manual de carga","Si / No / NA"]
[null,null,"Ambiente de Trabajo","Presencia de temperatura extrema (bajo 16° o superior a los 26° grados Celsius) y sin ropa que proteja de las temperaturas extremas.","NA",{"$f":"IF(E4=\"No\",\"0\",IF(E4=\"NA\",\"0\",\"1\"))","v":"0"},null,null,null,"La Tarea:"]
[null,null,null,"Presencia de suelo resbaladizo, irregular o inestable.","NA",{"$f":"IF(E5=\"No\",\"0\",IF(E5=\"NA\",\"0\",\"1\"))","v":"0"},null,null,{"$f":"'TABLA 1 P3'!B6","v":"N° 1"},{"$f":"'TABLA 1 P3'!C6","v":"NA"}]
[null,null,null,"Presencia de espacio insuficiente para el levantamiento/descenso y transporte de carga que genera posturas incomodas o restricción en el movimiento.","NA","0",null,null,null,"Resultado:"]
[null,null,"Característica de la Carga","El tamaño de la carga reduce la visión del trabajador y/o dificulta su movimiento.","NA","0",null,null,{"$f":"F31","v":0},{"$f":"IF(F31>=1,\"Crítica\",\"No Crítica\")","v":"No Crítica"}]
[null,null,null,"El centro de gravedad de la carga no es estable (ej.: líquidos, elementos que se mueven dentro de la carga).","NA","0",null,null,null,"Por lo que usted:"]
[null,null,null,"La forma/configuración de la carga presenta bordes,\nsuperficies o protuberancias afiladas.","NA","0",null,null,null,{"$f":"IF(J7=\"No Crítica\",\"Ha terminado el Proceso de Identificación para esta Tarea y deberá iniciar el proceso de Evaluación Cuantitativa del riesgo\",\"Ha terminado el Proceso de Identificación para esta Tarea y deberá aplicar medidas para reducir el riesgo\")","v":"Ha terminado el Proceso de Identificación para esta Tarea y deberá iniciar el proceso de Evaluación Cuantitativa del riesgo"}]
[null,null,null,"Las superficies de contacto son demasiado frías o demasiado calientes.","NA","0"]
[null,null,"Horas de Trabajo","La tarea de levantamiento/descenso o transporte de\ncarga dura más de 8 hrs.","NA","0"]
[null,null,null,"Condición crítica: presencia de tarea de Levantamiento/descenso y transporte de carga con condiciones de diseño y frecuencia que exceden los valores máximos sugeridos ",null,{"$f":"F4+F5+F6+F7+F8+F9+F10+F11","v":0},null,null,null,"Si terminó de responder toda la Tabla 4 Presione Aquí para  regresar a Tabla 1 Información General del Puesto de Trabajo donde podrá continuar con la siguiente Tarea"]
[null,null,null,null,"Si / No / NA"]
[null,null,"Posición Vertical","La ubicación de las manos al inicio o final del levantamiento/descenso\nde una carga es superior a 155 cm o inferior a 20 cm°.","NA",{"$f":"IF(E14=\"No\",\"0\",IF(E14=\"NA\",\"0\",\"1\"))","v":"0"}]
[null,null,"Desplazamiento Vertical","La distancia vertical entre el origen y el destino del objeto manipulado\nes mayor a 135 cm°.","NA",{"$f":"IF(E15=\"No\",\"0\",IF(E15=\"NA\",\"0\",\"1\"))","v":"0"}]
[null,null,"Posición Horizontal","La distancia horizontal entre el cuerpo y las manos (nudillos) es superior a 55 cm correspondiente a la zona de alcance máximo de brazos","NA","0"]
[null,null,"Asimetría","Rotación o inclinación extrema del tronco sin movimientos de los pies","NA","0"]
[null,null,"Frecuencia","Corta duración: más de 15 levantamientos/descensos por minuto, en\nuna tarea que no supere los 60 minutos seguidos en el turno de trabajo\ny seguida de al menos 60 minutos de descanso o tarea liviana (que no\nimplique MMC).","NA","0"]
[null,null,null,"Media duración: más de 12 levantamientos/descensos por minuto,\nen una tarea que no supere los 120 minutos seguidos en el turno de\ntrabajo y seguida de al menos 30 minutos de descanso o tarea liviana\n(que no implique MMC).","NA","0"]
[null,null,null,"Larga duración: más de 8 levantamientos/descensos por minuto, en\nuna tarea que supere los 120 minutos seguidos en el turno de trabajo.","NA","0"]
[null,null,null,"Condición crítica: presencia de tarea de Levantamiento/descenso y transporte con peso de la carga que exceda los siguientes límites ","Si / No / NA",{"$f":"F14+F15+F16+F17+F18+F19+F20","v":0}]
[null,null,"Hombres \n(18-45 años) + ","25 kgs","NA",{"$f":"IF(E22=\"No\",\"0\",IF(E22=\"NA\",\"0\",\"1\"))","v":"0"}]
[null,null,"Mujeres\n(18-45 años) + ","20 kgs","NA",{"$f":"IF(E23=\"No\",\"0\",IF(E23=\"NA\",\"0\",\"1\"))","v":"0"}]
[null,null,"Hombres \n(< 18-45 años o > 45 años) + ","20 kgs","NA","0"]
[null,null,"Mujeres \n(< 18-45 años o > 45 años) + ","15 kgs","NA","0"]
[null,null,"Mujer\nEmbarazada","3 kgs","NA","0"]
[null,null,null,"Condición crítica: presencia de tarea de Levantamiento/descenso y transporte con peso de la carga que exceda los siguientes límites ","Si / No / NA",{"$f":"F22+F23+F24+F25+F26","v":0}]
[null,null,"Distancia de transporte de 20 mts. o más","6.000 Kgs. en 8 hrs.","NA",{"$f":"IF(E28=\"No\",\"0\",IF(E28=\"NA\",\"0\",\"1\"))","v":"0"}]
[null,null,"Distancia de transporte menos a 20 mts.","10.000 Kgs. en 8 hrs.","NA",{"$f":"IF(E29=\"No\",\"0\",IF(E29=\"NA\",\"0\",\"1\"))","v":"0"}]
[null,null,null,null,null,{"$f":"F28+F29","v":0}]
[null,null,null,null,null,{"$f":"F12+F21+F27+F30","v":0}]

{"sheet":"TABLA 4T1P4","index":26,"n_rows":31,"n_cols":10,"rows_kept":31,"cut":false,"hidden":false,"merged":[]}
[]
[null,null,null,"LEVANTAMIENTO, DESCENSO Y TRANSPORTE DE CARGA - IDENTIFICACIÓN AVANZADA CONDICIÓN CRÍTICA  ",null,null,null,null,null,"Cuadro de Resultado Tabla 4"]
[null,null,"Condición","Levantamiento/descenso y transporte manual de carga","Si / No / NA"]
[null,null,"Ambiente de Trabajo","Presencia de temperatura extrema (bajo 16° o superior a los 26° grados Celsius) y sin ropa que proteja de las temperaturas extremas.","NA",{"$f":"IF(E4=\"No\",\"0\",IF(E4=\"NA\",\"0\",\"1\"))","v":"0"},null,null,null,"La Tarea:"]
[null,null,null,"Presencia de suelo resbaladizo, irregular o inestable.","NA",{"$f":"IF(E5=\"No\",\"0\",IF(E5=\"NA\",\"0\",\"1\"))","v":"0"},null,null,{"$f":"'TABLA 1 P4'!B6","v":"N° 1"},{"$f":"'TABLA 1 P4'!C6","v":"NA"}]
[null,null,null,"Presencia de espacio insuficiente para el levantamiento/descenso y transporte de carga que genera posturas incomodas o restricción en el movimiento.","NA","0",null,null,null,"Resultado:"]
[null,null,"Característica de la Carga","El tamaño de la carga reduce la visión del trabajador y/o dificulta su movimiento.","NA","0",null,null,{"$f":"F31","v":0},{"$f":"IF(F31>=1,\"Crítica\",\"No Crítica\")","v":"No Crítica"}]
[null,null,null,"El centro de gravedad de la carga no es estable (ej.: líquidos, elementos que se mueven dentro de la carga).","NA","0",null,null,null,"Por lo que usted:"]
[null,null,null,"La forma/configuración de la carga presenta bordes,\nsuperficies o protuberancias afiladas.","NA","0",null,null,null,{"$f":"IF(J7=\"No Crítica\",\"Ha terminado el Proceso de Identificación para esta Tarea y deberá iniciar el proceso de Evaluación Cuantitativa del riesgo\",\"Ha terminado el Proceso de Identificación para esta Tarea y deberá aplicar medidas para reducir el riesgo\")","v":"Ha terminado el Proceso de Identificación para esta Tarea y deberá iniciar el proceso de Evaluación Cuantitativa del riesgo"}]
[null,null,null,"Las superficies de contacto son demasiado frías o demasiado calientes.","NA","0"]
[null,null,"Horas de Trabajo","La tarea de levantamiento/descenso o transporte de\ncarga dura más de 8 hrs.","NA","0"]
[null,null,null,"Condición crítica: presencia de tarea de Levantamiento/descenso y transporte de carga con condiciones de diseño y frecuencia que exceden los valores máximos sugeridos ",null,{"$f":"F4+F5+F6+F7+F8+F9+F10+F11","v":0},null,null,null,"Si terminó de responder toda la Tabla 4 Presione Aquí para  regresar a Tabla 1 Información General del Puesto de Trabajo donde podrá continuar con la siguiente Tarea"]
[null,null,null,null,"Si / No / NA"]
[null,null,"Posición Vertical","La ubicación de las manos al inicio o final del levantamiento/descenso\nde una carga es superior a 155 cm o inferior a 20 cm°.","NA",{"$f":"IF(E14=\"No\",\"0\",IF(E14=\"NA\",\"0\",\"1\"))","v":"0"}]
[null,null,"Desplazamiento Vertical","La distancia vertical entre el origen y el destino del objeto manipulado\nes mayor a 135 cm°.","NA",{"$f":"IF(E15=\"No\",\"0\",IF(E15=\"NA\",\"0\",\"1\"))","v":"0"}]
[null,null,"Posición Horizontal","La distancia horizontal entre el cuerpo y las manos (nudillos) es superior a 55 cm correspondiente a la zona de alcance máximo de brazos","NA","0"]
[null,null,"Asimetría","Rotación o inclinación extrema del tronco sin movimientos de los pies","NA","0"]
[null,null,"Frecuencia","Corta duración: más de 15 levantamientos/descensos por minuto, en\nuna tarea que no supere los 60 minutos seguidos en el turno de trabajo\ny seguida de al menos 60 minutos de descanso o tarea liviana (que no\nimplique MMC).","NA","0"]
[null,null,null,"Media duración: más de 12 levantamientos/descensos por minuto,\nen una tarea que no supere los 120 minutos seguidos en el turno de\ntrabajo y seguida de al menos 30 minutos de descanso o tarea liviana\n(que no implique MMC).","NA","0"]
[null,null,null,"Larga duración: más de 8 levantamientos/descensos por minuto, en\nuna tarea que supere los 120 minutos seguidos en el turno de trabajo.","NA","0"]
[null,null,null,"Condición crítica: presencia de tarea de Levantamiento/descenso y transporte con peso de la carga que exceda los siguientes límites ","Si / No / NA",{"$f":"F14+F15+F16+F17+F18+F19+F20","v":0}]
[null,null,"Hombres \n(18-45 años) + ","25 kgs","NA",{"$f":"IF(E22=\"No\",\"0\",IF(E22=\"NA\",\"0\",\"1\"))","v":"0"}]
[null,null,"Mujeres\n(18-45 años) + ","20 kgs","NA",{"$f":"IF(E23=\"No\",\"0\",IF(E23=\"NA\",\"0\",\"1\"))","v":"0"}]
[null,null,"Hombres \n(< 18-45 años o > 45 años) + ","20 kgs","NA","0"]
[null,null,"Mujeres \n(< 18-45 años o > 45 años) + ","15 kgs","NA","0"]
[null,null,"Mujer\nEmbarazada","3 kgs","NA","0"]
[null,null,null,"Condición crítica: presencia de tarea de Levantamiento/descenso y transporte con peso de la carga que exceda los siguientes límites ","Si / No / NA",{"$f":"F22+F23+F24+F25+F26","v":0}]
[null,null,"Distancia de transporte de 20 mts. o más","6.000 Kgs. en 8 hrs.","NA",{"$f":"IF(E28=\"No\",\"0\",IF(E28=\"NA\",\"0\",\"1\"))","v":"0"}]
[null,null,"Distancia de transporte menos a 20 mts.","10.000 Kgs. en 8 hrs.","NA",{"$f":"IF(E29=\"No\",\"0\",IF(E29=\"NA\",\"0\",\"1\"))","v":"0"}]
[null,null,null,null,null,{"$f":"F28+F29","v":0}]
[null,null,null,null,null,{"$f":"F12+F21+F27+F30","v":0}]

{"sheet":"TABLA 4T1P5","index":27,"n_rows":31,"n_cols":10,"rows_kept":31,"cut":false,"hidden":false,"merged":[]}
[]
[null,null,null,"LEVANTAMIENTO, DESCENSO Y TRANSPORTE DE CARGA - IDENTIFICACIÓN AVANZADA CONDICIÓN CRÍTICA  ",null,null,null,null,null,"Cuadro de Resultado Tabla 4"]
[null,null,"Condición","Levantamiento/descenso y transporte manual de carga","Si / No / NA"]
[null,null,"Ambiente de Trabajo","Presencia de temperatura extrema (bajo 16° o superior a los 26° grados Celsius) y sin ropa que proteja de las temperaturas extremas.","NA",{"$f":"IF(E4=\"No\",\"0\",IF(E4=\"NA\",\"0\",\"1\"))","v":"0"},null,null,null,"La Tarea:"]
[null,null,null,"Presencia de suelo resbaladizo, irregular o inestable.","NA",{"$f":"IF(E5=\"No\",\"0\",IF(E5=\"NA\",\"0\",\"1\"))","v":"0"},null,null,{"$f":"'TABLA 1 P5'!B6","v":"N° 1"},{"$f":"'TABLA 1 P5'!C6","v":"NA"}]
[null,null,null,"Presencia de espacio insuficiente para el levantamiento/descenso y transporte de carga que genera posturas incomodas o restricción en el movimiento.","NA","0",null,null,null,"Resultado:"]
[null,null,"Característica de la Carga","El tamaño de la carga reduce la visión del trabajador y/o dificulta su movimiento.","NA","0",null,null,{"$f":"F31","v":0},{"$f":"IF(F31>=1,\"Crítica\",\"No Crítica\")","v":"No Crítica"}]
[null,null,null,"El centro de gravedad de la carga no es estable (ej.: líquidos, elementos que se mueven dentro de la carga).","NA","0",null,null,null,"Por lo que usted:"]
[null,null,null,"La forma/configuración de la carga presenta bordes,\nsuperficies o protuberancias afiladas.","NA","0",null,null,null,{"$f":"IF(J7=\"No Crítica\",\"Ha terminado el Proceso de Identificación para esta Tarea y deberá iniciar el proceso de Evaluación Cuantitativa del riesgo\",\"Ha terminado el Proceso de Identificación para esta Tarea y deberá aplicar medidas para reducir el riesgo\")","v":"Ha terminado el Proceso de Identificación para esta Tarea y deberá iniciar el proceso de Evaluación Cuantitativa del riesgo"}]
[null,null,null,"Las superficies de contacto son demasiado frías o demasiado calientes.","NA","0"]
[null,null,"Horas de Trabajo","La tarea de levantamiento/descenso o transporte de\ncarga dura más de 8 hrs.","NA","0"]
[null,null,null,"Condición crítica: presencia de tarea de Levantamiento/descenso y transporte de carga con condiciones de diseño y frecuencia que exceden los valores máximos sugeridos ",null,{"$f":"F4+F5+F6+F7+F8+F9+F10+F11","v":0},null,null,null,"Si terminó de responder toda la Tabla 4 Presione Aquí para  regresar a Tabla 1 Información General del Puesto de Trabajo donde podrá continuar con la siguiente Tarea"]
[null,null,null,null,"Si / No / NA"]
[null,null,"Posición Vertical","La ubicación de las manos al inicio o final del levantamiento/descenso\nde una carga es superior a 155 cm o inferior a 20 cm°.","NA",{"$f":"IF(E14=\"No\",\"0\",IF(E14=\"NA\",\"0\",\"1\"))","v":"0"}]
[null,null,"Desplazamiento Vertical","La distancia vertical entre el origen y el destino del objeto manipulado\nes mayor a 135 cm°.","NA",{"$f":"IF(E15=\"No\",\"0\",IF(E15=\"NA\",\"0\",\"1\"))","v":"0"}]
[null,null,"Posición Horizontal","La distancia horizontal entre el cuerpo y las manos (nudillos) es superior a 55 cm correspondiente a la zona de alcance máximo de brazos","NA","0"]
[null,null,"Asimetría","Rotación o inclinación extrema del tronco sin movimientos de los pies","NA","0"]
[null,null,"Frecuencia","Corta duración: más de 15 levantamientos/descensos por minuto, en\nuna tarea que no supere los 60 minutos seguidos en el turno de trabajo\ny seguida de al menos 60 minutos de descanso o tarea liviana (que no\nimplique MMC).","NA","0"]
[null,null,null,"Media duración: más de 12 levantamientos/descensos por minuto,\nen una tarea que no supere los 120 minutos seguidos en el turno de\ntrabajo y seguida de al menos 30 minutos de descanso o tarea liviana\n(que no implique MMC).","NA","0"]
[null,null,null,"Larga duración: más de 8 levantamientos/descensos por minuto, en\nuna tarea que supere los 120 minutos seguidos en el turno de trabajo.","NA","0"]
[null,null,null,"Condición crítica: presencia de tarea de Levantamiento/descenso y transporte con peso de la carga que exceda los siguientes límites ","Si / No / NA",{"$f":"F14+F15+F16+F17+F18+F19+F20","v":0}]
[null,null,"Hombres \n(18-45 años) + ","25 kgs","NA",{"$f":"IF(E22=\"No\",\"0\",IF(E22=\"NA\",\"0\",\"1\"))","v":"0"}]
[null,null,"Mujeres\n(18-45 años) + ","20 kgs","NA",{"$f":"IF(E23=\"No\",\"0\",IF(E23=\"NA\",\"0\",\"1\"))","v":"0"}]
[null,null,"Hombres \n(< 18-45 años o > 45 años) + ","20 kgs","NA","0"]
[null,null,"Mujeres \n(< 18-45 años o > 45 años) + ","15 kgs","NA","0"]
[null,null,"Mujer\nEmbarazada","3 kgs","NA","0"]
[null,null,null,"Condición crítica: presencia de tarea de Levantamiento/descenso y transporte con peso de la carga que exceda los siguientes límites ","Si / No / NA",{"$f":"F22+F23+F24+F25+F26","v":0}]
[null,null,"Distancia de transporte de 20 mts. o más","6.000 Kgs. en 8 hrs.","NA",{"$f":"IF(E28=\"No\",\"0\",IF(E28=\"NA\",\"0\",\"1\"))","v":"0"}]
[null,null,"Distancia de transporte menos a 20 mts.","10.000 Kgs. en 8 hrs.","NA",{"$f":"IF(E29=\"No\",\"0\",IF(E29=\"NA\",\"0\",\"1\"))","v":"0"}]
[null,null,null,null,null,{"$f":"F28+F29","v":0}]
[null,null,null,null,null,{"$f":"F12+F21+F27+F30","v":0}]

{"sheet":"TABLA 4T1P6","index":28,"n_rows":31,"n_cols":10,"rows_kept":31,"cut":false,"hidden":false,"merged":[]}
[]
[null,null,null,"LEVANTAMIENTO, DESCENSO Y TRANSPORTE DE CARGA - IDENTIFICACIÓN AVANZADA CONDICIÓN CRÍTICA  ",null,null,null,null,null,"Cuadro de Resultado Tabla 4"]
[null,null,"Condición","Levantamiento/descenso y transporte manual de carga","Si / No / NA"]
[null,null,"Ambiente de Trabajo","Presencia de temperatura extrema (bajo 16° o superior a los 26° grados Celsius) y sin ropa que proteja de las temperaturas extremas.","NA",{"$f":"IF(E4=\"No\",\"0\",IF(E4=\"NA\",\"0\",\"1\"))","v":"0"},null,null,null,"La Tarea:"]
[null,null,null,"Presencia de suelo resbaladizo, irregular o inestable.","NA",{"$f":"IF(E5=\"No\",\"0\",IF(E5=\"NA\",\"0\",\"1\"))","v":"0"},null,null,{"$f":"'TABLA 1 P6'!B6","v":"N° 1"},{"$f":"'TABLA 1 P6'!C6","v":"NA"}]
[null,null,null,"Presencia de espacio insuficiente para el levantamiento/descenso y transporte de carga que genera posturas incomodas o restricción en el movimiento.","NA","0",null,null,null,"Resultado:"]
[null,null,"Característica de la Carga","El tamaño de la carga reduce la visión del trabajador y/o dificulta su movimiento.","NA","0",null,null,{"$f":"F31","v":0},{"$f":"IF(F31>=1,\"Crítica\",\"No Crítica\")","v":"No Crítica"}]
[null,null,null,"El centro de gravedad de la carga no es estable (ej.: líquidos, elementos que se mueven dentro de la carga).","NA","0",null,null,null,"Por lo que usted:"]
[null,null,null,"La forma/configuración de la carga presenta bordes,\nsuperficies o protuberancias afiladas.","NA","0",null,null,null,{"$f":"IF(J7=\"No Crítica\",\"Ha terminado el Proceso de Identificación para esta Tarea y deberá iniciar el proceso de Evaluación Cuantitativa del riesgo\",\"Ha terminado el Proceso de Identificación para esta Tarea y deberá aplicar medidas para reducir el riesgo\")","v":"Ha terminado el Proceso de Identificación para esta Tarea y deberá iniciar el proceso de Evaluación Cuantitativa del riesgo"}]
[null,null,null,"Las superficies de contacto son demasiado frías o demasiado calientes.","NA","0"]
[null,null,"Horas de Trabajo","La tarea de levantamiento/descenso o transporte de\ncarga dura más de 8 hrs.","NA","0"]
[null,null,null,"Condición crítica: presencia de tarea de Levantamiento/descenso y transporte de carga con condiciones de diseño y frecuencia que exceden los valores máximos sugeridos ",null,{"$f":"F4+F5+F6+F7+F8+F9+F10+F11","v":0},null,null,null,"Si terminó de responder toda la Tabla 4 Presione Aquí para  regresar a Tabla 1 Información General del Puesto de Trabajo donde podrá continuar con la siguiente Tarea"]
[null,null,null,null,"Si / No / NA"]
[null,null,"Posición Vertical","La ubicación de las manos al inicio o final del levantamiento/descenso\nde una carga es superior a 155 cm o inferior a 20 cm°.","NA",{"$f":"IF(E14=\"No\",\"0\",IF(E14=\"NA\",\"0\",\"1\"))","v":"0"}]
[null,null,"Desplazamiento Vertical","La distancia vertical entre el origen y el destino del objeto manipulado\nes mayor a 135 cm°.","NA",{"$f":"IF(E15=\"No\",\"0\",IF(E15=\"NA\",\"0\",\"1\"))","v":"0"}]
[null,null,"Posición Horizontal","La distancia horizontal entre el cuerpo y las manos (nudillos) es superior a 55 cm correspondiente a la zona de alcance máximo de brazos","NA","0"]
[null,null,"Asimetría","Rotación o inclinación extrema del tronco sin movimientos de los pies","NA","0"]
[null,null,"Frecuencia","Corta duración: más de 15 levantamientos/descensos por minuto, en\nuna tarea que no supere los 60 minutos seguidos en el turno de trabajo\ny seguida de al menos 60 minutos de descanso o tarea liviana (que no\nimplique MMC).","NA","0"]
[null,null,null,"Media duración: más de 12 levantamientos/descensos por minuto,\nen una tarea que no supere los 120 minutos seguidos en el turno de\ntrabajo y seguida de al menos 30 minutos de descanso o tarea liviana\n(que no implique MMC).","NA","0"]
[null,null,null,"Larga duración: más de 8 levantamientos/descensos por minuto, en\nuna tarea que supere los 120 minutos seguidos en el turno de trabajo.","NA","0"]
[null,null,null,"Condición crítica: presencia de tarea de Levantamiento/descenso y transporte con peso de la carga que exceda los siguientes límites ","Si / No / NA",{"$f":"F14+F15+F16+F17+F18+F19+F20","v":0}]
[null,null,"Hombres \n(18-45 años) + ","25 kgs","NA",{"$f":"IF(E22=\"No\",\"0\",IF(E22=\"NA\",\"0\",\"1\"))","v":"0"}]
[null,null,"Mujeres\n(18-45 años) + ","20 kgs","NA",{"$f":"IF(E23=\"No\",\"0\",IF(E23=\"NA\",\"0\",\"1\"))","v":"0"}]
[null,null,"Hombres \n(< 18-45 años o > 45 años) + ","20 kgs","NA","0"]
[null,null,"Mujeres \n(< 18-45 años o > 45 años) + ","15 kgs","NA","0"]
[null,null,"Mujer\nEmbarazada","3 kgs","NA","0"]
[null,null,null,"Condición crítica: presencia de tarea de Levantamiento/descenso y transporte con peso de la carga que exceda los siguientes límites ","Si / No / NA",{"$f":"F22+F23+F24+F25+F26","v":0}]
[null,null,"Distancia de transporte de 20 mts. o más","6.000 Kgs. en 8 hrs.","NA",{"$f":"IF(E28=\"No\",\"0\",IF(E28=\"NA\",\"0\",\"1\"))","v":"0"}]
[null,null,"Distancia de transporte menos a 20 mts.","10.000 Kgs. en 8 hrs.","NA",{"$f":"IF(E29=\"No\",\"0\",IF(E29=\"NA\",\"0\",\"1\"))","v":"0"}]
[null,null,null,null,null,{"$f":"F28+F29","v":0}]
[null,null,null,null,null,{"$f":"F12+F21+F27+F30","v":0}]

{"sheet":"TABLA 4T1P7","index":29,"n_rows":31,"n_cols":10,"rows_kept":31,"cut":false,"hidden":false,"merged":[]}
[]
[null,null,null,"LEVANTAMIENTO, DESCENSO Y TRANSPORTE DE CARGA - IDENTIFICACIÓN AVANZADA CONDICIÓN CRÍTICA  ",null,null,null,null,null,"Cuadro de Resultado Tabla 4"]
[null,null,"Condición","Levantamiento/descenso y transporte manual de carga","Si / No / NA"]
[null,null,"Ambiente de Trabajo","Presencia de temperatura extrema (bajo 16° o superior a los 26° grados Celsius) y sin ropa que proteja de las temperaturas extremas.","NA",{"$f":"IF(E4=\"No\",\"0\",IF(E4=\"NA\",\"0\",\"1\"))","v":"0"},null,null,null,"La Tarea:"]
[null,null,null,"Presencia de suelo resbaladizo, irregular o inestable.","NA",{"$f":"IF(E5=\"No\",\"0\",IF(E5=\"NA\",\"0\",\"1\"))","v":"0"},null,null,{"$f":"'TABLA 1 P7'!B6","v":"N° 1"},{"$f":"'TABLA 1 P7'!C6","v":"NA"}]
[null,null,null,"Presencia de espacio insuficiente para el levantamiento/descenso y transporte de carga que genera posturas incomodas o restricción en el movimiento.","NA","0",null,null,null,"Resultado:"]
[null,null,"Característica de la Carga","El tamaño de la carga reduce la visión del trabajador y/o dificulta su movimiento.","NA","0",null,null,{"$f":"F31","v":0},{"$f":"IF(F31>=1,\"Crítica\",\"No Crítica\")","v":"No Crítica"}]
[null,null,null,"El centro de gravedad de la carga no es estable (ej.: líquidos, elementos que se mueven dentro de la carga).","NA","0",null,null,null,"Por lo que usted:"]
[null,null,null,"La forma/configuración de la carga presenta bordes,\nsuperficies o protuberancias afiladas.","NA","0",null,null,null,{"$f":"IF(J7=\"No Crítica\",\"Ha terminado el Proceso de Identificación para esta Tarea y deberá iniciar el proceso de Evaluación Cuantitativa del riesgo\",\"Ha terminado el Proceso de Identificación para esta Tarea y deberá aplicar medidas para reducir el riesgo\")","v":"Ha terminado el Proceso de Identificación para esta Tarea y deberá iniciar el proceso de Evaluación Cuantitativa del riesgo"}]
[null,null,null,"Las superficies de contacto son demasiado frías o demasiado calientes.","NA","0"]
[null,null,"Horas de Trabajo","La tarea de levantamiento/descenso o transporte de\ncarga dura más de 8 hrs.","NA","0"]
[null,null,null,"Condición crítica: presencia de tarea de Levantamiento/descenso y transporte de carga con condiciones de diseño y frecuencia que exceden los valores máximos sugeridos ",null,{"$f":"F4+F5+F6+F7+F8+F9+F10+F11","v":0},null,null,null,"Si terminó de responder toda la Tabla 4 Presione Aquí para  regresar a Tabla 1 Información General del Puesto de Trabajo donde podrá continuar con la siguiente Tarea"]
[null,null,null,null,"Si / No / NA"]
[null,null,"Posición Vertical","La ubicación de las manos al inicio o final del levantamiento/descenso\nde una carga es superior a 155 cm o inferior a 20 cm°.","NA",{"$f":"IF(E14=\"No\",\"0\",IF(E14=\"NA\",\"0\",\"1\"))","v":"0"}]
[null,null,"Desplazamiento Vertical","La distancia vertical entre el origen y el destino del objeto manipulado\nes mayor a 135 cm°.","NA",{"$f":"IF(E15=\"No\",\"0\",IF(E15=\"NA\",\"0\",\"1\"))","v":"0"}]
[null,null,"Posición Horizontal","La distancia horizontal entre el cuerpo y las manos (nudillos) es superior a 55 cm correspondiente a la zona de alcance máximo de brazos","NA","0"]
[null,null,"Asimetría","Rotación o inclinación extrema del tronco sin movimientos de los pies","NA","0"]
[null,null,"Frecuencia","Corta duración: más de 15 levantamientos/descensos por minuto, en\nuna tarea que no supere los 60 minutos seguidos en el turno de trabajo\ny seguida de al menos 60 minutos de descanso o tarea liviana (que no\nimplique MMC).","NA","0"]
[null,null,null,"Media duración: más de 12 levantamientos/descensos por minuto,\nen una tarea que no supere los 120 minutos seguidos en el turno de\ntrabajo y seguida de al menos 30 minutos de descanso o tarea liviana\n(que no implique MMC).","NA","0"]
[null,null,null,"Larga duración: más de 8 levantamientos/descensos por minuto, en\nuna tarea que supere los 120 minutos seguidos en el turno de trabajo.","NA","0"]
[null,null,null,"Condición crítica: presencia de tarea de Levantamiento/descenso y transporte con peso de la carga que exceda los siguientes límites ","Si / No / NA",{"$f":"F14+F15+F16+F17+F18+F19+F20","v":0}]
[null,null,"Hombres \n(18-45 años) + ","25 kgs","NA",{"$f":"IF(E22=\"No\",\"0\",IF(E22=\"NA\",\"0\",\"1\"))","v":"0"}]
[null,null,"Mujeres\n(18-45 años) + ","20 kgs","NA",{"$f":"IF(E23=\"No\",\"0\",IF(E23=\"NA\",\"0\",\"1\"))","v":"0"}]
[null,null,"Hombres \n(< 18-45 años o > 45 años) + ","20 kgs","NA","0"]
[null,null,"Mujeres \n(< 18-45 años o > 45 años) + ","15 kgs","NA","0"]
[null,null,"Mujer\nEmbarazada","3 kgs","NA","0"]
[null,null,null,"Condición crítica: presencia de tarea de Levantamiento/descenso y transporte con peso de la carga que exceda los siguientes límites ","Si / No / NA",{"$f":"F22+F23+F24+F25+F26","v":0}]
[null,null,"Distancia de transporte de 20 mts. o más","6.000 Kgs. en 8 hrs.","NA",{"$f":"IF(E28=\"No\",\"0\",IF(E28=\"NA\",\"0\",\"1\"))","v":"0"}]
[null,null,"Distancia de transporte menos a 20 mts.","10.000 Kgs. en 8 hrs.","NA",{"$f":"IF(E29=\"No\",\"0\",IF(E29=\"NA\",\"0\",\"1\"))","v":"0"}]
[null,null,null,null,null,{"$f":"F28+F29","v":0}]
[null,null,null,null,null,{"$f":"F12+F21+F27+F30","v":0}]

{"sheet":"TABLA 4T1P8","index":30,"n_rows":31,"n_cols":10,"rows_kept":31,"cut":false,"hidden":false,"merged":[]}
[]
[null,null,null,"LEVANTAMIENTO, DESCENSO Y TRANSPORTE DE CARGA - IDENTIFICACIÓN AVANZADA CONDICIÓN CRÍTICA  ",null,null,null,null,null,"Cuadro de Resultado Tabla 4"]
[null,null,"Condición","Levantamiento/descenso y transporte manual de carga","Si / No / NA"]
[null,null,"Ambiente de Trabajo","Presencia de temperatura extrema (bajo 16° o superior a los 26° grados Celsius) y sin ropa que proteja de las temperaturas extremas.","NA",{"$f":"IF(E4=\"No\",\"0\",IF(E4=\"NA\",\"0\",\"1\"))","v":"0"},null,null,null,"La Tarea:"]
[null,null,null,"Presencia de suelo resbaladizo, irregular o inestable.","NA",{"$f":"IF(E5=\"No\",\"0\",IF(E5=\"NA\",\"0\",\"1\"))","v":"0"},null,null,{"$f":"'TABLA 1 P8'!B6","v":"N° 1"},{"$f":"'TABLA 1 P8'!C6","v":"NA"}]
[null,null,null,"Presencia de espacio insuficiente para el levantamiento/descenso y transporte de carga que genera posturas incomodas o restricción en el movimiento.","NA","0",null,null,null,"Resultado:"]
[null,null,"Característica de la Carga","El tamaño de la carga reduce la visión del trabajador y/o dificulta su movimiento.","NA","0",null,null,{"$f":"F31","v":0},{"$f":"IF(F31>=1,\"Crítica\",\"No Crítica\")","v":"No Crítica"}]
[null,null,null,"El centro de gravedad de la carga no es estable (ej.: líquidos, elementos que se mueven dentro de la carga).","NA","0",null,null,null,"Por lo que usted:"]
[null,null,null,"La forma/configuración de la carga presenta bordes,\nsuperficies o protuberancias afiladas.","NA","0",null,null,null,{"$f":"IF(J7=\"No Crítica\",\"Ha terminado el Proceso de Identificación para esta Tarea y deberá iniciar el proceso de Evaluación Cuantitativa del riesgo\",\"Ha terminado el Proceso de Identificación para esta Tarea y deberá aplicar medidas para reducir el riesgo\")","v":"Ha terminado el Proceso de Identificación para esta Tarea y deberá iniciar el proceso de Evaluación Cuantitativa del riesgo"}]
[null,null,null,"Las superficies de contacto son demasiado frías o demasiado calientes.","NA","0"]
[null,null,"Horas de Trabajo","La tarea de levantamiento/descenso o transporte de\ncarga dura más de 8 hrs.","NA","0"]
[null,null,null,"Condición crítica: presencia de tarea de Levantamiento/descenso y transporte de carga con condiciones de diseño y frecuencia que exceden los valores máximos sugeridos ",null,{"$f":"F4+F5+F6+F7+F8+F9+F10+F11","v":0},null,null,null,"Si terminó de responder toda la Tabla 4 Presione Aquí para  regresar a Tabla 1 Información General del Puesto de Trabajo donde podrá continuar con la siguiente Tarea"]
[null,null,null,null,"Si / No / NA"]
[null,null,"Posición Vertical","La ubicación de las manos al inicio o final del levantamiento/descenso\nde una carga es superior a 155 cm o inferior a 20 cm°.","NA",{"$f":"IF(E14=\"No\",\"0\",IF(E14=\"NA\",\"0\",\"1\"))","v":"0"}]
[null,null,"Desplazamiento Vertical","La distancia vertical entre el origen y el destino del objeto manipulado\nes mayor a 135 cm°.","NA",{"$f":"IF(E15=\"No\",\"0\",IF(E15=\"NA\",\"0\",\"1\"))","v":"0"}]
[null,null,"Posición Horizontal","La distancia horizontal entre el cuerpo y las manos (nudillos) es superior a 55 cm correspondiente a la zona de alcance máximo de brazos","NA","0"]
[null,null,"Asimetría","Rotación o inclinación extrema del tronco sin movimientos de los pies","NA","0"]
[null,null,"Frecuencia","Corta duración: más de 15 levantamientos/descensos por minuto, en\nuna tarea que no supere los 60 minutos seguidos en el turno de trabajo\ny seguida de al menos 60 minutos de descanso o tarea liviana (que no\nimplique MMC).","NA","0"]
[null,null,null,"Media duración: más de 12 levantamientos/descensos por minuto,\nen una tarea que no supere los 120 minutos seguidos en el turno de\ntrabajo y seguida de al menos 30 minutos de descanso o tarea liviana\n(que no implique MMC).","NA","0"]
[null,null,null,"Larga duración: más de 8 levantamientos/descensos por minuto, en\nuna tarea que supere los 120 minutos seguidos en el turno de trabajo.","NA","0"]
[null,null,null,"Condición crítica: presencia de tarea de Levantamiento/descenso y transporte con peso de la carga que exceda los siguientes límites ","Si / No / NA",{"$f":"F14+F15+F16+F17+F18+F19+F20","v":0}]
[null,null,"Hombres \n(18-45 años) + ","25 kgs","NA",{"$f":"IF(E22=\"No\",\"0\",IF(E22=\"NA\",\"0\",\"1\"))","v":"0"}]
[null,null,"Mujeres\n(18-45 años) + ","20 kgs","NA",{"$f":"IF(E23=\"No\",\"0\",IF(E23=\"NA\",\"0\",\"1\"))","v":"0"}]
[null,null,"Hombres \n(< 18-45 años o > 45 años) + ","20 kgs","NA","0"]
[null,null,"Mujeres \n(< 18-45 años o > 45 años) + ","15 kgs","NA","0"]
[null,null,"Mujer\nEmbarazada","3 kgs","NA","0"]
[null,null,null,"Condición crítica: presencia de tarea de Levantamiento/descenso y transporte con peso de la carga que exceda los siguientes límites ","Si / No / NA",{"$f":"F22+F23+F24+F25+F26","v":0}]
[null,null,"Distancia de transporte de 20 mts. o más","6.000 Kgs. en 8 hrs.","NA",{"$f":"IF(E28=\"No\",\"0\",IF(E28=\"NA\",\"0\",\"1\"))","v":"0"}]
[null,null,"Distancia de transporte menos a 20 mts.","10.000 Kgs. en 8 hrs.","NA",{"$f":"IF(E29=\"No\",\"0\",IF(E29=\"NA\",\"0\",\"1\"))","v":"0"}]
[null,null,null,null,null,{"$f":"F28+F29","v":0}]
[null,null,null,null,null,{"$f":"F12+F21+F27+F30","v":0}]

{"sheet":"TABLA 4T1P9","index":31,"n_rows":31,"n_cols":10,"rows_kept":31,"cut":false,"hidden":false,"merged":[]}
[]
[null,null,null,"LEVANTAMIENTO, DESCENSO Y TRANSPORTE DE CARGA - IDENTIFICACIÓN AVANZADA CONDICIÓN CRÍTICA  ",null,null,null,null,null,"Cuadro de Resultado Tabla 4"]
[null,null,"Condición","Levantamiento/descenso y transporte manual de carga","Si / No / NA"]
[null,null,"Ambiente de Trabajo","Presencia de temperatura extrema (bajo 16° o superior a los 26° grados Celsius) y sin ropa que proteja de las temperaturas extremas.","NA",{"$f":"IF(E4=\"No\",\"0\",IF(E4=\"NA\",\"0\",\"1\"))","v":"0"},null,null,null,"La Tarea:"]
[null,null,null,"Presencia de suelo resbaladizo, irregular o inestable.","NA",{"$f":"IF(E5=\"No\",\"0\",IF(E5=\"NA\",\"0\",\"1\"))","v":"0"},null,null,{"$f":"'TABLA 1 P9'!B6","v":"N° 1"},{"$f":"'TABLA 1 P9'!C6","v":"NA"}]
[null,null,null,"Presencia de espacio insuficiente para el levantamiento/descenso y transporte de carga que genera posturas incomodas o restricción en el movimiento.","NA","0",null,null,null,"Resultado:"]
[null,null,"Característica de la Carga","El tamaño de la carga reduce la visión del trabajador y/o dificulta su movimiento.","NA","0",null,null,{"$f":"F31","v":0},{"$f":"IF(F31>=1,\"Crítica\",\"No Crítica\")","v":"No Crítica"}]
[null,null,null,"El centro de gravedad de la carga no es estable (ej.: líquidos, elementos que se mueven dentro de la carga).","NA","0",null,null,null,"Por lo que usted:"]
[null,null,null,"La forma/configuración de la carga presenta bordes,\nsuperficies o protuberancias afiladas.","NA","0",null,null,null,{"$f":"IF(J7=\"No Crítica\",\"Ha terminado el Proceso de Identificación para esta Tarea y deberá iniciar el proceso de Evaluación Cuantitativa del riesgo\",\"Ha terminado el Proceso de Identificación para esta Tarea y deberá aplicar medidas para reducir el riesgo\")","v":"Ha terminado el Proceso de Identificación para esta Tarea y deberá iniciar el proceso de Evaluación Cuantitativa del riesgo"}]
[null,null,null,"Las superficies de contacto son demasiado frías o demasiado calientes.","NA","0"]
[null,null,"Horas de Trabajo","La tarea de levantamiento/descenso o transporte de\ncarga dura más de 8 hrs.","NA","0"]
[null,null,null,"Condición crítica: presencia de tarea de Levantamiento/descenso y transporte de carga con condiciones de diseño y frecuencia que exceden los valores máximos sugeridos ",null,{"$f":"F4+F5+F6+F7+F8+F9+F10+F11","v":0},null,null,null,"Si terminó de responder toda la Tabla 4 Presione Aquí para  regresar a Tabla 1 Información General del Puesto de Trabajo donde podrá continuar con la siguiente Tarea"]
[null,null,null,null,"Si / No / NA"]
[null,null,"Posición Vertical","La ubicación de las manos al inicio o final del levantamiento/descenso\nde una carga es superior a 155 cm o inferior a 20 cm°.","NA",{"$f":"IF(E14=\"No\",\"0\",IF(E14=\"NA\",\"0\",\"1\"))","v":"0"}]
[null,null,"Desplazamiento Vertical","La distancia vertical entre el origen y el destino del objeto manipulado\nes mayor a 135 cm°.","NA",{"$f":"IF(E15=\"No\",\"0\",IF(E15=\"NA\",\"0\",\"1\"))","v":"0"}]
[null,null,"Posición Horizontal","La distancia horizontal entre el cuerpo y las manos (nudillos) es superior a 55 cm correspondiente a la zona de alcance máximo de brazos","NA","0"]
[null,null,"Asimetría","Rotación o inclinación extrema del tronco sin movimientos de los pies","NA","0"]
[null,null,"Frecuencia","Corta duración: más de 15 levantamientos/descensos por minuto, en\nuna tarea que no supere los 60 minutos seguidos en el turno de trabajo\ny seguida de al menos 60 minutos de descanso o tarea liviana (que no\nimplique MMC).","NA","0"]
[null,null,null,"Media duración: más de 12 levantamientos/descensos por minuto,\nen una tarea que no supere los 120 minutos seguidos en el turno de\ntrabajo y seguida de al menos 30 minutos de descanso o tarea liviana\n(que no implique MMC).","NA","0"]
[null,null,null,"Larga duración: más de 8 levantamientos/descensos por minuto, en\nuna tarea que supere los 120 minutos seguidos en el turno de trabajo.","NA","0"]
[null,null,null,"Condición crítica: presencia de tarea de Levantamiento/descenso y transporte con peso de la carga que exceda los siguientes límites ","Si / No / NA",{"$f":"F14+F15+F16+F17+F18+F19+F20","v":0}]
[null,null,"Hombres \n(18-45 años) + ","25 kgs","NA",{"$f":"IF(E22=\"No\",\"0\",IF(E22=\"NA\",\"0\",\"1\"))","v":"0"}]
[null,null,"Mujeres\n(18-45 años) + ","20 kgs","NA",{"$f":"IF(E23=\"No\",\"0\",IF(E23=\"NA\",\"0\",\"1\"))","v":"0"}]
[null,null,"Hombres \n(< 18-45 años o > 45 años) + ","20 kgs","NA","0"]
[null,null,"Mujeres \n(< 18-45 años o > 45 años) + ","15 kgs","NA","0"]
[null,null,"Mujer\nEmbarazada","3 kgs","NA","0"]
[null,null,null,"Condición crítica: presencia de tarea de Levantamiento/descenso y transporte con peso de la carga que exceda los siguientes límites ","Si / No / NA",{"$f":"F22+F23+F24+F25+F26","v":0}]
[null,null,"Distancia de transporte de 20 mts. o más","6.000 Kgs. en 8 hrs.","NA",{"$f":"IF(E28=\"No\",\"0\",IF(E28=\"NA\",\"0\",\"1\"))","v":"0"}]
[null,null,"Distancia de transporte menos a 20 mts.","10.000 Kgs. en 8 hrs.","NA",{"$f":"IF(E29=\"No\",\"0\",IF(E29=\"NA\",\"0\",\"1\"))","v":"0"}]
[null,null,null,null,null,{"$f":"F28+F29","v":0}]
[null,null,null,null,null,{"$f":"F12+F21+F27+F30","v":0}]

{"sheet":"TABLA 4T1P10","index":32,"n_rows":31,"n_cols":10,"rows_kept":31,"cut":false,"hidden":false,"merged":[]}
[]
[null,null,null,"LEVANTAMIENTO, DESCENSO Y TRANSPORTE DE CARGA - IDENTIFICACIÓN AVANZADA CONDICIÓN CRÍTICA  ",null,null,null,null,null,"Cuadro de Resultado Tabla 4"]
[null,null,"Condición","Levantamiento/descenso y transporte manual de carga","Si / No / NA"]
[null,null,"Ambiente de Trabajo","Presencia de temperatura extrema (bajo 16° o superior a los 26° grados Celsius) y sin ropa que proteja de las temperaturas extremas.","NA",{"$f":"IF(E4=\"No\",\"0\",IF(E4=\"NA\",\"0\",\"1\"))","v":"0"},null,null,null,"La Tarea:"]
[null,null,null,"Presencia de suelo resbaladizo, irregular o inestable.","NA",{"$f":"IF(E5=\"No\",\"0\",IF(E5=\"NA\",\"0\",\"1\"))","v":"0"},null,null,{"$f":"'TABLA 1 P10'!B6","v":"N° 1"},{"$f":"'TABLA 1 P10'!C6","v":"NA"}]
[null,null,null,"Presencia de espacio insuficiente para el levantamiento/descenso y transporte de carga que genera posturas incomodas o restricción en el movimiento.","NA","0",null,null,null,"Resultado:"]
[null,null,"Característica de la Carga","El tamaño de la carga reduce la visión del trabajador y/o dificulta su movimiento.","NA","0",null,null,{"$f":"F31","v":0},{"$f":"IF(F31>=1,\"Crítica\",\"No Crítica\")","v":"No Crítica"}]
[null,null,null,"El centro de gravedad de la carga no es estable (ej.: líquidos, elementos que se mueven dentro de la carga).","NA","0",null,null,null,"Por lo que usted:"]
[null,null,null,"La forma/configuración de la carga presenta bordes,\nsuperficies o protuberancias afiladas.","NA","0",null,null,null,{"$f":"IF(J7=\"No Crítica\",\"Ha terminado el Proceso de Identificación para esta Tarea y deberá iniciar el proceso de Evaluación Cuantitativa del riesgo\",\"Ha terminado el Proceso de Identificación para esta Tarea y deberá aplicar medidas para reducir el riesgo\")","v":"Ha terminado el Proceso de Identificación para esta Tarea y deberá iniciar el proceso de Evaluación Cuantitativa del riesgo"}]
[null,null,null,"Las superficies de contacto son demasiado frías o demasiado calientes.","NA","0"]
[null,null,"Horas de Trabajo","La tarea de levantamiento/descenso o transporte de\ncarga dura más de 8 hrs.","NA","0"]
[null,null,null,"Condición crítica: presencia de tarea de Levantamiento/descenso y transporte de carga con condiciones de diseño y frecuencia que exceden los valores máximos sugeridos ",null,{"$f":"F4+F5+F6+F7+F8+F9+F10+F11","v":0},null,null,null,"Si terminó de responder toda la Tabla 4 Presione Aquí para  regresar a Tabla 1 Información General del Puesto de Trabajo donde podrá continuar con la siguiente Tarea"]
[null,null,null,null,"Si / No / NA"]
[null,null,"Posición Vertical","La ubicación de las manos al inicio o final del levantamiento/descenso\nde una carga es superior a 155 cm o inferior a 20 cm°.","NA",{"$f":"IF(E14=\"No\",\"0\",IF(E14=\"NA\",\"0\",\"1\"))","v":"0"}]
[null,null,"Desplazamiento Vertical","La distancia vertical entre el origen y el destino del objeto manipulado\nes mayor a 135 cm°.","NA",{"$f":"IF(E15=\"No\",\"0\",IF(E15=\"NA\",\"0\",\"1\"))","v":"0"}]
[null,null,"Posición Horizontal","La distancia horizontal entre el cuerpo y las manos (nudillos) es superior a 55 cm correspondiente a la zona de alcance máximo de brazos","NA","0"]
[null,null,"Asimetría","Rotación o inclinación extrema del tronco sin movimientos de los pies","NA","0"]
[null,null,"Frecuencia","Corta duración: más de 15 levantamientos/descensos por minuto, en\nuna tarea que no supere los 60 minutos seguidos en el turno de trabajo\ny seguida de al menos 60 minutos de descanso o tarea liviana (que no\nimplique MMC).","NA","0"]
[null,null,null,"Media duración: más de 12 levantamientos/descensos por minuto,\nen una tarea que no supere los 120 minutos seguidos en el turno de\ntrabajo y seguida de al menos 30 minutos de descanso o tarea liviana\n(que no implique MMC).","NA","0"]
[null,null,null,"Larga duración: más de 8 levantamientos/descensos por minuto, en\nuna tarea que supere los 120 minutos seguidos en el turno de trabajo.","NA","0"]
[null,null,null,"Condición crítica: presencia de tarea de Levantamiento/descenso y transporte con peso de la carga que exceda los siguientes límites ","Si / No / NA",{"$f":"F14+F15+F16+F17+F18+F19+F20","v":0}]
[null,null,"Hombres \n(18-45 años) + ","25 kgs","NA",{"$f":"IF(E22=\"No\",\"0\",IF(E22=\"NA\",\"0\",\"1\"))","v":"0"}]
[null,null,"Mujeres\n(18-45 años) + ","20 kgs","NA",{"$f":"IF(E23=\"No\",\"0\",IF(E23=\"NA\",\"0\",\"1\"))","v":"0"}]
[null,null,"Hombres \n(< 18-45 años o > 45 años) + ","20 kgs","NA","0"]
[null,null,"Mujeres \n(< 18-45 años o > 45 años) + ","15 kgs","NA","0"]
[null,null,"Mujer\nEmbarazada","3 kgs","NA","0"]
[null,null,null,"Condición crítica: presencia de tarea de Levantamiento/descenso y transporte con peso de la carga que exceda los siguientes límites ","Si / No / NA",{"$f":"F22+F23+F24+F25+F26","v":0}]
[null,null,"Distancia de transporte de 20 mts. o más","6.000 Kgs. en 8 hrs.","NA",{"$f":"IF(E28=\"No\",\"0\",IF(E28=\"NA\",\"0\",\"1\"))","v":"0"}]
[null,null,"Distancia de transporte menos a 20 mts.","10.000 Kgs. en 8 hrs.","NA",{"$f":"IF(E29=\"No\",\"0\",IF(E29=\"NA\",\"0\",\"1\"))","v":"0"}]
[null,null,null,null,null,{"$f":"F28+F29","v":0}]
[null,null,null,null,null,{"$f":"F12+F21+F27+F30","v":0}]

{"sheet":"TABLA 3T2P1","index":33,"n_rows":34,"n_cols":11,"rows_kept":34,"cut":false,"hidden":false,"merged":[]}
[]
[null,null,null,"LEVANTAMIENTO, DESCENSO Y TRANSPORTE DE CARGA - IDENTIFICACIÓN AVANZADA  CONDICIÓN ACEPTABLE  \n",null,null,null,null,null,"Cuadro de Resultado Tabla 3"]
[null,null,"Condición","Levantamiento/descenso y transporte manual de carga","Si / No / NA"]
[null,null,"Ambiente de Trabajo","La temperatura en donde se realiza la tarea es entre los 18° y 26° (grados Celsius).","NA",{"$f":"IF(E4=\"SI\",\"0\",IF(E4=\"NA\",\"0\",\"1\"))","v":"0"},null,null,null,"La Tarea:"]
[null,null,null,"El piso se encuentra en buenas condiciones (regular, seco y estable).","NA",{"$f":"IF(E5=\"SI\",\"0\",IF(E5=\"NA\",\"0\",\"1\"))","v":"0"},null,null,{"$f":"'TABLA 1 P1'!B8","v":"N° 2"},{"$f":"'TABLA 1 P1'!C8","v":"NA"}]
[null,null,null,"El espacio de trabajo permite el normal movimiento de los trabajadores (sin generar posturas incómodas) durante el levantamiento/descenso y/o transporte.","NA","0",null,null,null,"Resultado:"]
[null,null,"Característica de la Carga","El tamaño de la carga permite la visibilidad y movimientos normales del trabajador.","NA","0",null,null,{"$f":"F31","v":0},{"$f":"IF(F31>=1,\"No es Aceptable\",\"Aceptable\")","v":"Aceptable"}]
[null,null,null,"El centro de gravedad de la carga es estable.","NA","0",null,null,null,"Por lo que usted:"]
[null,null,null,"La carga permite su agarre sin riesgo de cortes, compresión o quemaduras.","NA","0",null,null,null,{"$f":"IF(J7=\"Aceptable\",\"Ha Terminado el Proceso de Identificación para esta Tarea\",\"Debe Aplicar Tabla 4\")","v":"Ha Terminado el Proceso de Identificación para esta Tarea"},{"$f":"F31","v":0}]
[null,null,"Horas de Trabajo\n","La tarea de levantamiento/descenso o transporte de carga dura menos de 8 hrs.","NA","0"]
[null,null,"3 a 5 Kgs","Se observa ausencia de asimetría (Ej: cuerpo rotado,torsión y/o inclinación de tronco).","NA","0",null,null,null,{"$f":"IF(J9=\"Ha Terminado el Proceso de Identificación para esta Tarea\",\"Si terminó de responder toda la Tabla 3 Presione Aquí para  regresar a Tabla 1 Información General del Puesto de Trabajo donde podrá continuar con la siguiente Tarea\",\"\")","v":"Si terminó de responder toda la Tabla 3 Presione Aquí para  regresar a Tabla 1 Información General del Puesto de Trabajo donde podrá continuar con la siguiente Tarea"},{"$f":"F31","v":0}]
[null,null,null,"La carga es mantenida cerca del cuerpo.","NA","0",null,null,null,null,{"$f":"F31","v":0}]
[null,null,null,"El desplazamiento vertical de la carga se realiza entrelas caderas y los hombros.","NA","0"]
[null,null,null,"Frecuencia máxima de MMC: el levantamiento/descenso es menor a 5 veces por minuto","NA","0",null,null,null,null,{"$f":"F31","v":0}]
[null,null,"5,1 a 10 Kgs","Se observa ausencia de asimetría (Ej: cuerpo rotado,torsión y/o inclinación de tronco).","NA","0"]
[null,null,null,"La carga es mantenida cerca del cuerpo.","NA","0"]
[null,null,null,"El desplazamiento vertical de la carga se realiza entre las caderas y los hombros.","NA","0",null,null,null,null,{"$f":"F31","v":0}]
[null,null,null,"Frecuencia máxima de MMC: el levantamiento/descenso es menor a 1 veces por minuto.","NA","0"]
[null,null,"+ de 10 Kgs","Ausencia de cargas mayores a 10 Kgs.","NA","0"]
[null,null,null,null,null,{"$f":"F4+F5+F6+F7+F8+F9+F10+F11+F12+F13+F14+F15+F16+F17+F18+F19","v":0},null,null,null,null,{"$f":"F31","v":0}]
[null,null,null,"Transporte Manual de Carga"]
[]
[null,null,null,null,null,null,null,null,null,null,{"$f":"F31","v":0}]
[]
[null,null,null,null,"Si / No / NA"]
[null,null,null,null,"NA",{"$f":"IF(E26=\"SI\",\"0\",IF(E26=\"NA\",\"0\",\"1\"))","v":"0"}]
[null,null,null,null,"NA",{"$f":"IF(E27=\"SI\",\"0\",IF(E27=\"NA\",\"0\",\"1\"))","v":"0"},null,null,null,null,{"$f":"F31","v":0}]
[null,null,null,null,"NA","0"]
[null,null,null,"Ausencia de posturas inadecuadas durante el transporte de carga.","NA","0"]
[null,null,null,null,null,{"$f":"F26+F27+F28+F29","v":0},null,null,null,null,{"$f":"F31","v":0}]
[null,null,null,null,null,{"$f":"(F20+F30)","v":0}]
[]
[]
[null,null,null,null,null,null,null,null,null,"Presione solo si al completar Tabla 3  se lo indica el Cuadro de Resultado",{"$f":"F31","v":0}]

{"sheet":"TABLA 3T2P2","index":34,"n_rows":34,"n_cols":11,"rows_kept":34,"cut":false,"hidden":false,"merged":[]}
[]
[null,null,null,"LEVANTAMIENTO, DESCENSO Y TRANSPORTE DE CARGA - IDENTIFICACIÓN AVANZADA  CONDICIÓN ACEPTABLE  \n",null,null,null,null,null,"Cuadro de Resultado Tabla 3"]
[null,null,"Condición","Levantamiento/descenso y transporte manual de carga","Si / No / NA"]
[null,null,"Ambiente de Trabajo","La temperatura en donde se realiza la tarea es entre los 18° y 26° (grados Celsius).","NA",{"$f":"IF(E4=\"SI\",\"0\",IF(E4=\"NA\",\"0\",\"1\"))","v":"0"},null,null,null,"La Tarea:"]
[null,null,null,"El piso se encuentra en buenas condiciones (regular, seco y estable).","NA",{"$f":"IF(E5=\"SI\",\"0\",IF(E5=\"NA\",\"0\",\"1\"))","v":"0"},null,null,{"$f":"'TABLA 1 P1'!B8","v":"N° 2"},{"$f":"'TABLA 1 P2'!C8","v":"NA"}]
[null,null,null,"El espacio de trabajo permite el normal movimiento de los trabajadores (sin generar posturas incómodas) durante el levantamiento/descenso y/o transporte.","NA","0",null,null,null,"Resultado:"]
[null,null,"Característica de la Carga","El tamaño de la carga permite la visibilidad y movimientos normales del trabajador.","NA","0",null,null,{"$f":"F31","v":0},{"$f":"IF(F31>=1,\"No es Aceptable\",\"Aceptable\")","v":"Aceptable"}]
[null,null,null,"El centro de gravedad de la carga es estable.","NA","0",null,null,null,"Por lo que usted:"]
[null,null,null,"La carga permite su agarre sin riesgo de cortes, compresión o quemaduras.","NA","0",null,null,null,{"$f":"IF(J7=\"Aceptable\",\"Ha Terminado el Proceso de Identificación para esta Tarea\",\"Debe Aplicar Tabla 4\")","v":"Ha Terminado el Proceso de Identificación para esta Tarea"},{"$f":"F31","v":0}]
[null,null,"Horas de Trabajo\n","La tarea de levantamiento/descenso o transporte de carga dura menos de 8 hrs.","NA","0"]
[null,null,"3 a 5 Kgs","Se observa ausencia de asimetría (Ej: cuerpo rotado,torsión y/o inclinación de tronco).","NA","0",null,null,null,{"$f":"IF(J9=\"Ha Terminado el Proceso de Identificación para esta Tarea\",\"Si terminó de responder toda la Tabla 3 Presione Aquí para  regresar a Tabla 1 Información General del Puesto de Trabajo donde podrá continuar con la siguiente Tarea\",\"\")","v":"Si terminó de responder toda la Tabla 3 Presione Aquí para  regresar a Tabla 1 Información General del Puesto de Trabajo donde podrá continuar con la siguiente Tarea"},{"$f":"F31","v":0}]
[null,null,null,"La carga es mantenida cerca del cuerpo.","NA","0",null,null,null,null,{"$f":"F31","v":0}]
[null,null,null,"El desplazamiento vertical de la carga se realiza entrelas caderas y los hombros.","NA","0"]
[null,null,null,"Frecuencia máxima de MMC: el levantamiento/descenso es menor a 5 veces por minuto","NA","0",null,null,null,null,{"$f":"F31","v":0}]
[null,null,"5,1 a 10 Kgs","Se observa ausencia de asimetría (Ej: cuerpo rotado,torsión y/o inclinación de tronco).","NA","0"]
[null,null,null,"La carga es mantenida cerca del cuerpo.","NA","0"]
[null,null,null,"El desplazamiento vertical de la carga se realiza entre las caderas y los hombros.","NA","0",null,null,null,null,{"$f":"F31","v":0}]
[null,null,null,"Frecuencia máxima de MMC: el levantamiento/descenso es menor a 1 veces por minuto.","NA","0"]
[null,null,"+ de 10 Kgs","Ausencia de cargas mayores a 10 Kgs.","NA","0"]
[null,null,null,null,null,{"$f":"F4+F5+F6+F7+F8+F9+F10+F11+F12+F13+F14+F15+F16+F17+F18+F19","v":0},null,null,null,null,{"$f":"F31","v":0}]
[null,null,null,"Transporte Manual de Carga"]
[]
[null,null,null,null,null,null,null,null,null,null,{"$f":"F31","v":0}]
[]
[null,null,null,null,"Si / No / NA"]
[null,null,null,null,"NA",{"$f":"IF(E26=\"SI\",\"0\",IF(E26=\"NA\",\"0\",\"1\"))","v":"0"}]
[null,null,null,null,"NA",{"$f":"IF(E27=\"SI\",\"0\",IF(E27=\"NA\",\"0\",\"1\"))","v":"0"},null,null,null,null,{"$f":"F31","v":0}]
[null,null,null,null,"NA","0"]
[null,null,null,"Ausencia de posturas inadecuadas durante el transporte de carga.","NA","0"]
[null,null,null,null,null,{"$f":"F26+F27+F28+F29","v":0},null,null,null,null,{"$f":"F31","v":0}]
[null,null,null,null,null,{"$f":"(F20+F30)","v":0}]
[]
[]
[null,null,null,null,null,null,null,null,null,"Presione solo si al completar Tabla 3  se lo indica el Cuadro de Resultado",{"$f":"F31","v":0}]

{"sheet":"TABLA 3T2P3","index":35,"n_rows":34,"n_cols":11,"rows_kept":34,"cut":false,"hidden":false,"merged":[]}
[]
[null,null,null,"LEVANTAMIENTO, DESCENSO Y TRANSPORTE DE CARGA - IDENTIFICACIÓN AVANZADA  CONDICIÓN ACEPTABLE  \n",null,null,null,null,null,"Cuadro de Resultado Tabla 3"]
[null,null,"Condición","Levantamiento/descenso y transporte manual de carga","Si / No / NA"]
[null,null,"Ambiente de Trabajo","La temperatura en donde se realiza la tarea es entre los 18° y 26° (grados Celsius).","NA",{"$f":"IF(E4=\"SI\",\"0\",IF(E4=\"NA\",\"0\",\"1\"))","v":"0"},null,null,null,"La Tarea:"]
[null,null,null,"El piso se encuentra en buenas condiciones (regular, seco y estable).","NA",{"$f":"IF(E5=\"SI\",\"0\",IF(E5=\"NA\",\"0\",\"1\"))","v":"0"},null,null,{"$f":"'TABLA 1 P3'!B8","v":"N° 2"},{"$f":"'TABLA 1 P3'!C8","v":"NA"}]
[null,null,null,"El espacio de trabajo permite el normal movimiento de los trabajadores (sin generar posturas incómodas) durante el levantamiento/descenso y/o transporte.","NA","0",null,null,null,"Resultado:"]
[null,null,"Característica de la Carga","El tamaño de la carga permite la visibilidad y movimientos normales del trabajador.","NA","0",null,null,{"$f":"F31","v":0},{"$f":"IF(F31>=1,\"No es Aceptable\",\"Aceptable\")","v":"Aceptable"}]
[null,null,null,"El centro de gravedad de la carga es estable.","NA","0",null,null,null,"Por lo que usted:"]
[null,null,null,"La carga permite su agarre sin riesgo de cortes, compresión o quemaduras.","NA","0",null,null,null,{"$f":"IF(J7=\"Aceptable\",\"Ha Terminado el Proceso de Identificación para esta Tarea\",\"Debe Aplicar Tabla 4\")","v":"Ha Terminado el Proceso de Identificación para esta Tarea"},{"$f":"F31","v":0}]
[null,null,"Horas de Trabajo\n","La tarea de levantamiento/descenso o transporte de carga dura menos de 8 hrs.","NA","0"]
[null,null,"3 a 5 Kgs","Se observa ausencia de asimetría (Ej: cuerpo rotado,torsión y/o inclinación de tronco).","NA","0",null,null,null,{"$f":"IF(J9=\"Ha Terminado el Proceso de Identificación para esta Tarea\",\"Si terminó de responder toda la Tabla 3 Presione Aquí para  regresar a Tabla 1 Información General del Puesto de Trabajo donde podrá continuar con la siguiente Tarea\",\"\")","v":"Si terminó de responder toda la Tabla 3 Presione Aquí para  regresar a Tabla 1 Información General del Puesto de Trabajo donde podrá continuar con la siguiente Tarea"},{"$f":"F31","v":0}]
[null,null,null,"La carga es mantenida cerca del cuerpo.","NA","0",null,null,null,null,{"$f":"F31","v":0}]
[null,null,null,"El desplazamiento vertical de la carga se realiza entrelas caderas y los hombros.","NA","0"]
[null,null,null,"Frecuencia máxima de MMC: el levantamiento/descenso es menor a 5 veces por minuto","NA","0",null,null,null,null,{"$f":"F31","v":0}]
[null,null,"5,1 a 10 Kgs","Se observa ausencia de asimetría (Ej: cuerpo rotado,torsión y/o inclinación de tronco).","NA","0"]
[null,null,null,"La carga es mantenida cerca del cuerpo.","NA","0"]
[null,null,null,"El desplazamiento vertical de la carga se realiza entre las caderas y los hombros.","NA","0",null,null,null,null,{"$f":"F31","v":0}]
[null,null,null,"Frecuencia máxima de MMC: el levantamiento/descenso es menor a 1 veces por minuto.","NA","0"]
[null,null,"+ de 10 Kgs","Ausencia de cargas mayores a 10 Kgs.","NA","0"]
[null,null,null,null,null,{"$f":"F4+F5+F6+F7+F8+F9+F10+F11+F12+F13+F14+F15+F16+F17+F18+F19","v":0},null,null,null,null,{"$f":"F31","v":0}]
[null,null,null,"Transporte Manual de Carga"]
[]
[null,null,null,null,null,null,null,null,null,null,{"$f":"F31","v":0}]
[]
[null,null,null,null,"Si / No / NA"]
[null,null,null,null,"NA",{"$f":"IF(E26=\"SI\",\"0\",IF(E26=\"NA\",\"0\",\"1\"))","v":"0"}]
[null,null,null,null,"NA",{"$f":"IF(E27=\"SI\",\"0\",IF(E27=\"NA\",\"0\",\"1\"))","v":"0"},null,null,null,null,{"$f":"F31","v":0}]
[null,null,null,null,"NA","0"]
[null,null,null,"Ausencia de posturas inadecuadas durante el transporte de carga.","NA","0"]
[null,null,null,null,null,{"$f":"F26+F27+F28+F29","v":0},null,null,null,null,{"$f":"F31","v":0}]
[null,null,null,null,null,{"$f":"(F20+F30)","v":0}]
[]
[]
[null,null,null,null,null,null,null,null,null,"Presione solo si al completar Tabla 3  se lo indica el Cuadro de Resultado",{"$f":"F31","v":0}]

{"sheet":"TABLA 3T2P4","index":36,"n_rows":34,"n_cols":11,"rows_kept":34,"cut":false,"hidden":false,"merged":[]}
[]
[null,null,null,"LEVANTAMIENTO, DESCENSO Y TRANSPORTE DE CARGA - IDENTIFICACIÓN AVANZADA  CONDICIÓN ACEPTABLE  \n",null,null,null,null,null,"Cuadro de Resultado Tabla 3"]
[null,null,"Condición","Levantamiento/descenso y transporte manual de carga","Si / No / NA"]
[null,null,"Ambiente de Trabajo","La temperatura en donde se realiza la tarea es entre los 18° y 26° (grados Celsius).","NA",{"$f":"IF(E4=\"SI\",\"0\",IF(E4=\"NA\",\"0\",\"1\"))","v":"0"},null,null,null,"La Tarea:"]
[null,null,null,"El piso se encuentra en buenas condiciones (regular, seco y estable).","NA",{"$f":"IF(E5=\"SI\",\"0\",IF(E5=\"NA\",\"0\",\"1\"))","v":"0"},null,null,{"$f":"'TABLA 1 P4'!B8","v":"N° 2"},{"$f":"'TABLA 1 P4'!C8","v":"NA"}]
[null,null,null,"El espacio de trabajo permite el normal movimiento de los trabajadores (sin generar posturas incómodas) durante el levantamiento/descenso y/o transporte.","NA","0",null,null,null,"Resultado:"]
[null,null,"Característica de la Carga","El tamaño de la carga permite la visibilidad y movimientos normales del trabajador.","NA","0",null,null,{"$f":"F31","v":0},{"$f":"IF(F31>=1,\"No es Aceptable\",\"Aceptable\")","v":"Aceptable"}]
[null,null,null,"El centro de gravedad de la carga es estable.","NA","0",null,null,null,"Por lo que usted:"]
[null,null,null,"La carga permite su agarre sin riesgo de cortes, compresión o quemaduras.","NA","0",null,null,null,{"$f":"IF(J7=\"Aceptable\",\"Ha Terminado el Proceso de Identificación para esta Tarea\",\"Debe Aplicar Tabla 4\")","v":"Ha Terminado el Proceso de Identificación para esta Tarea"},{"$f":"F31","v":0}]
[null,null,"Horas de Trabajo\n","La tarea de levantamiento/descenso o transporte de carga dura menos de 8 hrs.","NA","0"]
[null,null,"3 a 5 Kgs","Se observa ausencia de asimetría (Ej: cuerpo rotado,torsión y/o inclinación de tronco).","NA","0",null,null,null,{"$f":"IF(J9=\"Ha Terminado el Proceso de Identificación para esta Tarea\",\"Si terminó de responder toda la Tabla 3 Presione Aquí para  regresar a Tabla 1 Información General del Puesto de Trabajo donde podrá continuar con la siguiente Tarea\",\"\")","v":"Si terminó de responder toda la Tabla 3 Presione Aquí para  regresar a Tabla 1 Información General del Puesto de Trabajo donde podrá continuar con la siguiente Tarea"},{"$f":"F31","v":0}]
[null,null,null,"La carga es mantenida cerca del cuerpo.","NA","0",null,null,null,null,{"$f":"F31","v":0}]
[null,null,null,"El desplazamiento vertical de la carga se realiza entrelas caderas y los hombros.","NA","0"]
[null,null,null,"Frecuencia máxima de MMC: el levantamiento/descenso es menor a 5 veces por minuto","NA","0",null,null,null,null,{"$f":"F31","v":0}]
[null,null,"5,1 a 10 Kgs","Se observa ausencia de asimetría (Ej: cuerpo rotado,torsión y/o inclinación de tronco).","NA","0"]
[null,null,null,"La carga es mantenida cerca del cuerpo.","NA","0"]
[null,null,null,"El desplazamiento vertical de la carga se realiza entre las caderas y los hombros.","NA","0",null,null,null,null,{"$f":"F31","v":0}]
[null,null,null,"Frecuencia máxima de MMC: el levantamiento/descenso es menor a 1 veces por minuto.","NA","0"]
[null,null,"+ de 10 Kgs","Ausencia de cargas mayores a 10 Kgs.","NA","0"]
[null,null,null,null,null,{"$f":"F4+F5+F6+F7+F8+F9+F10+F11+F12+F13+F14+F15+F16+F17+F18+F19","v":0},null,null,null,null,{"$f":"F31","v":0}]
[null,null,null,"Transporte Manual de Carga"]
[]
[null,null,null,null,null,null,null,null,null,null,{"$f":"F31","v":0}]
[]
[null,null,null,null,"Si / No / NA"]
[null,null,null,null,"NA",{"$f":"IF(E26=\"SI\",\"0\",IF(E26=\"NA\",\"0\",\"1\"))","v":"0"}]
[null,null,null,null,"NA",{"$f":"IF(E27=\"SI\",\"0\",IF(E27=\"NA\",\"0\",\"1\"))","v":"0"},null,null,null,null,{"$f":"F31","v":0}]
[null,null,null,null,"NA","0"]
[null,null,null,"Ausencia de posturas inadecuadas durante el transporte de carga.","NA","0"]
[null,null,null,null,null,{"$f":"F26+F27+F28+F29","v":0},null,null,null,null,{"$f":"F31","v":0}]
[null,null,null,null,null,{"$f":"(F20+F30)","v":0}]
[]
[]
[null,null,null,null,null,null,null,null,null,"Presione solo si al completar Tabla 3  se lo indica el Cuadro de Resultado",{"$f":"F31","v":0}]

{"sheet":"TABLA 3T2P5","index":37,"n_rows":34,"n_cols":11,"rows_kept":34,"cut":false,"hidden":false,"merged":[]}
[]
[null,null,null,"LEVANTAMIENTO, DESCENSO Y TRANSPORTE DE CARGA - IDENTIFICACIÓN AVANZADA  CONDICIÓN ACEPTABLE  \n",null,null,null,null,null,"Cuadro de Resultado Tabla 3"]
[null,null,"Condición","Levantamiento/descenso y transporte manual de carga","Si / No / NA"]
[null,null,"Ambiente de Trabajo","La temperatura en donde se realiza la tarea es entre los 18° y 26° (grados Celsius).","NA",{"$f":"IF(E4=\"SI\",\"0\",IF(E4=\"NA\",\"0\",\"1\"))","v":"0"},null,null,null,"La Tarea:"]
[null,null,null,"El piso se encuentra en buenas condiciones (regular, seco y estable).","NA",{"$f":"IF(E5=\"SI\",\"0\",IF(E5=\"NA\",\"0\",\"1\"))","v":"0"},null,null,{"$f":"'TABLA 1 P5'!B8","v":"N° 2"},{"$f":"'TABLA 1 P5'!C8","v":"NA"}]
[null,null,null,"El espacio de trabajo permite el normal movimiento de los trabajadores (sin generar posturas incómodas) durante el levantamiento/descenso y/o transporte.","NA","0",null,null,null,"Resultado:"]
[null,null,"Característica de la Carga","El tamaño de la carga permite la visibilidad y movimientos normales del trabajador.","NA","0",null,null,{"$f":"F31","v":0},{"$f":"IF(F31>=1,\"No es Aceptable\",\"Aceptable\")","v":"Aceptable"}]
[null,null,null,"El centro de gravedad de la carga es estable.","NA","0",null,null,null,"Por lo que usted:"]
[null,null,null,"La carga permite su agarre sin riesgo de cortes, compresión o quemaduras.","NA","0",null,null,null,{"$f":"IF(J7=\"Aceptable\",\"Ha Terminado el Proceso de Identificación para esta Tarea\",\"Debe Aplicar Tabla 4\")","v":"Ha Terminado el Proceso de Identificación para esta Tarea"},{"$f":"F31","v":0}]
[null,null,"Horas de Trabajo\n","La tarea de levantamiento/descenso o transporte de carga dura menos de 8 hrs.","NA","0"]
[null,null,"3 a 5 Kgs","Se observa ausencia de asimetría (Ej: cuerpo rotado,torsión y/o inclinación de tronco).","NA","0",null,null,null,{"$f":"IF(J9=\"Ha Terminado el Proceso de Identificación para esta Tarea\",\"Si terminó de responder toda la Tabla 3 Presione Aquí para  regresar a Tabla 1 Información General del Puesto de Trabajo donde podrá continuar con la siguiente Tarea\",\"\")","v":"Si terminó de responder toda la Tabla 3 Presione Aquí para  regresar a Tabla 1 Información General del Puesto de Trabajo donde podrá continuar con la siguiente Tarea"},{"$f":"F31","v":0}]
[null,null,null,"La carga es mantenida cerca del cuerpo.","NA","0",null,null,null,null,{"$f":"F31","v":0}]
[null,null,null,"El desplazamiento vertical de la carga se realiza entrelas caderas y los hombros.","NA","0"]
[null,null,null,"Frecuencia máxima de MMC: el levantamiento/descenso es menor a 5 veces por minuto","NA","0",null,null,null,null,{"$f":"F31","v":0}]
[null,null,"5,1 a 10 Kgs","Se observa ausencia de asimetría (Ej: cuerpo rotado,torsión y/o inclinación de tronco).","NA","0"]
[null,null,null,"La carga es mantenida cerca del cuerpo.","NA","0"]
[null,null,null,"El desplazamiento vertical de la carga se realiza entre las caderas y los hombros.","NA","0",null,null,null,null,{"$f":"F31","v":0}]
[null,null,null,"Frecuencia máxima de MMC: el levantamiento/descenso es menor a 1 veces por minuto.","NA","0"]
[null,null,"+ de 10 Kgs","Ausencia de cargas mayores a 10 Kgs.","NA","0"]
[null,null,null,null,null,{"$f":"F4+F5+F6+F7+F8+F9+F10+F11+F12+F13+F14+F15+F16+F17+F18+F19","v":0},null,null,null,null,{"$f":"F31","v":0}]
[null,null,null,"Transporte Manual de Carga"]
[]
[null,null,null,null,null,null,null,null,null,null,{"$f":"F31","v":0}]
[]
[null,null,null,null,"Si / No / NA"]
[null,null,null,null,"NA",{"$f":"IF(E26=\"SI\",\"0\",IF(E26=\"NA\",\"0\",\"1\"))","v":"0"}]
[null,null,null,null,"NA",{"$f":"IF(E27=\"SI\",\"0\",IF(E27=\"NA\",\"0\",\"1\"))","v":"0"},null,null,null,null,{"$f":"F31","v":0}]
[null,null,null,null,"NA","0"]
[null,null,null,"Ausencia de posturas inadecuadas durante el transporte de carga.","NA","0"]
[null,null,null,null,null,{"$f":"F26+F27+F28+F29","v":0},null,null,null,null,{"$f":"F31","v":0}]
[null,null,null,null,null,{"$f":"(F20+F30)","v":0}]
[]
[]
[null,null,null,null,null,null,null,null,null,"Presione solo si al completar Tabla 3  se lo indica el Cuadro de Resultado",{"$f":"F31","v":0}]

{"sheet":"TABLA 3T2P6","index":38,"n_rows":34,"n_cols":11,"rows_kept":34,"cut":false,"hidden":false,"merged":[]}
[]
[null,null,null,"LEVANTAMIENTO, DESCENSO Y TRANSPORTE DE CARGA - IDENTIFICACIÓN AVANZADA  CONDICIÓN ACEPTABLE  \n",null,null,null,null,null,"Cuadro de Resultado Tabla 3"]
[null,null,"Condición","Levantamiento/descenso y transporte manual de carga","Si / No / NA"]
[null,null,"Ambiente de Trabajo","La temperatura en donde se realiza la tarea es entre los 18° y 26° (grados Celsius).","NA",{"$f":"IF(E4=\"SI\",\"0\",IF(E4=\"NA\",\"0\",\"1\"))","v":"0"},null,null,null,"La Tarea:"]
[null,null,null,"El piso se encuentra en buenas condiciones (regular, seco y estable).","NA",{"$f":"IF(E5=\"SI\",\"0\",IF(E5=\"NA\",\"0\",\"1\"))","v":"0"},null,null,{"$f":"'TABLA 1 P6'!B8","v":"N° 2"},{"$f":"'TABLA 1 P6'!C8","v":"NA"}]
[null,null,null,"El espacio de trabajo permite el normal movimiento de los trabajadores (sin generar posturas incómodas) durante el levantamiento/descenso y/o transporte.","NA","0",null,null,null,"Resultado:"]
[null,null,"Característica de la Carga","El tamaño de la carga permite la visibilidad y movimientos normales del trabajador.","NA","0",null,null,{"$f":"F31","v":0},{"$f":"IF(F31>=1,\"No es Aceptable\",\"Aceptable\")","v":"Aceptable"}]
[null,null,null,"El centro de gravedad de la carga es estable.","NA","0",null,null,null,"Por lo que usted:"]
[null,null,null,"La carga permite su agarre sin riesgo de cortes, compresión o quemaduras.","NA","0",null,null,null,{"$f":"IF(J7=\"Aceptable\",\"Ha Terminado el Proceso de Identificación para esta Tarea\",\"Debe Aplicar Tabla 4\")","v":"Ha Terminado el Proceso de Identificación para esta Tarea"},{"$f":"F31","v":0}]
[null,null,"Horas de Trabajo\n","La tarea de levantamiento/descenso o transporte de carga dura menos de 8 hrs.","NA","0"]
[null,null,"3 a 5 Kgs","Se observa ausencia de asimetría (Ej: cuerpo rotado,torsión y/o inclinación de tronco).","NA","0",null,null,null,{"$f":"IF(J9=\"Ha Terminado el Proceso de Identificación para esta Tarea\",\"Si terminó de responder toda la Tabla 3 Presione Aquí para  regresar a Tabla 1 Información General del Puesto de Trabajo donde podrá continuar con la siguiente Tarea\",\"\")","v":"Si terminó de responder toda la Tabla 3 Presione Aquí para  regresar a Tabla 1 Información General del Puesto de Trabajo donde podrá continuar con la siguiente Tarea"},{"$f":"F31","v":0}]
[null,null,null,"La carga es mantenida cerca del cuerpo.","NA","0",null,null,null,null,{"$f":"F31","v":0}]
[null,null,null,"El desplazamiento vertical de la carga se realiza entrelas caderas y los hombros.","NA","0"]
[null,null,null,"Frecuencia máxima de MMC: el levantamiento/descenso es menor a 5 veces por minuto","NA","0",null,null,null,null,{"$f":"F31","v":0}]
[null,null,"5,1 a 10 Kgs","Se observa ausencia de asimetría (Ej: cuerpo rotado,torsión y/o inclinación de tronco).","NA","0"]
[null,null,null,"La carga es mantenida cerca del cuerpo.","NA","0"]
[null,null,null,"El desplazamiento vertical de la carga se realiza entre las caderas y los hombros.","NA","0",null,null,null,null,{"$f":"F31","v":0}]
[null,null,null,"Frecuencia máxima de MMC: el levantamiento/descenso es menor a 1 veces por minuto.","NA","0"]
[null,null,"+ de 10 Kgs","Ausencia de cargas mayores a 10 Kgs.","NA","0"]
[null,null,null,null,null,{"$f":"F4+F5+F6+F7+F8+F9+F10+F11+F12+F13+F14+F15+F16+F17+F18+F19","v":0},null,null,null,null,{"$f":"F31","v":0}]
[null,null,null,"Transporte Manual de Carga"]
[]
[null,null,null,null,null,null,null,null,null,null,{"$f":"F31","v":0}]
[]
[null,null,null,null,"Si / No / NA"]
[null,null,null,null,"NA",{"$f":"IF(E26=\"SI\",\"0\",IF(E26=\"NA\",\"0\",\"1\"))","v":"0"}]
[null,null,null,null,"NA",{"$f":"IF(E27=\"SI\",\"0\",IF(E27=\"NA\",\"0\",\"1\"))","v":"0"},null,null,null,null,{"$f":"F31","v":0}]
[null,null,null,null,"NA","0"]
[null,null,null,"Ausencia de posturas inadecuadas durante el transporte de carga.","NA","0"]
[null,null,null,null,null,{"$f":"F26+F27+F28+F29","v":0},null,null,null,null,{"$f":"F31","v":0}]
[null,null,null,null,null,{"$f":"(F20+F30)","v":0}]
[]
[]
[null,null,null,null,null,null,null,null,null,"Presione solo si al completar Tabla 3  se lo indica el Cuadro de Resultado",{"$f":"F31","v":0}]

{"sheet":"TABLA 3T2P7","index":39,"n_rows":34,"n_cols":11,"rows_kept":34,"cut":false,"hidden":false,"merged":[]}
[]
[null,null,null,"LEVANTAMIENTO, DESCENSO Y TRANSPORTE DE CARGA - IDENTIFICACIÓN AVANZADA  CONDICIÓN ACEPTABLE  \n",null,null,null,null,null,"Cuadro de Resultado Tabla 3"]
[null,null,"Condición","Levantamiento/descenso y transporte manual de carga","Si / No / NA"]
[null,null,"Ambiente de Trabajo","La temperatura en donde se realiza la tarea es entre los 18° y 26° (grados Celsius).","NA",{"$f":"IF(E4=\"SI\",\"0\",IF(E4=\"NA\",\"0\",\"1\"))","v":"0"},null,null,null,"La Tarea:"]
[null,null,null,"El piso se encuentra en buenas condiciones (regular, seco y estable).","NA",{"$f":"IF(E5=\"SI\",\"0\",IF(E5=\"NA\",\"0\",\"1\"))","v":"0"},null,null,{"$f":"'TABLA 1 P7'!B8","v":"N° 2"},{"$f":"'TABLA 1 P7'!C8","v":"NA"}]
[null,null,null,"El espacio de trabajo permite el normal movimiento de los trabajadores (sin generar posturas incómodas) durante el levantamiento/descenso y/o transporte.","NA","0",null,null,null,"Resultado:"]
[null,null,"Característica de la Carga","El tamaño de la carga permite la visibilidad y movimientos normales del trabajador.","NA","0",null,null,{"$f":"F31","v":0},{"$f":"IF(F31>=1,\"No es Aceptable\",\"Aceptable\")","v":"Aceptable"}]
[null,null,null,"El centro de gravedad de la carga es estable.","NA","0",null,null,null,"Por lo que usted:"]
[null,null,null,"La carga permite su agarre sin riesgo de cortes, compresión o quemaduras.","NA","0",null,null,null,{"$f":"IF(J7=\"Aceptable\",\"Ha Terminado el Proceso de Identificación para esta Tarea\",\"Debe Aplicar Tabla 4\")","v":"Ha Terminado el Proceso de Identificación para esta Tarea"},{"$f":"F31","v":0}]
[null,null,"Horas de Trabajo\n","La tarea de levantamiento/descenso o transporte de carga dura menos de 8 hrs.","NA","0"]
[null,null,"3 a 5 Kgs","Se observa ausencia de asimetría (Ej: cuerpo rotado,torsión y/o inclinación de tronco).","NA","0",null,null,null,{"$f":"IF(J9=\"Ha Terminado el Proceso de Identificación para esta Tarea\",\"Si terminó de responder toda la Tabla 3 Presione Aquí para  regresar a Tabla 1 Información General del Puesto de Trabajo donde podrá continuar con la siguiente Tarea\",\"\")","v":"Si terminó de responder toda la Tabla 3 Presione Aquí para  regresar a Tabla 1 Información General del Puesto de Trabajo donde podrá continuar con la siguiente Tarea"},{"$f":"F31","v":0}]
[null,null,null,"La carga es mantenida cerca del cuerpo.","NA","0",null,null,null,null,{"$f":"F31","v":0}]
[null,null,null,"El desplazamiento vertical de la carga se realiza entrelas caderas y los hombros.","NA","0"]
[null,null,null,"Frecuencia máxima de MMC: el levantamiento/descenso es menor a 5 veces por minuto","NA","0",null,null,null,null,{"$f":"F31","v":0}]
[null,null,"5,1 a 10 Kgs","Se observa ausencia de asimetría (Ej: cuerpo rotado,torsión y/o inclinación de tronco).","NA","0"]
[null,null,null,"La carga es mantenida cerca del cuerpo.","NA","0"]
[null,null,null,"El desplazamiento vertical de la carga se realiza entre las caderas y los hombros.","NA","0",null,null,null,null,{"$f":"F31","v":0}]
[null,null,null,"Frecuencia máxima de MMC: el levantamiento/descenso es menor a 1 veces por minuto.","NA","0"]
[null,null,"+ de 10 Kgs","Ausencia de cargas mayores a 10 Kgs.","NA","0"]
[null,null,null,null,null,{"$f":"F4+F5+F6+F7+F8+F9+F10+F11+F12+F13+F14+F15+F16+F17+F18+F19","v":0},null,null,null,null,{"$f":"F31","v":0}]
[null,null,null,"Transporte Manual de Carga"]
[]
[null,null,null,null,null,null,null,null,null,null,{"$f":"F31","v":0}]
[]
[null,null,null,null,"Si / No / NA"]
[null,null,null,null,"NA",{"$f":"IF(E26=\"SI\",\"0\",IF(E26=\"NA\",\"0\",\"1\"))","v":"0"}]
[null,null,null,null,"NA",{"$f":"IF(E27=\"SI\",\"0\",IF(E27=\"NA\",\"0\",\"1\"))","v":"0"},null,null,null,null,{"$f":"F31","v":0}]
[null,null,null,null,"NA","0"]
[null,null,null,"Ausencia de posturas inadecuadas durante el transporte de carga.","NA","0"]
[null,null,null,null,null,{"$f":"F26+F27+F28+F29","v":0},null,null,null,null,{"$f":"F31","v":0}]
[null,null,null,null,null,{"$f":"(F20+F30)","v":0}]
[]
[]
[null,null,null,null,null,null,null,null,null,"Presione solo si al completar Tabla 3  se lo indica el Cuadro de Resultado",{"$f":"F31","v":0}]

{"sheet":"TABLA 3T2P8","index":40,"n_rows":34,"n_cols":11,"rows_kept":34,"cut":false,"hidden":false,"merged":[]}
[]
[null,null,null,"LEVANTAMIENTO, DESCENSO Y TRANSPORTE DE CARGA - IDENTIFICACIÓN AVANZADA  CONDICIÓN ACEPTABLE  \n",null,null,null,null,null,"Cuadro de Resultado Tabla 3"]
[null,null,"Condición","Levantamiento/descenso y transporte manual de carga","Si / No / NA"]
[null,null,"Ambiente de Trabajo","La temperatura en donde se realiza la tarea es entre los 18° y 26° (grados Celsius).","NA",{"$f":"IF(E4=\"SI\",\"0\",IF(E4=\"NA\",\"0\",\"1\"))","v":"0"},null,null,null,"La Tarea:"]
[null,null,null,"El piso se encuentra en buenas condiciones (regular, seco y estable).","NA",{"$f":"IF(E5=\"SI\",\"0\",IF(E5=\"NA\",\"0\",\"1\"))","v":"0"},null,null,{"$f":"'TABLA 1 P8'!B8","v":"N° 2"},{"$f":"'TABLA 1 P8'!C8","v":"NA"}]
[null,null,null,"El espacio de trabajo permite el normal movimiento de los trabajadores (sin generar posturas incómodas) durante el levantamiento/descenso y/o transporte.","NA","0",null,null,null,"Resultado:"]
[null,null,"Característica de la Carga","El tamaño de la carga permite la visibilidad y movimientos normales del trabajador.","NA","0",null,null,{"$f":"F31","v":0},{"$f":"IF(F31>=1,\"No es Aceptable\",\"Aceptable\")","v":"Aceptable"}]
[null,null,null,"El centro de gravedad de la carga es estable.","NA","0",null,null,null,"Por lo que usted:"]
[null,null,null,"La carga permite su agarre sin riesgo de cortes, compresión o quemaduras.","NA","0",null,null,null,{"$f":"IF(J7=\"Aceptable\",\"Ha Terminado el Proceso de Identificación para esta Tarea\",\"Debe Aplicar Tabla 4\")","v":"Ha Terminado el Proceso de Identificación para esta Tarea"},{"$f":"F31","v":0}]
[null,null,"Horas de Trabajo\n","La tarea de levantamiento/descenso o transporte de carga dura menos de 8 hrs.","NA","0"]
[null,null,"3 a 5 Kgs","Se observa ausencia de asimetría (Ej: cuerpo rotado,torsión y/o inclinación de tronco).","NA","0",null,null,null,{"$f":"IF(J9=\"Ha Terminado el Proceso de Identificación para esta Tarea\",\"Si terminó de responder toda la Tabla 3 Presione Aquí para  regresar a Tabla 1 Información General del Puesto de Trabajo donde podrá continuar con la siguiente Tarea\",\"\")","v":"Si terminó de responder toda la Tabla 3 Presione Aquí para  regresar a Tabla 1 Información General del Puesto de Trabajo donde podrá continuar con la siguiente Tarea"},{"$f":"F31","v":0}]
[null,null,null,"La carga es mantenida cerca del cuerpo.","NA","0",null,null,null,null,{"$f":"F31","v":0}]
[null,null,null,"El desplazamiento vertical de la carga se realiza entrelas caderas y los hombros.","NA","0"]
[null,null,null,"Frecuencia máxima de MMC: el levantamiento/descenso es menor a 5 veces por minuto","NA","0",null,null,null,null,{"$f":"F31","v":0}]
[null,null,"5,1 a 10 Kgs","Se observa ausencia de asimetría (Ej: cuerpo rotado,torsión y/o inclinación de tronco).","NA","0"]
[null,null,null,"La carga es mantenida cerca del cuerpo.","NA","0"]
[null,null,null,"El desplazamiento vertical de la carga se realiza entre las caderas y los hombros.","NA","0",null,null,null,null,{"$f":"F31","v":0}]
[null,null,null,"Frecuencia máxima de MMC: el levantamiento/descenso es menor a 1 veces por minuto.","NA","0"]
[null,null,"+ de 10 Kgs","Ausencia de cargas mayores a 10 Kgs.","NA","0"]
[null,null,null,null,null,{"$f":"F4+F5+F6+F7+F8+F9+F10+F11+F12+F13+F14+F15+F16+F17+F18+F19","v":0},null,null,null,null,{"$f":"F31","v":0}]
[null,null,null,"Transporte Manual de Carga"]
[]
[null,null,null,null,null,null,null,null,null,null,{"$f":"F31","v":0}]
[]
[null,null,null,null,"Si / No / NA"]
[null,null,null,null,"NA",{"$f":"IF(E26=\"SI\",\"0\",IF(E26=\"NA\",\"0\",\"1\"))","v":"0"}]
[null,null,null,null,"NA",{"$f":"IF(E27=\"SI\",\"0\",IF(E27=\"NA\",\"0\",\"1\"))","v":"0"},null,null,null,null,{"$f":"F31","v":0}]
[null,null,null,null,"NA","0"]
[null,null,null,"Ausencia de posturas inadecuadas durante el transporte de carga.","NA","0"]
[null,null,null,null,null,{"$f":"F26+F27+F28+F29","v":0},null,null,null,null,{"$f":"F31","v":0}]
[null,null,null,null,null,{"$f":"(F20+F30)","v":0}]
[]
[]
[null,null,null,null,null,null,null,null,null,"Presione solo si al completar Tabla 3  se lo indica el Cuadro de Resultado",{"$f":"F31","v":0}]

{"sheet":"TABLA 3T2P9","index":41,"n_rows":34,"n_cols":11,"rows_kept":34,"cut":false,"hidden":false,"merged":[]}
[]
[null,null,null,"LEVANTAMIENTO, DESCENSO Y TRANSPORTE DE CARGA - IDENTIFICACIÓN AVANZADA  CONDICIÓN ACEPTABLE  \n",null,null,null,null,null,"Cuadro de Resultado Tabla 3"]
[null,null,"Condición","Levantamiento/descenso y transporte manual de carga","Si / No / NA"]
[null,null,"Ambiente de Trabajo","La temperatura en donde se realiza la tarea es entre los 18° y 26° (grados Celsius).","NA",{"$f":"IF(E4=\"SI\",\"0\",IF(E4=\"NA\",\"0\",\"1\"))","v":"0"},null,null,null,"La Tarea:"]
[null,null,null,"El piso se encuentra en buenas condiciones (regular, seco y estable).","NA",{"$f":"IF(E5=\"SI\",\"0\",IF(E5=\"NA\",\"0\",\"1\"))","v":"0"},null,null,{"$f":"'TABLA 1 P9'!B8","v":"N° 2"},{"$f":"'TABLA 1 P9'!C8","v":"NA"}]
[null,null,null,"El espacio de trabajo permite el normal movimiento de los trabajadores (sin generar posturas incómodas) durante el levantamiento/descenso y/o transporte.","NA","0",null,null,null,"Resultado:"]
[null,null,"Característica de la Carga","El tamaño de la carga permite la visibilidad y movimientos normales del trabajador.","NA","0",null,null,{"$f":"F31","v":0},{"$f":"IF(F31>=1,\"No es Aceptable\",\"Aceptable\")","v":"Aceptable"}]
[null,null,null,"El centro de gravedad de la carga es estable.","NA","0",null,null,null,"Por lo que usted:"]
[null,null,null,"La carga permite su agarre sin riesgo de cortes, compresión o quemaduras.","NA","0",null,null,null,{"$f":"IF(J7=\"Aceptable\",\"Ha Terminado el Proceso de Identificación para esta Tarea\",\"Debe Aplicar Tabla 4\")","v":"Ha Terminado el Proceso de Identificación para esta Tarea"},{"$f":"F31","v":0}]
[null,null,"Horas de Trabajo\n","La tarea de levantamiento/descenso o transporte de carga dura menos de 8 hrs.","NA","0"]
[null,null,"3 a 5 Kgs","Se observa ausencia de asimetría (Ej: cuerpo rotado,torsión y/o inclinación de tronco).","NA","0",null,null,null,{"$f":"IF(J9=\"Ha Terminado el Proceso de Identificación para esta Tarea\",\"Si terminó de responder toda la Tabla 3 Presione Aquí para  regresar a Tabla 1 Información General del Puesto de Trabajo donde podrá continuar con la siguiente Tarea\",\"\")","v":"Si terminó de responder toda la Tabla 3 Presione Aquí para  regresar a Tabla 1 Información General del Puesto de Trabajo donde podrá continuar con la siguiente Tarea"},{"$f":"F31","v":0}]
[null,null,null,"La carga es mantenida cerca del cuerpo.","NA","0",null,null,null,null,{"$f":"F31","v":0}]
[null,null,null,"El desplazamiento vertical de la carga se realiza entrelas caderas y los hombros.","NA","0"]
[null,null,null,"Frecuencia máxima de MMC: el levantamiento/descenso es menor a 5 veces por minuto","NA","0",null,null,null,null,{"$f":"F31","v":0}]
[null,null,"5,1 a 10 Kgs","Se observa ausencia de asimetría (Ej: cuerpo rotado,torsión y/o inclinación de tronco).","NA","0"]
[null,null,null,"La carga es mantenida cerca del cuerpo.","NA","0"]
[null,null,null,"El desplazamiento vertical de la carga se realiza entre las caderas y los hombros.","NA","0",null,null,null,null,{"$f":"F31","v":0}]
[null,null,null,"Frecuencia máxima de MMC: el levantamiento/descenso es menor a 1 veces por minuto.","NA","0"]
[null,null,"+ de 10 Kgs","Ausencia de cargas mayores a 10 Kgs.","NA","0"]
[null,null,null,null,null,{"$f":"F4+F5+F6+F7+F8+F9+F10+F11+F12+F13+F14+F15+F16+F17+F18+F19","v":0},null,null,null,null,{"$f":"F31","v":0}]
[null,null,null,"Transporte Manual de Carga"]
[]
[null,null,null,null,null,null,null,null,null,null,{"$f":"F31","v":0}]
[]
[null,null,null,null,"Si / No / NA"]
[null,null,null,null,"NA",{"$f":"IF(E26=\"SI\",\"0\",IF(E26=\"NA\",\"0\",\"1\"))","v":"0"}]
[null,null,null,null,"NA",{"$f":"IF(E27=\"SI\",\"0\",IF(E27=\"NA\",\"0\",\"1\"))","v":"0"},null,null,null,null,{"$f":"F31","v":0}]
[null,null,null,null,"NA","0"]
[null,null,null,"Ausencia de posturas inadecuadas durante el transporte de carga.","NA","0"]
[null,null,null,null,null,{"$f":"F26+F27+F28+F29","v":0},null,null,null,null,{"$f":"F31","v":0}]
[null,null,null,null,null,{"$f":"(F20+F30)","v":0}]
[]
[]
[null,null,null,null,null,null,null,null,null,"Presione solo si al completar Tabla 3  se lo indica el Cuadro de Resultado",{"$f":"F31","v":0}]

{"sheet":"TABLA 3T2P10","index":42,"n_rows":34,"n_cols":11,"rows_kept":34,"cut":false,"hidden":false,"merged":[]}
[]
[null,null,null,"LEVANTAMIENTO, DESCENSO Y TRANSPORTE DE CARGA - IDENTIFICACIÓN AVANZADA  CONDICIÓN ACEPTABLE  \n",null,null,null,null,null,"Cuadro de Resultado Tabla 3"]
[null,null,"Condición","Levantamiento/descenso y transporte manual de carga","Si / No / NA"]
[null,null,"Ambiente de Trabajo","La temperatura en donde se realiza la tarea es entre los 18° y 26° (grados Celsius).","NA",{"$f":"IF(E4=\"SI\",\"0\",IF(E4=\"NA\",\"0\",\"1\"))","v":"0"},null,null,null,"La Tarea:"]
[null,null,null,"El piso se encuentra en buenas condiciones (regular, seco y estable).","NA",{"$f":"IF(E5=\"SI\",\"0\",IF(E5=\"NA\",\"0\",\"1\"))","v":"0"},null,null,{"$f":"'TABLA 1 P10'!B8","v":"N° 2"},{"$f":"'TABLA 1 P10'!C8","v":"NA"}]
[null,null,null,"El espacio de trabajo permite el normal movimiento de los trabajadores (sin generar posturas incómodas) durante el levantamiento/descenso y/o transporte.","NA","0",null,null,null,"Resultado:"]
[null,null,"Característica de la Carga","El tamaño de la carga permite la visibilidad y movimientos normales del trabajador.","NA","0",null,null,{"$f":"F31","v":0},{"$f":"IF(F31>=1,\"No es Aceptable\",\"Aceptable\")","v":"Aceptable"}]
[null,null,null,"El centro de gravedad de la carga es estable.","NA","0",null,null,null,"Por lo que usted:"]
[null,null,null,"La carga permite su agarre sin riesgo de cortes, compresión o quemaduras.","NA","0",null,null,null,{"$f":"IF(J7=\"Aceptable\",\"Ha Terminado el Proceso de Identificación para esta Tarea\",\"Debe Aplicar Tabla 4\")","v":"Ha Terminado el Proceso de Identificación para esta Tarea"},{"$f":"F31","v":0}]
[null,null,"Horas de Trabajo\n","La tarea de levantamiento/descenso o transporte de carga dura menos de 8 hrs.","NA","0"]
[null,null,"3 a 5 Kgs","Se observa ausencia de asimetría (Ej: cuerpo rotado,torsión y/o inclinación de tronco).","NA","0",null,null,null,{"$f":"IF(J9=\"Ha Terminado el Proceso de Identificación para esta Tarea\",\"Si terminó de responder toda la Tabla 3 Presione Aquí para  regresar a Tabla 1 Información General del Puesto de Trabajo donde podrá continuar con la siguiente Tarea\",\"\")","v":"Si terminó de responder toda la Tabla 3 Presione Aquí para  regresar a Tabla 1 Información General del Puesto de Trabajo donde podrá continuar con la siguiente Tarea"},{"$f":"F31","v":0}]
[null,null,null,"La carga es mantenida cerca del cuerpo.","NA","0",null,null,null,null,{"$f":"F31","v":0}]
[null,null,null,"El desplazamiento vertical de la carga se realiza entrelas caderas y los hombros.","NA","0"]
[null,null,null,"Frecuencia máxima de MMC: el levantamiento/descenso es menor a 5 veces por minuto","NA","0",null,null,null,null,{"$f":"F31","v":0}]
[null,null,"5,1 a 10 Kgs","Se observa ausencia de asimetría (Ej: cuerpo rotado,torsión y/o inclinación de tronco).","NA","0"]
[null,null,null,"La carga es mantenida cerca del cuerpo.","NA","0"]
[null,null,null,"El desplazamiento vertical de la carga se realiza entre las caderas y los hombros.","NA","0",null,null,null,null,{"$f":"F31","v":0}]
[null,null,null,"Frecuencia máxima de MMC: el levantamiento/descenso es menor a 1 veces por minuto.","NA","0"]
[null,null,"+ de 10 Kgs","Ausencia de cargas mayores a 10 Kgs.","NA","0"]
[null,null,null,null,null,{"$f":"F4+F5+F6+F7+F8+F9+F10+F11+F12+F13+F14+F15+F16+F17+F18+F19","v":0},null,null,null,null,{"$f":"F31","v":0}]
[null,null,null,"Transporte Manual de Carga"]
[]
[null,null,null,null,null,null,null,null,null,null,{"$f":"F31","v":0}]
[]
[null,null,null,null,"Si / No / NA"]
[null,null,null,null,"NA",{"$f":"IF(E26=\"SI\",\"0\",IF(E26=\"NA\",\"0\",\"1\"))","v":"0"}]
[null,null,null,null,"NA",{"$f":"IF(E27=\"SI\",\"0\",IF(E27=\"NA\",\"0\",\"1\"))","v":"0"},null,null,null,null,{"$f":"F31","v":0}]
[null,null,null,null,"NA","0"]
[null,null,null,"Ausencia de posturas inadecuadas durante el transporte de carga.","NA","0"]
[null,null,null,null,null,{"$f":"F26+F27+F28+F29","v":0},null,null,null,null,{"$f":"F31","v":0}]
[null,null,null,null,null,{"$f":"(F20+F30)","v":0}]
[]
[]
[null,null,null,null,null,null,null,null,null,"Presione solo si al completar Tabla 3  se lo indica el Cuadro de Resultado",{"$f":"F31","v":0}]

{"sheet":"TABLA 4T2P1","index":43,"n_rows":31,"n_cols":10,"rows_kept":31,"cut":false,"hidden":false,"merged":[]}
[]
[null,null,null,"LEVANTAMIENTO, DESCENSO Y TRANSPORTE DE CARGA - IDENTIFICACIÓN AVANZADA CONDICIÓN CRÍTICA  ",null,null,null,null,null,"Cuadro de Resultado Tabla 4"]
[null,null,"Condición","Levantamiento/descenso y transporte manual de carga","Si / No / NA"]
[null,null,"Ambiente de Trabajo","Presencia de temperatura extrema (bajo 16° o superior a los 26° grados Celsius) y sin ropa que proteja de las temperaturas extremas.","NA",{"$f":"IF(E4=\"No\",\"0\",IF(E4=\"NA\",\"0\",\"1\"))","v":"0"},null,null,null,"La Tarea:"]
[null,null,null,"Presencia de suelo resbaladizo, irregular o inestable.","NA",{"$f":"IF(E5=\"No\",\"0\",IF(E5=\"NA\",\"0\",\"1\"))","v":"0"},null,null,{"$f":"'TABLA 1 P1'!B8","v":"N° 2"},{"$f":"'TABLA 1 P1'!C8","v":"NA"}]
[null,null,null,"Presencia de espacio insuficiente para el levantamiento/descenso y transporte de carga que genera posturas incomodas o restricción en el movimiento.","NA","0",null,null,null,"Resultado:"]
[null,null,"Característica de la Carga","El tamaño de la carga reduce la visión del trabajador y/o dificulta su movimiento.","NA","0",null,null,{"$f":"F31","v":0},{"$f":"IF(F31>=1,\"Crítica\",\"No Crítica\")","v":"No Crítica"}]
[null,null,null,"El centro de gravedad de la carga no es estable (ej.: líquidos, elementos que se mueven dentro de la carga).","NA","0",null,null,null,"Por lo que usted:"]
[null,null,null,"La forma/configuración de la carga presenta bordes,\nsuperficies o protuberancias afiladas.","NA","0",null,null,null,{"$f":"IF(J7=\"No Crítica\",\"Ha terminado el Proceso de Identificación para esta Tarea y deberá iniciar el proceso de Evaluación Cuantitativa del riesgo\",\"Ha terminado el Proceso de Identificación para esta Tarea y deberá aplicar medidas para reducir el riesgo\")","v":"Ha terminado el Proceso de Identificación para esta Tarea y deberá iniciar el proceso de Evaluación Cuantitativa del riesgo"}]
[null,null,null,"Las superficies de contacto son demasiado frías o demasiado calientes.","NA","0"]
[null,null,"Horas de Trabajo","La tarea de levantamiento/descenso o transporte de\ncarga dura más de 8 hrs.","NA","0"]
[null,null,null,"Condición crítica: presencia de tarea de Levantamiento/descenso y transporte de carga con condiciones de diseño y frecuencia que exceden los valores máximos sugeridos ",null,{"$f":"F4+F5+F6+F7+F8+F9+F10+F11","v":0},null,null,null,"Si terminó de responder toda la Tabla 4 Presione Aquí para  regresar a Tabla 1 Información General del Puesto de Trabajo donde podrá continuar con la siguiente Tarea"]
[null,null,null,null,"Si / No / NA"]
[null,null,"Posición Vertical","La ubicación de las manos al inicio o final del levantamiento/descenso\nde una carga es superior a 155 cm o inferior a 20 cm°.","NA",{"$f":"IF(E14=\"No\",\"0\",IF(E14=\"NA\",\"0\",\"1\"))","v":"0"}]
[null,null,"Desplazamiento Vertical","La distancia vertical entre el origen y el destino del objeto manipulado\nes mayor a 135 cm°.","NA",{"$f":"IF(E15=\"No\",\"0\",IF(E15=\"NA\",\"0\",\"1\"))","v":"0"}]
[null,null,"Posición Horizontal","La distancia horizontal entre el cuerpo y las manos (nudillos) es superior a 55 cm correspondiente a la zona de alcance máximo de brazos","NA","0"]
[null,null,"Asimetría","Rotación o inclinación extrema del tronco sin movimientos de los pies","NA","0"]
[null,null,"Frecuencia","Corta duración: más de 15 levantamientos/descensos por minuto, en\nuna tarea que no supere los 60 minutos seguidos en el turno de trabajo\ny seguida de al menos 60 minutos de descanso o tarea liviana (que no\nimplique MMC).","NA","0"]
[null,null,null,"Media duración: más de 12 levantamientos/descensos por minuto,\nen una tarea que no supere los 120 minutos seguidos en el turno de\ntrabajo y seguida de al menos 30 minutos de descanso o tarea liviana\n(que no implique MMC).","NA","0"]
[null,null,null,"Larga duración: más de 8 levantamientos/descensos por minuto, en\nuna tarea que supere los 120 minutos seguidos en el turno de trabajo.","NA","0"]
[null,null,null,"Condición crítica: presencia de tarea de Levantamiento/descenso y transporte con peso de la carga que exceda los siguientes límites ","Si / No / NA",{"$f":"F14+F15+F16+F17+F18+F19+F20","v":0}]
[null,null,"Hombres \n(18-45 años) + ","25 kgs","NA",{"$f":"IF(E22=\"No\",\"0\",IF(E22=\"NA\",\"0\",\"1\"))","v":"0"}]
[null,null,"Mujeres\n(18-45 años) + ","20 kgs","NA",{"$f":"IF(E23=\"No\",\"0\",IF(E23=\"NA\",\"0\",\"1\"))","v":"0"}]
[null,null,"Hombres \n(< 18-45 años o > 45 años) + ","20 kgs","NA","0"]
[null,null,"Mujeres \n(< 18-45 años o > 45 años) + ","15 kgs","NA","0"]
[null,null,"Mujer\nEmbarazada","3 kgs","NA","0"]
[null,null,null,"Condición crítica: presencia de tarea de Levantamiento/descenso y transporte con peso de la carga que exceda los siguientes límites ","Si / No / NA",{"$f":"F22+F23+F24+F25+F26","v":0}]
[null,null,"Distancia de transporte de 20 mts. o más","6.000 Kgs. en 8 hrs.","NA",{"$f":"IF(E28=\"No\",\"0\",IF(E28=\"NA\",\"0\",\"1\"))","v":"0"}]
[null,null,"Distancia de transporte menos a 20 mts.","10.000 Kgs. en 8 hrs.","NA",{"$f":"IF(E29=\"No\",\"0\",IF(E29=\"NA\",\"0\",\"1\"))","v":"0"}]
[null,null,null,null,null,{"$f":"F28+F29","v":0}]
[null,null,null,null,null,{"$f":"F12+F21+F27+F30","v":0}]

{"sheet":"TABLA 4T2P2","index":44,"n_rows":31,"n_cols":10,"rows_kept":31,"cut":false,"hidden":false,"merged":[]}
[]
[null,null,null,"LEVANTAMIENTO, DESCENSO Y TRANSPORTE DE CARGA - IDENTIFICACIÓN AVANZADA CONDICIÓN CRÍTICA  ",null,null,null,null,null,"Cuadro de Resultado Tabla 4"]
[null,null,"Condición","Levantamiento/descenso y transporte manual de carga","Si / No / NA"]
[null,null,"Ambiente de Trabajo","Presencia de temperatura extrema (bajo 16° o superior a los 26° grados Celsius) y sin ropa que proteja de las temperaturas extremas.","NA",{"$f":"IF(E4=\"No\",\"0\",IF(E4=\"NA\",\"0\",\"1\"))","v":"0"},null,null,null,"La Tarea:"]
[null,null,null,"Presencia de suelo resbaladizo, irregular o inestable.","NA",{"$f":"IF(E5=\"No\",\"0\",IF(E5=\"NA\",\"0\",\"1\"))","v":"0"},null,null,{"$f":"'TABLA 1 P1'!B8","v":"N° 2"},{"$f":"'TABLA 1 P2'!C8","v":"NA"}]
[null,null,null,"Presencia de espacio insuficiente para el levantamiento/descenso y transporte de carga que genera posturas incomodas o restricción en el movimiento.","NA","0",null,null,null,"Resultado:"]
[null,null,"Característica de la Carga","El tamaño de la carga reduce la visión del trabajador y/o dificulta su movimiento.","NA","0",null,null,{"$f":"F31","v":0},{"$f":"IF(F31>=1,\"Crítica\",\"No Crítica\")","v":"No Crítica"}]
[null,null,null,"El centro de gravedad de la carga no es estable (ej.: líquidos, elementos que se mueven dentro de la carga).","NA","0",null,null,null,"Por lo que usted:"]
[null,null,null,"La forma/configuración de la carga presenta bordes,\nsuperficies o protuberancias afiladas.","NA","0",null,null,null,{"$f":"IF(J7=\"No Crítica\",\"Ha terminado el Proceso de Identificación para esta Tarea y deberá iniciar el proceso de Evaluación Cuantitativa del riesgo\",\"Ha terminado el Proceso de Identificación para esta Tarea y deberá aplicar medidas para reducir el riesgo\")","v":"Ha terminado el Proceso de Identificación para esta Tarea y deberá iniciar el proceso de Evaluación Cuantitativa del riesgo"}]
[null,null,null,"Las superficies de contacto son demasiado frías o demasiado calientes.","NA","0"]
[null,null,"Horas de Trabajo","La tarea de levantamiento/descenso o transporte de\ncarga dura más de 8 hrs.","NA","0"]
[null,null,null,"Condición crítica: presencia de tarea de Levantamiento/descenso y transporte de carga con condiciones de diseño y frecuencia que exceden los valores máximos sugeridos ",null,{"$f":"F4+F5+F6+F7+F8+F9+F10+F11","v":0},null,null,null,"Si terminó de responder toda la Tabla 4 Presione Aquí para  regresar a Tabla 1 Información General del Puesto de Trabajo donde podrá continuar con la siguiente Tarea"]
[null,null,null,null,"Si / No / NA"]
[null,null,"Posición Vertical","La ubicación de las manos al inicio o final del levantamiento/descenso\nde una carga es superior a 155 cm o inferior a 20 cm°.","NA",{"$f":"IF(E14=\"No\",\"0\",IF(E14=\"NA\",\"0\",\"1\"))","v":"0"}]
[null,null,"Desplazamiento Vertical","La distancia vertical entre el origen y el destino del objeto manipulado\nes mayor a 135 cm°.","NA",{"$f":"IF(E15=\"No\",\"0\",IF(E15=\"NA\",\"0\",\"1\"))","v":"0"}]
[null,null,"Posición Horizontal","La distancia horizontal entre el cuerpo y las manos (nudillos) es superior a 55 cm correspondiente a la zona de alcance máximo de brazos","NA","0"]
[null,null,"Asimetría","Rotación o inclinación extrema del tronco sin movimientos de los pies","NA","0"]
[null,null,"Frecuencia","Corta duración: más de 15 levantamientos/descensos por minuto, en\nuna tarea que no supere los 60 minutos seguidos en el turno de trabajo\ny seguida de al menos 60 minutos de descanso o tarea liviana (que no\nimplique MMC).","NA","0"]
[null,null,null,"Media duración: más de 12 levantamientos/descensos por minuto,\nen una tarea que no supere los 120 minutos seguidos en el turno de\ntrabajo y seguida de al menos 30 minutos de descanso o tarea liviana\n(que no implique MMC).","NA","0"]
[null,null,null,"Larga duración: más de 8 levantamientos/descensos por minuto, en\nuna tarea que supere los 120 minutos seguidos en el turno de trabajo.","NA","0"]
[null,null,null,"Condición crítica: presencia de tarea de Levantamiento/descenso y transporte con peso de la carga que exceda los siguientes límites ","Si / No / NA",{"$f":"F14+F15+F16+F17+F18+F19+F20","v":0}]
[null,null,"Hombres \n(18-45 años) + ","25 kgs","NA",{"$f":"IF(E22=\"No\",\"0\",IF(E22=\"NA\",\"0\",\"1\"))","v":"0"}]
[null,null,"Mujeres\n(18-45 años) + ","20 kgs","NA",{"$f":"IF(E23=\"No\",\"0\",IF(E23=\"NA\",\"0\",\"1\"))","v":"0"}]
[null,null,"Hombres \n(< 18-45 años o > 45 años) + ","20 kgs","NA","0"]
[null,null,"Mujeres \n(< 18-45 años o > 45 años) + ","15 kgs","NA","0"]
[null,null,"Mujer\nEmbarazada","3 kgs","NA","0"]
[null,null,null,"Condición crítica: presencia de tarea de Levantamiento/descenso y transporte con peso de la carga que exceda los siguientes límites ","Si / No / NA",{"$f":"F22+F23+F24+F25+F26","v":0}]
[null,null,"Distancia de transporte de 20 mts. o más","6.000 Kgs. en 8 hrs.","NA",{"$f":"IF(E28=\"No\",\"0\",IF(E28=\"NA\",\"0\",\"1\"))","v":"0"}]
[null,null,"Distancia de transporte menos a 20 mts.","10.000 Kgs. en 8 hrs.","NA",{"$f":"IF(E29=\"No\",\"0\",IF(E29=\"NA\",\"0\",\"1\"))","v":"0"}]
[null,null,null,null,null,{"$f":"F28+F29","v":0}]
[null,null,null,null,null,{"$f":"F12+F21+F27+F30","v":0}]

{"sheet":"TABLA 4T2P3","index":45,"n_rows":31,"n_cols":10,"rows_kept":31,"cut":false,"hidden":false,"merged":[]}
[]
[null,null,null,"LEVANTAMIENTO, DESCENSO Y TRANSPORTE DE CARGA - IDENTIFICACIÓN AVANZADA CONDICIÓN CRÍTICA  ",null,null,null,null,null,"Cuadro de Resultado Tabla 4"]
[null,null,"Condición","Levantamiento/descenso y transporte manual de carga","Si / No / NA"]
[null,null,"Ambiente de Trabajo","Presencia de temperatura extrema (bajo 16° o superior a los 26° grados Celsius) y sin ropa que proteja de las temperaturas extremas.","NA",{"$f":"IF(E4=\"No\",\"0\",IF(E4=\"NA\",\"0\",\"1\"))","v":"0"},null,null,null,"La Tarea:"]
[null,null,null,"Presencia de suelo resbaladizo, irregular o inestable.","NA",{"$f":"IF(E5=\"No\",\"0\",IF(E5=\"NA\",\"0\",\"1\"))","v":"0"},null,null,{"$f":"'TABLA 1 P3'!B8","v":"N° 2"},{"$f":"'TABLA 1 P3'!C8","v":"NA"}]
[null,null,null,"Presencia de espacio insuficiente para el levantamiento/descenso y transporte de carga que genera posturas incomodas o restricción en el movimiento.","NA","0",null,null,null,"Resultado:"]
[null,null,"Característica de la Carga","El tamaño de la carga reduce la visión del trabajador y/o dificulta su movimiento.","NA","0",null,null,{"$f":"F31","v":0},{"$f":"IF(F31>=1,\"Crítica\",\"No Crítica\")","v":"No Crítica"}]
[null,null,null,"El centro de gravedad de la carga no es estable (ej.: líquidos, elementos que se mueven dentro de la carga).","NA","0",null,null,null,"Por lo que usted:"]
[null,null,null,"La forma/configuración de la carga presenta bordes,\nsuperficies o protuberancias afiladas.","NA","0",null,null,null,{"$f":"IF(J7=\"No Crítica\",\"Ha terminado el Proceso de Identificación para esta Tarea y deberá iniciar el proceso de Evaluación Cuantitativa del riesgo\",\"Ha terminado el Proceso de Identificación para esta Tarea y deberá aplicar medidas para reducir el riesgo\")","v":"Ha terminado el Proceso de Identificación para esta Tarea y deberá iniciar el proceso de Evaluación Cuantitativa del riesgo"}]
[null,null,null,"Las superficies de contacto son demasiado frías o demasiado calientes.","NA","0"]
[null,null,"Horas de Trabajo","La tarea de levantamiento/descenso o transporte de\ncarga dura más de 8 hrs.","NA","0"]
[null,null,null,"Condición crítica: presencia de tarea de Levantamiento/descenso y transporte de carga con condiciones de diseño y frecuencia que exceden los valores máximos sugeridos ",null,{"$f":"F4+F5+F6+F7+F8+F9+F10+F11","v":0},null,null,null,"Si terminó de responder toda la Tabla 4 Presione Aquí para  regresar a Tabla 1 Información General del Puesto de Trabajo donde podrá continuar con la siguiente Tarea"]
[null,null,null,null,"Si / No / NA"]
[null,null,"Posición Vertical","La ubicación de las manos al inicio o final del levantamiento/descenso\nde una carga es superior a 155 cm o inferior a 20 cm°.","NA",{"$f":"IF(E14=\"No\",\"0\",IF(E14=\"NA\",\"0\",\"1\"))","v":"0"}]
[null,null,"Desplazamiento Vertical","La distancia vertical entre el origen y el destino del objeto manipulado\nes mayor a 135 cm°.","NA",{"$f":"IF(E15=\"No\",\"0\",IF(E15=\"NA\",\"0\",\"1\"))","v":"0"}]
[null,null,"Posición Horizontal","La distancia horizontal entre el cuerpo y las manos (nudillos) es superior a 55 cm correspondiente a la zona de alcance máximo de brazos","NA","0"]
[null,null,"Asimetría","Rotación o inclinación extrema del tronco sin movimientos de los pies","NA","0"]
[null,null,"Frecuencia","Corta duración: más de 15 levantamientos/descensos por minuto, en\nuna tarea que no supere los 60 minutos seguidos en el turno de trabajo\ny seguida de al menos 60 minutos de descanso o tarea liviana (que no\nimplique MMC).","NA","0"]
[null,null,null,"Media duración: más de 12 levantamientos/descensos por minuto,\nen una tarea que no supere los 120 minutos seguidos en el turno de\ntrabajo y seguida de al menos 30 minutos de descanso o tarea liviana\n(que no implique MMC).","NA","0"]
[null,null,null,"Larga duración: más de 8 levantamientos/descensos por minuto, en\nuna tarea que supere los 120 minutos seguidos en el turno de trabajo.","NA","0"]
[null,null,null,"Condición crítica: presencia de tarea de Levantamiento/descenso y transporte con peso de la carga que exceda los siguientes límites ","Si / No / NA",{"$f":"F14+F15+F16+F17+F18+F19+F20","v":0}]
[null,null,"Hombres \n(18-45 años) + ","25 kgs","NA",{"$f":"IF(E22=\"No\",\"0\",IF(E22=\"NA\",\"0\",\"1\"))","v":"0"}]
[null,null,"Mujeres\n(18-45 años) + ","20 kgs","NA",{"$f":"IF(E23=\"No\",\"0\",IF(E23=\"NA\",\"0\",\"1\"))","v":"0"}]
[null,null,"Hombres \n(< 18-45 años o > 45 años) + ","20 kgs","NA","0"]
[null,null,"Mujeres \n(< 18-45 años o > 45 años) + ","15 kgs","NA","0"]
[null,null,"Mujer\nEmbarazada","3 kgs","NA","0"]
[null,null,null,"Condición crítica: presencia de tarea de Levantamiento/descenso y transporte con peso de la carga que exceda los siguientes límites ","Si / No / NA",{"$f":"F22+F23+F24+F25+F26","v":0}]
[null,null,"Distancia de transporte de 20 mts. o más","6.000 Kgs. en 8 hrs.","NA",{"$f":"IF(E28=\"No\",\"0\",IF(E28=\"NA\",\"0\",\"1\"))","v":"0"}]
[null,null,"Distancia de transporte menos a 20 mts.","10.000 Kgs. en 8 hrs.","NA",{"$f":"IF(E29=\"No\",\"0\",IF(E29=\"NA\",\"0\",\"1\"))","v":"0"}]
[null,null,null,null,null,{"$f":"F28+F29","v":0}]
[null,null,null,null,null,{"$f":"F12+F21+F27+F30","v":0}]

{"sheet":"TABLA 4T2P4","index":46,"n_rows":31,"n_cols":10,"rows_kept":31,"cut":false,"hidden":false,"merged":[]}
[]
[null,null,null,"LEVANTAMIENTO, DESCENSO Y TRANSPORTE DE CARGA - IDENTIFICACIÓN AVANZADA CONDICIÓN CRÍTICA  ",null,null,null,null,null,"Cuadro de Resultado Tabla 4"]
[null,null,"Condición","Levantamiento/descenso y transporte manual de carga","Si / No / NA"]
[null,null,"Ambiente de Trabajo","Presencia de temperatura extrema (bajo 16° o superior a los 26° grados Celsius) y sin ropa que proteja de las temperaturas extremas.","NA",{"$f":"IF(E4=\"No\",\"0\",IF(E4=\"NA\",\"0\",\"1\"))","v":"0"},null,null,null,"La Tarea:"]
[null,null,null,"Presencia de suelo resbaladizo, irregular o inestable.","NA",{"$f":"IF(E5=\"No\",\"0\",IF(E5=\"NA\",\"0\",\"1\"))","v":"0"},null,null,{"$f":"'TABLA 1 P4'!B8","v":"N° 2"},{"$f":"'TABLA 1 P4'!C8","v":"NA"}]
[null,null,null,"Presencia de espacio insuficiente para el levantamiento/descenso y transporte de carga que genera posturas incomodas o restricción en el movimiento.","NA","0",null,null,null,"Resultado:"]
[null,null,"Característica de la Carga","El tamaño de la carga reduce la visión del trabajador y/o dificulta su movimiento.","NA","0",null,null,{"$f":"F31","v":0},{"$f":"IF(F31>=1,\"Crítica\",\"No Crítica\")","v":"No Crítica"}]
[null,null,null,"El centro de gravedad de la carga no es estable (ej.: líquidos, elementos que se mueven dentro de la carga).","NA","0",null,null,null,"Por lo que usted:"]
[null,null,null,"La forma/configuración de la carga presenta bordes,\nsuperficies o protuberancias afiladas.","NA","0",null,null,null,{"$f":"IF(J7=\"No Crítica\",\"Ha terminado el Proceso de Identificación para esta Tarea y deberá iniciar el proceso de Evaluación Cuantitativa del riesgo\",\"Ha terminado el Proceso de Identificación para esta Tarea y deberá aplicar medidas para reducir el riesgo\")","v":"Ha terminado el Proceso de Identificación para esta Tarea y deberá iniciar el proceso de Evaluación Cuantitativa del riesgo"}]
[null,null,null,"Las superficies de contacto son demasiado frías o demasiado calientes.","NA","0"]
[null,null,"Horas de Trabajo","La tarea de levantamiento/descenso o transporte de\ncarga dura más de 8 hrs.","NA","0"]
[null,null,null,"Condición crítica: presencia de tarea de Levantamiento/descenso y transporte de carga con condiciones de diseño y frecuencia que exceden los valores máximos sugeridos ",null,{"$f":"F4+F5+F6+F7+F8+F9+F10+F11","v":0},null,null,null,"Si terminó de responder toda la Tabla 4 Presione Aquí para  regresar a Tabla 1 Información General del Puesto de Trabajo donde podrá continuar con la siguiente Tarea"]
[null,null,null,null,"Si / No / NA"]
[null,null,"Posición Vertical","La ubicación de las manos al inicio o final del levantamiento/descenso\nde una carga es superior a 155 cm o inferior a 20 cm°.","NA",{"$f":"IF(E14=\"No\",\"0\",IF(E14=\"NA\",\"0\",\"1\"))","v":"0"}]
[null,null,"Desplazamiento Vertical","La distancia vertical entre el origen y el destino del objeto manipulado\nes mayor a 135 cm°.","NA",{"$f":"IF(E15=\"No\",\"0\",IF(E15=\"NA\",\"0\",\"1\"))","v":"0"}]
[null,null,"Posición Horizontal","La distancia horizontal entre el cuerpo y las manos (nudillos) es superior a 55 cm correspondiente a la zona de alcance máximo de brazos","NA","0"]
[null,null,"Asimetría","Rotación o inclinación extrema del tronco sin movimientos de los pies","NA","0"]
[null,null,"Frecuencia","Corta duración: más de 15 levantamientos/descensos por minuto, en\nuna tarea que no supere los 60 minutos seguidos en el turno de trabajo\ny seguida de al menos 60 minutos de descanso o tarea liviana (que no\nimplique MMC).","NA","0"]
[null,null,null,"Media duración: más de 12 levantamientos/descensos por minuto,\nen una tarea que no supere los 120 minutos seguidos en el turno de\ntrabajo y seguida de al menos 30 minutos de descanso o tarea liviana\n(que no implique MMC).","NA","0"]
[null,null,null,"Larga duración: más de 8 levantamientos/descensos por minuto, en\nuna tarea que supere los 120 minutos seguidos en el turno de trabajo.","NA","0"]
[null,null,null,"Condición crítica: presencia de tarea de Levantamiento/descenso y transporte con peso de la carga que exceda los siguientes límites ","Si / No / NA",{"$f":"F14+F15+F16+F17+F18+F19+F20","v":0}]
[null,null,"Hombres \n(18-45 años) + ","25 kgs","NA",{"$f":"IF(E22=\"No\",\"0\",IF(E22=\"NA\",\"0\",\"1\"))","v":"0"}]
[null,null,"Mujeres\n(18-45 años) + ","20 kgs","NA",{"$f":"IF(E23=\"No\",\"0\",IF(E23=\"NA\",\"0\",\"1\"))","v":"0"}]
[null,null,"Hombres \n(< 18-45 años o > 45 años) + ","20 kgs","NA","0"]
[null,null,"Mujeres \n(< 18-45 años o > 45 años) + ","15 kgs","NA","0"]
[null,null,"Mujer\nEmbarazada","3 kgs","NA","0"]
[null,null,null,"Condición crítica: presencia de tarea de Levantamiento/descenso y transporte con peso de la carga que exceda los siguientes límites ","Si / No / NA",{"$f":"F22+F23+F24+F25+F26","v":0}]
[null,null,"Distancia de transporte de 20 mts. o más","6.000 Kgs. en 8 hrs.","NA",{"$f":"IF(E28=\"No\",\"0\",IF(E28=\"NA\",\"0\",\"1\"))","v":"0"}]
[null,null,"Distancia de transporte menos a 20 mts.","10.000 Kgs. en 8 hrs.","NA",{"$f":"IF(E29=\"No\",\"0\",IF(E29=\"NA\",\"0\",\"1\"))","v":"0"}]
[null,null,null,null,null,{"$f":"F28+F29","v":0}]
[null,null,null,null,null,{"$f":"F12+F21+F27+F30","v":0}]

{"sheet":"TABLA 4T2P5","index":47,"n_rows":31,"n_cols":10,"rows_kept":31,"cut":false,"hidden":false,"merged":[]}
[]
[null,null,null,"LEVANTAMIENTO, DESCENSO Y TRANSPORTE DE CARGA - IDENTIFICACIÓN AVANZADA CONDICIÓN CRÍTICA  ",null,null,null,null,null,"Cuadro de Resultado Tabla 4"]
[null,null,"Condición","Levantamiento/descenso y transporte manual de carga","Si / No / NA"]
[null,null,"Ambiente de Trabajo","Presencia de temperatura extrema (bajo 16° o superior a los 26° grados Celsius) y sin ropa que proteja de las temperaturas extremas.","NA",{"$f":"IF(E4=\"No\",\"0\",IF(E4=\"NA\",\"0\",\"1\"))","v":"0"},null,null,null,"La Tarea:"]
[null,null,null,"Presencia de suelo resbaladizo, irregular o inestable.","NA",{"$f":"IF(E5=\"No\",\"0\",IF(E5=\"NA\",\"0\",\"1\"))","v":"0"},null,null,{"$f":"'TABLA 1 P5'!B8","v":"N° 2"},{"$f":"'TABLA 1 P5'!C8","v":"NA"}]
[null,null,null,"Presencia de espacio insuficiente para el levantamiento/descenso y transporte de carga que genera posturas incomodas o restricción en el movimiento.","NA","0",null,null,null,"Resultado:"]
[null,null,"Característica de la Carga","El tamaño de la carga reduce la visión del trabajador y/o dificulta su movimiento.","NA","0",null,null,{"$f":"F31","v":0},{"$f":"IF(F31>=1,\"Crítica\",\"No Crítica\")","v":"No Crítica"}]
[null,null,null,"El centro de gravedad de la carga no es estable (ej.: líquidos, elementos que se mueven dentro de la carga).","NA","0",null,null,null,"Por lo que usted:"]
[null,null,null,"La forma/configuración de la carga presenta bordes,\nsuperficies o protuberancias afiladas.","NA","0",null,null,null,{"$f":"IF(J7=\"No Crítica\",\"Ha terminado el Proceso de Identificación para esta Tarea y deberá iniciar el proceso de Evaluación Cuantitativa del riesgo\",\"Ha terminado el Proceso de Identificación para esta Tarea y deberá aplicar medidas para reducir el riesgo\")","v":"Ha terminado el Proceso de Identificación para esta Tarea y deberá iniciar el proceso de Evaluación Cuantitativa del riesgo"}]
[null,null,null,"Las superficies de contacto son demasiado frías o demasiado calientes.","NA","0"]
[null,null,"Horas de Trabajo","La tarea de levantamiento/descenso o transporte de\ncarga dura más de 8 hrs.","NA","0"]
[null,null,null,"Condición crítica: presencia de tarea de Levantamiento/descenso y transporte de carga con condiciones de diseño y frecuencia que exceden los valores máximos sugeridos ",null,{"$f":"F4+F5+F6+F7+F8+F9+F10+F11","v":0},null,null,null,"Si terminó de responder toda la Tabla 4 Presione Aquí para  regresar a Tabla 1 Información General del Puesto de Trabajo donde podrá continuar con la siguiente Tarea"]
[null,null,null,null,"Si / No / NA"]
[null,null,"Posición Vertical","La ubicación de las manos al inicio o final del levantamiento/descenso\nde una carga es superior a 155 cm o inferior a 20 cm°.","NA",{"$f":"IF(E14=\"No\",\"0\",IF(E14=\"NA\",\"0\",\"1\"))","v":"0"}]
[null,null,"Desplazamiento Vertical","La distancia vertical entre el origen y el destino del objeto manipulado\nes mayor a 135 cm°.","NA",{"$f":"IF(E15=\"No\",\"0\",IF(E15=\"NA\",\"0\",\"1\"))","v":"0"}]
[null,null,"Posición Horizontal","La distancia horizontal entre el cuerpo y las manos (nudillos) es superior a 55 cm correspondiente a la zona de alcance máximo de brazos","NA","0"]
[null,null,"Asimetría","Rotación o inclinación extrema del tronco sin movimientos de los pies","NA","0"]
[null,null,"Frecuencia","Corta duración: más de 15 levantamientos/descensos por minuto, en\nuna tarea que no supere los 60 minutos seguidos en el turno de trabajo\ny seguida de al menos 60 minutos de descanso o tarea liviana (que no\nimplique MMC).","NA","0"]
[null,null,null,"Media duración: más de 12 levantamientos/descensos por minuto,\nen una tarea que no supere los 120 minutos seguidos en el turno de\ntrabajo y seguida de al menos 30 minutos de descanso o tarea liviana\n(que no implique MMC).","NA","0"]
[null,null,null,"Larga duración: más de 8 levantamientos/descensos por minuto, en\nuna tarea que supere los 120 minutos seguidos en el turno de trabajo.","NA","0"]
[null,null,null,"Condición crítica: presencia de tarea de Levantamiento/descenso y transporte con peso de la carga que exceda los siguientes límites ","Si / No / NA",{"$f":"F14+F15+F16+F17+F18+F19+F20","v":0}]
[null,null,"Hombres \n(18-45 años) + ","25 kgs","NA",{"$f":"IF(E22=\"No\",\"0\",IF(E22=\"NA\",\"0\",\"1\"))","v":"0"}]
[null,null,"Mujeres\n(18-45 años) + ","20 kgs","NA",{"$f":"IF(E23=\"No\",\"0\",IF(E23=\"NA\",\"0\",\"1\"))","v":"0"}]
[null,null,"Hombres \n(< 18-45 años o > 45 años) + ","20 kgs","NA","0"]
[null,null,"Mujeres \n(< 18-45 años o > 45 años) + ","15 kgs","NA","0"]
[null,null,"Mujer\nEmbarazada","3 kgs","NA","0"]
[null,null,null,"Condición crítica: presencia de tarea de Levantamiento/descenso y transporte con peso de la carga que exceda los siguientes límites ","Si / No / NA",{"$f":"F22+F23+F24+F25+F26","v":0}]
[null,null,"Distancia de transporte de 20 mts. o más","6.000 Kgs. en 8 hrs.","NA",{"$f":"IF(E28=\"No\",\"0\",IF(E28=\"NA\",\"0\",\"1\"))","v":"0"}]
[null,null,"Distancia de transporte menos a 20 mts.","10.000 Kgs. en 8 hrs.","NA",{"$f":"IF(E29=\"No\",\"0\",IF(E29=\"NA\",\"0\",\"1\"))","v":"0"}]
[null,null,null,null,null,{"$f":"F28+F29","v":0}]
[null,null,null,null,null,{"$f":"F12+F21+F27+F30","v":0}]

{"sheet":"TABLA 4T2P6","index":48,"n_rows":31,"n_cols":10,"rows_kept":31,"cut":false,"hidden":false,"merged":[]}
[]
[null,null,null,"LEVANTAMIENTO, DESCENSO Y TRANSPORTE DE CARGA - IDENTIFICACIÓN AVANZADA CONDICIÓN CRÍTICA  ",null,null,null,null,null,"Cuadro de Resultado Tabla 4"]
[null,null,"Condición","Levantamiento/descenso y transporte manual de carga","Si / No / NA"]
[null,null,"Ambiente de Trabajo","Presencia de temperatura extrema (bajo 16° o superior a los 26° grados Celsius) y sin ropa que proteja de las temperaturas extremas.","NA",{"$f":"IF(E4=\"No\",\"0\",IF(E4=\"NA\",\"0\",\"1\"))","v":"0"},null,null,null,"La Tarea:"]
[null,null,null,"Presencia de suelo resbaladizo, irregular o inestable.","NA",{"$f":"IF(E5=\"No\",\"0\",IF(E5=\"NA\",\"0\",\"1\"))","v":"0"},null,null,{"$f":"'TABLA 1 P6'!B8","v":"N° 2"},{"$f":"'TABLA 1 P6'!C8","v":"NA"}]
[null,null,null,"Presencia de espacio insuficiente para el levantamiento/descenso y transporte de carga que genera posturas incomodas o restricción en el movimiento.","NA","0",null,null,null,"Resultado:"]
[null,null,"Característica de la Carga","El tamaño de la carga reduce la visión del trabajador y/o dificulta su movimiento.","NA","0",null,null,{"$f":"F31","v":0},{"$f":"IF(F31>=1,\"Crítica\",\"No Crítica\")","v":"No Crítica"}]
[null,null,null,"El centro de gravedad de la carga no es estable (ej.: líquidos, elementos que se mueven dentro de la carga).","NA","0",null,null,null,"Por lo que usted:"]
[null,null,null,"La forma/configuración de la carga presenta bordes,\nsuperficies o protuberancias afiladas.","NA","0",null,null,null,{"$f":"IF(J7=\"No Crítica\",\"Ha terminado el Proceso de Identificación para esta Tarea y deberá iniciar el proceso de Evaluación Cuantitativa del riesgo\",\"Ha terminado el Proceso de Identificación para esta Tarea y deberá aplicar medidas para reducir el riesgo\")","v":"Ha terminado el Proceso de Identificación para esta Tarea y deberá iniciar el proceso de Evaluación Cuantitativa del riesgo"}]
[null,null,null,"Las superficies de contacto son demasiado frías o demasiado calientes.","NA","0"]
[null,null,"Horas de Trabajo","La tarea de levantamiento/descenso o transporte de\ncarga dura más de 8 hrs.","NA","0"]
[null,null,null,"Condición crítica: presencia de tarea de Levantamiento/descenso y transporte de carga con condiciones de diseño y frecuencia que exceden los valores máximos sugeridos ",null,{"$f":"F4+F5+F6+F7+F8+F9+F10+F11","v":0},null,null,null,"Si terminó de responder toda la Tabla 4 Presione Aquí para  regresar a Tabla 1 Información General del Puesto de Trabajo donde podrá continuar con la siguiente Tarea"]
[null,null,null,null,"Si / No / NA"]
[null,null,"Posición Vertical","La ubicación de las manos al inicio o final del levantamiento/descenso\nde una carga es superior a 155 cm o inferior a 20 cm°.","NA",{"$f":"IF(E14=\"No\",\"0\",IF(E14=\"NA\",\"0\",\"1\"))","v":"0"}]
[null,null,"Desplazamiento Vertical","La distancia vertical entre el origen y el destino del objeto manipulado\nes mayor a 135 cm°.","NA",{"$f":"IF(E15=\"No\",\"0\",IF(E15=\"NA\",\"0\",\"1\"))","v":"0"}]
[null,null,"Posición Horizontal","La distancia horizontal entre el cuerpo y las manos (nudillos) es superior a 55 cm correspondiente a la zona de alcance máximo de brazos","NA","0"]
[null,null,"Asimetría","Rotación o inclinación extrema del tronco sin movimientos de los pies","NA","0"]
[null,null,"Frecuencia","Corta duración: más de 15 levantamientos/descensos por minuto, en\nuna tarea que no supere los 60 minutos seguidos en el turno de trabajo\ny seguida de al menos 60 minutos de descanso o tarea liviana (que no\nimplique MMC).","NA","0"]
[null,null,null,"Media duración: más de 12 levantamientos/descensos por minuto,\nen una tarea que no supere los 120 minutos seguidos en el turno de\ntrabajo y seguida de al menos 30 minutos de descanso o tarea liviana\n(que no implique MMC).","NA","0"]
[null,null,null,"Larga duración: más de 8 levantamientos/descensos por minuto, en\nuna tarea que supere los 120 minutos seguidos en el turno de trabajo.","NA","0"]
[null,null,null,"Condición crítica: presencia de tarea de Levantamiento/descenso y transporte con peso de la carga que exceda los siguientes límites ","Si / No / NA",{"$f":"F14+F15+F16+F17+F18+F19+F20","v":0}]
[null,null,"Hombres \n(18-45 años) + ","25 kgs","NA",{"$f":"IF(E22=\"No\",\"0\",IF(E22=\"NA\",\"0\",\"1\"))","v":"0"}]
[null,null,"Mujeres\n(18-45 años) + ","20 kgs","NA",{"$f":"IF(E23=\"No\",\"0\",IF(E23=\"NA\",\"0\",\"1\"))","v":"0"}]
[null,null,"Hombres \n(< 18-45 años o > 45 años) + ","20 kgs","NA","0"]
[null,null,"Mujeres \n(< 18-45 años o > 45 años) + ","15 kgs","NA","0"]
[null,null,"Mujer\nEmbarazada","3 kgs","NA","0"]
[null,null,null,"Condición crítica: presencia de tarea de Levantamiento/descenso y transporte con peso de la carga que exceda los siguientes límites ","Si / No / NA",{"$f":"F22+F23+F24+F25+F26","v":0}]
[null,null,"Distancia de transporte de 20 mts. o más","6.000 Kgs. en 8 hrs.","NA",{"$f":"IF(E28=\"No\",\"0\",IF(E28=\"NA\",\"0\",\"1\"))","v":"0"}]
[null,null,"Distancia de transporte menos a 20 mts.","10.000 Kgs. en 8 hrs.","NA",{"$f":"IF(E29=\"No\",\"0\",IF(E29=\"NA\",\"0\",\"1\"))","v":"0"}]
[null,null,null,null,null,{"$f":"F28+F29","v":0}]
[null,null,null,null,null,{"$f":"F12+F21+F27+F30","v":0}]

{"sheet":"TABLA 4T2P7","index":49,"n_rows":31,"n_cols":10,"rows_kept":31,"cut":false,"hidden":false,"merged":[]}
[]
[null,null,null,"LEVANTAMIENTO, DESCENSO Y TRANSPORTE DE CARGA - IDENTIFICACIÓN AVANZADA CONDICIÓN CRÍTICA  ",null,null,null,null,null,"Cuadro de Resultado Tabla 4"]
[null,null,"Condición","Levantamiento/descenso y transporte manual de carga","Si / No / NA"]
[null,null,"Ambiente de Trabajo","Presencia de temperatura extrema (bajo 16° o superior a los 26° grados Celsius) y sin ropa que proteja de las temperaturas extremas.","NA",{"$f":"IF(E4=\"No\",\"0\",IF(E4=\"NA\",\"0\",\"1\"))","v":"0"},null,null,null,"La Tarea:"]
[null,null,null,"Presencia de suelo resbaladizo, irregular o inestable.","NA",{"$f":"IF(E5=\"No\",\"0\",IF(E5=\"NA\",\"0\",\"1\"))","v":"0"},null,null,{"$f":"'TABLA 1 P7'!B8","v":"N° 2"},{"$f":"'TABLA 1 P7'!C8","v":"NA"}]
[null,null,null,"Presencia de espacio insuficiente para el levantamiento/descenso y transporte de carga que genera posturas incomodas o restricción en el movimiento.","NA","0",null,null,null,"Resultado:"]
[null,null,"Característica de la Carga","El tamaño de la carga reduce la visión del trabajador y/o dificulta su movimiento.","NA","0",null,null,{"$f":"F31","v":0},{"$f":"IF(F31>=1,\"Crítica\",\"No Crítica\")","v":"No Crítica"}]
[null,null,null,"El centro de gravedad de la carga no es estable (ej.: líquidos, elementos que se mueven dentro de la carga).","NA","0",null,null,null,"Por lo que usted:"]
[null,null,null,"La forma/configuración de la carga presenta bordes,\nsuperficies o protuberancias afiladas.","NA","0",null,null,null,{"$f":"IF(J7=\"No Crítica\",\"Ha terminado el Proceso de Identificación para esta Tarea y deberá iniciar el proceso de Evaluación Cuantitativa del riesgo\",\"Ha terminado el Proceso de Identificación para esta Tarea y deberá aplicar medidas para reducir el riesgo\")","v":"Ha terminado el Proceso de Identificación para esta Tarea y deberá iniciar el proceso de Evaluación Cuantitativa del riesgo"}]
[null,null,null,"Las superficies de contacto son demasiado frías o demasiado calientes.","NA","0"]
[null,null,"Horas de Trabajo","La tarea de levantamiento/descenso o transporte de\ncarga dura más de 8 hrs.","NA","0"]
[null,null,null,"Condición crítica: presencia de tarea de Levantamiento/descenso y transporte de carga con condiciones de diseño y frecuencia que exceden los valores máximos sugeridos ",null,{"$f":"F4+F5+F6+F7+F8+F9+F10+F11","v":0},null,null,null,"Si terminó de responder toda la Tabla 4 Presione Aquí para  regresar a Tabla 1 Información General del Puesto de Trabajo donde podrá continuar con la siguiente Tarea"]
[null,null,null,null,"Si / No / NA"]
[null,null,"Posición Vertical","La ubicación de las manos al inicio o final del levantamiento/descenso\nde una carga es superior a 155 cm o inferior a 20 cm°.","NA",{"$f":"IF(E14=\"No\",\"0\",IF(E14=\"NA\",\"0\",\"1\"))","v":"0"}]
[null,null,"Desplazamiento Vertical","La distancia vertical entre el origen y el destino del objeto manipulado\nes mayor a 135 cm°.","NA",{"$f":"IF(E15=\"No\",\"0\",IF(E15=\"NA\",\"0\",\"1\"))","v":"0"}]
[null,null,"Posición Horizontal","La distancia horizontal entre el cuerpo y las manos (nudillos) es superior a 55 cm correspondiente a la zona de alcance máximo de brazos","NA","0"]
[null,null,"Asimetría","Rotación o inclinación extrema del tronco sin movimientos de los pies","NA","0"]
[null,null,"Frecuencia","Corta duración: más de 15 levantamientos/descensos por minuto, en\nuna tarea que no supere los 60 minutos seguidos en el turno de trabajo\ny seguida de al menos 60 minutos de descanso o tarea liviana (que no\nimplique MMC).","NA","0"]
[null,null,null,"Media duración: más de 12 levantamientos/descensos por minuto,\nen una tarea que no supere los 120 minutos seguidos en el turno de\ntrabajo y seguida de al menos 30 minutos de descanso o tarea liviana\n(que no implique MMC).","NA","0"]
[null,null,null,"Larga duración: más de 8 levantamientos/descensos por minuto, en\nuna tarea que supere los 120 minutos seguidos en el turno de trabajo.","NA","0"]
[null,null,null,"Condición crítica: presencia de tarea de Levantamiento/descenso y transporte con peso de la carga que exceda los siguientes límites ","Si / No / NA",{"$f":"F14+F15+F16+F17+F18+F19+F20","v":0}]
[null,null,"Hombres \n(18-45 años) + ","25 kgs","NA",{"$f":"IF(E22=\"No\",\"0\",IF(E22=\"NA\",\"0\",\"1\"))","v":"0"}]
[null,null,"Mujeres\n(18-45 años) + ","20 kgs","NA",{"$f":"IF(E23=\"No\",\"0\",IF(E23=\"NA\",\"0\",\"1\"))","v":"0"}]
[null,null,"Hombres \n(< 18-45 años o > 45 años) + ","20 kgs","NA","0"]
[null,null,"Mujeres \n(< 18-45 años o > 45 años) + ","15 kgs","NA","0"]
[null,null,"Mujer\nEmbarazada","3 kgs","NA","0"]
[null,null,null,"Condición crítica: presencia de tarea de Levantamiento/descenso y transporte con peso de la carga que exceda los siguientes límites ","Si / No / NA",{"$f":"F22+F23+F24+F25+F26","v":0}]
[null,null,"Distancia de transporte de 20 mts. o más","6.000 Kgs. en 8 hrs.","NA",{"$f":"IF(E28=\"No\",\"0\",IF(E28=\"NA\",\"0\",\"1\"))","v":"0"}]
[null,null,"Distancia de transporte menos a 20 mts.","10.000 Kgs. en 8 hrs.","NA",{"$f":"IF(E29=\"No\",\"0\",IF(E29=\"NA\",\"0\",\"1\"))","v":"0"}]
[null,null,null,null,null,{"$f":"F28+F29","v":0}]
[null,null,null,null,null,{"$f":"F12+F21+F27+F30","v":0}]

{"sheet":"TABLA 4T2P8","index":50,"n_rows":31,"n_cols":10,"rows_kept":31,"cut":false,"hidden":false,"merged":[]}
[]
[null,null,null,"LEVANTAMIENTO, DESCENSO Y TRANSPORTE DE CARGA - IDENTIFICACIÓN AVANZADA CONDICIÓN CRÍTICA  ",null,null,null,null,null,"Cuadro de Resultado Tabla 4"]
[null,null,"Condición","Levantamiento/descenso y transporte manual de carga","Si / No / NA"]
[null,null,"Ambiente de Trabajo","Presencia de temperatura extrema (bajo 16° o superior a los 26° grados Celsius) y sin ropa que proteja de las temperaturas extremas.","NA",{"$f":"IF(E4=\"No\",\"0\",IF(E4=\"NA\",\"0\",\"1\"))","v":"0"},null,null,null,"La Tarea:"]
[null,null,null,"Presencia de suelo resbaladizo, irregular o inestable.","NA",{"$f":"IF(E5=\"No\",\"0\",IF(E5=\"NA\",\"0\",\"1\"))","v":"0"},null,null,{"$f":"'TABLA 1 P8'!B8","v":"N° 2"},{"$f":"'TABLA 1 P8'!C8","v":"NA"}]
[null,null,null,"Presencia de espacio insuficiente para el levantamiento/descenso y transporte de carga que genera posturas incomodas o restricción en el movimiento.","NA","0",null,null,null,"Resultado:"]
[null,null,"Característica de la Carga","El tamaño de la carga reduce la visión del trabajador y/o dificulta su movimiento.","NA","0",null,null,{"$f":"F31","v":0},{"$f":"IF(F31>=1,\"Crítica\",\"No Crítica\")","v":"No Crítica"}]
[null,null,null,"El centro de gravedad de la carga no es estable (ej.: líquidos, elementos que se mueven dentro de la carga).","NA","0",null,null,null,"Por lo que usted:"]
[null,null,null,"La forma/configuración de la carga presenta bordes,\nsuperficies o protuberancias afiladas.","NA","0",null,null,null,{"$f":"IF(J7=\"No Crítica\",\"Ha terminado el Proceso de Identificación para esta Tarea y deberá iniciar el proceso de Evaluación Cuantitativa del riesgo\",\"Ha terminado el Proceso de Identificación para esta Tarea y deberá aplicar medidas para reducir el riesgo\")","v":"Ha terminado el Proceso de Identificación para esta Tarea y deberá iniciar el proceso de Evaluación Cuantitativa del riesgo"}]
[null,null,null,"Las superficies de contacto son demasiado frías o demasiado calientes.","NA","0"]
[null,null,"Horas de Trabajo","La tarea de levantamiento/descenso o transporte de\ncarga dura más de 8 hrs.","NA","0"]
[null,null,null,"Condición crítica: presencia de tarea de Levantamiento/descenso y transporte de carga con condiciones de diseño y frecuencia que exceden los valores máximos sugeridos ",null,{"$f":"F4+F5+F6+F7+F8+F9+F10+F11","v":0},null,null,null,"Si terminó de responder toda la Tabla 4 Presione Aquí para  regresar a Tabla 1 Información General del Puesto de Trabajo donde podrá continuar con la siguiente Tarea"]
[null,null,null,null,"Si / No / NA"]
[null,null,"Posición Vertical","La ubicación de las manos al inicio o final del levantamiento/descenso\nde una carga es superior a 155 cm o inferior a 20 cm°.","NA",{"$f":"IF(E14=\"No\",\"0\",IF(E14=\"NA\",\"0\",\"1\"))","v":"0"}]
[null,null,"Desplazamiento Vertical","La distancia vertical entre el origen y el destino del objeto manipulado\nes mayor a 135 cm°.","NA",{"$f":"IF(E15=\"No\",\"0\",IF(E15=\"NA\",\"0\",\"1\"))","v":"0"}]
[null,null,"Posición Horizontal","La distancia horizontal entre el cuerpo y las manos (nudillos) es superior a 55 cm correspondiente a la zona de alcance máximo de brazos","NA","0"]
[null,null,"Asimetría","Rotación o inclinación extrema del tronco sin movimientos de los pies","NA","0"]
[null,null,"Frecuencia","Corta duración: más de 15 levantamientos/descensos por minuto, en\nuna tarea que no supere los 60 minutos seguidos en el turno de trabajo\ny seguida de al menos 60 minutos de descanso o tarea liviana (que no\nimplique MMC).","NA","0"]
[null,null,null,"Media duración: más de 12 levantamientos/descensos por minuto,\nen una tarea que no supere los 120 minutos seguidos en el turno de\ntrabajo y seguida de al menos 30 minutos de descanso o tarea liviana\n(que no implique MMC).","NA","0"]
[null,null,null,"Larga duración: más de 8 levantamientos/descensos por minuto, en\nuna tarea que supere los 120 minutos seguidos en el turno de trabajo.","NA","0"]
[null,null,null,"Condición crítica: presencia de tarea de Levantamiento/descenso y transporte con peso de la carga que exceda los siguientes límites ","Si / No / NA",{"$f":"F14+F15+F16+F17+F18+F19+F20","v":0}]
[null,null,"Hombres \n(18-45 años) + ","25 kgs","NA",{"$f":"IF(E22=\"No\",\"0\",IF(E22=\"NA\",\"0\",\"1\"))","v":"0"}]
[null,null,"Mujeres\n(18-45 años) + ","20 kgs","NA",{"$f":"IF(E23=\"No\",\"0\",IF(E23=\"NA\",\"0\",\"1\"))","v":"0"}]
[null,null,"Hombres \n(< 18-45 años o > 45 años) + ","20 kgs","NA","0"]
[null,null,"Mujeres \n(< 18-45 años o > 45 años) + ","15 kgs","NA","0"]
[null,null,"Mujer\nEmbarazada","3 kgs","NA","0"]
[null,null,null,"Condición crítica: presencia de tarea de Levantamiento/descenso y transporte con peso de la carga que exceda los siguientes límites ","Si / No / NA",{"$f":"F22+F23+F24+F25+F26","v":0}]
[null,null,"Distancia de transporte de 20 mts. o más","6.000 Kgs. en 8 hrs.","NA",{"$f":"IF(E28=\"No\",\"0\",IF(E28=\"NA\",\"0\",\"1\"))","v":"0"}]
[null,null,"Distancia de transporte menos a 20 mts.","10.000 Kgs. en 8 hrs.","NA",{"$f":"IF(E29=\"No\",\"0\",IF(E29=\"NA\",\"0\",\"1\"))","v":"0"}]
[null,null,null,null,null,{"$f":"F28+F29","v":0}]
[null,null,null,null,null,{"$f":"F12+F21+F27+F30","v":0}]

{"sheet":"TABLA 4T2P9","index":51,"n_rows":31,"n_cols":10,"rows_kept":31,"cut":false,"hidden":false,"merged":[]}
[]
[null,null,null,"LEVANTAMIENTO, DESCENSO Y TRANSPORTE DE CARGA - IDENTIFICACIÓN AVANZADA CONDICIÓN CRÍTICA  ",null,null,null,null,null,"Cuadro de Resultado Tabla 4"]
[null,null,"Condición","Levantamiento/descenso y transporte manual de carga","Si / No / NA"]
[null,null,"Ambiente de Trabajo","Presencia de temperatura extrema (bajo 16° o superior a los 26° grados Celsius) y sin ropa que proteja de las temperaturas extremas.","NA",{"$f":"IF(E4=\"No\",\"0\",IF(E4=\"NA\",\"0\",\"1\"))","v":"0"},null,null,null,"La Tarea:"]
[null,null,null,"Presencia de suelo resbaladizo, irregular o inestable.","NA",{"$f":"IF(E5=\"No\",\"0\",IF(E5=\"NA\",\"0\",\"1\"))","v":"0"},null,null,{"$f":"'TABLA 1 P9'!B8","v":"N° 2"},{"$f":"'TABLA 1 P9'!C8","v":"NA"}]
[null,null,null,"Presencia de espacio insuficiente para el levantamiento/descenso y transporte de carga que genera posturas incomodas o restricción en el movimiento.","NA","0",null,null,null,"Resultado:"]
[null,null,"Característica de la Carga","El tamaño de la carga reduce la visión del trabajador y/o dificulta su movimiento.","NA","0",null,null,{"$f":"F31","v":0},{"$f":"IF(F31>=1,\"Crítica\",\"No Crítica\")","v":"No Crítica"}]
[null,null,null,"El centro de gravedad de la carga no es estable (ej.: líquidos, elementos que se mueven dentro de la carga).","NA","0",null,null,null,"Por lo que usted:"]
[null,null,null,"La forma/configuración de la carga presenta bordes,\nsuperficies o protuberancias afiladas.","NA","0",null,null,null,{"$f":"IF(J7=\"No Crítica\",\"Ha terminado el Proceso de Identificación para esta Tarea y deberá iniciar el proceso de Evaluación Cuantitativa del riesgo\",\"Ha terminado el Proceso de Identificación para esta Tarea y deberá aplicar medidas para reducir el riesgo\")","v":"Ha terminado el Proceso de Identificación para esta Tarea y deberá iniciar el proceso de Evaluación Cuantitativa del riesgo"}]
[null,null,null,"Las superficies de contacto son demasiado frías o demasiado calientes.","NA","0"]
[null,null,"Horas de Trabajo","La tarea de levantamiento/descenso o transporte de\ncarga dura más de 8 hrs.","NA","0"]
[null,null,null,"Condición crítica: presencia de tarea de Levantamiento/descenso y transporte de carga con condiciones de diseño y frecuencia que exceden los valores máximos sugeridos ",null,{"$f":"F4+F5+F6+F7+F8+F9+F10+F11","v":0},null,null,null,"Si terminó de responder toda la Tabla 4 Presione Aquí para  regresar a Tabla 1 Información General del Puesto de Trabajo donde podrá continuar con la siguiente Tarea"]
[null,null,null,null,"Si / No / NA"]
[null,null,"Posición Vertical","La ubicación de las manos al inicio o final del levantamiento/descenso\nde una carga es superior a 155 cm o inferior a 20 cm°.","NA",{"$f":"IF(E14=\"No\",\"0\",IF(E14=\"NA\",\"0\",\"1\"))","v":"0"}]
[null,null,"Desplazamiento Vertical","La distancia vertical entre el origen y el destino del objeto manipulado\nes mayor a 135 cm°.","NA",{"$f":"IF(E15=\"No\",\"0\",IF(E15=\"NA\",\"0\",\"1\"))","v":"0"}]
[null,null,"Posición Horizontal","La distancia horizontal entre el cuerpo y las manos (nudillos) es superior a 55 cm correspondiente a la zona de alcance máximo de brazos","NA","0"]
[null,null,"Asimetría","Rotación o inclinación extrema del tronco sin movimientos de los pies","NA","0"]
[null,null,"Frecuencia","Corta duración: más de 15 levantamientos/descensos por minuto, en\nuna tarea que no supere los 60 minutos seguidos en el turno de trabajo\ny seguida de al menos 60 minutos de descanso o tarea liviana (que no\nimplique MMC).","NA","0"]
[null,null,null,"Media duración: más de 12 levantamientos/descensos por minuto,\nen una tarea que no supere los 120 minutos seguidos en el turno de\ntrabajo y seguida de al menos 30 minutos de descanso o tarea liviana\n(que no implique MMC).","NA","0"]
[null,null,null,"Larga duración: más de 8 levantamientos/descensos por minuto, en\nuna tarea que supere los 120 minutos seguidos en el turno de trabajo.","NA","0"]
[null,null,null,"Condición crítica: presencia de tarea de Levantamiento/descenso y transporte con peso de la carga que exceda los siguientes límites ","Si / No / NA",{"$f":"F14+F15+F16+F17+F18+F19+F20","v":0}]
[null,null,"Hombres \n(18-45 años) + ","25 kgs","NA",{"$f":"IF(E22=\"No\",\"0\",IF(E22=\"NA\",\"0\",\"1\"))","v":"0"}]
[null,null,"Mujeres\n(18-45 años) + ","20 kgs","NA",{"$f":"IF(E23=\"No\",\"0\",IF(E23=\"NA\",\"0\",\"1\"))","v":"0"}]
[null,null,"Hombres \n(< 18-45 años o > 45 años) + ","20 kgs","NA","0"]
[null,null,"Mujeres \n(< 18-45 años o > 45 años) + ","15 kgs","NA","0"]
[null,null,"Mujer\nEmbarazada","3 kgs","NA","0"]
[null,null,null,"Condición crítica: presencia de tarea de Levantamiento/descenso y transporte con peso de la carga que exceda los siguientes límites ","Si / No / NA",{"$f":"F22+F23+F24+F25+F26","v":0}]
[null,null,"Distancia de transporte de 20 mts. o más","6.000 Kgs. en 8 hrs.","NA",{"$f":"IF(E28=\"No\",\"0\",IF(E28=\"NA\",\"0\",\"1\"))","v":"0"}]
[null,null,"Distancia de transporte menos a 20 mts.","10.000 Kgs. en 8 hrs.","NA",{"$f":"IF(E29=\"No\",\"0\",IF(E29=\"NA\",\"0\",\"1\"))","v":"0"}]
[null,null,null,null,null,{"$f":"F28+F29","v":0}]
[null,null,null,null,null,{"$f":"F12+F21+F27+F30","v":0}]

{"sheet":"TABLA 4T2P10","index":52,"n_rows":31,"n_cols":10,"rows_kept":31,"cut":false,"hidden":false,"merged":[]}
[]
[null,null,null,"LEVANTAMIENTO, DESCENSO Y TRANSPORTE DE CARGA - IDENTIFICACIÓN AVANZADA CONDICIÓN CRÍTICA  ",null,null,null,null,null,"Cuadro de Resultado Tabla 4"]
[null,null,"Condición","Levantamiento/descenso y transporte manual de carga","Si / No / NA"]
[null,null,"Ambiente de Trabajo","Presencia de temperatura extrema (bajo 16° o superior a los 26° grados Celsius) y sin ropa que proteja de las temperaturas extremas.","NA",{"$f":"IF(E4=\"No\",\"0\",IF(E4=\"NA\",\"0\",\"1\"))","v":"0"},null,null,null,"La Tarea:"]
[null,null,null,"Presencia de suelo resbaladizo, irregular o inestable.","NA",{"$f":"IF(E5=\"No\",\"0\",IF(E5=\"NA\",\"0\",\"1\"))","v":"0"},null,null,{"$f":"'TABLA 1 P10'!B8","v":"N° 2"},{"$f":"'TABLA 1 P10'!C8","v":"NA"}]
[null,null,null,"Presencia de espacio insuficiente para el levantamiento/descenso y transporte de carga que genera posturas incomodas o restricción en el movimiento.","NA","0",null,null,null,"Resultado:"]
[null,null,"Característica de la Carga","El tamaño de la carga reduce la visión del trabajador y/o dificulta su movimiento.","NA","0",null,null,{"$f":"F31","v":0},{"$f":"IF(F31>=1,\"Crítica\",\"No Crítica\")","v":"No Crítica"}]
[null,null,null,"El centro de gravedad de la carga no es estable (ej.: líquidos, elementos que se mueven dentro de la carga).","NA","0",null,null,null,"Por lo que usted:"]
[null,null,null,"La forma/configuración de la carga presenta bordes,\nsuperficies o protuberancias afiladas.","NA","0",null,null,null,{"$f":"IF(J7=\"No Crítica\",\"Ha terminado el Proceso de Identificación para esta Tarea y deberá iniciar el proceso de Evaluación Cuantitativa del riesgo\",\"Ha terminado el Proceso de Identificación para esta Tarea y deberá aplicar medidas para reducir el riesgo\")","v":"Ha terminado el Proceso de Identificación para esta Tarea y deberá iniciar el proceso de Evaluación Cuantitativa del riesgo"}]
[null,null,null,"Las superficies de contacto son demasiado frías o demasiado calientes.","NA","0"]
[null,null,"Horas de Trabajo","La tarea de levantamiento/descenso o transporte de\ncarga dura más de 8 hrs.","NA","0"]
[null,null,null,"Condición crítica: presencia de tarea de Levantamiento/descenso y transporte de carga con condiciones de diseño y frecuencia que exceden los valores máximos sugeridos ",null,{"$f":"F4+F5+F6+F7+F8+F9+F10+F11","v":0},null,null,null,"Si terminó de responder toda la Tabla 4 Presione Aquí para  regresar a Tabla 1 Información General del Puesto de Trabajo donde podrá continuar con la siguiente Tarea"]
[null,null,null,null,"Si / No / NA"]
[null,null,"Posición Vertical","La ubicación de las manos al inicio o final del levantamiento/descenso\nde una carga es superior a 155 cm o inferior a 20 cm°.","NA",{"$f":"IF(E14=\"No\",\"0\",IF(E14=\"NA\",\"0\",\"1\"))","v":"0"}]
[null,null,"Desplazamiento Vertical","La distancia vertical entre el origen y el destino del objeto manipulado\nes mayor a 135 cm°.","NA",{"$f":"IF(E15=\"No\",\"0\",IF(E15=\"NA\",\"0\",\"1\"))","v":"0"}]
[null,null,"Posición Horizontal","La distancia horizontal entre el cuerpo y las manos (nudillos) es superior a 55 cm correspondiente a la zona de alcance máximo de brazos","NA","0"]
[null,null,"Asimetría","Rotación o inclinación extrema del tronco sin movimientos de los pies","NA","0"]
[null,null,"Frecuencia","Corta duración: más de 15 levantamientos/descensos por minuto, en\nuna tarea que no supere los 60 minutos seguidos en el turno de trabajo\ny seguida de al menos 60 minutos de descanso o tarea liviana (que no\nimplique MMC).","NA","0"]
[null,null,null,"Media duración: más de 12 levantamientos/descensos por minuto,\nen una tarea que no supere los 120 minutos seguidos en el turno de\ntrabajo y seguida de al menos 30 minutos de descanso o tarea liviana\n(que no implique MMC).","NA","0"]
[null,null,null,"Larga duración: más de 8 levantamientos/descensos por minuto, en\nuna tarea que supere los 120 minutos seguidos en el turno de trabajo.","NA","0"]
[null,null,null,"Condición crítica: presencia de tarea de Levantamiento/descenso y transporte con peso de la carga que exceda los siguientes límites ","Si / No / NA",{"$f":"F14+F15+F16+F17+F18+F19+F20","v":0}]
[null,null,"Hombres \n(18-45 años) + ","25 kgs","NA",{"$f":"IF(E22=\"No\",\"0\",IF(E22=\"NA\",\"0\",\"1\"))","v":"0"}]
[null,null,"Mujeres\n(18-45 años) + ","20 kgs","NA",{"$f":"IF(E23=\"No\",\"0\",IF(E23=\"NA\",\"0\",\"1\"))","v":"0"}]
[null,null,"Hombres \n(< 18-45 años o > 45 años) + ","20 kgs","NA","0"]
[null,null,"Mujeres \n(< 18-45 años o > 45 años) + ","15 kgs","NA","0"]
[null,null,"Mujer\nEmbarazada","3 kgs","NA","0"]
[null,null,null,"Condición crítica: presencia de tarea de Levantamiento/descenso y transporte con peso de la carga que exceda los siguientes límites ","Si / No / NA",{"$f":"F22+F23+F24+F25+F26","v":0}]
[null,null,"Distancia de transporte de 20 mts. o más","6.000 Kgs. en 8 hrs.","NA",{"$f":"IF(E28=\"No\",\"0\",IF(E28=\"NA\",\"0\",\"1\"))","v":"0"}]
[null,null,"Distancia de transporte menos a 20 mts.","10.000 Kgs. en 8 hrs.","NA",{"$f":"IF(E29=\"No\",\"0\",IF(E29=\"NA\",\"0\",\"1\"))","v":"0"}]
[null,null,null,null,null,{"$f":"F28+F29","v":0}]
[null,null,null,null,null,{"$f":"F12+F21+F27+F30","v":0}]

{"sheet":"TABLA 3T3P1","index":53,"n_rows":34,"n_cols":11,"rows_kept":34,"cut":false,"hidden":false,"merged":[]}
[]
[null,null,null,"LEVANTAMIENTO, DESCENSO Y TRANSPORTE DE CARGA - IDENTIFICACIÓN AVANZADA  CONDICIÓN ACEPTABLE  \n",null,null,null,null,null,"Cuadro de Resultado Tabla 3"]
[null,null,"Condición","Levantamiento/descenso y transporte manual de carga","Si / No / NA"]
[null,null,"Ambiente de Trabajo","La temperatura en donde se realiza la tarea es entre los 18° y 26° (grados Celsius).","NA",{"$f":"IF(E4=\"SI\",\"0\",IF(E4=\"NA\",\"0\",\"1\"))","v":"0"},null,null,null,"La Tarea:"]
[null,null,null,"El piso se encuentra en buenas condiciones (regular, seco y estable).","NA",{"$f":"IF(E5=\"SI\",\"0\",IF(E5=\"NA\",\"0\",\"1\"))","v":"0"},null,null,{"$f":"'TABLA 1 P1'!B10","v":"N° 3"},{"$f":"'TABLA 1 P1'!C10","v":"NA"}]
[null,null,null,"El espacio de trabajo permite el normal movimiento de los trabajadores (sin generar posturas incómodas) durante el levantamiento/descenso y/o transporte.","NA","0",null,null,null,"Resultado:"]
[null,null,"Característica de la Carga","El tamaño de la carga permite la visibilidad y movimientos normales del trabajador.","NA","0",null,null,{"$f":"F31","v":0},{"$f":"IF(F31>=1,\"No es Aceptable\",\"Aceptable\")","v":"Aceptable"}]
[null,null,null,"El centro de gravedad de la carga es estable.","NA","0",null,null,null,"Por lo que usted:"]
[null,null,null,"La carga permite su agarre sin riesgo de cortes, compresión o quemaduras.","NA","0",null,null,null,{"$f":"IF(J7=\"Aceptable\",\"Ha Terminado el Proceso de Identificación para esta Tarea\",\"Debe Aplicar Tabla 4\")","v":"Ha Terminado el Proceso de Identificación para esta Tarea"},{"$f":"F31","v":0}]
[null,null,"Horas de Trabajo\n","La tarea de levantamiento/descenso o transporte de carga dura menos de 8 hrs.","NA","0"]
[null,null,"3 a 5 Kgs","Se observa ausencia de asimetría (Ej: cuerpo rotado,torsión y/o inclinación de tronco).","NA","0",null,null,null,{"$f":"IF(J9=\"Ha Terminado el Proceso de Identificación para esta Tarea\",\"Si terminó de responder toda la Tabla 3 Presione Aquí para  regresar a Tabla 1 Información General del Puesto de Trabajo donde podrá continuar con la siguiente Tarea\",\"\")","v":"Si terminó de responder toda la Tabla 3 Presione Aquí para  regresar a Tabla 1 Información General del Puesto de Trabajo donde podrá continuar con la siguiente Tarea"},{"$f":"F31","v":0}]
[null,null,null,"La carga es mantenida cerca del cuerpo.","NA","0",null,null,null,null,{"$f":"F31","v":0}]
[null,null,null,"El desplazamiento vertical de la carga se realiza entrelas caderas y los hombros.","NA","0"]
[null,null,null,"Frecuencia máxima de MMC: el levantamiento/descenso es menor a 5 veces por minuto","NA","0",null,null,null,null,{"$f":"F31","v":0}]
[null,null,"5,1 a 10 Kgs","Se observa ausencia de asimetría (Ej: cuerpo rotado,torsión y/o inclinación de tronco).","NA","0"]
[null,null,null,"La carga es mantenida cerca del cuerpo.","NA","0"]
[null,null,null,"El desplazamiento vertical de la carga se realiza entre las caderas y los hombros.","NA","0",null,null,null,null,{"$f":"F31","v":0}]
[null,null,null,"Frecuencia máxima de MMC: el levantamiento/descenso es menor a 1 veces por minuto.","NA","0"]
[null,null,"+ de 10 Kgs","Ausencia de cargas mayores a 10 Kgs.","NA","0"]
[null,null,null,null,null,{"$f":"F4+F5+F6+F7+F8+F9+F10+F11+F12+F13+F14+F15+F16+F17+F18+F19","v":0},null,null,null,null,{"$f":"F31","v":0}]
[null,null,null,"Transporte Manual de Carga"]
[]
[null,null,null,null,null,null,null,null,null,null,{"$f":"F31","v":0}]
[]
[null,null,null,null,"Si / No / NA"]
[null,null,null,null,"NA",{"$f":"IF(E26=\"SI\",\"0\",IF(E26=\"NA\",\"0\",\"1\"))","v":"0"}]
[null,null,null,null,"NA",{"$f":"IF(E27=\"SI\",\"0\",IF(E27=\"NA\",\"0\",\"1\"))","v":"0"},null,null,null,null,{"$f":"F31","v":0}]
[null,null,null,null,"NA","0"]
[null,null,null,"Ausencia de posturas inadecuadas durante el transporte de carga.","NA","0"]
[null,null,null,null,null,{"$f":"F26+F27+F28+F29","v":0},null,null,null,null,{"$f":"F31","v":0}]
[null,null,null,null,null,{"$f":"(F20+F30)","v":0}]
[]
[]
[null,null,null,null,null,null,null,null,null,"Presione solo si al completar Tabla 3  se lo indica el Cuadro de Resultado",{"$f":"F31","v":0}]

{"sheet":"TABLA 3T3P2","index":54,"n_rows":34,"n_cols":11,"rows_kept":34,"cut":false,"hidden":false,"merged":[]}
[]
[null,null,null,"LEVANTAMIENTO, DESCENSO Y TRANSPORTE DE CARGA - IDENTIFICACIÓN AVANZADA  CONDICIÓN ACEPTABLE  \n",null,null,null,null,null,"Cuadro de Resultado Tabla 3"]
[null,null,"Condición","Levantamiento/descenso y transporte manual de carga","Si / No / NA"]
[null,null,"Ambiente de Trabajo","La temperatura en donde se realiza la tarea es entre los 18° y 26° (grados Celsius).","NA",{"$f":"IF(E4=\"SI\",\"0\",IF(E4=\"NA\",\"0\",\"1\"))","v":"0"},null,null,null,"La Tarea:"]
[null,null,null,"El piso se encuentra en buenas condiciones (regular, seco y estable).","NA",{"$f":"IF(E5=\"SI\",\"0\",IF(E5=\"NA\",\"0\",\"1\"))","v":"0"},null,null,{"$f":"'TABLA 1 P1'!B10","v":"N° 3"},{"$f":"'TABLA 1 P2'!C10","v":"NA"}]
[null,null,null,"El espacio de trabajo permite el normal movimiento de los trabajadores (sin generar posturas incómodas) durante el levantamiento/descenso y/o transporte.","NA","0",null,null,null,"Resultado:"]
[null,null,"Característica de la Carga","El tamaño de la carga permite la visibilidad y movimientos normales del trabajador.","NA","0",null,null,{"$f":"F31","v":0},{"$f":"IF(F31>=1,\"No es Aceptable\",\"Aceptable\")","v":"Aceptable"}]
[null,null,null,"El centro de gravedad de la carga es estable.","NA","0",null,null,null,"Por lo que usted:"]
[null,null,null,"La carga permite su agarre sin riesgo de cortes, compresión o quemaduras.","NA","0",null,null,null,{"$f":"IF(J7=\"Aceptable\",\"Ha Terminado el Proceso de Identificación para esta Tarea\",\"Debe Aplicar Tabla 4\")","v":"Ha Terminado el Proceso de Identificación para esta Tarea"},{"$f":"F31","v":0}]
[null,null,"Horas de Trabajo\n","La tarea de levantamiento/descenso o transporte de carga dura menos de 8 hrs.","NA","0"]
[null,null,"3 a 5 Kgs","Se observa ausencia de asimetría (Ej: cuerpo rotado,torsión y/o inclinación de tronco).","NA","0",null,null,null,{"$f":"IF(J9=\"Ha Terminado el Proceso de Identificación para esta Tarea\",\"Si terminó de responder toda la Tabla 3 Presione Aquí para  regresar a Tabla 1 Información General del Puesto de Trabajo donde podrá continuar con la siguiente Tarea\",\"\")","v":"Si terminó de responder toda la Tabla 3 Presione Aquí para  regresar a Tabla 1 Información General del Puesto de Trabajo donde podrá continuar con la siguiente Tarea"},{"$f":"F31","v":0}]
[null,null,null,"La carga es mantenida cerca del cuerpo.","NA","0",null,null,null,null,{"$f":"F31","v":0}]
[null,null,null,"El desplazamiento vertical de la carga se realiza entrelas caderas y los hombros.","NA","0"]
[null,null,null,"Frecuencia máxima de MMC: el levantamiento/descenso es menor a 5 veces por minuto","NA","0",null,null,null,null,{"$f":"F31","v":0}]
[null,null,"5,1 a 10 Kgs","Se observa ausencia de asimetría (Ej: cuerpo rotado,torsión y/o inclinación de tronco).","NA","0"]
[null,null,null,"La carga es mantenida cerca del cuerpo.","NA","0"]
[null,null,null,"El desplazamiento vertical de la carga se realiza entre las caderas y los hombros.","NA","0",null,null,null,null,{"$f":"F31","v":0}]
[null,null,null,"Frecuencia máxima de MMC: el levantamiento/descenso es menor a 1 veces por minuto.","NA","0"]
[null,null,"+ de 10 Kgs","Ausencia de cargas mayores a 10 Kgs.","NA","0"]
[null,null,null,null,null,{"$f":"F4+F5+F6+F7+F8+F9+F10+F11+F12+F13+F14+F15+F16+F17+F18+F19","v":0},null,null,null,null,{"$f":"F31","v":0}]
[null,null,null,"Transporte Manual de Carga"]
[]
[null,null,null,null,null,null,null,null,null,null,{"$f":"F31","v":0}]
[]
[null,null,null,null,"Si / No / NA"]
[null,null,null,null,"NA",{"$f":"IF(E26=\"SI\",\"0\",IF(E26=\"NA\",\"0\",\"1\"))","v":"0"}]
[null,null,null,null,"NA",{"$f":"IF(E27=\"SI\",\"0\",IF(E27=\"NA\",\"0\",\"1\"))","v":"0"},null,null,null,null,{"$f":"F31","v":0}]
[null,null,null,null,"NA","0"]
[null,null,null,"Ausencia de posturas inadecuadas durante el transporte de carga.","NA","0"]
[null,null,null,null,null,{"$f":"F26+F27+F28+F29","v":0},null,null,null,null,{"$f":"F31","v":0}]
[null,null,null,null,null,{"$f":"(F20+F30)","v":0}]
[]
[]
[null,null,null,null,null,null,null,null,null,"Presione solo si al completar Tabla 3  se lo indica el Cuadro de Resultado",{"$f":"F31","v":0}]

{"sheet":"TABLA 3T3P3","index":55,"n_rows":34,"n_cols":11,"rows_kept":34,"cut":false,"hidden":false,"merged":[]}
[]
[null,null,null,"LEVANTAMIENTO, DESCENSO Y TRANSPORTE DE CARGA - IDENTIFICACIÓN AVANZADA  CONDICIÓN ACEPTABLE  \n",null,null,null,null,null,"Cuadro de Resultado Tabla 3"]
[null,null,"Condición","Levantamiento/descenso y transporte manual de carga","Si / No / NA"]
[null,null,"Ambiente de Trabajo","La temperatura en donde se realiza la tarea es entre los 18° y 26° (grados Celsius).","NA",{"$f":"IF(E4=\"SI\",\"0\",IF(E4=\"NA\",\"0\",\"1\"))","v":"0"},null,null,null,"La Tarea:"]
[null,null,null,"El piso se encuentra en buenas condiciones (regular, seco y estable).","NA",{"$f":"IF(E5=\"SI\",\"0\",IF(E5=\"NA\",\"0\",\"1\"))","v":"0"},null,null,{"$f":"'TABLA 1 P3'!B10","v":"N° 3"},{"$f":"'TABLA 1 P3'!C10","v":"NA"}]
[null,null,null,"El espacio de trabajo permite el normal movimiento de los trabajadores (sin generar posturas incómodas) durante el levantamiento/descenso y/o transporte.","NA","0",null,null,null,"Resultado:"]
[null,null,"Característica de la Carga","El tamaño de la carga permite la visibilidad y movimientos normales del trabajador.","NA","0",null,null,{"$f":"F31","v":0},{"$f":"IF(F31>=1,\"No es Aceptable\",\"Aceptable\")","v":"Aceptable"}]
[null,null,null,"El centro de gravedad de la carga es estable.","NA","0",null,null,null,"Por lo que usted:"]
[null,null,null,"La carga permite su agarre sin riesgo de cortes, compresión o quemaduras.","NA","0",null,null,null,{"$f":"IF(J7=\"Aceptable\",\"Ha Terminado el Proceso de Identificación para esta Tarea\",\"Debe Aplicar Tabla 4\")","v":"Ha Terminado el Proceso de Identificación para esta Tarea"},{"$f":"F31","v":0}]
[null,null,"Horas de Trabajo\n","La tarea de levantamiento/descenso o transporte de carga dura menos de 8 hrs.","NA","0"]
[null,null,"3 a 5 Kgs","Se observa ausencia de asimetría (Ej: cuerpo rotado,torsión y/o inclinación de tronco).","NA","0",null,null,null,{"$f":"IF(J9=\"Ha Terminado el Proceso de Identificación para esta Tarea\",\"Si terminó de responder toda la Tabla 3 Presione Aquí para  regresar a Tabla 1 Información General del Puesto de Trabajo donde podrá continuar con la siguiente Tarea\",\"\")","v":"Si terminó de responder toda la Tabla 3 Presione Aquí para  regresar a Tabla 1 Información General del Puesto de Trabajo donde podrá continuar con la siguiente Tarea"},{"$f":"F31","v":0}]
[null,null,null,"La carga es mantenida cerca del cuerpo.","NA","0",null,null,null,null,{"$f":"F31","v":0}]
[null,null,null,"El desplazamiento vertical de la carga se realiza entrelas caderas y los hombros.","NA","0"]
[null,null,null,"Frecuencia máxima de MMC: el levantamiento/descenso es menor a 5 veces por minuto","NA","0",null,null,null,null,{"$f":"F31","v":0}]
[null,null,"5,1 a 10 Kgs","Se observa ausencia de asimetría (Ej: cuerpo rotado,torsión y/o inclinación de tronco).","NA","0"]
[null,null,null,"La carga es mantenida cerca del cuerpo.","NA","0"]
[null,null,null,"El desplazamiento vertical de la carga se realiza entre las caderas y los hombros.","NA","0",null,null,null,null,{"$f":"F31","v":0}]
[null,null,null,"Frecuencia máxima de MMC: el levantamiento/descenso es menor a 1 veces por minuto.","NA","0"]
[null,null,"+ de 10 Kgs","Ausencia de cargas mayores a 10 Kgs.","NA","0"]
[null,null,null,null,null,{"$f":"F4+F5+F6+F7+F8+F9+F10+F11+F12+F13+F14+F15+F16+F17+F18+F19","v":0},null,null,null,null,{"$f":"F31","v":0}]
[null,null,null,"Transporte Manual de Carga"]
[]
[null,null,null,null,null,null,null,null,null,null,{"$f":"F31","v":0}]
[]
[null,null,null,null,"Si / No / NA"]
[null,null,null,null,"NA",{"$f":"IF(E26=\"SI\",\"0\",IF(E26=\"NA\",\"0\",\"1\"))","v":"0"}]
[null,null,null,null,"NA",{"$f":"IF(E27=\"SI\",\"0\",IF(E27=\"NA\",\"0\",\"1\"))","v":"0"},null,null,null,null,{"$f":"F31","v":0}]
[null,null,null,null,"NA","0"]
[null,null,null,"Ausencia de posturas inadecuadas durante el transporte de carga.","NA","0"]
[null,null,null,null,null,{"$f":"F26+F27+F28+F29","v":0},null,null,null,null,{"$f":"F31","v":0}]
[null,null,null,null,null,{"$f":"(F20+F30)","v":0}]
[]
[]
[null,null,null,null,null,null,null,null,null,"Presione solo si al completar Tabla 3  se lo indica el Cuadro de Resultado",{"$f":"F31","v":0}]

{"sheet":"TABLA 3T3P4","index":56,"n_rows":34,"n_cols":11,"rows_kept":34,"cut":false,"hidden":false,"merged":[]}
[]
[null,null,null,"LEVANTAMIENTO, DESCENSO Y TRANSPORTE DE CARGA - IDENTIFICACIÓN AVANZADA  CONDICIÓN ACEPTABLE  \n",null,null,null,null,null,"Cuadro de Resultado Tabla 3"]
[null,null,"Condición","Levantamiento/descenso y transporte manual de carga","Si / No / NA"]
[null,null,"Ambiente de Trabajo","La temperatura en donde se realiza la tarea es entre los 18° y 26° (grados Celsius).","NA",{"$f":"IF(E4=\"SI\",\"0\",IF(E4=\"NA\",\"0\",\"1\"))","v":"0"},null,null,null,"La Tarea:"]
[null,null,null,"El piso se encuentra en buenas condiciones (regular, seco y estable).","NA",{"$f":"IF(E5=\"SI\",\"0\",IF(E5=\"NA\",\"0\",\"1\"))","v":"0"},null,null,{"$f":"'TABLA 1 P4'!B10","v":"N° 3"},{"$f":"'TABLA 1 P4'!C10","v":"NA"}]
[null,null,null,"El espacio de trabajo permite el normal movimiento de los trabajadores (sin generar posturas incómodas) durante el levantamiento/descenso y/o transporte.","NA","0",null,null,null,"Resultado:"]
[null,null,"Característica de la Carga","El tamaño de la carga permite la visibilidad y movimientos normales del trabajador.","NA","0",null,null,{"$f":"F31","v":0},{"$f":"IF(F31>=1,\"No es Aceptable\",\"Aceptable\")","v":"Aceptable"}]
[null,null,null,"El centro de gravedad de la carga es estable.","NA","0",null,null,null,"Por lo que usted:"]
[null,null,null,"La carga permite su agarre sin riesgo de cortes, compresión o quemaduras.","NA","0",null,null,null,{"$f":"IF(J7=\"Aceptable\",\"Ha Terminado el Proceso de Identificación para esta Tarea\",\"Debe Aplicar Tabla 4\")","v":"Ha Terminado el Proceso de Identificación para esta Tarea"},{"$f":"F31","v":0}]
[null,null,"Horas de Trabajo\n","La tarea de levantamiento/descenso o transporte de carga dura menos de 8 hrs.","NA","0"]
[null,null,"3 a 5 Kgs","Se observa ausencia de asimetría (Ej: cuerpo rotado,torsión y/o inclinación de tronco).","NA","0",null,null,null,{"$f":"IF(J9=\"Ha Terminado el Proceso de Identificación para esta Tarea\",\"Si terminó de responder toda la Tabla 3 Presione Aquí para  regresar a Tabla 1 Información General del Puesto de Trabajo donde podrá continuar con la siguiente Tarea\",\"\")","v":"Si terminó de responder toda la Tabla 3 Presione Aquí para  regresar a Tabla 1 Información General del Puesto de Trabajo donde podrá continuar con la siguiente Tarea"},{"$f":"F31","v":0}]
[null,null,null,"La carga es mantenida cerca del cuerpo.","NA","0",null,null,null,null,{"$f":"F31","v":0}]
[null,null,null,"El desplazamiento vertical de la carga se realiza entrelas caderas y los hombros.","NA","0"]
[null,null,null,"Frecuencia máxima de MMC: el levantamiento/descenso es menor a 5 veces por minuto","NA","0",null,null,null,null,{"$f":"F31","v":0}]
[null,null,"5,1 a 10 Kgs","Se observa ausencia de asimetría (Ej: cuerpo rotado,torsión y/o inclinación de tronco).","NA","0"]
[null,null,null,"La carga es mantenida cerca del cuerpo.","NA","0"]
[null,null,null,"El desplazamiento vertical de la carga se realiza entre las caderas y los hombros.","NA","0",null,null,null,null,{"$f":"F31","v":0}]
[null,null,null,"Frecuencia máxima de MMC: el levantamiento/descenso es menor a 1 veces por minuto.","NA","0"]
[null,null,"+ de 10 Kgs","Ausencia de cargas mayores a 10 Kgs.","NA","0"]
[null,null,null,null,null,{"$f":"F4+F5+F6+F7+F8+F9+F10+F11+F12+F13+F14+F15+F16+F17+F18+F19","v":0},null,null,null,null,{"$f":"F31","v":0}]
[null,null,null,"Transporte Manual de Carga"]
[]
[null,null,null,null,null,null,null,null,null,null,{"$f":"F31","v":0}]
[]
[null,null,null,null,"Si / No / NA"]
[null,null,null,null,"NA",{"$f":"IF(E26=\"SI\",\"0\",IF(E26=\"NA\",\"0\",\"1\"))","v":"0"}]
[null,null,null,null,"NA",{"$f":"IF(E27=\"SI\",\"0\",IF(E27=\"NA\",\"0\",\"1\"))","v":"0"},null,null,null,null,{"$f":"F31","v":0}]
[null,null,null,null,"NA","0"]
[null,null,null,"Ausencia de posturas inadecuadas durante el transporte de carga.","NA","0"]
[null,null,null,null,null,{"$f":"F26+F27+F28+F29","v":0},null,null,null,null,{"$f":"F31","v":0}]
[null,null,null,null,null,{"$f":"(F20+F30)","v":0}]
[]
[]
[null,null,null,null,null,null,null,null,null,"Presione solo si al completar Tabla 3  se lo indica el Cuadro de Resultado",{"$f":"F31","v":0}]

{"sheet":"TABLA 3T3P5","index":57,"n_rows":34,"n_cols":11,"rows_kept":34,"cut":false,"hidden":false,"merged":[]}
[]
[null,null,null,"LEVANTAMIENTO, DESCENSO Y TRANSPORTE DE CARGA - IDENTIFICACIÓN AVANZADA  CONDICIÓN ACEPTABLE  \n",null,null,null,null,null,"Cuadro de Resultado Tabla 3"]
[null,null,"Condición","Levantamiento/descenso y transporte manual de carga","Si / No / NA"]
[null,null,"Ambiente de Trabajo","La temperatura en donde se realiza la tarea es entre los 18° y 26° (grados Celsius).","NA",{"$f":"IF(E4=\"SI\",\"0\",IF(E4=\"NA\",\"0\",\"1\"))","v":"0"},null,null,null,"La Tarea:"]
[null,null,null,"El piso se encuentra en buenas condiciones (regular, seco y estable).","NA",{"$f":"IF(E5=\"SI\",\"0\",IF(E5=\"NA\",\"0\",\"1\"))","v":"0"},null,null,{"$f":"'TABLA 1 P5'!B10","v":"N° 3"},{"$f":"'TABLA 1 P5'!C10","v":"NA"}]
[null,null,null,"El espacio de trabajo permite el normal movimiento de los trabajadores (sin generar posturas incómodas) durante el levantamiento/descenso y/o transporte.","NA","0",null,null,null,"Resultado:"]
[null,null,"Característica de la Carga","El tamaño de la carga permite la visibilidad y movimientos normales del trabajador.","NA","0",null,null,{"$f":"F31","v":0},{"$f":"IF(F31>=1,\"No es Aceptable\",\"Aceptable\")","v":"Aceptable"}]
[null,null,null,"El centro de gravedad de la carga es estable.","NA","0",null,null,null,"Por lo que usted:"]
[null,null,null,"La carga permite su agarre sin riesgo de cortes, compresión o quemaduras.","NA","0",null,null,null,{"$f":"IF(J7=\"Aceptable\",\"Ha Terminado el Proceso de Identificación para esta Tarea\",\"Debe Aplicar Tabla 4\")","v":"Ha Terminado el Proceso de Identificación para esta Tarea"},{"$f":"F31","v":0}]
[null,null,"Horas de Trabajo\n","La tarea de levantamiento/descenso o transporte de carga dura menos de 8 hrs.","NA","0"]
[null,null,"3 a 5 Kgs","Se observa ausencia de asimetría (Ej: cuerpo rotado,torsión y/o inclinación de tronco).","NA","0",null,null,null,{"$f":"IF(J9=\"Ha Terminado el Proceso de Identificación para esta Tarea\",\"Si terminó de responder toda la Tabla 3 Presione Aquí para  regresar a Tabla 1 Información General del Puesto de Trabajo donde podrá continuar con la siguiente Tarea\",\"\")","v":"Si terminó de responder toda la Tabla 3 Presione Aquí para  regresar a Tabla 1 Información General del Puesto de Trabajo donde podrá continuar con la siguiente Tarea"},{"$f":"F31","v":0}]
[null,null,null,"La carga es mantenida cerca del cuerpo.","NA","0",null,null,null,null,{"$f":"F31","v":0}]
[null,null,null,"El desplazamiento vertical de la carga se realiza entrelas caderas y los hombros.","NA","0"]
[null,null,null,"Frecuencia máxima de MMC: el levantamiento/descenso es menor a 5 veces por minuto","NA","0",null,null,null,null,{"$f":"F31","v":0}]
[null,null,"5,1 a 10 Kgs","Se observa ausencia de asimetría (Ej: cuerpo rotado,torsión y/o inclinación de tronco).","NA","0"]
[null,null,null,"La carga es mantenida cerca del cuerpo.","NA","0"]
[null,null,null,"El desplazamiento vertical de la carga se realiza entre las caderas y los hombros.","NA","0",null,null,null,null,{"$f":"F31","v":0}]
[null,null,null,"Frecuencia máxima de MMC: el levantamiento/descenso es menor a 1 veces por minuto.","NA","0"]
[null,null,"+ de 10 Kgs","Ausencia de cargas mayores a 10 Kgs.","NA","0"]
[null,null,null,null,null,{"$f":"F4+F5+F6+F7+F8+F9+F10+F11+F12+F13+F14+F15+F16+F17+F18+F19","v":0},null,null,null,null,{"$f":"F31","v":0}]
[null,null,null,"Transporte Manual de Carga"]
[]
[null,null,null,null,null,null,null,null,null,null,{"$f":"F31","v":0}]
[]
[null,null,null,null,"Si / No / NA"]
[null,null,null,null,"NA",{"$f":"IF(E26=\"SI\",\"0\",IF(E26=\"NA\",\"0\",\"1\"))","v":"0"}]
[null,null,null,null,"NA",{"$f":"IF(E27=\"SI\",\"0\",IF(E27=\"NA\",\"0\",\"1\"))","v":"0"},null,null,null,null,{"$f":"F31","v":0}]
[null,null,null,null,"NA","0"]
[null,null,null,"Ausencia de posturas inadecuadas durante el transporte de carga.","NA","0"]
[null,null,null,null,null,{"$f":"F26+F27+F28+F29","v":0},null,null,null,null,{"$f":"F31","v":0}]
[null,null,null,null,null,{"$f":"(F20+F30)","v":0}]
[]
[]
[null,null,null,null,null,null,null,null,null,"Presione solo si al completar Tabla 3  se lo indica el Cuadro de Resultado",{"$f":"F31","v":0}]

{"sheet":"TABLA 3T3P6","index":58,"n_rows":34,"n_cols":11,"rows_kept":34,"cut":false,"hidden":false,"merged":[]}
[]
[null,null,null,"LEVANTAMIENTO, DESCENSO Y TRANSPORTE DE CARGA - IDENTIFICACIÓN AVANZADA  CONDICIÓN ACEPTABLE  \n",null,null,null,null,null,"Cuadro de Resultado Tabla 3"]
[null,null,"Condición","Levantamiento/descenso y transporte manual de carga","Si / No / NA"]
[null,null,"Ambiente de Trabajo","La temperatura en donde se realiza la tarea es entre los 18° y 26° (grados Celsius).","NA",{"$f":"IF(E4=\"SI\",\"0\",IF(E4=\"NA\",\"0\",\"1\"))","v":"0"},null,null,null,"La Tarea:"]
[null,null,null,"El piso se encuentra en buenas condiciones (regular, seco y estable).","NA",{"$f":"IF(E5=\"SI\",\"0\",IF(E5=\"NA\",\"0\",\"1\"))","v":"0"},null,null,{"$f":"'TABLA 1 P6'!B10","v":"N° 3"},{"$f":"'TABLA 1 P6'!C10","v":"NA"}]
[null,null,null,"El espacio de trabajo permite el normal movimiento de los trabajadores (sin generar posturas incómodas) durante el levantamiento/descenso y/o transporte.","NA","0",null,null,null,"Resultado:"]
[null,null,"Característica de la Carga","El tamaño de la carga permite la visibilidad y movimientos normales del trabajador.","NA","0",null,null,{"$f":"F31","v":0},{"$f":"IF(F31>=1,\"No es Aceptable\",\"Aceptable\")","v":"Aceptable"}]
[null,null,null,"El centro de gravedad de la carga es estable.","NA","0",null,null,null,"Por lo que usted:"]
[null,null,null,"La carga permite su agarre sin riesgo de cortes, compresión o quemaduras.","NA","0",null,null,null,{"$f":"IF(J7=\"Aceptable\",\"Ha Terminado el Proceso de Identificación para esta Tarea\",\"Debe Aplicar Tabla 4\")","v":"Ha Terminado el Proceso de Identificación para esta Tarea"},{"$f":"F31","v":0}]
[null,null,"Horas de Trabajo\n","La tarea de levantamiento/descenso o transporte de carga dura menos de 8 hrs.","NA","0"]
[null,null,"3 a 5 Kgs","Se observa ausencia de asimetría (Ej: cuerpo rotado,torsión y/o inclinación de tronco).","NA","0",null,null,null,{"$f":"IF(J9=\"Ha Terminado el Proceso de Identificación para esta Tarea\",\"Si terminó de responder toda la Tabla 3 Presione Aquí para  regresar a Tabla 1 Información General del Puesto de Trabajo donde podrá continuar con la siguiente Tarea\",\"\")","v":"Si terminó de responder toda la Tabla 3 Presione Aquí para  regresar a Tabla 1 Información General del Puesto de Trabajo donde podrá continuar con la siguiente Tarea"},{"$f":"F31","v":0}]
[null,null,null,"La carga es mantenida cerca del cuerpo.","NA","0",null,null,null,null,{"$f":"F31","v":0}]
[null,null,null,"El desplazamiento vertical de la carga se realiza entrelas caderas y los hombros.","NA","0"]
[null,null,null,"Frecuencia máxima de MMC: el levantamiento/descenso es menor a 5 veces por minuto","NA","0",null,null,null,null,{"$f":"F31","v":0}]
[null,null,"5,1 a 10 Kgs","Se observa ausencia de asimetría (Ej: cuerpo rotado,torsión y/o inclinación de tronco).","NA","0"]
[null,null,null,"La carga es mantenida cerca del cuerpo.","NA","0"]
[null,null,null,"El desplazamiento vertical de la carga se realiza entre las caderas y los hombros.","NA","0",null,null,null,null,{"$f":"F31","v":0}]
[null,null,null,"Frecuencia máxima de MMC: el levantamiento/descenso es menor a 1 veces por minuto.","NA","0"]
[null,null,"+ de 10 Kgs","Ausencia de cargas mayores a 10 Kgs.","NA","0"]
[null,null,null,null,null,{"$f":"F4+F5+F6+F7+F8+F9+F10+F11+F12+F13+F14+F15+F16+F17+F18+F19","v":0},null,null,null,null,{"$f":"F31","v":0}]
[null,null,null,"Transporte Manual de Carga"]
[]
[null,null,null,null,null,null,null,null,null,null,{"$f":"F31","v":0}]
[]
[null,null,null,null,"Si / No / NA"]
[null,null,null,null,"NA",{"$f":"IF(E26=\"SI\",\"0\",IF(E26=\"NA\",\"0\",\"1\"))","v":"0"}]
[null,null,null,null,"NA",{"$f":"IF(E27=\"SI\",\"0\",IF(E27=\"NA\",\"0\",\"1\"))","v":"0"},null,null,null,null,{"$f":"F31","v":0}]
[null,null,null,null,"NA","0"]
[null,null,null,"Ausencia de posturas inadecuadas durante el transporte de carga.","NA","0"]
[null,null,null,null,null,{"$f":"F26+F27+F28+F29","v":0},null,null,null,null,{"$f":"F31","v":0}]
[null,null,null,null,null,{"$f":"(F20+F30)","v":0}]
[]
[]
[null,null,null,null,null,null,null,null,null,"Presione solo si al completar Tabla 3  se lo indica el Cuadro de Resultado",{"$f":"F31","v":0}]

{"sheet":"TABLA 3T3P7","index":59,"n_rows":34,"n_cols":11,"rows_kept":34,"cut":false,"hidden":false,"merged":[]}
[]
[null,null,null,"LEVANTAMIENTO, DESCENSO Y TRANSPORTE DE CARGA - IDENTIFICACIÓN AVANZADA  CONDICIÓN ACEPTABLE  \n",null,null,null,null,null,"Cuadro de Resultado Tabla 3"]
[null,null,"Condición","Levantamiento/descenso y transporte manual de carga","Si / No / NA"]
[null,null,"Ambiente de Trabajo","La temperatura en donde se realiza la tarea es entre los 18° y 26° (grados Celsius).","NA",{"$f":"IF(E4=\"SI\",\"0\",IF(E4=\"NA\",\"0\",\"1\"))","v":"0"},null,null,null,"La Tarea:"]
[null,null,null,"El piso se encuentra en buenas condiciones (regular, seco y estable).","NA",{"$f":"IF(E5=\"SI\",\"0\",IF(E5=\"NA\",\"0\",\"1\"))","v":"0"},null,null,{"$f":"'TABLA 1 P7'!B10","v":"N° 3"},{"$f":"'TABLA 1 P7'!C10","v":"NA"}]
[null,null,null,"El espacio de trabajo permite el normal movimiento de los trabajadores (sin generar posturas incómodas) durante el levantamiento/descenso y/o transporte.","NA","0",null,null,null,"Resultado:"]
[null,null,"Característica de la Carga","El tamaño de la carga permite la visibilidad y movimientos normales del trabajador.","NA","0",null,null,{"$f":"F31","v":0},{"$f":"IF(F31>=1,\"No es Aceptable\",\"Aceptable\")","v":"Aceptable"}]
[null,null,null,"El centro de gravedad de la carga es estable.","NA","0",null,null,null,"Por lo que usted:"]
[null,null,null,"La carga permite su agarre sin riesgo de cortes, compresión o quemaduras.","NA","0",null,null,null,{"$f":"IF(J7=\"Aceptable\",\"Ha Terminado el Proceso de Identificación para esta Tarea\",\"Debe Aplicar Tabla 4\")","v":"Ha Terminado el Proceso de Identificación para esta Tarea"},{"$f":"F31","v":0}]
[null,null,"Horas de Trabajo\n","La tarea de levantamiento/descenso o transporte de carga dura menos de 8 hrs.","NA","0"]
[null,null,"3 a 5 Kgs","Se observa ausencia de asimetría (Ej: cuerpo rotado,torsión y/o inclinación de tronco).","NA","0",null,null,null,{"$f":"IF(J9=\"Ha Terminado el Proceso de Identificación para esta Tarea\",\"Si terminó de responder toda la Tabla 3 Presione Aquí para  regresar a Tabla 1 Información General del Puesto de Trabajo donde podrá continuar con la siguiente Tarea\",\"\")","v":"Si terminó de responder toda la Tabla 3 Presione Aquí para  regresar a Tabla 1 Información General del Puesto de Trabajo donde podrá continuar con la siguiente Tarea"},{"$f":"F31","v":0}]
[null,null,null,"La carga es mantenida cerca del cuerpo.","NA","0",null,null,null,null,{"$f":"F31","v":0}]
[null,null,null,"El desplazamiento vertical de la carga se realiza entrelas caderas y los hombros.","NA","0"]
[null,null,null,"Frecuencia máxima de MMC: el levantamiento/descenso es menor a 5 veces por minuto","NA","0",null,null,null,null,{"$f":"F31","v":0}]
[null,null,"5,1 a 10 Kgs","Se observa ausencia de asimetría (Ej: cuerpo rotado,torsión y/o inclinación de tronco).","NA","0"]
[null,null,null,"La carga es mantenida cerca del cuerpo.","NA","0"]
[null,null,null,"El desplazamiento vertical de la carga se realiza entre las caderas y los hombros.","NA","0",null,null,null,null,{"$f":"F31","v":0}]
[null,null,null,"Frecuencia máxima de MMC: el levantamiento/descenso es menor a 1 veces por minuto.","NA","0"]
[null,null,"+ de 10 Kgs","Ausencia de cargas mayores a 10 Kgs.","NA","0"]
[null,null,null,null,null,{"$f":"F4+F5+F6+F7+F8+F9+F10+F11+F12+F13+F14+F15+F16+F17+F18+F19","v":0},null,null,null,null,{"$f":"F31","v":0}]
[null,null,null,"Transporte Manual de Carga"]
[]
[null,null,null,null,null,null,null,null,null,null,{"$f":"F31","v":0}]
[]
[null,null,null,null,"Si / No / NA"]
[null,null,null,null,"NA",{"$f":"IF(E26=\"SI\",\"0\",IF(E26=\"NA\",\"0\",\"1\"))","v":"0"}]
[null,null,null,null,"NA",{"$f":"IF(E27=\"SI\",\"0\",IF(E27=\"NA\",\"0\",\"1\"))","v":"0"},null,null,null,null,{"$f":"F31","v":0}]
[null,null,null,null,"NA","0"]
[null,null,null,"Ausencia de posturas inadecuadas durante el transporte de carga.","NA","0"]
[null,null,null,null,null,{"$f":"F26+F27+F28+F29","v":0},null,null,null,null,{"$f":"F31","v":0}]
[null,null,null,null,null,{"$f":"(F20+F30)","v":0}]
[]
[]
[null,null,null,null,null,null,null,null,null,"Presione solo si al completar Tabla 3  se lo indica el Cuadro de Resultado",{"$f":"F31","v":0}]

{"sheet":"TABLA 3T3P8","index":60,"n_rows":34,"n_cols":11,"rows_kept":34,"cut":false,"hidden":false,"merged":[]}
[]
[null,null,null,"LEVANTAMIENTO, DESCENSO Y TRANSPORTE DE CARGA - IDENTIFICACIÓN AVANZADA  CONDICIÓN ACEPTABLE  \n",null,null,null,null,null,"Cuadro de Resultado Tabla 3"]
[null,null,"Condición","Levantamiento/descenso y transporte manual de carga","Si / No / NA"]
[null,null,"Ambiente de Trabajo","La temperatura en donde se realiza la tarea es entre los 18° y 26° (grados Celsius).","NA",{"$f":"IF(E4=\"SI\",\"0\",IF(E4=\"NA\",\"0\",\"1\"))","v":"0"},null,null,null,"La Tarea:"]
[null,null,null,"El piso se encuentra en buenas condiciones (regular, seco y estable).","NA",{"$f":"IF(E5=\"SI\",\"0\",IF(E5=\"NA\",\"0\",\"1\"))","v":"0"},null,null,{"$f":"'TABLA 1 P8'!B10","v":"N° 3"},{"$f":"'TABLA 1 P8'!C10","v":"NA"}]
[null,null,null,"El espacio de trabajo permite el normal movimiento de los trabajadores (sin generar posturas incómodas) durante el levantamiento/descenso y/o transporte.","NA","0",null,null,null,"Resultado:"]
[null,null,"Característica de la Carga","El tamaño de la carga permite la visibilidad y movimientos normales del trabajador.","NA","0",null,null,{"$f":"F31","v":0},{"$f":"IF(F31>=1,\"No es Aceptable\",\"Aceptable\")","v":"Aceptable"}]
[null,null,null,"El centro de gravedad de la carga es estable.","NA","0",null,null,null,"Por lo que usted:"]
[null,null,null,"La carga permite su agarre sin riesgo de cortes, compresión o quemaduras.","NA","0",null,null,null,{"$f":"IF(J7=\"Aceptable\",\"Ha Terminado el Proceso de Identificación para esta Tarea\",\"Debe Aplicar Tabla 4\")","v":"Ha Terminado el Proceso de Identificación para esta Tarea"},{"$f":"F31","v":0}]
[null,null,"Horas de Trabajo\n","La tarea de levantamiento/descenso o transporte de carga dura menos de 8 hrs.","NA","0"]
[null,null,"3 a 5 Kgs","Se observa ausencia de asimetría (Ej: cuerpo rotado,torsión y/o inclinación de tronco).","NA","0",null,null,null,{"$f":"IF(J9=\"Ha Terminado el Proceso de Identificación para esta Tarea\",\"Si terminó de responder toda la Tabla 3 Presione Aquí para  regresar a Tabla 1 Información General del Puesto de Trabajo donde podrá continuar con la siguiente Tarea\",\"\")","v":"Si terminó de responder toda la Tabla 3 Presione Aquí para  regresar a Tabla 1 Información General del Puesto de Trabajo donde podrá continuar con la siguiente Tarea"},{"$f":"F31","v":0}]
[null,null,null,"La carga es mantenida cerca del cuerpo.","NA","0",null,null,null,null,{"$f":"F31","v":0}]
[null,null,null,"El desplazamiento vertical de la carga se realiza entrelas caderas y los hombros.","NA","0"]
[null,null,null,"Frecuencia máxima de MMC: el levantamiento/descenso es menor a 5 veces por minuto","NA","0",null,null,null,null,{"$f":"F31","v":0}]
[null,null,"5,1 a 10 Kgs","Se observa ausencia de asimetría (Ej: cuerpo rotado,torsión y/o inclinación de tronco).","NA","0"]
[null,null,null,"La carga es mantenida cerca del cuerpo.","NA","0"]
[null,null,null,"El desplazamiento vertical de la carga se realiza entre las caderas y los hombros.","NA","0",null,null,null,null,{"$f":"F31","v":0}]
[null,null,null,"Frecuencia máxima de MMC: el levantamiento/descenso es menor a 1 veces por minuto.","NA","0"]
[null,null,"+ de 10 Kgs","Ausencia de cargas mayores a 10 Kgs.","NA","0"]
[null,null,null,null,null,{"$f":"F4+F5+F6+F7+F8+F9+F10+F11+F12+F13+F14+F15+F16+F17+F18+F19","v":0},null,null,null,null,{"$f":"F31","v":0}]
[null,null,null,"Transporte Manual de Carga"]
[]
[null,null,null,null,null,null,null,null,null,null,{"$f":"F31","v":0}]
[]
[null,null,null,null,"Si / No / NA"]
[null,null,null,null,"NA",{"$f":"IF(E26=\"SI\",\"0\",IF(E26=\"NA\",\"0\",\"1\"))","v":"0"}]
[null,null,null,null,"NA",{"$f":"IF(E27=\"SI\",\"0\",IF(E27=\"NA\",\"0\",\"1\"))","v":"0"},null,null,null,null,{"$f":"F31","v":0}]
[null,null,null,null,"NA","0"]
[null,null,null,"Ausencia de posturas inadecuadas durante el transporte de carga.","NA","0"]
[null,null,null,null,null,{"$f":"F26+F27+F28+F29","v":0},null,null,null,null,{"$f":"F31","v":0}]
[null,null,null,null,null,{"$f":"(F20+F30)","v":0}]
[]
[]
[null,null,null,null,null,null,null,null,null,"Presione solo si al completar Tabla 3  se lo indica el Cuadro de Resultado",{"$f":"F31","v":0}]

{"sheet":"TABLA 3T3P9","index":61,"n_rows":34,"n_cols":11,"rows_kept":34,"cut":false,"hidden":false,"merged":[]}
[]
[null,null,null,"LEVANTAMIENTO, DESCENSO Y TRANSPORTE DE CARGA - IDENTIFICACIÓN AVANZADA  CONDICIÓN ACEPTABLE  \n",null,null,null,null,null,"Cuadro de Resultado Tabla 3"]
[null,null,"Condición","Levantamiento/descenso y transporte manual de carga","Si / No / NA"]
[null,null,"Ambiente de Trabajo","La temperatura en donde se realiza la tarea es entre los 18° y 26° (grados Celsius).","NA",{"$f":"IF(E4=\"SI\",\"0\",IF(E4=\"NA\",\"0\",\"1\"))","v":"0"},null,null,null,"La Tarea:"]
[null,null,null,"El piso se encuentra en buenas condiciones (regular, seco y estable).","NA",{"$f":"IF(E5=\"SI\",\"0\",IF(E5=\"NA\",\"0\",\"1\"))","v":"0"},null,null,{"$f":"'TABLA 1 P9'!B10","v":"N° 3"},{"$f":"'TABLA 1 P9'!C10","v":"NA"}]
[null,null,null,"El espacio de trabajo permite el normal movimiento de los trabajadores (sin generar posturas incómodas) durante el levantamiento/descenso y/o transporte.","NA","0",null,null,null,"Resultado:"]
[null,null,"Característica de la Carga","El tamaño de la carga permite la visibilidad y movimientos normales del trabajador.","NA","0",null,null,{"$f":"F31","v":0},{"$f":"IF(F31>=1,\"No es Aceptable\",\"Aceptable\")","v":"Aceptable"}]
[null,null,null,"El centro de gravedad de la carga es estable.","NA","0",null,null,null,"Por lo que usted:"]
[null,null,null,"La carga permite su agarre sin riesgo de cortes, compresión o quemaduras.","NA","0",null,null,null,{"$f":"IF(J7=\"Aceptable\",\"Ha Terminado el Proceso de Identificación para esta Tarea\",\"Debe Aplicar Tabla 4\")","v":"Ha Terminado el Proceso de Identificación para esta Tarea"},{"$f":"F31","v":0}]
[null,null,"Horas de Trabajo\n","La tarea de levantamiento/descenso o transporte de carga dura menos de 8 hrs.","NA","0"]
[null,null,"3 a 5 Kgs","Se observa ausencia de asimetría (Ej: cuerpo rotado,torsión y/o inclinación de tronco).","NA","0",null,null,null,{"$f":"IF(J9=\"Ha Terminado el Proceso de Identificación para esta Tarea\",\"Si terminó de responder toda la Tabla 3 Presione Aquí para  regresar a Tabla 1 Información General del Puesto de Trabajo donde podrá continuar con la siguiente Tarea\",\"\")","v":"Si terminó de responder toda la Tabla 3 Presione Aquí para  regresar a Tabla 1 Información General del Puesto de Trabajo donde podrá continuar con la siguiente Tarea"},{"$f":"F31","v":0}]
[null,null,null,"La carga es mantenida cerca del cuerpo.","NA","0",null,null,null,null,{"$f":"F31","v":0}]
[null,null,null,"El desplazamiento vertical de la carga se realiza entrelas caderas y los hombros.","NA","0"]
[null,null,null,"Frecuencia máxima de MMC: el levantamiento/descenso es menor a 5 veces por minuto","NA","0",null,null,null,null,{"$f":"F31","v":0}]
[null,null,"5,1 a 10 Kgs","Se observa ausencia de asimetría (Ej: cuerpo rotado,torsión y/o inclinación de tronco).","NA","0"]
[null,null,null,"La carga es mantenida cerca del cuerpo.","NA","0"]
[null,null,null,"El desplazamiento vertical de la carga se realiza entre las caderas y los hombros.","NA","0",null,null,null,null,{"$f":"F31","v":0}]
[null,null,null,"Frecuencia máxima de MMC: el levantamiento/descenso es menor a 1 veces por minuto.","NA","0"]
[null,null,"+ de 10 Kgs","Ausencia de cargas mayores a 10 Kgs.","NA","0"]
[null,null,null,null,null,{"$f":"F4+F5+F6+F7+F8+F9+F10+F11+F12+F13+F14+F15+F16+F17+F18+F19","v":0},null,null,null,null,{"$f":"F31","v":0}]
[null,null,null,"Transporte Manual de Carga"]
[]
[null,null,null,null,null,null,null,null,null,null,{"$f":"F31","v":0}]
[]
[null,null,null,null,"Si / No / NA"]
[null,null,null,null,"NA",{"$f":"IF(E26=\"SI\",\"0\",IF(E26=\"NA\",\"0\",\"1\"))","v":"0"}]
[null,null,null,null,"NA",{"$f":"IF(E27=\"SI\",\"0\",IF(E27=\"NA\",\"0\",\"1\"))","v":"0"},null,null,null,null,{"$f":"F31","v":0}]
[null,null,null,null,"NA","0"]
[null,null,null,"Ausencia de posturas inadecuadas durante el transporte de carga.","NA","0"]
[null,null,null,null,null,{"$f":"F26+F27+F28+F29","v":0},null,null,null,null,{"$f":"F31","v":0}]
[null,null,null,null,null,{"$f":"(F20+F30)","v":0}]
[]
[]
[null,null,null,null,null,null,null,null,null,"Presione solo si al completar Tabla 3  se lo indica el Cuadro de Resultado",{"$f":"F31","v":0}]

{"sheet":"TABLA 3T3P10","index":62,"n_rows":34,"n_cols":11,"rows_kept":34,"cut":false,"hidden":false,"merged":[]}
[]
[null,null,null,"LEVANTAMIENTO, DESCENSO Y TRANSPORTE DE CARGA - IDENTIFICACIÓN AVANZADA  CONDICIÓN ACEPTABLE  \n",null,null,null,null,null,"Cuadro de Resultado Tabla 3"]
[null,null,"Condición","Levantamiento/descenso y transporte manual de carga","Si / No / NA"]
[null,null,"Ambiente de Trabajo","La temperatura en donde se realiza la tarea es entre los 18° y 26° (grados Celsius).","NA",{"$f":"IF(E4=\"SI\",\"0\",IF(E4=\"NA\",\"0\",\"1\"))","v":"0"},null,null,null,"La Tarea:"]
[null,null,null,"El piso se encuentra en buenas condiciones (regular, seco y estable).","NA",{"$f":"IF(E5=\"SI\",\"0\",IF(E5=\"NA\",\"0\",\"1\"))","v":"0"},null,null,{"$f":"'TABLA 1 P10'!B10","v":"N° 3"},{"$f":"'TABLA 1 P10'!C10","v":"NA"}]
[null,null,null,"El espacio de trabajo permite el normal movimiento de los trabajadores (sin generar posturas incómodas) durante el levantamiento/descenso y/o transporte.","NA","0",null,null,null,"Resultado:"]
[null,null,"Característica de la Carga","El tamaño de la carga permite la visibilidad y movimientos normales del trabajador.","NA","0",null,null,{"$f":"F31","v":0},{"$f":"IF(F31>=1,\"No es Aceptable\",\"Aceptable\")","v":"Aceptable"}]
[null,null,null,"El centro de gravedad de la carga es estable.","NA","0",null,null,null,"Por lo que usted:"]
[null,null,null,"La carga permite su agarre sin riesgo de cortes, compresión o quemaduras.","NA","0",null,null,null,{"$f":"IF(J7=\"Aceptable\",\"Ha Terminado el Proceso de Identificación para esta Tarea\",\"Debe Aplicar Tabla 4\")","v":"Ha Terminado el Proceso de Identificación para esta Tarea"},{"$f":"F31","v":0}]
[null,null,"Horas de Trabajo\n","La tarea de levantamiento/descenso o transporte de carga dura menos de 8 hrs.","NA","0"]
[null,null,"3 a 5 Kgs","Se observa ausencia de asimetría (Ej: cuerpo rotado,torsión y/o inclinación de tronco).","NA","0",null,null,null,{"$f":"IF(J9=\"Ha Terminado el Proceso de Identificación para esta Tarea\",\"Si terminó de responder toda la Tabla 3 Presione Aquí para  regresar a Tabla 1 Información General del Puesto de Trabajo donde podrá continuar con la siguiente Tarea\",\"\")","v":"Si terminó de responder toda la Tabla 3 Presione Aquí para  regresar a Tabla 1 Información General del Puesto de Trabajo donde podrá continuar con la siguiente Tarea"},{"$f":"F31","v":0}]
[null,null,null,"La carga es mantenida cerca del cuerpo.","NA","0",null,null,null,null,{"$f":"F31","v":0}]
[null,null,null,"El desplazamiento vertical de la carga se realiza entrelas caderas y los hombros.","NA","0"]
[null,null,null,"Frecuencia máxima de MMC: el levantamiento/descenso es menor a 5 veces por minuto","NA","0",null,null,null,null,{"$f":"F31","v":0}]
[null,null,"5,1 a 10 Kgs","Se observa ausencia de asimetría (Ej: cuerpo rotado,torsión y/o inclinación de tronco).","NA","0"]
[null,null,null,"La carga es mantenida cerca del cuerpo.","NA","0"]
[null,null,null,"El desplazamiento vertical de la carga se realiza entre las caderas y los hombros.","NA","0",null,null,null,null,{"$f":"F31","v":0}]
[null,null,null,"Frecuencia máxima de MMC: el levantamiento/descenso es menor a 1 veces por minuto.","NA","0"]
[null,null,"+ de 10 Kgs","Ausencia de cargas mayores a 10 Kgs.","NA","0"]
[null,null,null,null,null,{"$f":"F4+F5+F6+F7+F8+F9+F10+F11+F12+F13+F14+F15+F16+F17+F18+F19","v":0},null,null,null,null,{"$f":"F31","v":0}]
[null,null,null,"Transporte Manual de Carga"]
[]
[null,null,null,null,null,null,null,null,null,null,{"$f":"F31","v":0}]
[]
[null,null,null,null,"Si / No / NA"]
[null,null,null,null,"NA",{"$f":"IF(E26=\"SI\",\"0\",IF(E26=\"NA\",\"0\",\"1\"))","v":"0"}]
[null,null,null,null,"NA",{"$f":"IF(E27=\"SI\",\"0\",IF(E27=\"NA\",\"0\",\"1\"))","v":"0"},null,null,null,null,{"$f":"F31","v":0}]
[null,null,null,null,"NA","0"]
[null,null,null,"Ausencia de posturas inadecuadas durante el transporte de carga.","NA","0"]
[null,null,null,null,null,{"$f":"F26+F27+F28+F29","v":0},null,null,null,null,{"$f":"F31","v":0}]
[null,null,null,null,null,{"$f":"(F20+F30)","v":0}]
[]
[]
[null,null,null,null,null,null,null,null,null,"Presione solo si al completar Tabla 3  se lo indica el Cuadro de Resultado",{"$f":"F31","v":0}]

{"sheet":"TABLA 3T4P3","index":63,"n_rows":34,"n_cols":11,"rows_kept":34,"cut":false,"hidden":false,"merged":[]}
[]
[null,null,null,"LEVANTAMIENTO, DESCENSO Y TRANSPORTE DE CARGA - IDENTIFICACIÓN AVANZADA  CONDICIÓN ACEPTABLE  \n",null,null,null,null,null,"Cuadro de Resultado Tabla 3"]
[null,null,"Condición","Levantamiento/descenso y transporte manual de carga","Si / No / NA"]
[null,null,"Ambiente de Trabajo","La temperatura en donde se realiza la tarea es entre los 18° y 26° (grados Celsius).","NA",{"$f":"IF(E4=\"SI\",\"0\",IF(E4=\"NA\",\"0\",\"1\"))","v":"0"},null,null,null,"La Tarea:"]
[null,null,null,"El piso se encuentra en buenas condiciones (regular, seco y estable).","NA",{"$f":"IF(E5=\"SI\",\"0\",IF(E5=\"NA\",\"0\",\"1\"))","v":"0"},null,null,{"$f":"'TABLA 1 P3'!B12","v":"N°4"},{"$f":"'TABLA 1 P3'!C12","v":"NA"}]
[null,null,null,"El espacio de trabajo permite el normal movimiento de los trabajadores (sin generar posturas incómodas) durante el levantamiento/descenso y/o transporte.","NA","0",null,null,null,"Resultado:"]
[null,null,"Característica de la Carga","El tamaño de la carga permite la visibilidad y movimientos normales del trabajador.","NA","0",null,null,{"$f":"F31","v":0},{"$f":"IF(F31>=1,\"No es Aceptable\",\"Aceptable\")","v":"Aceptable"}]
[null,null,null,"El centro de gravedad de la carga es estable.","NA","0",null,null,null,"Por lo que usted:"]
[null,null,null,"La carga permite su agarre sin riesgo de cortes, compresión o quemaduras.","NA","0",null,null,null,{"$f":"IF(J7=\"Aceptable\",\"Ha Terminado el Proceso de Identificación para esta Tarea\",\"Debe Aplicar Tabla 4\")","v":"Ha Terminado el Proceso de Identificación para esta Tarea"},{"$f":"F31","v":0}]
[null,null,"Horas de Trabajo\n","La tarea de levantamiento/descenso o transporte de carga dura menos de 8 hrs.","NA","0"]
[null,null,"3 a 5 Kgs","Se observa ausencia de asimetría (Ej: cuerpo rotado,torsión y/o inclinación de tronco).","NA","0",null,null,null,{"$f":"IF(J9=\"Ha Terminado el Proceso de Identificación para esta Tarea\",\"Si terminó de responder toda la Tabla 3 Presione Aquí para  regresar a Tabla 1 Información General del Puesto de Trabajo donde podrá continuar con la siguiente Tarea\",\"\")","v":"Si terminó de responder toda la Tabla 3 Presione Aquí para  regresar a Tabla 1 Información General del Puesto de Trabajo donde podrá continuar con la siguiente Tarea"},{"$f":"F31","v":0}]
[null,null,null,"La carga es mantenida cerca del cuerpo.","NA","0",null,null,null,null,{"$f":"F31","v":0}]
[null,null,null,"El desplazamiento vertical de la carga se realiza entrelas caderas y los hombros.","NA","0"]
[null,null,null,"Frecuencia máxima de MMC: el levantamiento/descenso es menor a 5 veces por minuto","NA","0",null,null,null,null,{"$f":"F31","v":0}]
[null,null,"5,1 a 10 Kgs","Se observa ausencia de asimetría (Ej: cuerpo rotado,torsión y/o inclinación de tronco).","NA","0"]
[null,null,null,"La carga es mantenida cerca del cuerpo.","NA","0"]
[null,null,null,"El desplazamiento vertical de la carga se realiza entre las caderas y los hombros.","NA","0",null,null,null,null,{"$f":"F31","v":0}]
[null,null,null,"Frecuencia máxima de MMC: el levantamiento/descenso es menor a 1 veces por minuto.","NA","0"]
[null,null,"+ de 10 Kgs","Ausencia de cargas mayores a 10 Kgs.","NA","0"]
[null,null,null,null,null,{"$f":"F4+F5+F6+F7+F8+F9+F10+F11+F12+F13+F14+F15+F16+F17+F18+F19","v":0},null,null,null,null,{"$f":"F31","v":0}]
[null,null,null,"Transporte Manual de Carga"]
[]
[null,null,null,null,null,null,null,null,null,null,{"$f":"F31","v":0}]
[]
[null,null,null,null,"Si / No / NA"]
[null,null,null,null,"NA",{"$f":"IF(E26=\"SI\",\"0\",IF(E26=\"NA\",\"0\",\"1\"))","v":"0"}]
[null,null,null,null,"NA",{"$f":"IF(E27=\"SI\",\"0\",IF(E27=\"NA\",\"0\",\"1\"))","v":"0"},null,null,null,null,{"$f":"F31","v":0}]
[null,null,null,null,"NA","0"]
[null,null,null,"Ausencia de posturas inadecuadas durante el transporte de carga.","NA","0"]
[null,null,null,null,null,{"$f":"F26+F27+F28+F29","v":0},null,null,null,null,{"$f":"F31","v":0}]
[null,null,null,null,null,{"$f":"(F20+F30)","v":0}]
[]
[]
[null,null,null,null,null,null,null,null,null,"Presione solo si al completar Tabla 3  se lo indica el Cuadro de Resultado",{"$f":"F31","v":0}]

{"sheet":"TABLA 3T4P4","index":64,"n_rows":34,"n_cols":11,"rows_kept":34,"cut":false,"hidden":false,"merged":[]}
[]
[null,null,null,"LEVANTAMIENTO, DESCENSO Y TRANSPORTE DE CARGA - IDENTIFICACIÓN AVANZADA  CONDICIÓN ACEPTABLE  \n",null,null,null,null,null,"Cuadro de Resultado Tabla 3"]
[null,null,"Condición","Levantamiento/descenso y transporte manual de carga","Si / No / NA"]
[null,null,"Ambiente de Trabajo","La temperatura en donde se realiza la tarea es entre los 18° y 26° (grados Celsius).","NA",{"$f":"IF(E4=\"SI\",\"0\",IF(E4=\"NA\",\"0\",\"1\"))","v":"0"},null,null,null,"La Tarea:"]
[null,null,null,"El piso se encuentra en buenas condiciones (regular, seco y estable).","NA",{"$f":"IF(E5=\"SI\",\"0\",IF(E5=\"NA\",\"0\",\"1\"))","v":"0"},null,null,{"$f":"'TABLA 1 P4'!B12","v":"N°4"},{"$f":"'TABLA 1 P4'!C12","v":"NA"}]
[null,null,null,"El espacio de trabajo permite el normal movimiento de los trabajadores (sin generar posturas incómodas) durante el levantamiento/descenso y/o transporte.","NA","0",null,null,null,"Resultado:"]
[null,null,"Característica de la Carga","El tamaño de la carga permite la visibilidad y movimientos normales del trabajador.","NA","0",null,null,{"$f":"F31","v":0},{"$f":"IF(F31>=1,\"No es Aceptable\",\"Aceptable\")","v":"Aceptable"}]
[null,null,null,"El centro de gravedad de la carga es estable.","NA","0",null,null,null,"Por lo que usted:"]
[null,null,null,"La carga permite su agarre sin riesgo de cortes, compresión o quemaduras.","NA","0",null,null,null,{"$f":"IF(J7=\"Aceptable\",\"Ha Terminado el Proceso de Identificación para esta Tarea\",\"Debe Aplicar Tabla 4\")","v":"Ha Terminado el Proceso de Identificación para esta Tarea"},{"$f":"F31","v":0}]
[null,null,"Horas de Trabajo\n","La tarea de levantamiento/descenso o transporte de carga dura menos de 8 hrs.","NA","0"]
[null,null,"3 a 5 Kgs","Se observa ausencia de asimetría (Ej: cuerpo rotado,torsión y/o inclinación de tronco).","NA","0",null,null,null,{"$f":"IF(J9=\"Ha Terminado el Proceso de Identificación para esta Tarea\",\"Si terminó de responder toda la Tabla 3 Presione Aquí para  regresar a Tabla 1 Información General del Puesto de Trabajo donde podrá continuar con la siguiente Tarea\",\"\")","v":"Si terminó de responder toda la Tabla 3 Presione Aquí para  regresar a Tabla 1 Información General del Puesto de Trabajo donde podrá continuar con la siguiente Tarea"},{"$f":"F31","v":0}]
[null,null,null,"La carga es mantenida cerca del cuerpo.","NA","0",null,null,null,null,{"$f":"F31","v":0}]
[null,null,null,"El desplazamiento vertical de la carga se realiza entrelas caderas y los hombros.","NA","0"]
[null,null,null,"Frecuencia máxima de MMC: el levantamiento/descenso es menor a 5 veces por minuto","NA","0",null,null,null,null,{"$f":"F31","v":0}]
[null,null,"5,1 a 10 Kgs","Se observa ausencia de asimetría (Ej: cuerpo rotado,torsión y/o inclinación de tronco).","NA","0"]
[null,null,null,"La carga es mantenida cerca del cuerpo.","NA","0"]
[null,null,null,"El desplazamiento vertical de la carga se realiza entre las caderas y los hombros.","NA","0",null,null,null,null,{"$f":"F31","v":0}]
[null,null,null,"Frecuencia máxima de MMC: el levantamiento/descenso es menor a 1 veces por minuto.","NA","0"]
[null,null,"+ de 10 Kgs","Ausencia de cargas mayores a 10 Kgs.","NA","0"]
[null,null,null,null,null,{"$f":"F4+F5+F6+F7+F8+F9+F10+F11+F12+F13+F14+F15+F16+F17+F18+F19","v":0},null,null,null,null,{"$f":"F31","v":0}]
[null,null,null,"Transporte Manual de Carga"]
[]
[null,null,null,null,null,null,null,null,null,null,{"$f":"F31","v":0}]
[]
[null,null,null,null,"Si / No / NA"]
[null,null,null,null,"NA",{"$f":"IF(E26=\"SI\",\"0\",IF(E26=\"NA\",\"0\",\"1\"))","v":"0"}]
[null,null,null,null,"NA",{"$f":"IF(E27=\"SI\",\"0\",IF(E27=\"NA\",\"0\",\"1\"))","v":"0"},null,null,null,null,{"$f":"F31","v":0}]
[null,null,null,null,"NA","0"]
[null,null,null,"Ausencia de posturas inadecuadas durante el transporte de carga.","NA","0"]
[null,null,null,null,null,{"$f":"F26+F27+F28+F29","v":0},null,null,null,null,{"$f":"F31","v":0}]
[null,null,null,null,null,{"$f":"(F20+F30)","v":0}]
[]
[]
[null,null,null,null,null,null,null,null,null,"Presione solo si al completar Tabla 3  se lo indica el Cuadro de Resultado",{"$f":"F31","v":0}]

{"sheet":"TABLA 3T4P5","index":65,"n_rows":34,"n_cols":11,"rows_kept":34,"cut":false,"hidden":false,"merged":[]}
[]
[null,null,null,"LEVANTAMIENTO, DESCENSO Y TRANSPORTE DE CARGA - IDENTIFICACIÓN AVANZADA  CONDICIÓN ACEPTABLE  \n",null,null,null,null,null,"Cuadro de Resultado Tabla 3"]
[null,null,"Condición","Levantamiento/descenso y transporte manual de carga","Si / No / NA"]
[null,null,"Ambiente de Trabajo","La temperatura en donde se realiza la tarea es entre los 18° y 26° (grados Celsius).","NA",{"$f":"IF(E4=\"SI\",\"0\",IF(E4=\"NA\",\"0\",\"1\"))","v":"0"},null,null,null,"La Tarea:"]
[null,null,null,"El piso se encuentra en buenas condiciones (regular, seco y estable).","NA",{"$f":"IF(E5=\"SI\",\"0\",IF(E5=\"NA\",\"0\",\"1\"))","v":"0"},null,null,{"$f":"'TABLA 1 P5'!B12","v":"N°4"},{"$f":"'TABLA 1 P5'!C12","v":"NA"}]
[null,null,null,"El espacio de trabajo permite el normal movimiento de los trabajadores (sin generar posturas incómodas) durante el levantamiento/descenso y/o transporte.","NA","0",null,null,null,"Resultado:"]
[null,null,"Característica de la Carga","El tamaño de la carga permite la visibilidad y movimientos normales del trabajador.","NA","0",null,null,{"$f":"F31","v":0},{"$f":"IF(F31>=1,\"No es Aceptable\",\"Aceptable\")","v":"Aceptable"}]
[null,null,null,"El centro de gravedad de la carga es estable.","NA","0",null,null,null,"Por lo que usted:"]
[null,null,null,"La carga permite su agarre sin riesgo de cortes, compresión o quemaduras.","NA","0",null,null,null,{"$f":"IF(J7=\"Aceptable\",\"Ha Terminado el Proceso de Identificación para esta Tarea\",\"Debe Aplicar Tabla 4\")","v":"Ha Terminado el Proceso de Identificación para esta Tarea"},{"$f":"F31","v":0}]
[null,null,"Horas de Trabajo\n","La tarea de levantamiento/descenso o transporte de carga dura menos de 8 hrs.","NA","0"]
[null,null,"3 a 5 Kgs","Se observa ausencia de asimetría (Ej: cuerpo rotado,torsión y/o inclinación de tronco).","NA","0",null,null,null,{"$f":"IF(J9=\"Ha Terminado el Proceso de Identificación para esta Tarea\",\"Si terminó de responder toda la Tabla 3 Presione Aquí para  regresar a Tabla 1 Información General del Puesto de Trabajo donde podrá continuar con la siguiente Tarea\",\"\")","v":"Si terminó de responder toda la Tabla 3 Presione Aquí para  regresar a Tabla 1 Información General del Puesto de Trabajo donde podrá continuar con la siguiente Tarea"},{"$f":"F31","v":0}]
[null,null,null,"La carga es mantenida cerca del cuerpo.","NA","0",null,null,null,null,{"$f":"F31","v":0}]
[null,null,null,"El desplazamiento vertical de la carga se realiza entrelas caderas y los hombros.","NA","0"]
[null,null,null,"Frecuencia máxima de MMC: el levantamiento/descenso es menor a 5 veces por minuto","NA","0",null,null,null,null,{"$f":"F31","v":0}]
[null,null,"5,1 a 10 Kgs","Se observa ausencia de asimetría (Ej: cuerpo rotado,torsión y/o inclinación de tronco).","NA","0"]
[null,null,null,"La carga es mantenida cerca del cuerpo.","NA","0"]
[null,null,null,"El desplazamiento vertical de la carga se realiza entre las caderas y los hombros.","NA","0",null,null,null,null,{"$f":"F31","v":0}]
[null,null,null,"Frecuencia máxima de MMC: el levantamiento/descenso es menor a 1 veces por minuto.","NA","0"]
[null,null,"+ de 10 Kgs","Ausencia de cargas mayores a 10 Kgs.","NA","0"]
[null,null,null,null,null,{"$f":"F4+F5+F6+F7+F8+F9+F10+F11+F12+F13+F14+F15+F16+F17+F18+F19","v":0},null,null,null,null,{"$f":"F31","v":0}]
[null,null,null,"Transporte Manual de Carga"]
[]
[null,null,null,null,null,null,null,null,null,null,{"$f":"F31","v":0}]
[]
[null,null,null,null,"Si / No / NA"]
[null,null,null,null,"NA",{"$f":"IF(E26=\"SI\",\"0\",IF(E26=\"NA\",\"0\",\"1\"))","v":"0"}]
[null,null,null,null,"NA",{"$f":"IF(E27=\"SI\",\"0\",IF(E27=\"NA\",\"0\",\"1\"))","v":"0"},null,null,null,null,{"$f":"F31","v":0}]
[null,null,null,null,"NA","0"]
[null,null,null,"Ausencia de posturas inadecuadas durante el transporte de carga.","NA","0"]
[null,null,null,null,null,{"$f":"F26+F27+F28+F29","v":0},null,null,null,null,{"$f":"F31","v":0}]
[null,null,null,null,null,{"$f":"(F20+F30)","v":0}]
[]
[]
[null,null,null,null,null,null,null,null,null,"Presione solo si al completar Tabla 3  se lo indica el Cuadro de Resultado",{"$f":"F31","v":0}]

{"sheet":"TABLA 3T4P6","index":66,"n_rows":34,"n_cols":11,"rows_kept":34,"cut":false,"hidden":false,"merged":[]}
[]
[null,null,null,"LEVANTAMIENTO, DESCENSO Y TRANSPORTE DE CARGA - IDENTIFICACIÓN AVANZADA  CONDICIÓN ACEPTABLE  \n",null,null,null,null,null,"Cuadro de Resultado Tabla 3"]
[null,null,"Condición","Levantamiento/descenso y transporte manual de carga","Si / No / NA"]
[null,null,"Ambiente de Trabajo","La temperatura en donde se realiza la tarea es entre los 18° y 26° (grados Celsius).","NA",{"$f":"IF(E4=\"SI\",\"0\",IF(E4=\"NA\",\"0\",\"1\"))","v":"0"},null,null,null,"La Tarea:"]
[null,null,null,"El piso se encuentra en buenas condiciones (regular, seco y estable).","NA",{"$f":"IF(E5=\"SI\",\"0\",IF(E5=\"NA\",\"0\",\"1\"))","v":"0"},null,null,{"$f":"'TABLA 1 P6'!B12","v":"N°4"},{"$f":"'TABLA 1 P6'!C12","v":"NA"}]
[null,null,null,"El espacio de trabajo permite el normal movimiento de los trabajadores (sin generar posturas incómodas) durante el levantamiento/descenso y/o transporte.","NA","0",null,null,null,"Resultado:"]
[null,null,"Característica de la Carga","El tamaño de la carga permite la visibilidad y movimientos normales del trabajador.","NA","0",null,null,{"$f":"F31","v":0},{"$f":"IF(F31>=1,\"No es Aceptable\",\"Aceptable\")","v":"Aceptable"}]
[null,null,null,"El centro de gravedad de la carga es estable.","NA","0",null,null,null,"Por lo que usted:"]
[null,null,null,"La carga permite su agarre sin riesgo de cortes, compresión o quemaduras.","NA","0",null,null,null,{"$f":"IF(J7=\"Aceptable\",\"Ha Terminado el Proceso de Identificación para esta Tarea\",\"Debe Aplicar Tabla 4\")","v":"Ha Terminado el Proceso de Identificación para esta Tarea"},{"$f":"F31","v":0}]
[null,null,"Horas de Trabajo\n","La tarea de levantamiento/descenso o transporte de carga dura menos de 8 hrs.","NA","0"]
[null,null,"3 a 5 Kgs","Se observa ausencia de asimetría (Ej: cuerpo rotado,torsión y/o inclinación de tronco).","NA","0",null,null,null,{"$f":"IF(J9=\"Ha Terminado el Proceso de Identificación para esta Tarea\",\"Si terminó de responder toda la Tabla 3 Presione Aquí para  regresar a Tabla 1 Información General del Puesto de Trabajo donde podrá continuar con la siguiente Tarea\",\"\")","v":"Si terminó de responder toda la Tabla 3 Presione Aquí para  regresar a Tabla 1 Información General del Puesto de Trabajo donde podrá continuar con la siguiente Tarea"},{"$f":"F31","v":0}]
[null,null,null,"La carga es mantenida cerca del cuerpo.","NA","0",null,null,null,null,{"$f":"F31","v":0}]
[null,null,null,"El desplazamiento vertical de la carga se realiza entrelas caderas y los hombros.","NA","0"]
[null,null,null,"Frecuencia máxima de MMC: el levantamiento/descenso es menor a 5 veces por minuto","NA","0",null,null,null,null,{"$f":"F31","v":0}]
[null,null,"5,1 a 10 Kgs","Se observa ausencia de asimetría (Ej: cuerpo rotado,torsión y/o inclinación de tronco).","NA","0"]
[null,null,null,"La carga es mantenida cerca del cuerpo.","NA","0"]
[null,null,null,"El desplazamiento vertical de la carga se realiza entre las caderas y los hombros.","NA","0",null,null,null,null,{"$f":"F31","v":0}]
[null,null,null,"Frecuencia máxima de MMC: el levantamiento/descenso es menor a 1 veces por minuto.","NA","0"]
[null,null,"+ de 10 Kgs","Ausencia de cargas mayores a 10 Kgs.","NA","0"]
[null,null,null,null,null,{"$f":"F4+F5+F6+F7+F8+F9+F10+F11+F12+F13+F14+F15+F16+F17+F18+F19","v":0},null,null,null,null,{"$f":"F31","v":0}]
[null,null,null,"Transporte Manual de Carga"]
[]
[null,null,null,null,null,null,null,null,null,null,{"$f":"F31","v":0}]
[]
[null,null,null,null,"Si / No / NA"]
[null,null,null,null,"NA",{"$f":"IF(E26=\"SI\",\"0\",IF(E26=\"NA\",\"0\",\"1\"))","v":"0"}]
[null,null,null,null,"NA",{"$f":"IF(E27=\"SI\",\"0\",IF(E27=\"NA\",\"0\",\"1\"))","v":"0"},null,null,null,null,{"$f":"F31","v":0}]
[null,null,null,null,"NA","0"]
[null,null,null,"Ausencia de posturas inadecuadas durante el transporte de carga.","NA","0"]
[null,null,null,null,null,{"$f":"F26+F27+F28+F29","v":0},null,null,null,null,{"$f":"F31","v":0}]
[null,null,null,null,null,{"$f":"(F20+F30)","v":0}]
[]
[]
[null,null,null,null,null,null,null,null,null,"Presione solo si al completar Tabla 3  se lo indica el Cuadro de Resultado",{"$f":"F31","v":0}]

{"sheet":"TABLA 3T4P7","index":67,"n_rows":34,"n_cols":11,"rows_kept":34,"cut":false,"hidden":false,"merged":[]}
[]
[null,null,null,"LEVANTAMIENTO, DESCENSO Y TRANSPORTE DE CARGA - IDENTIFICACIÓN AVANZADA  CONDICIÓN ACEPTABLE  \n",null,null,null,null,null,"Cuadro de Resultado Tabla 3"]
[null,null,"Condición","Levantamiento/descenso y transporte manual de carga","Si / No / NA"]
[null,null,"Ambiente de Trabajo","La temperatura en donde se realiza la tarea es entre los 18° y 26° (grados Celsius).","NA",{"$f":"IF(E4=\"SI\",\"0\",IF(E4=\"NA\",\"0\",\"1\"))","v":"0"},null,null,null,"La Tarea:"]
[null,null,null,"El piso se encuentra en buenas condiciones (regular, seco y estable).","NA",{"$f":"IF(E5=\"SI\",\"0\",IF(E5=\"NA\",\"0\",\"1\"))","v":"0"},null,null,{"$f":"'TABLA 1 P7'!B12","v":"N°4"},{"$f":"'TABLA 1 P7'!C12","v":"NA"}]
[null,null,null,"El espacio de trabajo permite el normal movimiento de los trabajadores (sin generar posturas incómodas) durante el levantamiento/descenso y/o transporte.","NA","0",null,null,null,"Resultado:"]
[null,null,"Característica de la Carga","El tamaño de la carga permite la visibilidad y movimientos normales del trabajador.","NA","0",null,null,{"$f":"F31","v":0},{"$f":"IF(F31>=1,\"No es Aceptable\",\"Aceptable\")","v":"Aceptable"}]
[null,null,null,"El centro de gravedad de la carga es estable.","NA","0",null,null,null,"Por lo que usted:"]
[null,null,null,"La carga permite su agarre sin riesgo de cortes, compresión o quemaduras.","NA","0",null,null,null,{"$f":"IF(J7=\"Aceptable\",\"Ha Terminado el Proceso de Identificación para esta Tarea\",\"Debe Aplicar Tabla 4\")","v":"Ha Terminado el Proceso de Identificación para esta Tarea"},{"$f":"F31","v":0}]
[null,null,"Horas de Trabajo\n","La tarea de levantamiento/descenso o transporte de carga dura menos de 8 hrs.","NA","0"]
[null,null,"3 a 5 Kgs","Se observa ausencia de asimetría (Ej: cuerpo rotado,torsión y/o inclinación de tronco).","NA","0",null,null,null,{"$f":"IF(J9=\"Ha Terminado el Proceso de Identificación para esta Tarea\",\"Si terminó de responder toda la Tabla 3 Presione Aquí para  regresar a Tabla 1 Información General del Puesto de Trabajo donde podrá continuar con la siguiente Tarea\",\"\")","v":"Si terminó de responder toda la Tabla 3 Presione Aquí para  regresar a Tabla 1 Información General del Puesto de Trabajo donde podrá continuar con la siguiente Tarea"},{"$f":"F31","v":0}]
[null,null,null,"La carga es mantenida cerca del cuerpo.","NA","0",null,null,null,null,{"$f":"F31","v":0}]
[null,null,null,"El desplazamiento vertical de la carga se realiza entrelas caderas y los hombros.","NA","0"]
[null,null,null,"Frecuencia máxima de MMC: el levantamiento/descenso es menor a 5 veces por minuto","NA","0",null,null,null,null,{"$f":"F31","v":0}]
[null,null,"5,1 a 10 Kgs","Se observa ausencia de asimetría (Ej: cuerpo rotado,torsión y/o inclinación de tronco).","NA","0"]
[null,null,null,"La carga es mantenida cerca del cuerpo.","NA","0"]
[null,null,null,"El desplazamiento vertical de la carga se realiza entre las caderas y los hombros.","NA","0",null,null,null,null,{"$f":"F31","v":0}]
[null,null,null,"Frecuencia máxima de MMC: el levantamiento/descenso es menor a 1 veces por minuto.","NA","0"]
[null,null,"+ de 10 Kgs","Ausencia de cargas mayores a 10 Kgs.","NA","0"]
[null,null,null,null,null,{"$f":"F4+F5+F6+F7+F8+F9+F10+F11+F12+F13+F14+F15+F16+F17+F18+F19","v":0},null,null,null,null,{"$f":"F31","v":0}]
[null,null,null,"Transporte Manual de Carga"]
[]
[null,null,null,null,null,null,null,null,null,null,{"$f":"F31","v":0}]
[]
[null,null,null,null,"Si / No / NA"]
[null,null,null,null,"NA",{"$f":"IF(E26=\"SI\",\"0\",IF(E26=\"NA\",\"0\",\"1\"))","v":"0"}]
[null,null,null,null,"NA",{"$f":"IF(E27=\"SI\",\"0\",IF(E27=\"NA\",\"0\",\"1\"))","v":"0"},null,null,null,null,{"$f":"F31","v":0}]
[null,null,null,null,"NA","0"]
[null,null,null,"Ausencia de posturas inadecuadas durante el transporte de carga.","NA","0"]
[null,null,null,null,null,{"$f":"F26+F27+F28+F29","v":0},null,null,null,null,{"$f":"F31","v":0}]
[null,null,null,null,null,{"$f":"(F20+F30)","v":0}]
[]
[]
[null,null,null,null,null,null,null,null,null,"Presione solo si al completar Tabla 3  se lo indica el Cuadro de Resultado",{"$f":"F31","v":0}]

{"sheet":"TABLA 3T4P8","index":68,"n_rows":34,"n_cols":11,"rows_kept":34,"cut":false,"hidden":false,"merged":[]}
[]
[null,null,null,"LEVANTAMIENTO, DESCENSO Y TRANSPORTE DE CARGA - IDENTIFICACIÓN AVANZADA  CONDICIÓN ACEPTABLE  \n",null,null,null,null,null,"Cuadro de Resultado Tabla 3"]
[null,null,"Condición","Levantamiento/descenso y transporte manual de carga","Si / No / NA"]
[null,null,"Ambiente de Trabajo","La temperatura en donde se realiza la tarea es entre los 18° y 26° (grados Celsius).","NA",{"$f":"IF(E4=\"SI\",\"0\",IF(E4=\"NA\",\"0\",\"1\"))","v":"0"},null,null,null,"La Tarea:"]
[null,null,null,"El piso se encuentra en buenas condiciones (regular, seco y estable).","NA",{"$f":"IF(E5=\"SI\",\"0\",IF(E5=\"NA\",\"0\",\"1\"))","v":"0"},null,null,{"$f":"'TABLA 1 P8'!B12","v":"N°4"},{"$f":"'TABLA 1 P8'!C12","v":"NA"}]
[null,null,null,"El espacio de trabajo permite el normal movimiento de los trabajadores (sin generar posturas incómodas) durante el levantamiento/descenso y/o transporte.","NA","0",null,null,null,"Resultado:"]
[null,null,"Característica de la Carga","El tamaño de la carga permite la visibilidad y movimientos normales del trabajador.","NA","0",null,null,{"$f":"F31","v":0},{"$f":"IF(F31>=1,\"No es Aceptable\",\"Aceptable\")","v":"Aceptable"}]
[null,null,null,"El centro de gravedad de la carga es estable.","NA","0",null,null,null,"Por lo que usted:"]
[null,null,null,"La carga permite su agarre sin riesgo de cortes, compresión o quemaduras.","NA","0",null,null,null,{"$f":"IF(J7=\"Aceptable\",\"Ha Terminado el Proceso de Identificación para esta Tarea\",\"Debe Aplicar Tabla 4\")","v":"Ha Terminado el Proceso de Identificación para esta Tarea"},{"$f":"F31","v":0}]
[null,null,"Horas de Trabajo\n","La tarea de levantamiento/descenso o transporte de carga dura menos de 8 hrs.","NA","0"]
[null,null,"3 a 5 Kgs","Se observa ausencia de asimetría (Ej: cuerpo rotado,torsión y/o inclinación de tronco).","NA","0",null,null,null,{"$f":"IF(J9=\"Ha Terminado el Proceso de Identificación para esta Tarea\",\"Si terminó de responder toda la Tabla 3 Presione Aquí para  regresar a Tabla 1 Información General del Puesto de Trabajo donde podrá continuar con la siguiente Tarea\",\"\")","v":"Si terminó de responder toda la Tabla 3 Presione Aquí para  regresar a Tabla 1 Información General del Puesto de Trabajo donde podrá continuar con la siguiente Tarea"},{"$f":"F31","v":0}]
[null,null,null,"La carga es mantenida cerca del cuerpo.","NA","0",null,null,null,null,{"$f":"F31","v":0}]
[null,null,null,"El desplazamiento vertical de la carga se realiza entrelas caderas y los hombros.","NA","0"]
[null,null,null,"Frecuencia máxima de MMC: el levantamiento/descenso es menor a 5 veces por minuto","NA","0",null,null,null,null,{"$f":"F31","v":0}]
[null,null,"5,1 a 10 Kgs","Se observa ausencia de asimetría (Ej: cuerpo rotado,torsión y/o inclinación de tronco).","NA","0"]
[null,null,null,"La carga es mantenida cerca del cuerpo.","NA","0"]
[null,null,null,"El desplazamiento vertical de la carga se realiza entre las caderas y los hombros.","NA","0",null,null,null,null,{"$f":"F31","v":0}]
[null,null,null,"Frecuencia máxima de MMC: el levantamiento/descenso es menor a 1 veces por minuto.","NA","0"]
[null,null,"+ de 10 Kgs","Ausencia de cargas mayores a 10 Kgs.","NA","0"]
[null,null,null,null,null,{"$f":"F4+F5+F6+F7+F8+F9+F10+F11+F12+F13+F14+F15+F16+F17+F18+F19","v":0},null,null,null,null,{"$f":"F31","v":0}]
[null,null,null,"Transporte Manual de Carga"]
[]
[null,null,null,null,null,null,null,null,null,null,{"$f":"F31","v":0}]
[]
[null,null,null,null,"Si / No / NA"]
[null,null,null,null,"NA",{"$f":"IF(E26=\"SI\",\"0\",IF(E26=\"NA\",\"0\",\"1\"))","v":"0"}]
[null,null,null,null,"NA",{"$f":"IF(E27=\"SI\",\"0\",IF(E27=\"NA\",\"0\",\"1\"))","v":"0"},null,null,null,null,{"$f":"F31","v":0}]
[null,null,null,null,"NA","0"]
[null,null,null,"Ausencia de posturas inadecuadas durante el transporte de carga.","NA","0"]
[null,null,null,null,null,{"$f":"F26+F27+F28+F29","v":0},null,null,null,null,{"$f":"F31","v":0}]
[null,null,null,null,null,{"$f":"(F20+F30)","v":0}]
[]
[]
[null,null,null,null,null,null,null,null,null,"Presione solo si al completar Tabla 3  se lo indica el Cuadro de Resultado",{"$f":"F31","v":0}]

{"sheet":"TABLA 3T4P9","index":69,"n_rows":34,"n_cols":11,"rows_kept":34,"cut":false,"hidden":false,"merged":[]}
[]
[null,null,null,"LEVANTAMIENTO, DESCENSO Y TRANSPORTE DE CARGA - IDENTIFICACIÓN AVANZADA  CONDICIÓN ACEPTABLE  \n",null,null,null,null,null,"Cuadro de Resultado Tabla 3"]
[null,null,"Condición","Levantamiento/descenso y transporte manual de carga","Si / No / NA"]
[null,null,"Ambiente de Trabajo","La temperatura en donde se realiza la tarea es entre los 18° y 26° (grados Celsius).","NA",{"$f":"IF(E4=\"SI\",\"0\",IF(E4=\"NA\",\"0\",\"1\"))","v":"0"},null,null,null,"La Tarea:"]
[null,null,null,"El piso se encuentra en buenas condiciones (regular, seco y estable).","NA",{"$f":"IF(E5=\"SI\",\"0\",IF(E5=\"NA\",\"0\",\"1\"))","v":"0"},null,null,{"$f":"'TABLA 1 P9'!B12","v":"N°4"},{"$f":"'TABLA 1 P9'!C12","v":"NA"}]
[null,null,null,"El espacio de trabajo permite el normal movimiento de los trabajadores (sin generar posturas incómodas) durante el levantamiento/descenso y/o transporte.","NA","0",null,null,null,"Resultado:"]
[null,null,"Característica de la Carga","El tamaño de la carga permite la visibilidad y movimientos normales del trabajador.","NA","0",null,null,{"$f":"F31","v":0},{"$f":"IF(F31>=1,\"No es Aceptable\",\"Aceptable\")","v":"Aceptable"}]
[null,null,null,"El centro de gravedad de la carga es estable.","NA","0",null,null,null,"Por lo que usted:"]
[null,null,null,"La carga permite su agarre sin riesgo de cortes, compresión o quemaduras.","NA","0",null,null,null,{"$f":"IF(J7=\"Aceptable\",\"Ha Terminado el Proceso de Identificación para esta Tarea\",\"Debe Aplicar Tabla 4\")","v":"Ha Terminado el Proceso de Identificación para esta Tarea"},{"$f":"F31","v":0}]
[null,null,"Horas de Trabajo\n","La tarea de levantamiento/descenso o transporte de carga dura menos de 8 hrs.","NA","0"]
[null,null,"3 a 5 Kgs","Se observa ausencia de asimetría (Ej: cuerpo rotado,torsión y/o inclinación de tronco).","NA","0",null,null,null,{"$f":"IF(J9=\"Ha Terminado el Proceso de Identificación para esta Tarea\",\"Si terminó de responder toda la Tabla 3 Presione Aquí para  regresar a Tabla 1 Información General del Puesto de Trabajo donde podrá continuar con la siguiente Tarea\",\"\")","v":"Si terminó de responder toda la Tabla 3 Presione Aquí para  regresar a Tabla 1 Información General del Puesto de Trabajo donde podrá continuar con la siguiente Tarea"},{"$f":"F31","v":0}]
[null,null,null,"La carga es mantenida cerca del cuerpo.","NA","0",null,null,null,null,{"$f":"F31","v":0}]
[null,null,null,"El desplazamiento vertical de la carga se realiza entrelas caderas y los hombros.","NA","0"]
[null,null,null,"Frecuencia máxima de MMC: el levantamiento/descenso es menor a 5 veces por minuto","NA","0",null,null,null,null,{"$f":"F31","v":0}]
[null,null,"5,1 a 10 Kgs","Se observa ausencia de asimetría (Ej: cuerpo rotado,torsión y/o inclinación de tronco).","NA","0"]
[null,null,null,"La carga es mantenida cerca del cuerpo.","NA","0"]
[null,null,null,"El desplazamiento vertical de la carga se realiza entre las caderas y los hombros.","NA","0",null,null,null,null,{"$f":"F31","v":0}]
[null,null,null,"Frecuencia máxima de MMC: el levantamiento/descenso es menor a 1 veces por minuto.","NA","0"]
[null,null,"+ de 10 Kgs","Ausencia de cargas mayores a 10 Kgs.","NA","0"]
[null,null,null,null,null,{"$f":"F4+F5+F6+F7+F8+F9+F10+F11+F12+F13+F14+F15+F16+F17+F18+F19","v":0},null,null,null,null,{"$f":"F31","v":0}]
[null,null,null,"Transporte Manual de Carga"]
[]
[null,null,null,null,null,null,null,null,null,null,{"$f":"F31","v":0}]
[]
[null,null,null,null,"Si / No / NA"]
[null,null,null,null,"NA",{"$f":"IF(E26=\"SI\",\"0\",IF(E26=\"NA\",\"0\",\"1\"))","v":"0"}]
[null,null,null,null,"NA",{"$f":"IF(E27=\"SI\",\"0\",IF(E27=\"NA\",\"0\",\"1\"))","v":"0"},null,null,null,null,{"$f":"F31","v":0}]
[null,null,null,null,"NA","0"]
[null,null,null,"Ausencia de posturas inadecuadas durante el transporte de carga.","NA","0"]
[null,null,null,null,null,{"$f":"F26+F27+F28+F29","v":0},null,null,null,null,{"$f":"F31","v":0}]
[null,null,null,null,null,{"$f":"(F20+F30)","v":0}]
[]
[]
[null,null,null,null,null,null,null,null,null,"Presione solo si al completar Tabla 3  se lo indica el Cuadro de Resultado",{"$f":"F31","v":0}]

{"sheet":"TABLA 3T4P10","index":70,"n_rows":34,"n_cols":11,"rows_kept":34,"cut":false,"hidden":false,"merged":[]}
[]
[null,null,null,"LEVANTAMIENTO, DESCENSO Y TRANSPORTE DE CARGA - IDENTIFICACIÓN AVANZADA  CONDICIÓN ACEPTABLE  \n",null,null,null,null,null,"Cuadro de Resultado Tabla 3"]
[null,null,"Condición","Levantamiento/descenso y transporte manual de carga","Si / No / NA"]
[null,null,"Ambiente de Trabajo","La temperatura en donde se realiza la tarea es entre los 18° y 26° (grados Celsius).","NA",{"$f":"IF(E4=\"SI\",\"0\",IF(E4=\"NA\",\"0\",\"1\"))","v":"0"},null,null,null,"La Tarea:"]
[null,null,null,"El piso se encuentra en buenas condiciones (regular, seco y estable).","NA",{"$f":"IF(E5=\"SI\",\"0\",IF(E5=\"NA\",\"0\",\"1\"))","v":"0"},null,null,{"$f":"'TABLA 1 P10'!B12","v":"N°4"},{"$f":"'TABLA 1 P10'!C12","v":"NA"}]
[null,null,null,"El espacio de trabajo permite el normal movimiento de los trabajadores (sin generar posturas incómodas) durante el levantamiento/descenso y/o transporte.","NA","0",null,null,null,"Resultado:"]
[null,null,"Característica de la Carga","El tamaño de la carga permite la visibilidad y movimientos normales del trabajador.","NA","0",null,null,{"$f":"F31","v":0},{"$f":"IF(F31>=1,\"No es Aceptable\",\"Aceptable\")","v":"Aceptable"}]
[null,null,null,"El centro de gravedad de la carga es estable.","NA","0",null,null,null,"Por lo que usted:"]
[null,null,null,"La carga permite su agarre sin riesgo de cortes, compresión o quemaduras.","NA","0",null,null,null,{"$f":"IF(J7=\"Aceptable\",\"Ha Terminado el Proceso de Identificación para esta Tarea\",\"Debe Aplicar Tabla 4\")","v":"Ha Terminado el Proceso de Identificación para esta Tarea"},{"$f":"F31","v":0}]
[null,null,"Horas de Trabajo\n","La tarea de levantamiento/descenso o transporte de carga dura menos de 8 hrs.","NA","0"]
[null,null,"3 a 5 Kgs","Se observa ausencia de asimetría (Ej: cuerpo rotado,torsión y/o inclinación de tronco).","NA","0",null,null,null,{"$f":"IF(J9=\"Ha Terminado el Proceso de Identificación para esta Tarea\",\"Si terminó de responder toda la Tabla 3 Presione Aquí para  regresar a Tabla 1 Información General del Puesto de Trabajo donde podrá continuar con la siguiente Tarea\",\"\")","v":"Si terminó de responder toda la Tabla 3 Presione Aquí para  regresar a Tabla 1 Información General del Puesto de Trabajo donde podrá continuar con la siguiente Tarea"},{"$f":"F31","v":0}]
[null,null,null,"La carga es mantenida cerca del cuerpo.","NA","0",null,null,null,null,{"$f":"F31","v":0}]
[null,null,null,"El desplazamiento vertical de la carga se realiza entrelas caderas y los hombros.","NA","0"]
[null,null,null,"Frecuencia máxima de MMC: el levantamiento/descenso es menor a 5 veces por minuto","NA","0",null,null,null,null,{"$f":"F31","v":0}]
[null,null,"5,1 a 10 Kgs","Se observa ausencia de asimetría (Ej: cuerpo rotado,torsión y/o inclinación de tronco).","NA","0"]
[null,null,null,"La carga es mantenida cerca del cuerpo.","NA","0"]
[null,null,null,"El desplazamiento vertical de la carga se realiza entre las caderas y los hombros.","NA","0",null,null,null,null,{"$f":"F31","v":0}]
[null,null,null,"Frecuencia máxima de MMC: el levantamiento/descenso es menor a 1 veces por minuto.","NA","0"]
[null,null,"+ de 10 Kgs","Ausencia de cargas mayores a 10 Kgs.","NA","0"]
[null,null,null,null,null,{"$f":"F4+F5+F6+F7+F8+F9+F10+F11+F12+F13+F14+F15+F16+F17+F18+F19","v":0},null,null,null,null,{"$f":"F31","v":0}]
[null,null,null,"Transporte Manual de Carga"]
[]
[null,null,null,null,null,null,null,null,null,null,{"$f":"F31","v":0}]
[]
[null,null,null,null,"Si / No / NA"]
[null,null,null,null,"NA",{"$f":"IF(E26=\"SI\",\"0\",IF(E26=\"NA\",\"0\",\"1\"))","v":"0"}]
[null,null,null,null,"NA",{"$f":"IF(E27=\"SI\",\"0\",IF(E27=\"NA\",\"0\",\"1\"))","v":"0"},null,null,null,null,{"$f":"F31","v":0}]
[null,null,null,null,"NA","0"]
[null,null,null,"Ausencia de posturas inadecuadas durante el transporte de carga.","NA","0"]
[null,null,null,null,null,{"$f":"F26+F27+F28+F29","v":0},null,null,null,null,{"$f":"F31","v":0}]
[null,null,null,null,null,{"$f":"(F20+F30)","v":0}]
[]
[]
[null,null,null,null,null,null,null,null,null,"Presione solo si al completar Tabla 3  se lo indica el Cuadro de Resultado",{"$f":"F31","v":0}]

{"sheet":"TABLA 4T3P1","index":71,"n_rows":31,"n_cols":10,"rows_kept":31,"cut":false,"hidden":false,"merged":[]}
[]
[null,null,null,"LEVANTAMIENTO, DESCENSO Y TRANSPORTE DE CARGA - IDENTIFICACIÓN AVANZADA CONDICIÓN CRÍTICA  ",null,null,null,null,null,"Cuadro de Resultado Tabla 4"]
[null,null,"Condición","Levantamiento/descenso y transporte manual de carga","Si / No / NA"]
[null,null,"Ambiente de Trabajo","Presencia de temperatura extrema (bajo 16° o superior a los 26° grados Celsius) y sin ropa que proteja de las temperaturas extremas.","NA",{"$f":"IF(E4=\"No\",\"0\",IF(E4=\"NA\",\"0\",\"1\"))","v":"0"},null,null,null,"La Tarea:"]
[null,null,null,"Presencia de suelo resbaladizo, irregular o inestable.","NA",{"$f":"IF(E5=\"No\",\"0\",IF(E5=\"NA\",\"0\",\"1\"))","v":"0"},null,null,{"$f":"'TABLA 1 P1'!B10","v":"N° 3"},{"$f":"'TABLA 1 P1'!C10","v":"NA"}]
[null,null,null,"Presencia de espacio insuficiente para el levantamiento/descenso y transporte de carga que genera posturas incomodas o restricción en el movimiento.","NA","0",null,null,null,"Resultado:"]
[null,null,"Característica de la Carga","El tamaño de la carga reduce la visión del trabajador y/o dificulta su movimiento.","NA","0",null,null,{"$f":"F31","v":0},{"$f":"IF(F31>=1,\"Crítica\",\"No Crítica\")","v":"No Crítica"}]
[null,null,null,"El centro de gravedad de la carga no es estable (ej.: líquidos, elementos que se mueven dentro de la carga).","NA","0",null,null,null,"Por lo que usted:"]
[null,null,null,"La forma/configuración de la carga presenta bordes,\nsuperficies o protuberancias afiladas.","NA","0",null,null,null,{"$f":"IF(J7=\"No Crítica\",\"Ha terminado el Proceso de Identificación para esta Tarea y deberá iniciar el proceso de Evaluación Cuantitativa del riesgo\",\"Ha terminado el Proceso de Identificación para esta Tarea y deberá aplicar medidas para reducir el riesgo\")","v":"Ha terminado el Proceso de Identificación para esta Tarea y deberá iniciar el proceso de Evaluación Cuantitativa del riesgo"}]
[null,null,null,"Las superficies de contacto son demasiado frías o demasiado calientes.","NA","0"]
[null,null,"Horas de Trabajo","La tarea de levantamiento/descenso o transporte de\ncarga dura más de 8 hrs.","NA","0"]
[null,null,null,"Condición crítica: presencia de tarea de Levantamiento/descenso y transporte de carga con condiciones de diseño y frecuencia que exceden los valores máximos sugeridos ",null,{"$f":"F4+F5+F6+F7+F8+F9+F10+F11","v":0},null,null,null,"Si terminó de responder toda la Tabla 4 Presione Aquí para  regresar a Tabla 1 Información General del Puesto de Trabajo donde podrá continuar con la siguiente Tarea"]
[null,null,null,null,"Si / No / NA"]
[null,null,"Posición Vertical","La ubicación de las manos al inicio o final del levantamiento/descenso\nde una carga es superior a 155 cm o inferior a 20 cm°.","NA",{"$f":"IF(E14=\"No\",\"0\",IF(E14=\"NA\",\"0\",\"1\"))","v":"0"}]
[null,null,"Desplazamiento Vertical","La distancia vertical entre el origen y el destino del objeto manipulado\nes mayor a 135 cm°.","NA",{"$f":"IF(E15=\"No\",\"0\",IF(E15=\"NA\",\"0\",\"1\"))","v":"0"}]
[null,null,"Posición Horizontal","La distancia horizontal entre el cuerpo y las manos (nudillos) es superior a 55 cm correspondiente a la zona de alcance máximo de brazos","NA","0"]
[null,null,"Asimetría","Rotación o inclinación extrema del tronco sin movimientos de los pies","NA","0"]
[null,null,"Frecuencia","Corta duración: más de 15 levantamientos/descensos por minuto, en\nuna tarea que no supere los 60 minutos seguidos en el turno de trabajo\ny seguida de al menos 60 minutos de descanso o tarea liviana (que no\nimplique MMC).","NA","0"]
[null,null,null,"Media duración: más de 12 levantamientos/descensos por minuto,\nen una tarea que no supere los 120 minutos seguidos en el turno de\ntrabajo y seguida de al menos 30 minutos de descanso o tarea liviana\n(que no implique MMC).","NA","0"]
[null,null,null,"Larga duración: más de 8 levantamientos/descensos por minuto, en\nuna tarea que supere los 120 minutos seguidos en el turno de trabajo.","NA","0"]
[null,null,null,"Condición crítica: presencia de tarea de Levantamiento/descenso y transporte con peso de la carga que exceda los siguientes límites ","Si / No / NA",{"$f":"F14+F15+F16+F17+F18+F19+F20","v":0}]
[null,null,"Hombres \n(18-45 años) + ","25 kgs","NA",{"$f":"IF(E22=\"No\",\"0\",IF(E22=\"NA\",\"0\",\"1\"))","v":"0"}]
[null,null,"Mujeres\n(18-45 años) + ","20 kgs","NA",{"$f":"IF(E23=\"No\",\"0\",IF(E23=\"NA\",\"0\",\"1\"))","v":"0"}]
[null,null,"Hombres \n(< 18-45 años o > 45 años) + ","20 kgs","NA","0"]
[null,null,"Mujeres \n(< 18-45 años o > 45 años) + ","15 kgs","NA","0"]
[null,null,"Mujer\nEmbarazada","3 kgs","NA","0"]
[null,null,null,"Condición crítica: presencia de tarea de Levantamiento/descenso y transporte con peso de la carga que exceda los siguientes límites ","Si / No / NA",{"$f":"F22+F23+F24+F25+F26","v":0}]
[null,null,"Distancia de transporte de 20 mts. o más","6.000 Kgs. en 8 hrs.","NA",{"$f":"IF(E28=\"No\",\"0\",IF(E28=\"NA\",\"0\",\"1\"))","v":"0"}]
[null,null,"Distancia de transporte menos a 20 mts.","10.000 Kgs. en 8 hrs.","NA",{"$f":"IF(E29=\"No\",\"0\",IF(E29=\"NA\",\"0\",\"1\"))","v":"0"}]
[null,null,null,null,null,{"$f":"F28+F29","v":0}]
[null,null,null,null,null,{"$f":"F12+F21+F27+F30","v":0}]

{"sheet":"TABLA 4T3P2","index":72,"n_rows":31,"n_cols":10,"rows_kept":31,"cut":false,"hidden":false,"merged":[]}
[]
[null,null,null,"LEVANTAMIENTO, DESCENSO Y TRANSPORTE DE CARGA - IDENTIFICACIÓN AVANZADA CONDICIÓN CRÍTICA  ",null,null,null,null,null,"Cuadro de Resultado Tabla 4"]
[null,null,"Condición","Levantamiento/descenso y transporte manual de carga","Si / No / NA"]
[null,null,"Ambiente de Trabajo","Presencia de temperatura extrema (bajo 16° o superior a los 26° grados Celsius) y sin ropa que proteja de las temperaturas extremas.","NA",{"$f":"IF(E4=\"No\",\"0\",IF(E4=\"NA\",\"0\",\"1\"))","v":"0"},null,null,null,"La Tarea:"]
[null,null,null,"Presencia de suelo resbaladizo, irregular o inestable.","NA",{"$f":"IF(E5=\"No\",\"0\",IF(E5=\"NA\",\"0\",\"1\"))","v":"0"},null,null,{"$f":"'TABLA 1 P1'!B10","v":"N° 3"},{"$f":"'TABLA 1 P2'!C10","v":"NA"}]
[null,null,null,"Presencia de espacio insuficiente para el levantamiento/descenso y transporte de carga que genera posturas incomodas o restricción en el movimiento.","NA","0",null,null,null,"Resultado:"]
[null,null,"Característica de la Carga","El tamaño de la carga reduce la visión del trabajador y/o dificulta su movimiento.","NA","0",null,null,{"$f":"F31","v":0},{"$f":"IF(F31>=1,\"Crítica\",\"No Crítica\")","v":"No Crítica"}]
[null,null,null,"El centro de gravedad de la carga no es estable (ej.: líquidos, elementos que se mueven dentro de la carga).","NA","0",null,null,null,"Por lo que usted:"]
[null,null,null,"La forma/configuración de la carga presenta bordes,\nsuperficies o protuberancias afiladas.","NA","0",null,null,null,{"$f":"IF(J7=\"No Crítica\",\"Ha terminado el Proceso de Identificación para esta Tarea y deberá iniciar el proceso de Evaluación Cuantitativa del riesgo\",\"Ha terminado el Proceso de Identificación para esta Tarea y deberá aplicar medidas para reducir el riesgo\")","v":"Ha terminado el Proceso de Identificación para esta Tarea y deberá iniciar el proceso de Evaluación Cuantitativa del riesgo"}]
[null,null,null,"Las superficies de contacto son demasiado frías o demasiado calientes.","NA","0"]
[null,null,"Horas de Trabajo","La tarea de levantamiento/descenso o transporte de\ncarga dura más de 8 hrs.","NA","0"]
[null,null,null,"Condición crítica: presencia de tarea de Levantamiento/descenso y transporte de carga con condiciones de diseño y frecuencia que exceden los valores máximos sugeridos ",null,{"$f":"F4+F5+F6+F7+F8+F9+F10+F11","v":0},null,null,null,"Si terminó de responder toda la Tabla 4 Presione Aquí para  regresar a Tabla 1 Información General del Puesto de Trabajo donde podrá continuar con la siguiente Tarea"]
[null,null,null,null,"Si / No / NA"]
[null,null,"Posición Vertical","La ubicación de las manos al inicio o final del levantamiento/descenso\nde una carga es superior a 155 cm o inferior a 20 cm°.","NA",{"$f":"IF(E14=\"No\",\"0\",IF(E14=\"NA\",\"0\",\"1\"))","v":"0"}]
[null,null,"Desplazamiento Vertical","La distancia vertical entre el origen y el destino del objeto manipulado\nes mayor a 135 cm°.","NA",{"$f":"IF(E15=\"No\",\"0\",IF(E15=\"NA\",\"0\",\"1\"))","v":"0"}]
[null,null,"Posición Horizontal","La distancia horizontal entre el cuerpo y las manos (nudillos) es superior a 55 cm correspondiente a la zona de alcance máximo de brazos","NA","0"]
[null,null,"Asimetría","Rotación o inclinación extrema del tronco sin movimientos de los pies","NA","0"]
[null,null,"Frecuencia","Corta duración: más de 15 levantamientos/descensos por minuto, en\nuna tarea que no supere los 60 minutos seguidos en el turno de trabajo\ny seguida de al menos 60 minutos de descanso o tarea liviana (que no\nimplique MMC).","NA","0"]
[null,null,null,"Media duración: más de 12 levantamientos/descensos por minuto,\nen una tarea que no supere los 120 minutos seguidos en el turno de\ntrabajo y seguida de al menos 30 minutos de descanso o tarea liviana\n(que no implique MMC).","NA","0"]
[null,null,null,"Larga duración: más de 8 levantamientos/descensos por minuto, en\nuna tarea que supere los 120 minutos seguidos en el turno de trabajo.","NA","0"]
[null,null,null,"Condición crítica: presencia de tarea de Levantamiento/descenso y transporte con peso de la carga que exceda los siguientes límites ","Si / No / NA",{"$f":"F14+F15+F16+F17+F18+F19+F20","v":0}]
[null,null,"Hombres \n(18-45 años) + ","25 kgs","NA",{"$f":"IF(E22=\"No\",\"0\",IF(E22=\"NA\",\"0\",\"1\"))","v":"0"}]
[null,null,"Mujeres\n(18-45 años) + ","20 kgs","NA",{"$f":"IF(E23=\"No\",\"0\",IF(E23=\"NA\",\"0\",\"1\"))","v":"0"}]
[null,null,"Hombres \n(< 18-45 años o > 45 años) + ","20 kgs","NA","0"]
[null,null,"Mujeres \n(< 18-45 años o > 45 años) + ","15 kgs","NA","0"]
[null,null,"Mujer\nEmbarazada","3 kgs","NA","0"]
[null,null,null,"Condición crítica: presencia de tarea de Levantamiento/descenso y transporte con peso de la carga que exceda los siguientes límites ","Si / No / NA",{"$f":"F22+F23+F24+F25+F26","v":0}]
[null,null,"Distancia de transporte de 20 mts. o más","6.000 Kgs. en 8 hrs.","NA",{"$f":"IF(E28=\"No\",\"0\",IF(E28=\"NA\",\"0\",\"1\"))","v":"0"}]
[null,null,"Distancia de transporte menos a 20 mts.","10.000 Kgs. en 8 hrs.","NA",{"$f":"IF(E29=\"No\",\"0\",IF(E29=\"NA\",\"0\",\"1\"))","v":"0"}]
[null,null,null,null,null,{"$f":"F28+F29","v":0}]
[null,null,null,null,null,{"$f":"F12+F21+F27+F30","v":0}]

{"sheet":"TABLA 4T3P3","index":73,"n_rows":31,"n_cols":10,"rows_kept":31,"cut":false,"hidden":false,"merged":[]}
[]
[null,null,null,"LEVANTAMIENTO, DESCENSO Y TRANSPORTE DE CARGA - IDENTIFICACIÓN AVANZADA CONDICIÓN CRÍTICA  ",null,null,null,null,null,"Cuadro de Resultado Tabla 4"]
[null,null,"Condición","Levantamiento/descenso y transporte manual de carga","Si / No / NA"]
[null,null,"Ambiente de Trabajo","Presencia de temperatura extrema (bajo 16° o superior a los 26° grados Celsius) y sin ropa que proteja de las temperaturas extremas.","NA",{"$f":"IF(E4=\"No\",\"0\",IF(E4=\"NA\",\"0\",\"1\"))","v":"0"},null,null,null,"La Tarea:"]
[null,null,null,"Presencia de suelo resbaladizo, irregular o inestable.","NA",{"$f":"IF(E5=\"No\",\"0\",IF(E5=\"NA\",\"0\",\"1\"))","v":"0"},null,null,{"$f":"'TABLA 1 P3'!B10","v":"N° 3"},{"$f":"'TABLA 1 P3'!C10","v":"NA"}]
[null,null,null,"Presencia de espacio insuficiente para el levantamiento/descenso y transporte de carga que genera posturas incomodas o restricción en el movimiento.","NA","0",null,null,null,"Resultado:"]
[null,null,"Característica de la Carga","El tamaño de la carga reduce la visión del trabajador y/o dificulta su movimiento.","NA","0",null,null,{"$f":"F31","v":0},{"$f":"IF(F31>=1,\"Crítica\",\"No Crítica\")","v":"No Crítica"}]
[null,null,null,"El centro de gravedad de la carga no es estable (ej.: líquidos, elementos que se mueven dentro de la carga).","NA","0",null,null,null,"Por lo que usted:"]
[null,null,null,"La forma/configuración de la carga presenta bordes,\nsuperficies o protuberancias afiladas.","NA","0",null,null,null,{"$f":"IF(J7=\"No Crítica\",\"Ha terminado el Proceso de Identificación para esta Tarea y deberá iniciar el proceso de Evaluación Cuantitativa del riesgo\",\"Ha terminado el Proceso de Identificación para esta Tarea y deberá aplicar medidas para reducir el riesgo\")","v":"Ha terminado el Proceso de Identificación para esta Tarea y deberá iniciar el proceso de Evaluación Cuantitativa del riesgo"}]
[null,null,null,"Las superficies de contacto son demasiado frías o demasiado calientes.","NA","0"]
[null,null,"Horas de Trabajo","La tarea de levantamiento/descenso o transporte de\ncarga dura más de 8 hrs.","NA","0"]
[null,null,null,"Condición crítica: presencia de tarea de Levantamiento/descenso y transporte de carga con condiciones de diseño y frecuencia que exceden los valores máximos sugeridos ",null,{"$f":"F4+F5+F6+F7+F8+F9+F10+F11","v":0},null,null,null,"Si terminó de responder toda la Tabla 4 Presione Aquí para  regresar a Tabla 1 Información General del Puesto de Trabajo donde podrá continuar con la siguiente Tarea"]
[null,null,null,null,"Si / No / NA"]
[null,null,"Posición Vertical","La ubicación de las manos al inicio o final del levantamiento/descenso\nde una carga es superior a 155 cm o inferior a 20 cm°.","NA",{"$f":"IF(E14=\"No\",\"0\",IF(E14=\"NA\",\"0\",\"1\"))","v":"0"}]
[null,null,"Desplazamiento Vertical","La distancia vertical entre el origen y el destino del objeto manipulado\nes mayor a 135 cm°.","NA",{"$f":"IF(E15=\"No\",\"0\",IF(E15=\"NA\",\"0\",\"1\"))","v":"0"}]
[null,null,"Posición Horizontal","La distancia horizontal entre el cuerpo y las manos (nudillos) es superior a 55 cm correspondiente a la zona de alcance máximo de brazos","NA","0"]
[null,null,"Asimetría","Rotación o inclinación extrema del tronco sin movimientos de los pies","NA","0"]
[null,null,"Frecuencia","Corta duración: más de 15 levantamientos/descensos por minuto, en\nuna tarea que no supere los 60 minutos seguidos en el turno de trabajo\ny seguida de al menos 60 minutos de descanso o tarea liviana (que no\nimplique MMC).","NA","0"]
[null,null,null,"Media duración: más de 12 levantamientos/descensos por minuto,\nen una tarea que no supere los 120 minutos seguidos en el turno de\ntrabajo y seguida de al menos 30 minutos de descanso o tarea liviana\n(que no implique MMC).","NA","0"]
[null,null,null,"Larga duración: más de 8 levantamientos/descensos por minuto, en\nuna tarea que supere los 120 minutos seguidos en el turno de trabajo.","NA","0"]
[null,null,null,"Condición crítica: presencia de tarea de Levantamiento/descenso y transporte con peso de la carga que exceda los siguientes límites ","Si / No / NA",{"$f":"F14+F15+F16+F17+F18+F19+F20","v":0}]
[null,null,"Hombres \n(18-45 años) + ","25 kgs","NA",{"$f":"IF(E22=\"No\",\"0\",IF(E22=\"NA\",\"0\",\"1\"))","v":"0"}]
[null,null,"Mujeres\n(18-45 años) + ","20 kgs","NA",{"$f":"IF(E23=\"No\",\"0\",IF(E23=\"NA\",\"0\",\"1\"))","v":"0"}]
[null,null,"Hombres \n(< 18-45 años o > 45 años) + ","20 kgs","NA","0"]
[null,null,"Mujeres \n(< 18-45 años o > 45 años) + ","15 kgs","NA","0"]
[null,null,"Mujer\nEmbarazada","3 kgs","NA","0"]
[null,null,null,"Condición crítica: presencia de tarea de Levantamiento/descenso y transporte con peso de la carga que exceda los siguientes límites ","Si / No / NA",{"$f":"F22+F23+F24+F25+F26","v":0}]
[null,null,"Distancia de transporte de 20 mts. o más","6.000 Kgs. en 8 hrs.","NA",{"$f":"IF(E28=\"No\",\"0\",IF(E28=\"NA\",\"0\",\"1\"))","v":"0"}]
[null,null,"Distancia de transporte menos a 20 mts.","10.000 Kgs. en 8 hrs.","NA",{"$f":"IF(E29=\"No\",\"0\",IF(E29=\"NA\",\"0\",\"1\"))","v":"0"}]
[null,null,null,null,null,{"$f":"F28+F29","v":0}]
[null,null,null,null,null,{"$f":"F12+F21+F27+F30","v":0}]

{"sheet":"TABLA 4T3P4","index":74,"n_rows":31,"n_cols":10,"rows_kept":31,"cut":false,"hidden":false,"merged":[]}
[]
[null,null,null,"LEVANTAMIENTO, DESCENSO Y TRANSPORTE DE CARGA - IDENTIFICACIÓN AVANZADA CONDICIÓN CRÍTICA  ",null,null,null,null,null,"Cuadro de Resultado Tabla 4"]
[null,null,"Condición","Levantamiento/descenso y transporte manual de carga","Si / No / NA"]
[null,null,"Ambiente de Trabajo","Presencia de temperatura extrema (bajo 16° o superior a los 26° grados Celsius) y sin ropa que proteja de las temperaturas extremas.","NA",{"$f":"IF(E4=\"No\",\"0\",IF(E4=\"NA\",\"0\",\"1\"))","v":"0"},null,null,null,"La Tarea:"]
[null,null,null,"Presencia de suelo resbaladizo, irregular o inestable.","NA",{"$f":"IF(E5=\"No\",\"0\",IF(E5=\"NA\",\"0\",\"1\"))","v":"0"},null,null,{"$f":"'TABLA 1 P4'!B10","v":"N° 3"},{"$f":"'TABLA 1 P4'!C10","v":"NA"}]
[null,null,null,"Presencia de espacio insuficiente para el levantamiento/descenso y transporte de carga que genera posturas incomodas o restricción en el movimiento.","NA","0",null,null,null,"Resultado:"]
[null,null,"Característica de la Carga","El tamaño de la carga reduce la visión del trabajador y/o dificulta su movimiento.","NA","0",null,null,{"$f":"F31","v":0},{"$f":"IF(F31>=1,\"Crítica\",\"No Crítica\")","v":"No Crítica"}]
[null,null,null,"El centro de gravedad de la carga no es estable (ej.: líquidos, elementos que se mueven dentro de la carga).","NA","0",null,null,null,"Por lo que usted:"]
[null,null,null,"La forma/configuración de la carga presenta bordes,\nsuperficies o protuberancias afiladas.","NA","0",null,null,null,{"$f":"IF(J7=\"No Crítica\",\"Ha terminado el Proceso de Identificación para esta Tarea y deberá iniciar el proceso de Evaluación Cuantitativa del riesgo\",\"Ha terminado el Proceso de Identificación para esta Tarea y deberá aplicar medidas para reducir el riesgo\")","v":"Ha terminado el Proceso de Identificación para esta Tarea y deberá iniciar el proceso de Evaluación Cuantitativa del riesgo"}]
[null,null,null,"Las superficies de contacto son demasiado frías o demasiado calientes.","NA","0"]
[null,null,"Horas de Trabajo","La tarea de levantamiento/descenso o transporte de\ncarga dura más de 8 hrs.","NA","0"]
[null,null,null,"Condición crítica: presencia de tarea de Levantamiento/descenso y transporte de carga con condiciones de diseño y frecuencia que exceden los valores máximos sugeridos ",null,{"$f":"F4+F5+F6+F7+F8+F9+F10+F11","v":0},null,null,null,"Si terminó de responder toda la Tabla 4 Presione Aquí para  regresar a Tabla 1 Información General del Puesto de Trabajo donde podrá continuar con la siguiente Tarea"]
[null,null,null,null,"Si / No / NA"]
[null,null,"Posición Vertical","La ubicación de las manos al inicio o final del levantamiento/descenso\nde una carga es superior a 155 cm o inferior a 20 cm°.","NA",{"$f":"IF(E14=\"No\",\"0\",IF(E14=\"NA\",\"0\",\"1\"))","v":"0"}]
[null,null,"Desplazamiento Vertical","La distancia vertical entre el origen y el destino del objeto manipulado\nes mayor a 135 cm°.","NA",{"$f":"IF(E15=\"No\",\"0\",IF(E15=\"NA\",\"0\",\"1\"))","v":"0"}]
[null,null,"Posición Horizontal","La distancia horizontal entre el cuerpo y las manos (nudillos) es superior a 55 cm correspondiente a la zona de alcance máximo de brazos","NA","0"]
[null,null,"Asimetría","Rotación o inclinación extrema del tronco sin movimientos de los pies","NA","0"]
[null,null,"Frecuencia","Corta duración: más de 15 levantamientos/descensos por minuto, en\nuna tarea que no supere los 60 minutos seguidos en el turno de trabajo\ny seguida de al menos 60 minutos de descanso o tarea liviana (que no\nimplique MMC).","NA","0"]
[null,null,null,"Media duración: más de 12 levantamientos/descensos por minuto,\nen una tarea que no supere los 120 minutos seguidos en el turno de\ntrabajo y seguida de al menos 30 minutos de descanso o tarea liviana\n(que no implique MMC).","NA","0"]
[null,null,null,"Larga duración: más de 8 levantamientos/descensos por minuto, en\nuna tarea que supere los 120 minutos seguidos en el turno de trabajo.","NA","0"]
[null,null,null,"Condición crítica: presencia de tarea de Levantamiento/descenso y transporte con peso de la carga que exceda los siguientes límites ","Si / No / NA",{"$f":"F14+F15+F16+F17+F18+F19+F20","v":0}]
[null,null,"Hombres \n(18-45 años) + ","25 kgs","NA",{"$f":"IF(E22=\"No\",\"0\",IF(E22=\"NA\",\"0\",\"1\"))","v":"0"}]
[null,null,"Mujeres\n(18-45 años) + ","20 kgs","NA",{"$f":"IF(E23=\"No\",\"0\",IF(E23=\"NA\",\"0\",\"1\"))","v":"0"}]
[null,null,"Hombres \n(< 18-45 años o > 45 años) + ","20 kgs","NA","0"]
[null,null,"Mujeres \n(< 18-45 años o > 45 años) + ","15 kgs","NA","0"]
[null,null,"Mujer\nEmbarazada","3 kgs","NA","0"]
[null,null,null,"Condición crítica: presencia de tarea de Levantamiento/descenso y transporte con peso de la carga que exceda los siguientes límites ","Si / No / NA",{"$f":"F22+F23+F24+F25+F26","v":0}]
[null,null,"Distancia de transporte de 20 mts. o más","6.000 Kgs. en 8 hrs.","NA",{"$f":"IF(E28=\"No\",\"0\",IF(E28=\"NA\",\"0\",\"1\"))","v":"0"}]
[null,null,"Distancia de transporte menos a 20 mts.","10.000 Kgs. en 8 hrs.","NA",{"$f":"IF(E29=\"No\",\"0\",IF(E29=\"NA\",\"0\",\"1\"))","v":"0"}]
[null,null,null,null,null,{"$f":"F28+F29","v":0}]
[null,null,null,null,null,{"$f":"F12+F21+F27+F30","v":0}]

{"sheet":"TABLA 4T3P5","index":75,"n_rows":31,"n_cols":10,"rows_kept":31,"cut":false,"hidden":false,"merged":[]}
[]
[null,null,null,"LEVANTAMIENTO, DESCENSO Y TRANSPORTE DE CARGA - IDENTIFICACIÓN AVANZADA CONDICIÓN CRÍTICA  ",null,null,null,null,null,"Cuadro de Resultado Tabla 4"]
[null,null,"Condición","Levantamiento/descenso y transporte manual de carga","Si / No / NA"]
[null,null,"Ambiente de Trabajo","Presencia de temperatura extrema (bajo 16° o superior a los 26° grados Celsius) y sin ropa que proteja de las temperaturas extremas.","NA",{"$f":"IF(E4=\"No\",\"0\",IF(E4=\"NA\",\"0\",\"1\"))","v":"0"},null,null,null,"La Tarea:"]
[null,null,null,"Presencia de suelo resbaladizo, irregular o inestable.","NA",{"$f":"IF(E5=\"No\",\"0\",IF(E5=\"NA\",\"0\",\"1\"))","v":"0"},null,null,{"$f":"'TABLA 1 P5'!B10","v":"N° 3"},{"$f":"'TABLA 1 P5'!C10","v":"NA"}]
[null,null,null,"Presencia de espacio insuficiente para el levantamiento/descenso y transporte de carga que genera posturas incomodas o restricción en el movimiento.","NA","0",null,null,null,"Resultado:"]
[null,null,"Característica de la Carga","El tamaño de la carga reduce la visión del trabajador y/o dificulta su movimiento.","NA","0",null,null,{"$f":"F31","v":0},{"$f":"IF(F31>=1,\"Crítica\",\"No Crítica\")","v":"No Crítica"}]
[null,null,null,"El centro de gravedad de la carga no es estable (ej.: líquidos, elementos que se mueven dentro de la carga).","NA","0",null,null,null,"Por lo que usted:"]
[null,null,null,"La forma/configuración de la carga presenta bordes,\nsuperficies o protuberancias afiladas.","NA","0",null,null,null,{"$f":"IF(J7=\"No Crítica\",\"Ha terminado el Proceso de Identificación para esta Tarea y deberá iniciar el proceso de Evaluación Cuantitativa del riesgo\",\"Ha terminado el Proceso de Identificación para esta Tarea y deberá aplicar medidas para reducir el riesgo\")","v":"Ha terminado el Proceso de Identificación para esta Tarea y deberá iniciar el proceso de Evaluación Cuantitativa del riesgo"}]
[null,null,null,"Las superficies de contacto son demasiado frías o demasiado calientes.","NA","0"]
[null,null,"Horas de Trabajo","La tarea de levantamiento/descenso o transporte de\ncarga dura más de 8 hrs.","NA","0"]
[null,null,null,"Condición crítica: presencia de tarea de Levantamiento/descenso y transporte de carga con condiciones de diseño y frecuencia que exceden los valores máximos sugeridos ",null,{"$f":"F4+F5+F6+F7+F8+F9+F10+F11","v":0},null,null,null,"Si terminó de responder toda la Tabla 4 Presione Aquí para  regresar a Tabla 1 Información General del Puesto de Trabajo donde podrá continuar con la siguiente Tarea"]
[null,null,null,null,"Si / No / NA"]
[null,null,"Posición Vertical","La ubicación de las manos al inicio o final del levantamiento/descenso\nde una carga es superior a 155 cm o inferior a 20 cm°.","NA",{"$f":"IF(E14=\"No\",\"0\",IF(E14=\"NA\",\"0\",\"1\"))","v":"0"}]
[null,null,"Desplazamiento Vertical","La distancia vertical entre el origen y el destino del objeto manipulado\nes mayor a 135 cm°.","NA",{"$f":"IF(E15=\"No\",\"0\",IF(E15=\"NA\",\"0\",\"1\"))","v":"0"}]
[null,null,"Posición Horizontal","La distancia horizontal entre el cuerpo y las manos (nudillos) es superior a 55 cm correspondiente a la zona de alcance máximo de brazos","NA","0"]
[null,null,"Asimetría","Rotación o inclinación extrema del tronco sin movimientos de los pies","NA","0"]
[null,null,"Frecuencia","Corta duración: más de 15 levantamientos/descensos por minuto, en\nuna tarea que no supere los 60 minutos seguidos en el turno de trabajo\ny seguida de al menos 60 minutos de descanso o tarea liviana (que no\nimplique MMC).","NA","0"]
[null,null,null,"Media duración: más de 12 levantamientos/descensos por minuto,\nen una tarea que no supere los 120 minutos seguidos en el turno de\ntrabajo y seguida de al menos 30 minutos de descanso o tarea liviana\n(que no implique MMC).","NA","0"]
[null,null,null,"Larga duración: más de 8 levantamientos/descensos por minuto, en\nuna tarea que supere los 120 minutos seguidos en el turno de trabajo.","NA","0"]
[null,null,null,"Condición crítica: presencia de tarea de Levantamiento/descenso y transporte con peso de la carga que exceda los siguientes límites ","Si / No / NA",{"$f":"F14+F15+F16+F17+F18+F19+F20","v":0}]
[null,null,"Hombres \n(18-45 años) + ","25 kgs","NA",{"$f":"IF(E22=\"No\",\"0\",IF(E22=\"NA\",\"0\",\"1\"))","v":"0"}]
[null,null,"Mujeres\n(18-45 años) + ","20 kgs","NA",{"$f":"IF(E23=\"No\",\"0\",IF(E23=\"NA\",\"0\",\"1\"))","v":"0"}]
[null,null,"Hombres \n(< 18-45 años o > 45 años) + ","20 kgs","NA","0"]
[null,null,"Mujeres \n(< 18-45 años o > 45 años) + ","15 kgs","NA","0"]
[null,null,"Mujer\nEmbarazada","3 kgs","NA","0"]
[null,null,null,"Condición crítica: presencia de tarea de Levantamiento/descenso y transporte con peso de la carga que exceda los siguientes límites ","Si / No / NA",{"$f":"F22+F23+F24+F25+F26","v":0}]
[null,null,"Distancia de transporte de 20 mts. o más","6.000 Kgs. en 8 hrs.","NA",{"$f":"IF(E28=\"No\",\"0\",IF(E28=\"NA\",\"0\",\"1\"))","v":"0"}]
[null,null,"Distancia de transporte menos a 20 mts.","10.000 Kgs. en 8 hrs.","NA",{"$f":"IF(E29=\"No\",\"0\",IF(E29=\"NA\",\"0\",\"1\"))","v":"0"}]
[null,null,null,null,null,{"$f":"F28+F29","v":0}]
[null,null,null,null,null,{"$f":"F12+F21+F27+F30","v":0}]

{"sheet":"TABLA 4T3P6","index":76,"n_rows":31,"n_cols":10,"rows_kept":31,"cut":false,"hidden":false,"merged":[]}
[]
[null,null,null,"LEVANTAMIENTO, DESCENSO Y TRANSPORTE DE CARGA - IDENTIFICACIÓN AVANZADA CONDICIÓN CRÍTICA  ",null,null,null,null,null,"Cuadro de Resultado Tabla 4"]
[null,null,"Condición","Levantamiento/descenso y transporte manual de carga","Si / No / NA"]
[null,null,"Ambiente de Trabajo","Presencia de temperatura extrema (bajo 16° o superior a los 26° grados Celsius) y sin ropa que proteja de las temperaturas extremas.","NA",{"$f":"IF(E4=\"No\",\"0\",IF(E4=\"NA\",\"0\",\"1\"))","v":"0"},null,null,null,"La Tarea:"]
[null,null,null,"Presencia de suelo resbaladizo, irregular o inestable.","NA",{"$f":"IF(E5=\"No\",\"0\",IF(E5=\"NA\",\"0\",\"1\"))","v":"0"},null,null,{"$f":"'TABLA 1 P6'!B10","v":"N° 3"},{"$f":"'TABLA 1 P6'!C10","v":"NA"}]
[null,null,null,"Presencia de espacio insuficiente para el levantamiento/descenso y transporte de carga que genera posturas incomodas o restricción en el movimiento.","NA","0",null,null,null,"Resultado:"]
[null,null,"Característica de la Carga","El tamaño de la carga reduce la visión del trabajador y/o dificulta su movimiento.","NA","0",null,null,{"$f":"F31","v":0},{"$f":"IF(F31>=1,\"Crítica\",\"No Crítica\")","v":"No Crítica"}]
[null,null,null,"El centro de gravedad de la carga no es estable (ej.: líquidos, elementos que se mueven dentro de la carga).","NA","0",null,null,null,"Por lo que usted:"]
[null,null,null,"La forma/configuración de la carga presenta bordes,\nsuperficies o protuberancias afiladas.","NA","0",null,null,null,{"$f":"IF(J7=\"No Crítica\",\"Ha terminado el Proceso de Identificación para esta Tarea y deberá iniciar el proceso de Evaluación Cuantitativa del riesgo\",\"Ha terminado el Proceso de Identificación para esta Tarea y deberá aplicar medidas para reducir el riesgo\")","v":"Ha terminado el Proceso de Identificación para esta Tarea y deberá iniciar el proceso de Evaluación Cuantitativa del riesgo"}]
[null,null,null,"Las superficies de contacto son demasiado frías o demasiado calientes.","NA","0"]
[null,null,"Horas de Trabajo","La tarea de levantamiento/descenso o transporte de\ncarga dura más de 8 hrs.","NA","0"]
[null,null,null,"Condición crítica: presencia de tarea de Levantamiento/descenso y transporte de carga con condiciones de diseño y frecuencia que exceden los valores máximos sugeridos ",null,{"$f":"F4+F5+F6+F7+F8+F9+F10+F11","v":0},null,null,null,"Si terminó de responder toda la Tabla 4 Presione Aquí para  regresar a Tabla 1 Información General del Puesto de Trabajo donde podrá continuar con la siguiente Tarea"]
[null,null,null,null,"Si / No / NA"]
[null,null,"Posición Vertical","La ubicación de las manos al inicio o final del levantamiento/descenso\nde una carga es superior a 155 cm o inferior a 20 cm°.","NA",{"$f":"IF(E14=\"No\",\"0\",IF(E14=\"NA\",\"0\",\"1\"))","v":"0"}]
[null,null,"Desplazamiento Vertical","La distancia vertical entre el origen y el destino del objeto manipulado\nes mayor a 135 cm°.","NA",{"$f":"IF(E15=\"No\",\"0\",IF(E15=\"NA\",\"0\",\"1\"))","v":"0"}]
[null,null,"Posición Horizontal","La distancia horizontal entre el cuerpo y las manos (nudillos) es superior a 55 cm correspondiente a la zona de alcance máximo de brazos","NA","0"]
[null,null,"Asimetría","Rotación o inclinación extrema del tronco sin movimientos de los pies","NA","0"]
[null,null,"Frecuencia","Corta duración: más de 15 levantamientos/descensos por minuto, en\nuna tarea que no supere los 60 minutos seguidos en el turno de trabajo\ny seguida de al menos 60 minutos de descanso o tarea liviana (que no\nimplique MMC).","NA","0"]
[null,null,null,"Media duración: más de 12 levantamientos/descensos por minuto,\nen una tarea que no supere los 120 minutos seguidos en el turno de\ntrabajo y seguida de al menos 30 minutos de descanso o tarea liviana\n(que no implique MMC).","NA","0"]
[null,null,null,"Larga duración: más de 8 levantamientos/descensos por minuto, en\nuna tarea que supere los 120 minutos seguidos en el turno de trabajo.","NA","0"]
[null,null,null,"Condición crítica: presencia de tarea de Levantamiento/descenso y transporte con peso de la carga que exceda los siguientes límites ","Si / No / NA",{"$f":"F14+F15+F16+F17+F18+F19+F20","v":0}]
[null,null,"Hombres \n(18-45 años) + ","25 kgs","NA",{"$f":"IF(E22=\"No\",\"0\",IF(E22=\"NA\",\"0\",\"1\"))","v":"0"}]
[null,null,"Mujeres\n(18-45 años) + ","20 kgs","NA",{"$f":"IF(E23=\"No\",\"0\",IF(E23=\"NA\",\"0\",\"1\"))","v":"0"}]
[null,null,"Hombres \n(< 18-45 años o > 45 años) + ","20 kgs","NA","0"]
[null,null,"Mujeres \n(< 18-45 años o > 45 años) + ","15 kgs","NA","0"]
[null,null,"Mujer\nEmbarazada","3 kgs","NA","0"]
[null,null,null,"Condición crítica: presencia de tarea de Levantamiento/descenso y transporte con peso de la carga que exceda los siguientes límites ","Si / No / NA",{"$f":"F22+F23+F24+F25+F26","v":0}]
[null,null,"Distancia de transporte de 20 mts. o más","6.000 Kgs. en 8 hrs.","NA",{"$f":"IF(E28=\"No\",\"0\",IF(E28=\"NA\",\"0\",\"1\"))","v":"0"}]
[null,null,"Distancia de transporte menos a 20 mts.","10.000 Kgs. en 8 hrs.","NA",{"$f":"IF(E29=\"No\",\"0\",IF(E29=\"NA\",\"0\",\"1\"))","v":"0"}]
[null,null,null,null,null,{"$f":"F28+F29","v":0}]
[null,null,null,null,null,{"$f":"F12+F21+F27+F30","v":0}]

{"sheet":"TABLA 4T3P7","index":77,"n_rows":31,"n_cols":10,"rows_kept":31,"cut":false,"hidden":false,"merged":[]}
[]
[null,null,null,"LEVANTAMIENTO, DESCENSO Y TRANSPORTE DE CARGA - IDENTIFICACIÓN AVANZADA CONDICIÓN CRÍTICA  ",null,null,null,null,null,"Cuadro de Resultado Tabla 4"]
[null,null,"Condición","Levantamiento/descenso y transporte manual de carga","Si / No / NA"]
[null,null,"Ambiente de Trabajo","Presencia de temperatura extrema (bajo 16° o superior a los 26° grados Celsius) y sin ropa que proteja de las temperaturas extremas.","NA",{"$f":"IF(E4=\"No\",\"0\",IF(E4=\"NA\",\"0\",\"1\"))","v":"0"},null,null,null,"La Tarea:"]
[null,null,null,"Presencia de suelo resbaladizo, irregular o inestable.","NA",{"$f":"IF(E5=\"No\",\"0\",IF(E5=\"NA\",\"0\",\"1\"))","v":"0"},null,null,{"$f":"'TABLA 1 P7'!B10","v":"N° 3"},{"$f":"'TABLA 1 P7'!C10","v":"NA"}]
[null,null,null,"Presencia de espacio insuficiente para el levantamiento/descenso y transporte de carga que genera posturas incomodas o restricción en el movimiento.","NA","0",null,null,null,"Resultado:"]
[null,null,"Característica de la Carga","El tamaño de la carga reduce la visión del trabajador y/o dificulta su movimiento.","NA","0",null,null,{"$f":"F31","v":0},{"$f":"IF(F31>=1,\"Crítica\",\"No Crítica\")","v":"No Crítica"}]
[null,null,null,"El centro de gravedad de la carga no es estable (ej.: líquidos, elementos que se mueven dentro de la carga).","NA","0",null,null,null,"Por lo que usted:"]
[null,null,null,"La forma/configuración de la carga presenta bordes,\nsuperficies o protuberancias afiladas.","NA","0",null,null,null,{"$f":"IF(J7=\"No Crítica\",\"Ha terminado el Proceso de Identificación para esta Tarea y deberá iniciar el proceso de Evaluación Cuantitativa del riesgo\",\"Ha terminado el Proceso de Identificación para esta Tarea y deberá aplicar medidas para reducir el riesgo\")","v":"Ha terminado el Proceso de Identificación para esta Tarea y deberá iniciar el proceso de Evaluación Cuantitativa del riesgo"}]
[null,null,null,"Las superficies de contacto son demasiado frías o demasiado calientes.","NA","0"]
[null,null,"Horas de Trabajo","La tarea de levantamiento/descenso o transporte de\ncarga dura más de 8 hrs.","NA","0"]
[null,null,null,"Condición crítica: presencia de tarea de Levantamiento/descenso y transporte de carga con condiciones de diseño y frecuencia que exceden los valores máximos sugeridos ",null,{"$f":"F4+F5+F6+F7+F8+F9+F10+F11","v":0},null,null,null,"Si terminó de responder toda la Tabla 4 Presione Aquí para  regresar a Tabla 1 Información General del Puesto de Trabajo donde podrá continuar con la siguiente Tarea"]
[null,null,null,null,"Si / No / NA"]
[null,null,"Posición Vertical","La ubicación de las manos al inicio o final del levantamiento/descenso\nde una carga es superior a 155 cm o inferior a 20 cm°.","NA",{"$f":"IF(E14=\"No\",\"0\",IF(E14=\"NA\",\"0\",\"1\"))","v":"0"}]
[null,null,"Desplazamiento Vertical","La distancia vertical entre el origen y el destino del objeto manipulado\nes mayor a 135 cm°.","NA",{"$f":"IF(E15=\"No\",\"0\",IF(E15=\"NA\",\"0\",\"1\"))","v":"0"}]
[null,null,"Posición Horizontal","La distancia horizontal entre el cuerpo y las manos (nudillos) es superior a 55 cm correspondiente a la zona de alcance máximo de brazos","NA","0"]
[null,null,"Asimetría","Rotación o inclinación extrema del tronco sin movimientos de los pies","NA","0"]
[null,null,"Frecuencia","Corta duración: más de 15 levantamientos/descensos por minuto, en\nuna tarea que no supere los 60 minutos seguidos en el turno de trabajo\ny seguida de al menos 60 minutos de descanso o tarea liviana (que no\nimplique MMC).","NA","0"]
[null,null,null,"Media duración: más de 12 levantamientos/descensos por minuto,\nen una tarea que no supere los 120 minutos seguidos en el turno de\ntrabajo y seguida de al menos 30 minutos de descanso o tarea liviana\n(que no implique MMC).","NA","0"]
[null,null,null,"Larga duración: más de 8 levantamientos/descensos por minuto, en\nuna tarea que supere los 120 minutos seguidos en el turno de trabajo.","NA","0"]
[null,null,null,"Condición crítica: presencia de tarea de Levantamiento/descenso y transporte con peso de la carga que exceda los siguientes límites ","Si / No / NA",{"$f":"F14+F15+F16+F17+F18+F19+F20","v":0}]
[null,null,"Hombres \n(18-45 años) + ","25 kgs","NA",{"$f":"IF(E22=\"No\",\"0\",IF(E22=\"NA\",\"0\",\"1\"))","v":"0"}]
[null,null,"Mujeres\n(18-45 años) + ","20 kgs","NA",{"$f":"IF(E23=\"No\",\"0\",IF(E23=\"NA\",\"0\",\"1\"))","v":"0"}]
[null,null,"Hombres \n(< 18-45 años o > 45 años) + ","20 kgs","NA","0"]
[null,null,"Mujeres \n(< 18-45 años o > 45 años) + ","15 kgs","NA","0"]
[null,null,"Mujer\nEmbarazada","3 kgs","NA","0"]
[null,null,null,"Condición crítica: presencia de tarea de Levantamiento/descenso y transporte con peso de la carga que exceda los siguientes límites ","Si / No / NA",{"$f":"F22+F23+F24+F25+F26","v":0}]
[null,null,"Distancia de transporte de 20 mts. o más","6.000 Kgs. en 8 hrs.","NA",{"$f":"IF(E28=\"No\",\"0\",IF(E28=\"NA\",\"0\",\"1\"))","v":"0"}]
[null,null,"Distancia de transporte menos a 20 mts.","10.000 Kgs. en 8 hrs.","NA",{"$f":"IF(E29=\"No\",\"0\",IF(E29=\"NA\",\"0\",\"1\"))","v":"0"}]
[null,null,null,null,null,{"$f":"F28+F29","v":0}]
[null,null,null,null,null,{"$f":"F12+F21+F27+F30","v":0}]

{"sheet":"TABLA 4T3P8","index":78,"n_rows":31,"n_cols":10,"rows_kept":31,"cut":false,"hidden":false,"merged":[]}
[]
[null,null,null,"LEVANTAMIENTO, DESCENSO Y TRANSPORTE DE CARGA - IDENTIFICACIÓN AVANZADA CONDICIÓN CRÍTICA  ",null,null,null,null,null,"Cuadro de Resultado Tabla 4"]
[null,null,"Condición","Levantamiento/descenso y transporte manual de carga","Si / No / NA"]
[null,null,"Ambiente de Trabajo","Presencia de temperatura extrema (bajo 16° o superior a los 26° grados Celsius) y sin ropa que proteja de las temperaturas extremas.","NA",{"$f":"IF(E4=\"No\",\"0\",IF(E4=\"NA\",\"0\",\"1\"))","v":"0"},null,null,null,"La Tarea:"]
[null,null,null,"Presencia de suelo resbaladizo, irregular o inestable.","NA",{"$f":"IF(E5=\"No\",\"0\",IF(E5=\"NA\",\"0\",\"1\"))","v":"0"},null,null,{"$f":"'TABLA 1 P8'!B10","v":"N° 3"},{"$f":"'TABLA 1 P8'!C10","v":"NA"}]
[null,null,null,"Presencia de espacio insuficiente para el levantamiento/descenso y transporte de carga que genera posturas incomodas o restricción en el movimiento.","NA","0",null,null,null,"Resultado:"]
[null,null,"Característica de la Carga","El tamaño de la carga reduce la visión del trabajador y/o dificulta su movimiento.","NA","0",null,null,{"$f":"F31","v":0},{"$f":"IF(F31>=1,\"Crítica\",\"No Crítica\")","v":"No Crítica"}]
[null,null,null,"El centro de gravedad de la carga no es estable (ej.: líquidos, elementos que se mueven dentro de la carga).","NA","0",null,null,null,"Por lo que usted:"]
[null,null,null,"La forma/configuración de la carga presenta bordes,\nsuperficies o protuberancias afiladas.","NA","0",null,null,null,{"$f":"IF(J7=\"No Crítica\",\"Ha terminado el Proceso de Identificación para esta Tarea y deberá iniciar el proceso de Evaluación Cuantitativa del riesgo\",\"Ha terminado el Proceso de Identificación para esta Tarea y deberá aplicar medidas para reducir el riesgo\")","v":"Ha terminado el Proceso de Identificación para esta Tarea y deberá iniciar el proceso de Evaluación Cuantitativa del riesgo"}]
[null,null,null,"Las superficies de contacto son demasiado frías o demasiado calientes.","NA","0"]
[null,null,"Horas de Trabajo","La tarea de levantamiento/descenso o transporte de\ncarga dura más de 8 hrs.","NA","0"]
[null,null,null,"Condición crítica: presencia de tarea de Levantamiento/descenso y transporte de carga con condiciones de diseño y frecuencia que exceden los valores máximos sugeridos ",null,{"$f":"F4+F5+F6+F7+F8+F9+F10+F11","v":0},null,null,null,"Si terminó de responder toda la Tabla 4 Presione Aquí para  regresar a Tabla 1 Información General del Puesto de Trabajo donde podrá continuar con la siguiente Tarea"]
[null,null,null,null,"Si / No / NA"]
[null,null,"Posición Vertical","La ubicación de las manos al inicio o final del levantamiento/descenso\nde una carga es superior a 155 cm o inferior a 20 cm°.","NA",{"$f":"IF(E14=\"No\",\"0\",IF(E14=\"NA\",\"0\",\"1\"))","v":"0"}]
[null,null,"Desplazamiento Vertical","La distancia vertical entre el origen y el destino del objeto manipulado\nes mayor a 135 cm°.","NA",{"$f":"IF(E15=\"No\",\"0\",IF(E15=\"NA\",\"0\",\"1\"))","v":"0"}]
[null,null,"Posición Horizontal","La distancia horizontal entre el cuerpo y las manos (nudillos) es superior a 55 cm correspondiente a la zona de alcance máximo de brazos","NA","0"]
[null,null,"Asimetría","Rotación o inclinación extrema del tronco sin movimientos de los pies","NA","0"]
[null,null,"Frecuencia","Corta duración: más de 15 levantamientos/descensos por minuto, en\nuna tarea que no supere los 60 minutos seguidos en el turno de trabajo\ny seguida de al menos 60 minutos de descanso o tarea liviana (que no\nimplique MMC).","NA","0"]
[null,null,null,"Media duración: más de 12 levantamientos/descensos por minuto,\nen una tarea que no supere los 120 minutos seguidos en el turno de\ntrabajo y seguida de al menos 30 minutos de descanso o tarea liviana\n(que no implique MMC).","NA","0"]
[null,null,null,"Larga duración: más de 8 levantamientos/descensos por minuto, en\nuna tarea que supere los 120 minutos seguidos en el turno de trabajo.","NA","0"]
[null,null,null,"Condición crítica: presencia de tarea de Levantamiento/descenso y transporte con peso de la carga que exceda los siguientes límites ","Si / No / NA",{"$f":"F14+F15+F16+F17+F18+F19+F20","v":0}]
[null,null,"Hombres \n(18-45 años) + ","25 kgs","NA",{"$f":"IF(E22=\"No\",\"0\",IF(E22=\"NA\",\"0\",\"1\"))","v":"0"}]
[null,null,"Mujeres\n(18-45 años) + ","20 kgs","NA",{"$f":"IF(E23=\"No\",\"0\",IF(E23=\"NA\",\"0\",\"1\"))","v":"0"}]
[null,null,"Hombres \n(< 18-45 años o > 45 años) + ","20 kgs","NA","0"]
[null,null,"Mujeres \n(< 18-45 años o > 45 años) + ","15 kgs","NA","0"]
[null,null,"Mujer\nEmbarazada","3 kgs","NA","0"]
[null,null,null,"Condición crítica: presencia de tarea de Levantamiento/descenso y transporte con peso de la carga que exceda los siguientes límites ","Si / No / NA",{"$f":"F22+F23+F24+F25+F26","v":0}]
[null,null,"Distancia de transporte de 20 mts. o más","6.000 Kgs. en 8 hrs.","NA",{"$f":"IF(E28=\"No\",\"0\",IF(E28=\"NA\",\"0\",\"1\"))","v":"0"}]
[null,null,"Distancia de transporte menos a 20 mts.","10.000 Kgs. en 8 hrs.","NA",{"$f":"IF(E29=\"No\",\"0\",IF(E29=\"NA\",\"0\",\"1\"))","v":"0"}]
[null,null,null,null,null,{"$f":"F28+F29","v":0}]
[null,null,null,null,null,{"$f":"F12+F21+F27+F30","v":0}]

{"sheet":"TABLA 4T3P9","index":79,"n_rows":31,"n_cols":10,"rows_kept":31,"cut":false,"hidden":false,"merged":[]}
[]
[null,null,null,"LEVANTAMIENTO, DESCENSO Y TRANSPORTE DE CARGA - IDENTIFICACIÓN AVANZADA CONDICIÓN CRÍTICA  ",null,null,null,null,null,"Cuadro de Resultado Tabla 4"]
[null,null,"Condición","Levantamiento/descenso y transporte manual de carga","Si / No / NA"]
[null,null,"Ambiente de Trabajo","Presencia de temperatura extrema (bajo 16° o superior a los 26° grados Celsius) y sin ropa que proteja de las temperaturas extremas.","NA",{"$f":"IF(E4=\"No\",\"0\",IF(E4=\"NA\",\"0\",\"1\"))","v":"0"},null,null,null,"La Tarea:"]
[null,null,null,"Presencia de suelo resbaladizo, irregular o inestable.","NA",{"$f":"IF(E5=\"No\",\"0\",IF(E5=\"NA\",\"0\",\"1\"))","v":"0"},null,null,{"$f":"'TABLA 1 P9'!B10","v":"N° 3"},{"$f":"'TABLA 1 P9'!C10","v":"NA"}]
[null,null,null,"Presencia de espacio insuficiente para el levantamiento/descenso y transporte de carga que genera posturas incomodas o restricción en el movimiento.","NA","0",null,null,null,"Resultado:"]
[null,null,"Característica de la Carga","El tamaño de la carga reduce la visión del trabajador y/o dificulta su movimiento.","NA","0",null,null,{"$f":"F31","v":0},{"$f":"IF(F31>=1,\"Crítica\",\"No Crítica\")","v":"No Crítica"}]
[null,null,null,"El centro de gravedad de la carga no es estable (ej.: líquidos, elementos que se mueven dentro de la carga).","NA","0",null,null,null,"Por lo que usted:"]
[null,null,null,"La forma/configuración de la carga presenta bordes,\nsuperficies o protuberancias afiladas.","NA","0",null,null,null,{"$f":"IF(J7=\"No Crítica\",\"Ha terminado el Proceso de Identificación para esta Tarea y deberá iniciar el proceso de Evaluación Cuantitativa del riesgo\",\"Ha terminado el Proceso de Identificación para esta Tarea y deberá aplicar medidas para reducir el riesgo\")","v":"Ha terminado el Proceso de Identificación para esta Tarea y deberá iniciar el proceso de Evaluación Cuantitativa del riesgo"}]
[null,null,null,"Las superficies de contacto son demasiado frías o demasiado calientes.","NA","0"]
[null,null,"Horas de Trabajo","La tarea de levantamiento/descenso o transporte de\ncarga dura más de 8 hrs.","NA","0"]
[null,null,null,"Condición crítica: presencia de tarea de Levantamiento/descenso y transporte de carga con condiciones de diseño y frecuencia que exceden los valores máximos sugeridos ",null,{"$f":"F4+F5+F6+F7+F8+F9+F10+F11","v":0},null,null,null,"Si terminó de responder toda la Tabla 4 Presione Aquí para  regresar a Tabla 1 Información General del Puesto de Trabajo donde podrá continuar con la siguiente Tarea"]
[null,null,null,null,"Si / No / NA"]
[null,null,"Posición Vertical","La ubicación de las manos al inicio o final del levantamiento/descenso\nde una carga es superior a 155 cm o inferior a 20 cm°.","NA",{"$f":"IF(E14=\"No\",\"0\",IF(E14=\"NA\",\"0\",\"1\"))","v":"0"}]
[null,null,"Desplazamiento Vertical","La distancia vertical entre el origen y el destino del objeto manipulado\nes mayor a 135 cm°.","NA",{"$f":"IF(E15=\"No\",\"0\",IF(E15=\"NA\",\"0\",\"1\"))","v":"0"}]
[null,null,"Posición Horizontal","La distancia horizontal entre el cuerpo y las manos (nudillos) es superior a 55 cm correspondiente a la zona de alcance máximo de brazos","NA","0"]
[null,null,"Asimetría","Rotación o inclinación extrema del tronco sin movimientos de los pies","NA","0"]
[null,null,"Frecuencia","Corta duración: más de 15 levantamientos/descensos por minuto, en\nuna tarea que no supere los 60 minutos seguidos en el turno de trabajo\ny seguida de al menos 60 minutos de descanso o tarea liviana (que no\nimplique MMC).","NA","0"]
[null,null,null,"Media duración: más de 12 levantamientos/descensos por minuto,\nen una tarea que no supere los 120 minutos seguidos en el turno de\ntrabajo y seguida de al menos 30 minutos de descanso o tarea liviana\n(que no implique MMC).","NA","0"]
[null,null,null,"Larga duración: más de 8 levantamientos/descensos por minuto, en\nuna tarea que supere los 120 minutos seguidos en el turno de trabajo.","NA","0"]
[null,null,null,"Condición crítica: presencia de tarea de Levantamiento/descenso y transporte con peso de la carga que exceda los siguientes límites ","Si / No / NA",{"$f":"F14+F15+F16+F17+F18+F19+F20","v":0}]
[null,null,"Hombres \n(18-45 años) + ","25 kgs","NA",{"$f":"IF(E22=\"No\",\"0\",IF(E22=\"NA\",\"0\",\"1\"))","v":"0"}]
[null,null,"Mujeres\n(18-45 años) + ","20 kgs","NA",{"$f":"IF(E23=\"No\",\"0\",IF(E23=\"NA\",\"0\",\"1\"))","v":"0"}]
[null,null,"Hombres \n(< 18-45 años o > 45 años) + ","20 kgs","NA","0"]
[null,null,"Mujeres \n(< 18-45 años o > 45 años) + ","15 kgs","NA","0"]
[null,null,"Mujer\nEmbarazada","3 kgs","NA","0"]
[null,null,null,"Condición crítica: presencia de tarea de Levantamiento/descenso y transporte con peso de la carga que exceda los siguientes límites ","Si / No / NA",{"$f":"F22+F23+F24+F25+F26","v":0}]
[null,null,"Distancia de transporte de 20 mts. o más","6.000 Kgs. en 8 hrs.","NA",{"$f":"IF(E28=\"No\",\"0\",IF(E28=\"NA\",\"0\",\"1\"))","v":"0"}]
[null,null,"Distancia de transporte menos a 20 mts.","10.000 Kgs. en 8 hrs.","NA",{"$f":"IF(E29=\"No\",\"0\",IF(E29=\"NA\",\"0\",\"1\"))","v":"0"}]
[null,null,null,null,null,{"$f":"F28+F29","v":0}]
[null,null,null,null,null,{"$f":"F12+F21+F27+F30","v":0}]

{"sheet":"TABLA 4T3P10","index":80,"n_rows":31,"n_cols":10,"rows_kept":31,"cut":false,"hidden":false,"merged":[]}
[]
[null,null,null,"LEVANTAMIENTO, DESCENSO Y TRANSPORTE DE CARGA - IDENTIFICACIÓN AVANZADA CONDICIÓN CRÍTICA  ",null,null,null,null,null,"Cuadro de Resultado Tabla 4"]
[null,null,"Condición","Levantamiento/descenso y transporte manual de carga","Si / No / NA"]
[null,null,"Ambiente de Trabajo","Presencia de temperatura extrema (bajo 16° o superior a los 26° grados Celsius) y sin ropa que proteja de las temperaturas extremas.","NA",{"$f":"IF(E4=\"No\",\"0\",IF(E4=\"NA\",\"0\",\"1\"))","v":"0"},null,null,null,"La Tarea:"]
[null,null,null,"Presencia de suelo resbaladizo, irregular o inestable.","NA",{"$f":"IF(E5=\"No\",\"0\",IF(E5=\"NA\",\"0\",\"1\"))","v":"0"},null,null,{"$f":"'TABLA 1 P10'!B10","v":"N° 3"},{"$f":"'TABLA 1 P10'!C10","v":"NA"}]
[null,null,null,"Presencia de espacio insuficiente para el levantamiento/descenso y transporte de carga que genera posturas incomodas o restricción en el movimiento.","NA","0",null,null,null,"Resultado:"]
[null,null,"Característica de la Carga","El tamaño de la carga reduce la visión del trabajador y/o dificulta su movimiento.","NA","0",null,null,{"$f":"F31","v":0},{"$f":"IF(F31>=1,\"Crítica\",\"No Crítica\")","v":"No Crítica"}]
[null,null,null,"El centro de gravedad de la carga no es estable (ej.: líquidos, elementos que se mueven dentro de la carga).","NA","0",null,null,null,"Por lo que usted:"]
[null,null,null,"La forma/configuración de la carga presenta bordes,\nsuperficies o protuberancias afiladas.","NA","0",null,null,null,{"$f":"IF(J7=\"No Crítica\",\"Ha terminado el Proceso de Identificación para esta Tarea y deberá iniciar el proceso de Evaluación Cuantitativa del riesgo\",\"Ha terminado el Proceso de Identificación para esta Tarea y deberá aplicar medidas para reducir el riesgo\")","v":"Ha terminado el Proceso de Identificación para esta Tarea y deberá iniciar el proceso de Evaluación Cuantitativa del riesgo"}]
[null,null,null,"Las superficies de contacto son demasiado frías o demasiado calientes.","NA","0"]
[null,null,"Horas de Trabajo","La tarea de levantamiento/descenso o transporte de\ncarga dura más de 8 hrs.","NA","0"]
[null,null,null,"Condición crítica: presencia de tarea de Levantamiento/descenso y transporte de carga con condiciones de diseño y frecuencia que exceden los valores máximos sugeridos ",null,{"$f":"F4+F5+F6+F7+F8+F9+F10+F11","v":0},null,null,null,"Si terminó de responder toda la Tabla 4 Presione Aquí para  regresar a Tabla 1 Información General del Puesto de Trabajo donde podrá continuar con la siguiente Tarea"]
[null,null,null,null,"Si / No / NA"]
[null,null,"Posición Vertical","La ubicación de las manos al inicio o final del levantamiento/descenso\nde una carga es superior a 155 cm o inferior a 20 cm°.","NA",{"$f":"IF(E14=\"No\",\"0\",IF(E14=\"NA\",\"0\",\"1\"))","v":"0"}]
[null,null,"Desplazamiento Vertical","La distancia vertical entre el origen y el destino del objeto manipulado\nes mayor a 135 cm°.","NA",{"$f":"IF(E15=\"No\",\"0\",IF(E15=\"NA\",\"0\",\"1\"))","v":"0"}]
[null,null,"Posición Horizontal","La distancia horizontal entre el cuerpo y las manos (nudillos) es superior a 55 cm correspondiente a la zona de alcance máximo de brazos","NA","0"]
[null,null,"Asimetría","Rotación o inclinación extrema del tronco sin movimientos de los pies","NA","0"]
[null,null,"Frecuencia","Corta duración: más de 15 levantamientos/descensos por minuto, en\nuna tarea que no supere los 60 minutos seguidos en el turno de trabajo\ny seguida de al menos 60 minutos de descanso o tarea liviana (que no\nimplique MMC).","NA","0"]
[null,null,null,"Media duración: más de 12 levantamientos/descensos por minuto,\nen una tarea que no supere los 120 minutos seguidos en el turno de\ntrabajo y seguida de al menos 30 minutos de descanso o tarea liviana\n(que no implique MMC).","NA","0"]
[null,null,null,"Larga duración: más de 8 levantamientos/descensos por minuto, en\nuna tarea que supere los 120 minutos seguidos en el turno de trabajo.","NA","0"]
[null,null,null,"Condición crítica: presencia de tarea de Levantamiento/descenso y transporte con peso de la carga que exceda los siguientes límites ","Si / No / NA",{"$f":"F14+F15+F16+F17+F18+F19+F20","v":0}]
[null,null,"Hombres \n(18-45 años) + ","25 kgs","NA",{"$f":"IF(E22=\"No\",\"0\",IF(E22=\"NA\",\"0\",\"1\"))","v":"0"}]
[null,null,"Mujeres\n(18-45 años) + ","20 kgs","NA",{"$f":"IF(E23=\"No\",\"0\",IF(E23=\"NA\",\"0\",\"1\"))","v":"0"}]
[null,null,"Hombres \n(< 18-45 años o > 45 años) + ","20 kgs","NA","0"]
[null,null,"Mujeres \n(< 18-45 años o > 45 años) + ","15 kgs","NA","0"]
[null,null,"Mujer\nEmbarazada","3 kgs","NA","0"]
[null,null,null,"Condición crítica: presencia de tarea de Levantamiento/descenso y transporte con peso de la carga que exceda los siguientes límites ","Si / No / NA",{"$f":"F22+F23+F24+F25+F26","v":0}]
[null,null,"Distancia de transporte de 20 mts. o más","6.000 Kgs. en 8 hrs.","NA",{"$f":"IF(E28=\"No\",\"0\",IF(E28=\"NA\",\"0\",\"1\"))","v":"0"}]
[null,null,"Distancia de transporte menos a 20 mts.","10.000 Kgs. en 8 hrs.","NA",{"$f":"IF(E29=\"No\",\"0\",IF(E29=\"NA\",\"0\",\"1\"))","v":"0"}]
[null,null,null,null,null,{"$f":"F28+F29","v":0}]
[null,null,null,null,null,{"$f":"F12+F21+F27+F30","v":0}]

{"sheet":"TABLA 4T4P3","index":81,"n_rows":31,"n_cols":10,"rows_kept":31,"cut":false,"hidden":false,"merged":[]}
[]
[null,null,null,"LEVANTAMIENTO, DESCENSO Y TRANSPORTE DE CARGA - IDENTIFICACIÓN AVANZADA CONDICIÓN CRÍTICA  ",null,null,null,null,null,"Cuadro de Resultado Tabla 4"]
[null,null,"Condición","Levantamiento/descenso y transporte manual de carga","Si / No / NA"]
[null,null,"Ambiente de Trabajo","Presencia de temperatura extrema (bajo 16° o superior a los 26° grados Celsius) y sin ropa que proteja de las temperaturas extremas.","NA",{"$f":"IF(E4=\"No\",\"0\",IF(E4=\"NA\",\"0\",\"1\"))","v":"0"},null,null,null,"La Tarea:"]
[null,null,null,"Presencia de suelo resbaladizo, irregular o inestable.","NA",{"$f":"IF(E5=\"No\",\"0\",IF(E5=\"NA\",\"0\",\"1\"))","v":"0"},null,null,{"$f":"'TABLA 1 P3'!B12","v":"N°4"},{"$f":"'TABLA 1 P3'!C12","v":"NA"}]
[null,null,null,"Presencia de espacio insuficiente para el levantamiento/descenso y transporte de carga que genera posturas incomodas o restricción en el movimiento.","NA","0",null,null,null,"Resultado:"]
[null,null,"Característica de la Carga","El tamaño de la carga reduce la visión del trabajador y/o dificulta su movimiento.","NA","0",null,null,{"$f":"F31","v":0},{"$f":"IF(F31>=1,\"Crítica\",\"No Crítica\")","v":"No Crítica"}]
[null,null,null,"El centro de gravedad de la carga no es estable (ej.: líquidos, elementos que se mueven dentro de la carga).","NA","0",null,null,null,"Por lo que usted:"]
[null,null,null,"La forma/configuración de la carga presenta bordes,\nsuperficies o protuberancias afiladas.","NA","0",null,null,null,{"$f":"IF(J7=\"No Crítica\",\"Ha terminado el Proceso de Identificación para esta Tarea y deberá iniciar el proceso de Evaluación Cuantitativa del riesgo\",\"Ha terminado el Proceso de Identificación para esta Tarea y deberá aplicar medidas para reducir el riesgo\")","v":"Ha terminado el Proceso de Identificación para esta Tarea y deberá iniciar el proceso de Evaluación Cuantitativa del riesgo"}]
[null,null,null,"Las superficies de contacto son demasiado frías o demasiado calientes.","NA","0"]
[null,null,"Horas de Trabajo","La tarea de levantamiento/descenso o transporte de\ncarga dura más de 8 hrs.","NA","0"]
[null,null,null,"Condición crítica: presencia de tarea de Levantamiento/descenso y transporte de carga con condiciones de diseño y frecuencia que exceden los valores máximos sugeridos ",null,{"$f":"F4+F5+F6+F7+F8+F9+F10+F11","v":0},null,null,null,"Si terminó de responder toda la Tabla 4 Presione Aquí para  regresar a Tabla 1 Información General del Puesto de Trabajo donde podrá continuar con la siguiente Tarea"]
[null,null,null,null,"Si / No / NA"]
[null,null,"Posición Vertical","La ubicación de las manos al inicio o final del levantamiento/descenso\nde una carga es superior a 155 cm o inferior a 20 cm°.","NA",{"$f":"IF(E14=\"No\",\"0\",IF(E14=\"NA\",\"0\",\"1\"))","v":"0"}]
[null,null,"Desplazamiento Vertical","La distancia vertical entre el origen y el destino del objeto manipulado\nes mayor a 135 cm°.","NA",{"$f":"IF(E15=\"No\",\"0\",IF(E15=\"NA\",\"0\",\"1\"))","v":"0"}]
[null,null,"Posición Horizontal","La distancia horizontal entre el cuerpo y las manos (nudillos) es superior a 55 cm correspondiente a la zona de alcance máximo de brazos","NA","0"]
[null,null,"Asimetría","Rotación o inclinación extrema del tronco sin movimientos de los pies","NA","0"]
[null,null,"Frecuencia","Corta duración: más de 15 levantamientos/descensos por minuto, en\nuna tarea que no supere los 60 minutos seguidos en el turno de trabajo\ny seguida de al menos 60 minutos de descanso o tarea liviana (que no\nimplique MMC).","NA","0"]
[null,null,null,"Media duración: más de 12 levantamientos/descensos por minuto,\nen una tarea que no supere los 120 minutos seguidos en el turno de\ntrabajo y seguida de al menos 30 minutos de descanso o tarea liviana\n(que no implique MMC).","NA","0"]
[null,null,null,"Larga duración: más de 8 levantamientos/descensos por minuto, en\nuna tarea que supere los 120 minutos seguidos en el turno de trabajo.","NA","0"]
[null,null,null,"Condición crítica: presencia de tarea de Levantamiento/descenso y transporte con peso de la carga que exceda los siguientes límites ","Si / No / NA",{"$f":"F14+F15+F16+F17+F18+F19+F20","v":0}]
[null,null,"Hombres \n(18-45 años) + ","25 kgs","NA",{"$f":"IF(E22=\"No\",\"0\",IF(E22=\"NA\",\"0\",\"1\"))","v":"0"}]
[null,null,"Mujeres\n(18-45 años) + ","20 kgs","NA",{"$f":"IF(E23=\"No\",\"0\",IF(E23=\"NA\",\"0\",\"1\"))","v":"0"}]
[null,null,"Hombres \n(< 18-45 años o > 45 años) + ","20 kgs","NA","0"]
[null,null,"Mujeres \n(< 18-45 años o > 45 años) + ","15 kgs","NA","0"]
[null,null,"Mujer\nEmbarazada","3 kgs","NA","0"]
[null,null,null,"Condición crítica: presencia de tarea de Levantamiento/descenso y transporte con peso de la carga que exceda los siguientes límites ","Si / No / NA",{"$f":"F22+F23+F24+F25+F26","v":0}]
[null,null,"Distancia de transporte de 20 mts. o más","6.000 Kgs. en 8 hrs.","NA",{"$f":"IF(E28=\"No\",\"0\",IF(E28=\"NA\",\"0\",\"1\"))","v":"0"}]
[null,null,"Distancia de transporte menos a 20 mts.","10.000 Kgs. en 8 hrs.","NA",{"$f":"IF(E29=\"No\",\"0\",IF(E29=\"NA\",\"0\",\"1\"))","v":"0"}]
[null,null,null,null,null,{"$f":"F28+F29","v":0}]
[null,null,null,null,null,{"$f":"F12+F21+F27+F30","v":0}]

{"sheet":"TABLA 4T4P4","index":82,"n_rows":31,"n_cols":10,"rows_kept":31,"cut":false,"hidden":false,"merged":[]}
[]
[null,null,null,"LEVANTAMIENTO, DESCENSO Y TRANSPORTE DE CARGA - IDENTIFICACIÓN AVANZADA CONDICIÓN CRÍTICA  ",null,null,null,null,null,"Cuadro de Resultado Tabla 4"]
[null,null,"Condición","Levantamiento/descenso y transporte manual de carga","Si / No / NA"]
[null,null,"Ambiente de Trabajo","Presencia de temperatura extrema (bajo 16° o superior a los 26° grados Celsius) y sin ropa que proteja de las temperaturas extremas.","NA",{"$f":"IF(E4=\"No\",\"0\",IF(E4=\"NA\",\"0\",\"1\"))","v":"0"},null,null,null,"La Tarea:"]
[null,null,null,"Presencia de suelo resbaladizo, irregular o inestable.","NA",{"$f":"IF(E5=\"No\",\"0\",IF(E5=\"NA\",\"0\",\"1\"))","v":"0"},null,null,{"$f":"'TABLA 1 P4'!B12","v":"N°4"},{"$f":"'TABLA 1 P4'!C12","v":"NA"}]
[null,null,null,"Presencia de espacio insuficiente para el levantamiento/descenso y transporte de carga que genera posturas incomodas o restricción en el movimiento.","NA","0",null,null,null,"Resultado:"]
[null,null,"Característica de la Carga","El tamaño de la carga reduce la visión del trabajador y/o dificulta su movimiento.","NA","0",null,null,{"$f":"F31","v":0},{"$f":"IF(F31>=1,\"Crítica\",\"No Crítica\")","v":"No Crítica"}]
[null,null,null,"El centro de gravedad de la carga no es estable (ej.: líquidos, elementos que se mueven dentro de la carga).","NA","0",null,null,null,"Por lo que usted:"]
[null,null,null,"La forma/configuración de la carga presenta bordes,\nsuperficies o protuberancias afiladas.","NA","0",null,null,null,{"$f":"IF(J7=\"No Crítica\",\"Ha terminado el Proceso de Identificación para esta Tarea y deberá iniciar el proceso de Evaluación Cuantitativa del riesgo\",\"Ha terminado el Proceso de Identificación para esta Tarea y deberá aplicar medidas para reducir el riesgo\")","v":"Ha terminado el Proceso de Identificación para esta Tarea y deberá iniciar el proceso de Evaluación Cuantitativa del riesgo"}]
[null,null,null,"Las superficies de contacto son demasiado frías o demasiado calientes.","NA","0"]
[null,null,"Horas de Trabajo","La tarea de levantamiento/descenso o transporte de\ncarga dura más de 8 hrs.","NA","0"]
[null,null,null,"Condición crítica: presencia de tarea de Levantamiento/descenso y transporte de carga con condiciones de diseño y frecuencia que exceden los valores máximos sugeridos ",null,{"$f":"F4+F5+F6+F7+F8+F9+F10+F11","v":0},null,null,null,"Si terminó de responder toda la Tabla 4 Presione Aquí para  regresar a Tabla 1 Información General del Puesto de Trabajo donde podrá continuar con la siguiente Tarea"]
[null,null,null,null,"Si / No / NA"]
[null,null,"Posición Vertical","La ubicación de las manos al inicio o final del levantamiento/descenso\nde una carga es superior a 155 cm o inferior a 20 cm°.","NA",{"$f":"IF(E14=\"No\",\"0\",IF(E14=\"NA\",\"0\",\"1\"))","v":"0"}]
[null,null,"Desplazamiento Vertical","La distancia vertical entre el origen y el destino del objeto manipulado\nes mayor a 135 cm°.","NA",{"$f":"IF(E15=\"No\",\"0\",IF(E15=\"NA\",\"0\",\"1\"))","v":"0"}]
[null,null,"Posición Horizontal","La distancia horizontal entre el cuerpo y las manos (nudillos) es superior a 55 cm correspondiente a la zona de alcance máximo de brazos","NA","0"]
[null,null,"Asimetría","Rotación o inclinación extrema del tronco sin movimientos de los pies","NA","0"]
[null,null,"Frecuencia","Corta duración: más de 15 levantamientos/descensos por minuto, en\nuna tarea que no supere los 60 minutos seguidos en el turno de trabajo\ny seguida de al menos 60 minutos de descanso o tarea liviana (que no\nimplique MMC).","NA","0"]
[null,null,null,"Media duración: más de 12 levantamientos/descensos por minuto,\nen una tarea que no supere los 120 minutos seguidos en el turno de\ntrabajo y seguida de al menos 30 minutos de descanso o tarea liviana\n(que no implique MMC).","NA","0"]
[null,null,null,"Larga duración: más de 8 levantamientos/descensos por minuto, en\nuna tarea que supere los 120 minutos seguidos en el turno de trabajo.","NA","0"]
[null,null,null,"Condición crítica: presencia de tarea de Levantamiento/descenso y transporte con peso de la carga que exceda los siguientes límites ","Si / No / NA",{"$f":"F14+F15+F16+F17+F18+F19+F20","v":0}]
[null,null,"Hombres \n(18-45 años) + ","25 kgs","NA",{"$f":"IF(E22=\"No\",\"0\",IF(E22=\"NA\",\"0\",\"1\"))","v":"0"}]
[null,null,"Mujeres\n(18-45 años) + ","20 kgs","NA",{"$f":"IF(E23=\"No\",\"0\",IF(E23=\"NA\",\"0\",\"1\"))","v":"0"}]
[null,null,"Hombres \n(< 18-45 años o > 45 años) + ","20 kgs","NA","0"]
[null,null,"Mujeres \n(< 18-45 años o > 45 años) + ","15 kgs","NA","0"]
[null,null,"Mujer\nEmbarazada","3 kgs","NA","0"]
[null,null,null,"Condición crítica: presencia de tarea de Levantamiento/descenso y transporte con peso de la carga que exceda los siguientes límites ","Si / No / NA",{"$f":"F22+F23+F24+F25+F26","v":0}]
[null,null,"Distancia de transporte de 20 mts. o más","6.000 Kgs. en 8 hrs.","NA",{"$f":"IF(E28=\"No\",\"0\",IF(E28=\"NA\",\"0\",\"1\"))","v":"0"}]
[null,null,"Distancia de transporte menos a 20 mts.","10.000 Kgs. en 8 hrs.","NA",{"$f":"IF(E29=\"No\",\"0\",IF(E29=\"NA\",\"0\",\"1\"))","v":"0"}]
[null,null,null,null,null,{"$f":"F28+F29","v":0}]
[null,null,null,null,null,{"$f":"F12+F21+F27+F30","v":0}]

{"sheet":"TABLA 4T4P5","index":83,"n_rows":31,"n_cols":10,"rows_kept":31,"cut":false,"hidden":false,"merged":[]}
[]
[null,null,null,"LEVANTAMIENTO, DESCENSO Y TRANSPORTE DE CARGA - IDENTIFICACIÓN AVANZADA CONDICIÓN CRÍTICA  ",null,null,null,null,null,"Cuadro de Resultado Tabla 4"]
[null,null,"Condición","Levantamiento/descenso y transporte manual de carga","Si / No / NA"]
[null,null,"Ambiente de Trabajo","Presencia de temperatura extrema (bajo 16° o superior a los 26° grados Celsius) y sin ropa que proteja de las temperaturas extremas.","NA",{"$f":"IF(E4=\"No\",\"0\",IF(E4=\"NA\",\"0\",\"1\"))","v":"0"},null,null,null,"La Tarea:"]
[null,null,null,"Presencia de suelo resbaladizo, irregular o inestable.","NA",{"$f":"IF(E5=\"No\",\"0\",IF(E5=\"NA\",\"0\",\"1\"))","v":"0"},null,null,{"$f":"'TABLA 1 P5'!B12","v":"N°4"},{"$f":"'TABLA 1 P5'!C12","v":"NA"}]
[null,null,null,"Presencia de espacio insuficiente para el levantamiento/descenso y transporte de carga que genera posturas incomodas o restricción en el movimiento.","NA","0",null,null,null,"Resultado:"]
[null,null,"Característica de la Carga","El tamaño de la carga reduce la visión del trabajador y/o dificulta su movimiento.","NA","0",null,null,{"$f":"F31","v":0},{"$f":"IF(F31>=1,\"Crítica\",\"No Crítica\")","v":"No Crítica"}]
[null,null,null,"El centro de gravedad de la carga no es estable (ej.: líquidos, elementos que se mueven dentro de la carga).","NA","0",null,null,null,"Por lo que usted:"]
[null,null,null,"La forma/configuración de la carga presenta bordes,\nsuperficies o protuberancias afiladas.","NA","0",null,null,null,{"$f":"IF(J7=\"No Crítica\",\"Ha terminado el Proceso de Identificación para esta Tarea y deberá iniciar el proceso de Evaluación Cuantitativa del riesgo\",\"Ha terminado el Proceso de Identificación para esta Tarea y deberá aplicar medidas para reducir el riesgo\")","v":"Ha terminado el Proceso de Identificación para esta Tarea y deberá iniciar el proceso de Evaluación Cuantitativa del riesgo"}]
[null,null,null,"Las superficies de contacto son demasiado frías o demasiado calientes.","NA","0"]
[null,null,"Horas de Trabajo","La tarea de levantamiento/descenso o transporte de\ncarga dura más de 8 hrs.","NA","0"]
[null,null,null,"Condición crítica: presencia de tarea de Levantamiento/descenso y transporte de carga con condiciones de diseño y frecuencia que exceden los valores máximos sugeridos ",null,{"$f":"F4+F5+F6+F7+F8+F9+F10+F11","v":0},null,null,null,"Si terminó de responder toda la Tabla 4 Presione Aquí para  regresar a Tabla 1 Información General del Puesto de Trabajo donde podrá continuar con la siguiente Tarea"]
[null,null,null,null,"Si / No / NA"]
[null,null,"Posición Vertical","La ubicación de las manos al inicio o final del levantamiento/descenso\nde una carga es superior a 155 cm o inferior a 20 cm°.","NA",{"$f":"IF(E14=\"No\",\"0\",IF(E14=\"NA\",\"0\",\"1\"))","v":"0"}]
[null,null,"Desplazamiento Vertical","La distancia vertical entre el origen y el destino del objeto manipulado\nes mayor a 135 cm°.","NA",{"$f":"IF(E15=\"No\",\"0\",IF(E15=\"NA\",\"0\",\"1\"))","v":"0"}]
[null,null,"Posición Horizontal","La distancia horizontal entre el cuerpo y las manos (nudillos) es superior a 55 cm correspondiente a la zona de alcance máximo de brazos","NA","0"]
[null,null,"Asimetría","Rotación o inclinación extrema del tronco sin movimientos de los pies","NA","0"]
[null,null,"Frecuencia","Corta duración: más de 15 levantamientos/descensos por minuto, en\nuna tarea que no supere los 60 minutos seguidos en el turno de trabajo\ny seguida de al menos 60 minutos de descanso o tarea liviana (que no\nimplique MMC).","NA","0"]
[null,null,null,"Media duración: más de 12 levantamientos/descensos por minuto,\nen una tarea que no supere los 120 minutos seguidos en el turno de\ntrabajo y seguida de al menos 30 minutos de descanso o tarea liviana\n(que no implique MMC).","NA","0"]
[null,null,null,"Larga duración: más de 8 levantamientos/descensos por minuto, en\nuna tarea que supere los 120 minutos seguidos en el turno de trabajo.","NA","0"]
[null,null,null,"Condición crítica: presencia de tarea de Levantamiento/descenso y transporte con peso de la carga que exceda los siguientes límites ","Si / No / NA",{"$f":"F14+F15+F16+F17+F18+F19+F20","v":0}]
[null,null,"Hombres \n(18-45 años) + ","25 kgs","NA",{"$f":"IF(E22=\"No\",\"0\",IF(E22=\"NA\",\"0\",\"1\"))","v":"0"}]
[null,null,"Mujeres\n(18-45 años) + ","20 kgs","NA",{"$f":"IF(E23=\"No\",\"0\",IF(E23=\"NA\",\"0\",\"1\"))","v":"0"}]
[null,null,"Hombres \n(< 18-45 años o > 45 años) + ","20 kgs","NA","0"]
[null,null,"Mujeres \n(< 18-45 años o > 45 años) + ","15 kgs","NA","0"]
[null,null,"Mujer\nEmbarazada","3 kgs","NA","0"]
[null,null,null,"Condición crítica: presencia de tarea de Levantamiento/descenso y transporte con peso de la carga que exceda los siguientes límites ","Si / No / NA",{"$f":"F22+F23+F24+F25+F26","v":0}]
[null,null,"Distancia de transporte de 20 mts. o más","6.000 Kgs. en 8 hrs.","NA",{"$f":"IF(E28=\"No\",\"0\",IF(E28=\"NA\",\"0\",\"1\"))","v":"0"}]
[null,null,"Distancia de transporte menos a 20 mts.","10.000 Kgs. en 8 hrs.","NA",{"$f":"IF(E29=\"No\",\"0\",IF(E29=\"NA\",\"0\",\"1\"))","v":"0"}]
[null,null,null,null,null,{"$f":"F28+F29","v":0}]
[null,null,null,null,null,{"$f":"F12+F21+F27+F30","v":0}]

{"sheet":"TABLA 4T4P6","index":84,"n_rows":31,"n_cols":10,"rows_kept":31,"cut":false,"hidden":false,"merged":[]}
[]
[null,null,null,"LEVANTAMIENTO, DESCENSO Y TRANSPORTE DE CARGA - IDENTIFICACIÓN AVANZADA CONDICIÓN CRÍTICA  ",null,null,null,null,null,"Cuadro de Resultado Tabla 4"]
[null,null,"Condición","Levantamiento/descenso y transporte manual de carga","Si / No / NA"]
[null,null,"Ambiente de Trabajo","Presencia de temperatura extrema (bajo 16° o superior a los 26° grados Celsius) y sin ropa que proteja de las temperaturas extremas.","NA",{"$f":"IF(E4=\"No\",\"0\",IF(E4=\"NA\",\"0\",\"1\"))","v":"0"},null,null,null,"La Tarea:"]
[null,null,null,"Presencia de suelo resbaladizo, irregular o inestable.","NA",{"$f":"IF(E5=\"No\",\"0\",IF(E5=\"NA\",\"0\",\"1\"))","v":"0"},null,null,{"$f":"'TABLA 1 P6'!B12","v":"N°4"},{"$f":"'TABLA 1 P6'!C12","v":"NA"}]
[null,null,null,"Presencia de espacio insuficiente para el levantamiento/descenso y transporte de carga que genera posturas incomodas o restricción en el movimiento.","NA","0",null,null,null,"Resultado:"]
[null,null,"Característica de la Carga","El tamaño de la carga reduce la visión del trabajador y/o dificulta su movimiento.","NA","0",null,null,{"$f":"F31","v":0},{"$f":"IF(F31>=1,\"Crítica\",\"No Crítica\")","v":"No Crítica"}]
[null,null,null,"El centro de gravedad de la carga no es estable (ej.: líquidos, elementos que se mueven dentro de la carga).","NA","0",null,null,null,"Por lo que usted:"]
[null,null,null,"La forma/configuración de la carga presenta bordes,\nsuperficies o protuberancias afiladas.","NA","0",null,null,null,{"$f":"IF(J7=\"No Crítica\",\"Ha terminado el Proceso de Identificación para esta Tarea y deberá iniciar el proceso de Evaluación Cuantitativa del riesgo\",\"Ha terminado el Proceso de Identificación para esta Tarea y deberá aplicar medidas para reducir el riesgo\")","v":"Ha terminado el Proceso de Identificación para esta Tarea y deberá iniciar el proceso de Evaluación Cuantitativa del riesgo"}]
[null,null,null,"Las superficies de contacto son demasiado frías o demasiado calientes.","NA","0"]
[null,null,"Horas de Trabajo","La tarea de levantamiento/descenso o transporte de\ncarga dura más de 8 hrs.","NA","0"]
[null,null,null,"Condición crítica: presencia de tarea de Levantamiento/descenso y transporte de carga con condiciones de diseño y frecuencia que exceden los valores máximos sugeridos ",null,{"$f":"F4+F5+F6+F7+F8+F9+F10+F11","v":0},null,null,null,"Si terminó de responder toda la Tabla 4 Presione Aquí para  regresar a Tabla 1 Información General del Puesto de Trabajo donde podrá continuar con la siguiente Tarea"]
[null,null,null,null,"Si / No / NA"]
[null,null,"Posición Vertical","La ubicación de las manos al inicio o final del levantamiento/descenso\nde una carga es superior a 155 cm o inferior a 20 cm°.","NA",{"$f":"IF(E14=\"No\",\"0\",IF(E14=\"NA\",\"0\",\"1\"))","v":"0"}]
[null,null,"Desplazamiento Vertical","La distancia vertical entre el origen y el destino del objeto manipulado\nes mayor a 135 cm°.","NA",{"$f":"IF(E15=\"No\",\"0\",IF(E15=\"NA\",\"0\",\"1\"))","v":"0"}]
[null,null,"Posición Horizontal","La distancia horizontal entre el cuerpo y las manos (nudillos) es superior a 55 cm correspondiente a la zona de alcance máximo de brazos","NA","0"]
[null,null,"Asimetría","Rotación o inclinación extrema del tronco sin movimientos de los pies","NA","0"]
[null,null,"Frecuencia","Corta duración: más de 15 levantamientos/descensos por minuto, en\nuna tarea que no supere los 60 minutos seguidos en el turno de trabajo\ny seguida de al menos 60 minutos de descanso o tarea liviana (que no\nimplique MMC).","NA","0"]
[null,null,null,"Media duración: más de 12 levantamientos/descensos por minuto,\nen una tarea que no supere los 120 minutos seguidos en el turno de\ntrabajo y seguida de al menos 30 minutos de descanso o tarea liviana\n(que no implique MMC).","NA","0"]
[null,null,null,"Larga duración: más de 8 levantamientos/descensos por minuto, en\nuna tarea que supere los 120 minutos seguidos en el turno de trabajo.","NA","0"]
[null,null,null,"Condición crítica: presencia de tarea de Levantamiento/descenso y transporte con peso de la carga que exceda los siguientes límites ","Si / No / NA",{"$f":"F14+F15+F16+F17+F18+F19+F20","v":0}]
[null,null,"Hombres \n(18-45 años) + ","25 kgs","NA",{"$f":"IF(E22=\"No\",\"0\",IF(E22=\"NA\",\"0\",\"1\"))","v":"0"}]
[null,null,"Mujeres\n(18-45 años) + ","20 kgs","NA",{"$f":"IF(E23=\"No\",\"0\",IF(E23=\"NA\",\"0\",\"1\"))","v":"0"}]
[null,null,"Hombres \n(< 18-45 años o > 45 años) + ","20 kgs","NA","0"]
[null,null,"Mujeres \n(< 18-45 años o > 45 años) + ","15 kgs","NA","0"]
[null,null,"Mujer\nEmbarazada","3 kgs","NA","0"]
[null,null,null,"Condición crítica: presencia de tarea de Levantamiento/descenso y transporte con peso de la carga que exceda los siguientes límites ","Si / No / NA",{"$f":"F22+F23+F24+F25+F26","v":0}]
[null,null,"Distancia de transporte de 20 mts. o más","6.000 Kgs. en 8 hrs.","NA",{"$f":"IF(E28=\"No\",\"0\",IF(E28=\"NA\",\"0\",\"1\"))","v":"0"}]
[null,null,"Distancia de transporte menos a 20 mts.","10.000 Kgs. en 8 hrs.","NA",{"$f":"IF(E29=\"No\",\"0\",IF(E29=\"NA\",\"0\",\"1\"))","v":"0"}]
[null,null,null,null,null,{"$f":"F28+F29","v":0}]
[null,null,null,null,null,{"$f":"F12+F21+F27+F30","v":0}]

{"sheet":"TABLA 4T4P7","index":85,"n_rows":31,"n_cols":10,"rows_kept":31,"cut":false,"hidden":false,"merged":[]}
[]
[null,null,null,"LEVANTAMIENTO, DESCENSO Y TRANSPORTE DE CARGA - IDENTIFICACIÓN AVANZADA CONDICIÓN CRÍTICA  ",null,null,null,null,null,"Cuadro de Resultado Tabla 4"]
[null,null,"Condición","Levantamiento/descenso y transporte manual de carga","Si / No / NA"]
[null,null,"Ambiente de Trabajo","Presencia de temperatura extrema (bajo 16° o superior a los 26° grados Celsius) y sin ropa que proteja de las temperaturas extremas.","NA",{"$f":"IF(E4=\"No\",\"0\",IF(E4=\"NA\",\"0\",\"1\"))","v":"0"},null,null,null,"La Tarea:"]
[null,null,null,"Presencia de suelo resbaladizo, irregular o inestable.","NA",{"$f":"IF(E5=\"No\",\"0\",IF(E5=\"NA\",\"0\",\"1\"))","v":"0"},null,null,{"$f":"'TABLA 1 P7'!B12","v":"N°4"},{"$f":"'TABLA 1 P7'!C12","v":"NA"}]
[null,null,null,"Presencia de espacio insuficiente para el levantamiento/descenso y transporte de carga que genera posturas incomodas o restricción en el movimiento.","NA","0",null,null,null,"Resultado:"]
[null,null,"Característica de la Carga","El tamaño de la carga reduce la visión del trabajador y/o dificulta su movimiento.","NA","0",null,null,{"$f":"F31","v":0},{"$f":"IF(F31>=1,\"Crítica\",\"No Crítica\")","v":"No Crítica"}]
[null,null,null,"El centro de gravedad de la carga no es estable (ej.: líquidos, elementos que se mueven dentro de la carga).","NA","0",null,null,null,"Por lo que usted:"]
[null,null,null,"La forma/configuración de la carga presenta bordes,\nsuperficies o protuberancias afiladas.","NA","0",null,null,null,{"$f":"IF(J7=\"No Crítica\",\"Ha terminado el Proceso de Identificación para esta Tarea y deberá iniciar el proceso de Evaluación Cuantitativa del riesgo\",\"Ha terminado el Proceso de Identificación para esta Tarea y deberá aplicar medidas para reducir el riesgo\")","v":"Ha terminado el Proceso de Identificación para esta Tarea y deberá iniciar el proceso de Evaluación Cuantitativa del riesgo"}]
[null,null,null,"Las superficies de contacto son demasiado frías o demasiado calientes.","NA","0"]
[null,null,"Horas de Trabajo","La tarea de levantamiento/descenso o transporte de\ncarga dura más de 8 hrs.","NA","0"]
[null,null,null,"Condición crítica: presencia de tarea de Levantamiento/descenso y transporte de carga con condiciones de diseño y frecuencia que exceden los valores máximos sugeridos ",null,{"$f":"F4+F5+F6+F7+F8+F9+F10+F11","v":0},null,null,null,"Si terminó de responder toda la Tabla 4 Presione Aquí para  regresar a Tabla 1 Información General del Puesto de Trabajo donde podrá continuar con la siguiente Tarea"]
[null,null,null,null,"Si / No / NA"]
[null,null,"Posición Vertical","La ubicación de las manos al inicio o final del levantamiento/descenso\nde una carga es superior a 155 cm o inferior a 20 cm°.","NA",{"$f":"IF(E14=\"No\",\"0\",IF(E14=\"NA\",\"0\",\"1\"))","v":"0"}]
[null,null,"Desplazamiento Vertical","La distancia vertical entre el origen y el destino del objeto manipulado\nes mayor a 135 cm°.","NA",{"$f":"IF(E15=\"No\",\"0\",IF(E15=\"NA\",\"0\",\"1\"))","v":"0"}]
[null,null,"Posición Horizontal","La distancia horizontal entre el cuerpo y las manos (nudillos) es superior a 55 cm correspondiente a la zona de alcance máximo de brazos","NA","0"]
[null,null,"Asimetría","Rotación o inclinación extrema del tronco sin movimientos de los pies","NA","0"]
[null,null,"Frecuencia","Corta duración: más de 15 levantamientos/descensos por minuto, en\nuna tarea que no supere los 60 minutos seguidos en el turno de trabajo\ny seguida de al menos 60 minutos de descanso o tarea liviana (que no\nimplique MMC).","NA","0"]
[null,null,null,"Media duración: más de 12 levantamientos/descensos por minuto,\nen una tarea que no supere los 120 minutos seguidos en el turno de\ntrabajo y seguida de al menos 30 minutos de descanso o tarea liviana\n(que no implique MMC).","NA","0"]
[null,null,null,"Larga duración: más de 8 levantamientos/descensos por minuto, en\nuna tarea que supere los 120 minutos seguidos en el turno de trabajo.","NA","0"]
[null,null,null,"Condición crítica: presencia de tarea de Levantamiento/descenso y transporte con peso de la carga que exceda los siguientes límites ","Si / No / NA",{"$f":"F14+F15+F16+F17+F18+F19+F20","v":0}]
[null,null,"Hombres \n(18-45 años) + ","25 kgs","NA",{"$f":"IF(E22=\"No\",\"0\",IF(E22=\"NA\",\"0\",\"1\"))","v":"0"}]
[null,null,"Mujeres\n(18-45 años) + ","20 kgs","NA",{"$f":"IF(E23=\"No\",\"0\",IF(E23=\"NA\",\"0\",\"1\"))","v":"0"}]
[null,null,"Hombres \n(< 18-45 años o > 45 años) + ","20 kgs","NA","0"]
[null,null,"Mujeres \n(< 18-45 años o > 45 años) + ","15 kgs","NA","0"]
[null,null,"Mujer\nEmbarazada","3 kgs","NA","0"]
[null,null,null,"Condición crítica: presencia de tarea de Levantamiento/descenso y transporte con peso de la carga que exceda los siguientes límites ","Si / No / NA",{"$f":"F22+F23+F24+F25+F26","v":0}]
[null,null,"Distancia de transporte de 20 mts. o más","6.000 Kgs. en 8 hrs.","NA",{"$f":"IF(E28=\"No\",\"0\",IF(E28=\"NA\",\"0\",\"1\"))","v":"0"}]
[null,null,"Distancia de transporte menos a 20 mts.","10.000 Kgs. en 8 hrs.","NA",{"$f":"IF(E29=\"No\",\"0\",IF(E29=\"NA\",\"0\",\"1\"))","v":"0"}]
[null,null,null,null,null,{"$f":"F28+F29","v":0}]
[null,null,null,null,null,{"$f":"F12+F21+F27+F30","v":0}]

{"sheet":"TABLA 4T4P8","index":86,"n_rows":31,"n_cols":10,"rows_kept":31,"cut":false,"hidden":false,"merged":[]}
[]
[null,null,null,"LEVANTAMIENTO, DESCENSO Y TRANSPORTE DE CARGA - IDENTIFICACIÓN AVANZADA CONDICIÓN CRÍTICA  ",null,null,null,null,null,"Cuadro de Resultado Tabla 4"]
[null,null,"Condición","Levantamiento/descenso y transporte manual de carga","Si / No / NA"]
[null,null,"Ambiente de Trabajo","Presencia de temperatura extrema (bajo 16° o superior a los 26° grados Celsius) y sin ropa que proteja de las temperaturas extremas.","NA",{"$f":"IF(E4=\"No\",\"0\",IF(E4=\"NA\",\"0\",\"1\"))","v":"0"},null,null,null,"La Tarea:"]
[null,null,null,"Presencia de suelo resbaladizo, irregular o inestable.","NA",{"$f":"IF(E5=\"No\",\"0\",IF(E5=\"NA\",\"0\",\"1\"))","v":"0"},null,null,{"$f":"'TABLA 1 P8'!B12","v":"N°4"},{"$f":"'TABLA 1 P8'!C12","v":"NA"}]
[null,null,null,"Presencia de espacio insuficiente para el levantamiento/descenso y transporte de carga que genera posturas incomodas o restricción en el movimiento.","NA","0",null,null,null,"Resultado:"]
[null,null,"Característica de la Carga","El tamaño de la carga reduce la visión del trabajador y/o dificulta su movimiento.","NA","0",null,null,{"$f":"F31","v":0},{"$f":"IF(F31>=1,\"Crítica\",\"No Crítica\")","v":"No Crítica"}]
[null,null,null,"El centro de gravedad de la carga no es estable (ej.: líquidos, elementos que se mueven dentro de la carga).","NA","0",null,null,null,"Por lo que usted:"]
[null,null,null,"La forma/configuración de la carga presenta bordes,\nsuperficies o protuberancias afiladas.","NA","0",null,null,null,{"$f":"IF(J7=\"No Crítica\",\"Ha terminado el Proceso de Identificación para esta Tarea y deberá iniciar el proceso de Evaluación Cuantitativa del riesgo\",\"Ha terminado el Proceso de Identificación para esta Tarea y deberá aplicar medidas para reducir el riesgo\")","v":"Ha terminado el Proceso de Identificación para esta Tarea y deberá iniciar el proceso de Evaluación Cuantitativa del riesgo"}]
[null,null,null,"Las superficies de contacto son demasiado frías o demasiado calientes.","NA","0"]
[null,null,"Horas de Trabajo","La tarea de levantamiento/descenso o transporte de\ncarga dura más de 8 hrs.","NA","0"]
[null,null,null,"Condición crítica: presencia de tarea de Levantamiento/descenso y transporte de carga con condiciones de diseño y frecuencia que exceden los valores máximos sugeridos ",null,{"$f":"F4+F5+F6+F7+F8+F9+F10+F11","v":0},null,null,null,"Si terminó de responder toda la Tabla 4 Presione Aquí para  regresar a Tabla 1 Información General del Puesto de Trabajo donde podrá continuar con la siguiente Tarea"]
[null,null,null,null,"Si / No / NA"]
[null,null,"Posición Vertical","La ubicación de las manos al inicio o final del levantamiento/descenso\nde una carga es superior a 155 cm o inferior a 20 cm°.","NA",{"$f":"IF(E14=\"No\",\"0\",IF(E14=\"NA\",\"0\",\"1\"))","v":"0"}]
[null,null,"Desplazamiento Vertical","La distancia vertical entre el origen y el destino del objeto manipulado\nes mayor a 135 cm°.","NA",{"$f":"IF(E15=\"No\",\"0\",IF(E15=\"NA\",\"0\",\"1\"))","v":"0"}]
[null,null,"Posición Horizontal","La distancia horizontal entre el cuerpo y las manos (nudillos) es superior a 55 cm correspondiente a la zona de alcance máximo de brazos","NA","0"]
[null,null,"Asimetría","Rotación o inclinación extrema del tronco sin movimientos de los pies","NA","0"]
[null,null,"Frecuencia","Corta duración: más de 15 levantamientos/descensos por minuto, en\nuna tarea que no supere los 60 minutos seguidos en el turno de trabajo\ny seguida de al menos 60 minutos de descanso o tarea liviana (que no\nimplique MMC).","NA","0"]
[null,null,null,"Media duración: más de 12 levantamientos/descensos por minuto,\nen una tarea que no supere los 120 minutos seguidos en el turno de\ntrabajo y seguida de al menos 30 minutos de descanso o tarea liviana\n(que no implique MMC).","NA","0"]
[null,null,null,"Larga duración: más de 8 levantamientos/descensos por minuto, en\nuna tarea que supere los 120 minutos seguidos en el turno de trabajo.","NA","0"]
[null,null,null,"Condición crítica: presencia de tarea de Levantamiento/descenso y transporte con peso de la carga que exceda los siguientes límites ","Si / No / NA",{"$f":"F14+F15+F16+F17+F18+F19+F20","v":0}]
[null,null,"Hombres \n(18-45 años) + ","25 kgs","NA",{"$f":"IF(E22=\"No\",\"0\",IF(E22=\"NA\",\"0\",\"1\"))","v":"0"}]
[null,null,"Mujeres\n(18-45 años) + ","20 kgs","NA",{"$f":"IF(E23=\"No\",\"0\",IF(E23=\"NA\",\"0\",\"1\"))","v":"0"}]
[null,null,"Hombres \n(< 18-45 años o > 45 años) + ","20 kgs","NA","0"]
[null,null,"Mujeres \n(< 18-45 años o > 45 años) + ","15 kgs","NA","0"]
[null,null,"Mujer\nEmbarazada","3 kgs","NA","0"]
[null,null,null,"Condición crítica: presencia de tarea de Levantamiento/descenso y transporte con peso de la carga que exceda los siguientes límites ","Si / No / NA",{"$f":"F22+F23+F24+F25+F26","v":0}]
[null,null,"Distancia de transporte de 20 mts. o más","6.000 Kgs. en 8 hrs.","NA",{"$f":"IF(E28=\"No\",\"0\",IF(E28=\"NA\",\"0\",\"1\"))","v":"0"}]
[null,null,"Distancia de transporte menos a 20 mts.","10.000 Kgs. en 8 hrs.","NA",{"$f":"IF(E29=\"No\",\"0\",IF(E29=\"NA\",\"0\",\"1\"))","v":"0"}]
[null,null,null,null,null,{"$f":"F28+F29","v":0}]
[null,null,null,null,null,{"$f":"F12+F21+F27+F30","v":0}]

{"sheet":"TABLA 4T4P9","index":87,"n_rows":31,"n_cols":10,"rows_kept":31,"cut":false,"hidden":false,"merged":[]}
[]
[null,null,null,"LEVANTAMIENTO, DESCENSO Y TRANSPORTE DE CARGA - IDENTIFICACIÓN AVANZADA CONDICIÓN CRÍTICA  ",null,null,null,null,null,"Cuadro de Resultado Tabla 4"]
[null,null,"Condición","Levantamiento/descenso y transporte manual de carga","Si / No / NA"]
[null,null,"Ambiente de Trabajo","Presencia de temperatura extrema (bajo 16° o superior a los 26° grados Celsius) y sin ropa que proteja de las temperaturas extremas.","NA",{"$f":"IF(E4=\"No\",\"0\",IF(E4=\"NA\",\"0\",\"1\"))","v":"0"},null,null,null,"La Tarea:"]
[null,null,null,"Presencia de suelo resbaladizo, irregular o inestable.","NA",{"$f":"IF(E5=\"No\",\"0\",IF(E5=\"NA\",\"0\",\"1\"))","v":"0"},null,null,{"$f":"'TABLA 1 P9'!B12","v":"N°4"},{"$f":"'TABLA 1 P9'!C12","v":"NA"}]
[null,null,null,"Presencia de espacio insuficiente para el levantamiento/descenso y transporte de carga que genera posturas incomodas o restricción en el movimiento.","NA","0",null,null,null,"Resultado:"]
[null,null,"Característica de la Carga","El tamaño de la carga reduce la visión del trabajador y/o dificulta su movimiento.","NA","0",null,null,{"$f":"F31","v":0},{"$f":"IF(F31>=1,\"Crítica\",\"No Crítica\")","v":"No Crítica"}]
[null,null,null,"El centro de gravedad de la carga no es estable (ej.: líquidos, elementos que se mueven dentro de la carga).","NA","0",null,null,null,"Por lo que usted:"]
[null,null,null,"La forma/configuración de la carga presenta bordes,\nsuperficies o protuberancias afiladas.","NA","0",null,null,null,{"$f":"IF(J7=\"No Crítica\",\"Ha terminado el Proceso de Identificación para esta Tarea y deberá iniciar el proceso de Evaluación Cuantitativa del riesgo\",\"Ha terminado el Proceso de Identificación para esta Tarea y deberá aplicar medidas para reducir el riesgo\")","v":"Ha terminado el Proceso de Identificación para esta Tarea y deberá iniciar el proceso de Evaluación Cuantitativa del riesgo"}]
[null,null,null,"Las superficies de contacto son demasiado frías o demasiado calientes.","NA","0"]
[null,null,"Horas de Trabajo","La tarea de levantamiento/descenso o transporte de\ncarga dura más de 8 hrs.","NA","0"]
[null,null,null,"Condición crítica: presencia de tarea de Levantamiento/descenso y transporte de carga con condiciones de diseño y frecuencia que exceden los valores máximos sugeridos ",null,{"$f":"F4+F5+F6+F7+F8+F9+F10+F11","v":0},null,null,null,"Si terminó de responder toda la Tabla 4 Presione Aquí para  regresar a Tabla 1 Información General del Puesto de Trabajo donde podrá continuar con la siguiente Tarea"]
[null,null,null,null,"Si / No / NA"]
[null,null,"Posición Vertical","La ubicación de las manos al inicio o final del levantamiento/descenso\nde una carga es superior a 155 cm o inferior a 20 cm°.","NA",{"$f":"IF(E14=\"No\",\"0\",IF(E14=\"NA\",\"0\",\"1\"))","v":"0"}]
[null,null,"Desplazamiento Vertical","La distancia vertical entre el origen y el destino del objeto manipulado\nes mayor a 135 cm°.","NA",{"$f":"IF(E15=\"No\",\"0\",IF(E15=\"NA\",\"0\",\"1\"))","v":"0"}]
[null,null,"Posición Horizontal","La distancia horizontal entre el cuerpo y las manos (nudillos) es superior a 55 cm correspondiente a la zona de alcance máximo de brazos","NA","0"]
[null,null,"Asimetría","Rotación o inclinación extrema del tronco sin movimientos de los pies","NA","0"]
[null,null,"Frecuencia","Corta duración: más de 15 levantamientos/descensos por minuto, en\nuna tarea que no supere los 60 minutos seguidos en el turno de trabajo\ny seguida de al menos 60 minutos de descanso o tarea liviana (que no\nimplique MMC).","NA","0"]
[null,null,null,"Media duración: más de 12 levantamientos/descensos por minuto,\nen una tarea que no supere los 120 minutos seguidos en el turno de\ntrabajo y seguida de al menos 30 minutos de descanso o tarea liviana\n(que no implique MMC).","NA","0"]
[null,null,null,"Larga duración: más de 8 levantamientos/descensos por minuto, en\nuna tarea que supere los 120 minutos seguidos en el turno de trabajo.","NA","0"]
[null,null,null,"Condición crítica: presencia de tarea de Levantamiento/descenso y transporte con peso de la carga que exceda los siguientes límites ","Si / No / NA",{"$f":"F14+F15+F16+F17+F18+F19+F20","v":0}]
[null,null,"Hombres \n(18-45 años) + ","25 kgs","NA",{"$f":"IF(E22=\"No\",\"0\",IF(E22=\"NA\",\"0\",\"1\"))","v":"0"}]
[null,null,"Mujeres\n(18-45 años) + ","20 kgs","NA",{"$f":"IF(E23=\"No\",\"0\",IF(E23=\"NA\",\"0\",\"1\"))","v":"0"}]
[null,null,"Hombres \n(< 18-45 años o > 45 años) + ","20 kgs","NA","0"]
[null,null,"Mujeres \n(< 18-45 años o > 45 años) + ","15 kgs","NA","0"]
[null,null,"Mujer\nEmbarazada","3 kgs","NA","0"]
[null,null,null,"Condición crítica: presencia de tarea de Levantamiento/descenso y transporte con peso de la carga que exceda los siguientes límites ","Si / No / NA",{"$f":"F22+F23+F24+F25+F26","v":0}]
[null,null,"Distancia de transporte de 20 mts. o más","6.000 Kgs. en 8 hrs.","NA",{"$f":"IF(E28=\"No\",\"0\",IF(E28=\"NA\",\"0\",\"1\"))","v":"0"}]
[null,null,"Distancia de transporte menos a 20 mts.","10.000 Kgs. en 8 hrs.","NA",{"$f":"IF(E29=\"No\",\"0\",IF(E29=\"NA\",\"0\",\"1\"))","v":"0"}]
[null,null,null,null,null,{"$f":"F28+F29","v":0}]
[null,null,null,null,null,{"$f":"F12+F21+F27+F30","v":0}]

{"sheet":"TABLA 4T4P10","index":88,"n_rows":31,"n_cols":10,"rows_kept":31,"cut":false,"hidden":false,"merged":[]}
[]
[null,null,null,"LEVANTAMIENTO, DESCENSO Y TRANSPORTE DE CARGA - IDENTIFICACIÓN AVANZADA CONDICIÓN CRÍTICA  ",null,null,null,null,null,"Cuadro de Resultado Tabla 4"]
[null,null,"Condición","Levantamiento/descenso y transporte manual de carga","Si / No / NA"]
[null,null,"Ambiente de Trabajo","Presencia de temperatura extrema (bajo 16° o superior a los 26° grados Celsius) y sin ropa que proteja de las temperaturas extremas.","NA",{"$f":"IF(E4=\"No\",\"0\",IF(E4=\"NA\",\"0\",\"1\"))","v":"0"},null,null,null,"La Tarea:"]
[null,null,null,"Presencia de suelo resbaladizo, irregular o inestable.","NA",{"$f":"IF(E5=\"No\",\"0\",IF(E5=\"NA\",\"0\",\"1\"))","v":"0"},null,null,{"$f":"'TABLA 1 P10'!B12","v":"N°4"},{"$f":"'TABLA 1 P10'!C12","v":"NA"}]
[null,null,null,"Presencia de espacio insuficiente para el levantamiento/descenso y transporte de carga que genera posturas incomodas o restricción en el movimiento.","NA","0",null,null,null,"Resultado:"]
[null,null,"Característica de la Carga","El tamaño de la carga reduce la visión del trabajador y/o dificulta su movimiento.","NA","0",null,null,{"$f":"F31","v":0},{"$f":"IF(F31>=1,\"Crítica\",\"No Crítica\")","v":"No Crítica"}]
[null,null,null,"El centro de gravedad de la carga no es estable (ej.: líquidos, elementos que se mueven dentro de la carga).","NA","0",null,null,null,"Por lo que usted:"]
[null,null,null,"La forma/configuración de la carga presenta bordes,\nsuperficies o protuberancias afiladas.","NA","0",null,null,null,{"$f":"IF(J7=\"No Crítica\",\"Ha terminado el Proceso de Identificación para esta Tarea y deberá iniciar el proceso de Evaluación Cuantitativa del riesgo\",\"Ha terminado el Proceso de Identificación para esta Tarea y deberá aplicar medidas para reducir el riesgo\")","v":"Ha terminado el Proceso de Identificación para esta Tarea y deberá iniciar el proceso de Evaluación Cuantitativa del riesgo"}]
[null,null,null,"Las superficies de contacto son demasiado frías o demasiado calientes.","NA","0"]
[null,null,"Horas de Trabajo","La tarea de levantamiento/descenso o transporte de\ncarga dura más de 8 hrs.","NA","0"]
[null,null,null,"Condición crítica: presencia de tarea de Levantamiento/descenso y transporte de carga con condiciones de diseño y frecuencia que exceden los valores máximos sugeridos ",null,{"$f":"F4+F5+F6+F7+F8+F9+F10+F11","v":0},null,null,null,"Si terminó de responder toda la Tabla 4 Presione Aquí para  regresar a Tabla 1 Información General del Puesto de Trabajo donde podrá continuar con la siguiente Tarea"]
[null,null,null,null,"Si / No / NA"]
[null,null,"Posición Vertical","La ubicación de las manos al inicio o final del levantamiento/descenso\nde una carga es superior a 155 cm o inferior a 20 cm°.","NA",{"$f":"IF(E14=\"No\",\"0\",IF(E14=\"NA\",\"0\",\"1\"))","v":"0"}]
[null,null,"Desplazamiento Vertical","La distancia vertical entre el origen y el destino del objeto manipulado\nes mayor a 135 cm°.","NA",{"$f":"IF(E15=\"No\",\"0\",IF(E15=\"NA\",\"0\",\"1\"))","v":"0"}]
[null,null,"Posición Horizontal","La distancia horizontal entre el cuerpo y las manos (nudillos) es superior a 55 cm correspondiente a la zona de alcance máximo de brazos","NA","0"]
[null,null,"Asimetría","Rotación o inclinación extrema del tronco sin movimientos de los pies","NA","0"]
[null,null,"Frecuencia","Corta duración: más de 15 levantamientos/descensos por minuto, en\nuna tarea que no supere los 60 minutos seguidos en el turno de trabajo\ny seguida de al menos 60 minutos de descanso o tarea liviana (que no\nimplique MMC).","NA","0"]
[null,null,null,"Media duración: más de 12 levantamientos/descensos por minuto,\nen una tarea que no supere los 120 minutos seguidos en el turno de\ntrabajo y seguida de al menos 30 minutos de descanso o tarea liviana\n(que no implique MMC).","NA","0"]
[null,null,null,"Larga duración: más de 8 levantamientos/descensos por minuto, en\nuna tarea que supere los 120 minutos seguidos en el turno de trabajo.","NA","0"]
[null,null,null,"Condición crítica: presencia de tarea de Levantamiento/descenso y transporte con peso de la carga que exceda los siguientes límites ","Si / No / NA",{"$f":"F14+F15+F16+F17+F18+F19+F20","v":0}]
[null,null,"Hombres \n(18-45 años) + ","25 kgs","NA",{"$f":"IF(E22=\"No\",\"0\",IF(E22=\"NA\",\"0\",\"1\"))","v":"0"}]
[null,null,"Mujeres\n(18-45 años) + ","20 kgs","NA",{"$f":"IF(E23=\"No\",\"0\",IF(E23=\"NA\",\"0\",\"1\"))","v":"0"}]
[null,null,"Hombres \n(< 18-45 años o > 45 años) + ","20 kgs","NA","0"]
[null,null,"Mujeres \n(< 18-45 años o > 45 años) + ","15 kgs","NA","0"]
[null,null,"Mujer\nEmbarazada","3 kgs","NA","0"]
[null,null,null,"Condición crítica: presencia de tarea de Levantamiento/descenso y transporte con peso de la carga que exceda los siguientes límites ","Si / No / NA",{"$f":"F22+F23+F24+F25+F26","v":0}]
[null,null,"Distancia de transporte de 20 mts. o más","6.000 Kgs. en 8 hrs.","NA",{"$f":"IF(E28=\"No\",\"0\",IF(E28=\"NA\",\"0\",\"1\"))","v":"0"}]
[null,null,"Distancia de transporte menos a 20 mts.","10.000 Kgs. en 8 hrs.","NA",{"$f":"IF(E29=\"No\",\"0\",IF(E29=\"NA\",\"0\",\"1\"))","v":"0"}]
[null,null,null,null,null,{"$f":"F28+F29","v":0}]
[null,null,null,null,null,{"$f":"F12+F21+F27+F30","v":0}]

{"sheet":"TABLA 3T4P1","index":89,"n_rows":34,"n_cols":11,"rows_kept":34,"cut":false,"hidden":false,"merged":[]}
[]
[null,null,null,"LEVANTAMIENTO, DESCENSO Y TRANSPORTE DE CARGA - IDENTIFICACIÓN AVANZADA  CONDICIÓN ACEPTABLE  \n",null,null,null,null,null,"Cuadro de Resultado Tabla 3"]
[null,null,"Condición","Levantamiento/descenso y transporte manual de carga","Si / No / NA"]
[null,null,"Ambiente de Trabajo","La temperatura en donde se realiza la tarea es entre los 18° y 26° (grados Celsius).","NA",{"$f":"IF(E4=\"SI\",\"0\",IF(E4=\"NA\",\"0\",\"1\"))","v":"0"},null,null,null,"La Tarea:"]
[null,null,null,"El piso se encuentra en buenas condiciones (regular, seco y estable).","NA",{"$f":"IF(E5=\"SI\",\"0\",IF(E5=\"NA\",\"0\",\"1\"))","v":"0"},null,null,{"$f":"'TABLA 1 P1'!B12","v":"N°4"},{"$f":"'TABLA 1 P1'!C12","v":"NA"}]
[null,null,null,"El espacio de trabajo permite el normal movimiento de los trabajadores (sin generar posturas incómodas) durante el levantamiento/descenso y/o transporte.","NA","0",null,null,null,"Resultado:"]
[null,null,"Característica de la Carga","El tamaño de la carga permite la visibilidad y movimientos normales del trabajador.","NA","0",null,null,{"$f":"F31","v":0},{"$f":"IF(F31>=1,\"No es Aceptable\",\"Aceptable\")","v":"Aceptable"}]
[null,null,null,"El centro de gravedad de la carga es estable.","NA","0",null,null,null,"Por lo que usted:"]
[null,null,null,"La carga permite su agarre sin riesgo de cortes, compresión o quemaduras.","NA","0",null,null,null,{"$f":"IF(J7=\"Aceptable\",\"Ha Terminado el Proceso de Identificación para esta Tarea\",\"Debe Aplicar Tabla 4\")","v":"Ha Terminado el Proceso de Identificación para esta Tarea"},{"$f":"F31","v":0}]
[null,null,"Horas de Trabajo\n","La tarea de levantamiento/descenso o transporte de carga dura menos de 8 hrs.","NA","0"]
[null,null,"3 a 5 Kgs","Se observa ausencia de asimetría (Ej: cuerpo rotado,torsión y/o inclinación de tronco).","NA","0",null,null,null,{"$f":"IF(J9=\"Ha Terminado el Proceso de Identificación para esta Tarea\",\"Si terminó de responder toda la Tabla 3 Presione Aquí para  regresar a Tabla 1 Información General del Puesto de Trabajo donde podrá continuar con la siguiente Tarea\",\"\")","v":"Si terminó de responder toda la Tabla 3 Presione Aquí para  regresar a Tabla 1 Información General del Puesto de Trabajo donde podrá continuar con la siguiente Tarea"},{"$f":"F31","v":0}]
[null,null,null,"La carga es mantenida cerca del cuerpo.","NA","0",null,null,null,null,{"$f":"F31","v":0}]
[null,null,null,"El desplazamiento vertical de la carga se realiza entrelas caderas y los hombros.","NA","0"]
[null,null,null,"Frecuencia máxima de MMC: el levantamiento/descenso es menor a 5 veces por minuto","NA","0",null,null,null,null,{"$f":"F31","v":0}]
[null,null,"5,1 a 10 Kgs","Se observa ausencia de asimetría (Ej: cuerpo rotado,torsión y/o inclinación de tronco).","NA","0"]
[null,null,null,"La carga es mantenida cerca del cuerpo.","NA","0"]
[null,null,null,"El desplazamiento vertical de la carga se realiza entre las caderas y los hombros.","NA","0",null,null,null,null,{"$f":"F31","v":0}]
[null,null,null,"Frecuencia máxima de MMC: el levantamiento/descenso es menor a 1 veces por minuto.","NA","0"]
[null,null,"+ de 10 Kgs","Ausencia de cargas mayores a 10 Kgs.","NA","0"]
[null,null,null,null,null,{"$f":"F4+F5+F6+F7+F8+F9+F10+F11+F12+F13+F14+F15+F16+F17+F18+F19","v":0},null,null,null,null,{"$f":"F31","v":0}]
[null,null,null,"Transporte Manual de Carga"]
[]
[null,null,null,null,null,null,null,null,null,null,{"$f":"F31","v":0}]
[]
[null,null,null,null,"Si / No / NA"]
[null,null,null,null,"NA",{"$f":"IF(E26=\"SI\",\"0\",IF(E26=\"NA\",\"0\",\"1\"))","v":"0"}]
[null,null,null,null,"NA",{"$f":"IF(E27=\"SI\",\"0\",IF(E27=\"NA\",\"0\",\"1\"))","v":"0"},null,null,null,null,{"$f":"F31","v":0}]
[null,null,null,null,"NA","0"]
[null,null,null,"Ausencia de posturas inadecuadas durante el transporte de carga.","NA","0"]
[null,null,null,null,null,{"$f":"F26+F27+F28+F29","v":0},null,null,null,null,{"$f":"F31","v":0}]
[null,null,null,null,null,{"$f":"(F20+F30)","v":0}]
[]
[]
[null,null,null,null,null,null,null,null,null,"Presione solo si al completar Tabla 3  se lo indica el Cuadro de Resultado",{"$f":"F31","v":0}]

{"sheet":"TABLA 3T4P2","index":90,"n_rows":34,"n_cols":11,"rows_kept":34,"cut":false,"hidden":false,"merged":[]}
[]
[null,null,null,"LEVANTAMIENTO, DESCENSO Y TRANSPORTE DE CARGA - IDENTIFICACIÓN AVANZADA  CONDICIÓN ACEPTABLE  \n",null,null,null,null,null,"Cuadro de Resultado Tabla 3"]
[null,null,"Condición","Levantamiento/descenso y transporte manual de carga","Si / No / NA"]
[null,null,"Ambiente de Trabajo","La temperatura en donde se realiza la tarea es entre los 18° y 26° (grados Celsius).","NA",{"$f":"IF(E4=\"SI\",\"0\",IF(E4=\"NA\",\"0\",\"1\"))","v":"0"},null,null,null,"La Tarea:"]
[null,null,null,"El piso se encuentra en buenas condiciones (regular, seco y estable).","NA",{"$f":"IF(E5=\"SI\",\"0\",IF(E5=\"NA\",\"0\",\"1\"))","v":"0"},null,null,{"$f":"'TABLA 1 P1'!B12","v":"N°4"},{"$f":"'TABLA 1 P2'!C12","v":"NA"}]
[null,null,null,"El espacio de trabajo permite el normal movimiento de los trabajadores (sin generar posturas incómodas) durante el levantamiento/descenso y/o transporte.","NA","0",null,null,null,"Resultado:"]
[null,null,"Característica de la Carga","El tamaño de la carga permite la visibilidad y movimientos normales del trabajador.","NA","0",null,null,{"$f":"F31","v":0},{"$f":"IF(F31>=1,\"No es Aceptable\",\"Aceptable\")","v":"Aceptable"}]
[null,null,null,"El centro de gravedad de la carga es estable.","NA","0",null,null,null,"Por lo que usted:"]
[null,null,null,"La carga permite su agarre sin riesgo de cortes, compresión o quemaduras.","NA","0",null,null,null,{"$f":"IF(J7=\"Aceptable\",\"Ha Terminado el Proceso de Identificación para esta Tarea\",\"Debe Aplicar Tabla 4\")","v":"Ha Terminado el Proceso de Identificación para esta Tarea"},{"$f":"F31","v":0}]
[null,null,"Horas de Trabajo\n","La tarea de levantamiento/descenso o transporte de carga dura menos de 8 hrs.","NA","0"]
[null,null,"3 a 5 Kgs","Se observa ausencia de asimetría (Ej: cuerpo rotado,torsión y/o inclinación de tronco).","NA","0",null,null,null,{"$f":"IF(J9=\"Ha Terminado el Proceso de Identificación para esta Tarea\",\"Si terminó de responder toda la Tabla 3 Presione Aquí para  regresar a Tabla 1 Información General del Puesto de Trabajo donde podrá continuar con la siguiente Tarea\",\"\")","v":"Si terminó de responder toda la Tabla 3 Presione Aquí para  regresar a Tabla 1 Información General del Puesto de Trabajo donde podrá continuar con la siguiente Tarea"},{"$f":"F31","v":0}]
[null,null,null,"La carga es mantenida cerca del cuerpo.","NA","0",null,null,null,null,{"$f":"F31","v":0}]
[null,null,null,"El desplazamiento vertical de la carga se realiza entrelas caderas y los hombros.","NA","0"]
[null,null,null,"Frecuencia máxima de MMC: el levantamiento/descenso es menor a 5 veces por minuto","NA","0",null,null,null,null,{"$f":"F31","v":0}]
[null,null,"5,1 a 10 Kgs","Se observa ausencia de asimetría (Ej: cuerpo rotado,torsión y/o inclinación de tronco).","NA","0"]
[null,null,null,"La carga es mantenida cerca del cuerpo.","NA","0"]
[null,null,null,"El desplazamiento vertical de la carga se realiza entre las caderas y los hombros.","NA","0",null,null,null,null,{"$f":"F31","v":0}]
[null,null,null,"Frecuencia máxima de MMC: el levantamiento/descenso es menor a 1 veces por minuto.","NA","0"]
[null,null,"+ de 10 Kgs","Ausencia de cargas mayores a 10 Kgs.","NA","0"]
[null,null,null,null,null,{"$f":"F4+F5+F6+F7+F8+F9+F10+F11+F12+F13+F14+F15+F16+F17+F18+F19","v":0},null,null,null,null,{"$f":"F31","v":0}]
[null,null,null,"Transporte Manual de Carga"]
[]
[null,null,null,null,null,null,null,null,null,null,{"$f":"F31","v":0}]
[]
[null,null,null,null,"Si / No / NA"]
[null,null,null,null,"NA",{"$f":"IF(E26=\"SI\",\"0\",IF(E26=\"NA\",\"0\",\"1\"))","v":"0"}]
[null,null,null,null,"NA",{"$f":"IF(E27=\"SI\",\"0\",IF(E27=\"NA\",\"0\",\"1\"))","v":"0"},null,null,null,null,{"$f":"F31","v":0}]
[null,null,null,null,"NA","0"]
[null,null,null,"Ausencia de posturas inadecuadas durante el transporte de carga.","NA","0"]
[null,null,null,null,null,{"$f":"F26+F27+F28+F29","v":0},null,null,null,null,{"$f":"F31","v":0}]
[null,null,null,null,null,{"$f":"(F20+F30)","v":0}]
[]
[]
[null,null,null,null,null,null,null,null,null,"Presione solo si al completar Tabla 3  se lo indica el Cuadro de Resultado",{"$f":"F31","v":0}]

{"sheet":"TABLA 4T4P1","index":91,"n_rows":31,"n_cols":10,"rows_kept":31,"cut":false,"hidden":false,"merged":[]}
[]
[null,null,null,"LEVANTAMIENTO, DESCENSO Y TRANSPORTE DE CARGA - IDENTIFICACIÓN AVANZADA CONDICIÓN CRÍTICA  ",null,null,null,null,null,"Cuadro de Resultado Tabla 4"]
[null,null,"Condición","Levantamiento/descenso y transporte manual de carga","Si / No / NA"]
[null,null,"Ambiente de Trabajo","Presencia de temperatura extrema (bajo 16° o superior a los 26° grados Celsius) y sin ropa que proteja de las temperaturas extremas.","NA",{"$f":"IF(E4=\"No\",\"0\",IF(E4=\"NA\",\"0\",\"1\"))","v":"0"},null,null,null,"La Tarea:"]
[null,null,null,"Presencia de suelo resbaladizo, irregular o inestable.","NA",{"$f":"IF(E5=\"No\",\"0\",IF(E5=\"NA\",\"0\",\"1\"))","v":"0"},null,null,{"$f":"'TABLA 1 P1'!B12","v":"N°4"},{"$f":"'TABLA 1 P1'!C12","v":"NA"}]
[null,null,null,"Presencia de espacio insuficiente para el levantamiento/descenso y transporte de carga que genera posturas incomodas o restricción en el movimiento.","NA","0",null,null,null,"Resultado:"]
[null,null,"Característica de la Carga","El tamaño de la carga reduce la visión del trabajador y/o dificulta su movimiento.","NA","0",null,null,{"$f":"F31","v":0},{"$f":"IF(F31>=1,\"Crítica\",\"No Crítica\")","v":"No Crítica"}]
[null,null,null,"El centro de gravedad de la carga no es estable (ej.: líquidos, elementos que se mueven dentro de la carga).","NA","0",null,null,null,"Por lo que usted:"]
[null,null,null,"La forma/configuración de la carga presenta bordes,\nsuperficies o protuberancias afiladas.","NA","0",null,null,null,{"$f":"IF(J7=\"No Crítica\",\"Ha terminado el Proceso de Identificación para esta Tarea y deberá iniciar el proceso de Evaluación Cuantitativa del riesgo\",\"Ha terminado el Proceso de Identificación para esta Tarea y deberá aplicar medidas para reducir el riesgo\")","v":"Ha terminado el Proceso de Identificación para esta Tarea y deberá iniciar el proceso de Evaluación Cuantitativa del riesgo"}]
[null,null,null,"Las superficies de contacto son demasiado frías o demasiado calientes.","NA","0"]
[null,null,"Horas de Trabajo","La tarea de levantamiento/descenso o transporte de\ncarga dura más de 8 hrs.","NA","0"]
[null,null,null,"Condición crítica: presencia de tarea de Levantamiento/descenso y transporte de carga con condiciones de diseño y frecuencia que exceden los valores máximos sugeridos ",null,{"$f":"F4+F5+F6+F7+F8+F9+F10+F11","v":0},null,null,null,"Si terminó de responder toda la Tabla 4 Presione Aquí para  regresar a Tabla 1 Información General del Puesto de Trabajo donde podrá continuar con la siguiente Tarea"]
[null,null,null,null,"Si / No / NA"]
[null,null,"Posición Vertical","La ubicación de las manos al inicio o final del levantamiento/descenso\nde una carga es superior a 155 cm o inferior a 20 cm°.","NA",{"$f":"IF(E14=\"No\",\"0\",IF(E14=\"NA\",\"0\",\"1\"))","v":"0"}]
[null,null,"Desplazamiento Vertical","La distancia vertical entre el origen y el destino del objeto manipulado\nes mayor a 135 cm°.","NA",{"$f":"IF(E15=\"No\",\"0\",IF(E15=\"NA\",\"0\",\"1\"))","v":"0"}]
[null,null,"Posición Horizontal","La distancia horizontal entre el cuerpo y las manos (nudillos) es superior a 55 cm correspondiente a la zona de alcance máximo de brazos","NA","0"]
[null,null,"Asimetría","Rotación o inclinación extrema del tronco sin movimientos de los pies","NA","0"]
[null,null,"Frecuencia","Corta duración: más de 15 levantamientos/descensos por minuto, en\nuna tarea que no supere los 60 minutos seguidos en el turno de trabajo\ny seguida de al menos 60 minutos de descanso o tarea liviana (que no\nimplique MMC).","NA","0"]
[null,null,null,"Media duración: más de 12 levantamientos/descensos por minuto,\nen una tarea que no supere los 120 minutos seguidos en el turno de\ntrabajo y seguida de al menos 30 minutos de descanso o tarea liviana\n(que no implique MMC).","NA","0"]
[null,null,null,"Larga duración: más de 8 levantamientos/descensos por minuto, en\nuna tarea que supere los 120 minutos seguidos en el turno de trabajo.","NA","0"]
[null,null,null,"Condición crítica: presencia de tarea de Levantamiento/descenso y transporte con peso de la carga que exceda los siguientes límites ","Si / No / NA",{"$f":"F14+F15+F16+F17+F18+F19+F20","v":0}]
[null,null,"Hombres \n(18-45 años) + ","25 kgs","NA",{"$f":"IF(E22=\"No\",\"0\",IF(E22=\"NA\",\"0\",\"1\"))","v":"0"}]
[null,null,"Mujeres\n(18-45 años) + ","20 kgs","NA",{"$f":"IF(E23=\"No\",\"0\",IF(E23=\"NA\",\"0\",\"1\"))","v":"0"}]
[null,null,"Hombres \n(< 18-45 años o > 45 años) + ","20 kgs","NA","0"]
[null,null,"Mujeres \n(< 18-45 años o > 45 años) + ","15 kgs","NA","0"]
[null,null,"Mujer\nEmbarazada","3 kgs","NA","0"]
[null,null,null,"Condición crítica: presencia de tarea de Levantamiento/descenso y transporte con peso de la carga que exceda los siguientes límites ","Si / No / NA",{"$f":"F22+F23+F24+F25+F26","v":0}]
[null,null,"Distancia de transporte de 20 mts. o más","6.000 Kgs. en 8 hrs.","NA",{"$f":"IF(E28=\"No\",\"0\",IF(E28=\"NA\",\"0\",\"1\"))","v":"0"}]
[null,null,"Distancia de transporte menos a 20 mts.","10.000 Kgs. en 8 hrs.","NA",{"$f":"IF(E29=\"No\",\"0\",IF(E29=\"NA\",\"0\",\"1\"))","v":"0"}]
[null,null,null,null,null,{"$f":"F28+F29","v":0}]
[null,null,null,null,null,{"$f":"F12+F21+F27+F30","v":0}]

{"sheet":"TABLA 4T4P2","index":92,"n_rows":31,"n_cols":10,"rows_kept":31,"cut":false,"hidden":false,"merged":[]}
[]
[null,null,null,"LEVANTAMIENTO, DESCENSO Y TRANSPORTE DE CARGA - IDENTIFICACIÓN AVANZADA CONDICIÓN CRÍTICA  ",null,null,null,null,null,"Cuadro de Resultado Tabla 4"]
[null,null,"Condición","Levantamiento/descenso y transporte manual de carga","Si / No / NA"]
[null,null,"Ambiente de Trabajo","Presencia de temperatura extrema (bajo 16° o superior a los 26° grados Celsius) y sin ropa que proteja de las temperaturas extremas.","NA",{"$f":"IF(E4=\"No\",\"0\",IF(E4=\"NA\",\"0\",\"1\"))","v":"0"},null,null,null,"La Tarea:"]
[null,null,null,"Presencia de suelo resbaladizo, irregular o inestable.","NA",{"$f":"IF(E5=\"No\",\"0\",IF(E5=\"NA\",\"0\",\"1\"))","v":"0"},null,null,{"$f":"'TABLA 1 P1'!B12","v":"N°4"},{"$f":"'TABLA 1 P2'!C12","v":"NA"}]
[null,null,null,"Presencia de espacio insuficiente para el levantamiento/descenso y transporte de carga que genera posturas incomodas o restricción en el movimiento.","NA","0",null,null,null,"Resultado:"]
[null,null,"Característica de la Carga","El tamaño de la carga reduce la visión del trabajador y/o dificulta su movimiento.","NA","0",null,null,{"$f":"F31","v":0},{"$f":"IF(F31>=1,\"Crítica\",\"No Crítica\")","v":"No Crítica"}]
[null,null,null,"El centro de gravedad de la carga no es estable (ej.: líquidos, elementos que se mueven dentro de la carga).","NA","0",null,null,null,"Por lo que usted:"]
[null,null,null,"La forma/configuración de la carga presenta bordes,\nsuperficies o protuberancias afiladas.","NA","0",null,null,null,{"$f":"IF(J7=\"No Crítica\",\"Ha terminado el Proceso de Identificación para esta Tarea y deberá iniciar el proceso de Evaluación Cuantitativa del riesgo\",\"Ha terminado el Proceso de Identificación para esta Tarea y deberá aplicar medidas para reducir el riesgo\")","v":"Ha terminado el Proceso de Identificación para esta Tarea y deberá iniciar el proceso de Evaluación Cuantitativa del riesgo"}]
[null,null,null,"Las superficies de contacto son demasiado frías o demasiado calientes.","NA","0"]
[null,null,"Horas de Trabajo","La tarea de levantamiento/descenso o transporte de\ncarga dura más de 8 hrs.","NA","0"]
[null,null,null,"Condición crítica: presencia de tarea de Levantamiento/descenso y transporte de carga con condiciones de diseño y frecuencia que exceden los valores máximos sugeridos ",null,{"$f":"F4+F5+F6+F7+F8+F9+F10+F11","v":0},null,null,null,"Si terminó de responder toda la Tabla 4 Presione Aquí para  regresar a Tabla 1 Información General del Puesto de Trabajo donde podrá continuar con la siguiente Tarea"]
[null,null,null,null,"Si / No / NA"]
[null,null,"Posición Vertical","La ubicación de las manos al inicio o final del levantamiento/descenso\nde una carga es superior a 155 cm o inferior a 20 cm°.","NA",{"$f":"IF(E14=\"No\",\"0\",IF(E14=\"NA\",\"0\",\"1\"))","v":"0"}]
[null,null,"Desplazamiento Vertical","La distancia vertical entre el origen y el destino del objeto manipulado\nes mayor a 135 cm°.","NA",{"$f":"IF(E15=\"No\",\"0\",IF(E15=\"NA\",\"0\",\"1\"))","v":"0"}]
[null,null,"Posición Horizontal","La distancia horizontal entre el cuerpo y las manos (nudillos) es superior a 55 cm correspondiente a la zona de alcance máximo de brazos","NA","0"]
[null,null,"Asimetría","Rotación o inclinación extrema del tronco sin movimientos de los pies","NA","0"]
[null,null,"Frecuencia","Corta duración: más de 15 levantamientos/descensos por minuto, en\nuna tarea que no supere los 60 minutos seguidos en el turno de trabajo\ny seguida de al menos 60 minutos de descanso o tarea liviana (que no\nimplique MMC).","NA","0"]
[null,null,null,"Media duración: más de 12 levantamientos/descensos por minuto,\nen una tarea que no supere los 120 minutos seguidos en el turno de\ntrabajo y seguida de al menos 30 minutos de descanso o tarea liviana\n(que no implique MMC).","NA","0"]
[null,null,null,"Larga duración: más de 8 levantamientos/descensos por minuto, en\nuna tarea que supere los 120 minutos seguidos en el turno de trabajo.","NA","0"]
[null,null,null,"Condición crítica: presencia de tarea de Levantamiento/descenso y transporte con peso de la carga que exceda los siguientes límites ","Si / No / NA",{"$f":"F14+F15+F16+F17+F18+F19+F20","v":0}]
[null,null,"Hombres \n(18-45 años) + ","25 kgs","NA",{"$f":"IF(E22=\"No\",\"0\",IF(E22=\"NA\",\"0\",\"1\"))","v":"0"}]
[null,null,"Mujeres\n(18-45 años) + ","20 kgs","NA",{"$f":"IF(E23=\"No\",\"0\",IF(E23=\"NA\",\"0\",\"1\"))","v":"0"}]
[null,null,"Hombres \n(< 18-45 años o > 45 años) + ","20 kgs","NA","0"]
[null,null,"Mujeres \n(< 18-45 años o > 45 años) + ","15 kgs","NA","0"]
[null,null,"Mujer\nEmbarazada","3 kgs","NA","0"]
[null,null,null,"Condición crítica: presencia de tarea de Levantamiento/descenso y transporte con peso de la carga que exceda los siguientes límites ","Si / No / NA",{"$f":"F22+F23+F24+F25+F26","v":0}]
[null,null,"Distancia de transporte de 20 mts. o más","6.000 Kgs. en 8 hrs.","NA",{"$f":"IF(E28=\"No\",\"0\",IF(E28=\"NA\",\"0\",\"1\"))","v":"0"}]
[null,null,"Distancia de transporte menos a 20 mts.","10.000 Kgs. en 8 hrs.","NA",{"$f":"IF(E29=\"No\",\"0\",IF(E29=\"NA\",\"0\",\"1\"))","v":"0"}]
[null,null,null,null,null,{"$f":"F28+F29","v":0}]
[null,null,null,null,null,{"$f":"F12+F21+F27+F30","v":0}]

{"sheet":"TABLA 3T5P1","index":93,"n_rows":34,"n_cols":11,"rows_kept":34,"cut":false,"hidden":false,"merged":[]}
[]
[null,null,null,"LEVANTAMIENTO, DESCENSO Y TRANSPORTE DE CARGA - IDENTIFICACIÓN AVANZADA  CONDICIÓN ACEPTABLE  \n",null,null,null,null,null,"Cuadro de Resultado Tabla 3"]
[null,null,"Condición","Levantamiento/descenso y transporte manual de carga","Si / No / NA"]
[null,null,"Ambiente de Trabajo","La temperatura en donde se realiza la tarea es entre los 18° y 26° (grados Celsius).","NA",{"$f":"IF(E4=\"SI\",\"0\",IF(E4=\"NA\",\"0\",\"1\"))","v":"0"},null,null,null,"La Tarea:"]
[null,null,null,"El piso se encuentra en buenas condiciones (regular, seco y estable).","NA",{"$f":"IF(E5=\"SI\",\"0\",IF(E5=\"NA\",\"0\",\"1\"))","v":"0"},null,null,{"$f":"'TABLA 1 P1'!B14","v":"N°5"},{"$f":"'TABLA 1 P1'!C14","v":"NA"}]
[null,null,null,"El espacio de trabajo permite el normal movimiento de los trabajadores (sin generar posturas incómodas) durante el levantamiento/descenso y/o transporte.","NA","0",null,null,null,"Resultado:"]
[null,null,"Característica de la Carga","El tamaño de la carga permite la visibilidad y movimientos normales del trabajador.","NA","0",null,null,{"$f":"F31","v":0},{"$f":"IF(F31>=1,\"No es Aceptable\",\"Aceptable\")","v":"Aceptable"}]
[null,null,null,"El centro de gravedad de la carga es estable.","NA","0",null,null,null,"Por lo que usted:"]
[null,null,null,"La carga permite su agarre sin riesgo de cortes, compresión o quemaduras.","NA","0",null,null,null,{"$f":"IF(J7=\"Aceptable\",\"Ha Terminado el Proceso de Identificación para esta Tarea\",\"Debe Aplicar Tabla 4\")","v":"Ha Terminado el Proceso de Identificación para esta Tarea"},{"$f":"F31","v":0}]
[null,null,"Horas de Trabajo\n","La tarea de levantamiento/descenso o transporte de carga dura menos de 8 hrs.","NA","0"]
[null,null,"3 a 5 Kgs","Se observa ausencia de asimetría (Ej: cuerpo rotado,torsión y/o inclinación de tronco).","NA","0",null,null,null,{"$f":"IF(J9=\"Ha Terminado el Proceso de Identificación para esta Tarea\",\"Si terminó de responder toda la Tabla 3 Presione Aquí para  regresar a Tabla 1 Información General del Puesto de Trabajo donde podrá continuar con la siguiente Tarea\",\"\")","v":"Si terminó de responder toda la Tabla 3 Presione Aquí para  regresar a Tabla 1 Información General del Puesto de Trabajo donde podrá continuar con la siguiente Tarea"},{"$f":"F31","v":0}]
[null,null,null,"La carga es mantenida cerca del cuerpo.","NA","0",null,null,null,null,{"$f":"F31","v":0}]
[null,null,null,"El desplazamiento vertical de la carga se realiza entrelas caderas y los hombros.","NA","0"]
[null,null,null,"Frecuencia máxima de MMC: el levantamiento/descenso es menor a 5 veces por minuto","NA","0",null,null,null,null,{"$f":"F31","v":0}]
[null,null,"5,1 a 10 Kgs","Se observa ausencia de asimetría (Ej: cuerpo rotado,torsión y/o inclinación de tronco).","NA","0"]
[null,null,null,"La carga es mantenida cerca del cuerpo.","NA","0"]
[null,null,null,"El desplazamiento vertical de la carga se realiza entre las caderas y los hombros.","NA","0",null,null,null,null,{"$f":"F31","v":0}]
[null,null,null,"Frecuencia máxima de MMC: el levantamiento/descenso es menor a 1 veces por minuto.","NA","0"]
[null,null,"+ de 10 Kgs","Ausencia de cargas mayores a 10 Kgs.","NA","0"]
[null,null,null,null,null,{"$f":"F4+F5+F6+F7+F8+F9+F10+F11+F12+F13+F14+F15+F16+F17+F18+F19","v":0},null,null,null,null,{"$f":"F31","v":0}]
[null,null,null,"Transporte Manual de Carga"]
[]
[null,null,null,null,null,null,null,null,null,null,{"$f":"F31","v":0}]
[]
[null,null,null,null,"Si / No / NA"]
[null,null,null,null,"NA",{"$f":"IF(E26=\"SI\",\"0\",IF(E26=\"NA\",\"0\",\"1\"))","v":"0"}]
[null,null,null,null,"NA",{"$f":"IF(E27=\"SI\",\"0\",IF(E27=\"NA\",\"0\",\"1\"))","v":"0"},null,null,null,null,{"$f":"F31","v":0}]
[null,null,null,null,"NA","0"]
[null,null,null,"Ausencia de posturas inadecuadas durante el transporte de carga.","NA","0"]
[null,null,null,null,null,{"$f":"F26+F27+F28+F29","v":0},null,null,null,null,{"$f":"F31","v":0}]
[null,null,null,null,null,{"$f":"(F20+F30)","v":0}]
[]
[]
[null,null,null,null,null,null,null,null,null,"Presione solo si al completar Tabla 3  se lo indica el Cuadro de Resultado",{"$f":"F31","v":0}]

{"sheet":"TABLA 3T5P2","index":94,"n_rows":34,"n_cols":11,"rows_kept":34,"cut":false,"hidden":false,"merged":[]}
[]
[null,null,null,"LEVANTAMIENTO, DESCENSO Y TRANSPORTE DE CARGA - IDENTIFICACIÓN AVANZADA  CONDICIÓN ACEPTABLE  \n",null,null,null,null,null,"Cuadro de Resultado Tabla 3"]
[null,null,"Condición","Levantamiento/descenso y transporte manual de carga","Si / No / NA"]
[null,null,"Ambiente de Trabajo","La temperatura en donde se realiza la tarea es entre los 18° y 26° (grados Celsius).","NA",{"$f":"IF(E4=\"SI\",\"0\",IF(E4=\"NA\",\"0\",\"1\"))","v":"0"},null,null,null,"La Tarea:"]
[null,null,null,"El piso se encuentra en buenas condiciones (regular, seco y estable).","NA",{"$f":"IF(E5=\"SI\",\"0\",IF(E5=\"NA\",\"0\",\"1\"))","v":"0"},null,null,{"$f":"'TABLA 1 P2'!B14","v":"N°5"},{"$f":"'TABLA 1 P2'!C14","v":"NA"}]
[null,null,null,"El espacio de trabajo permite el normal movimiento de los trabajadores (sin generar posturas incómodas) durante el levantamiento/descenso y/o transporte.","NA","0",null,null,null,"Resultado:"]
[null,null,"Característica de la Carga","El tamaño de la carga permite la visibilidad y movimientos normales del trabajador.","NA","0",null,null,{"$f":"F31","v":0},{"$f":"IF(F31>=1,\"No es Aceptable\",\"Aceptable\")","v":"Aceptable"}]
[null,null,null,"El centro de gravedad de la carga es estable.","NA","0",null,null,null,"Por lo que usted:"]
[null,null,null,"La carga permite su agarre sin riesgo de cortes, compresión o quemaduras.","NA","0",null,null,null,{"$f":"IF(J7=\"Aceptable\",\"Ha Terminado el Proceso de Identificación para esta Tarea\",\"Debe Aplicar Tabla 4\")","v":"Ha Terminado el Proceso de Identificación para esta Tarea"},{"$f":"F31","v":0}]
[null,null,"Horas de Trabajo\n","La tarea de levantamiento/descenso o transporte de carga dura menos de 8 hrs.","NA","0"]
[null,null,"3 a 5 Kgs","Se observa ausencia de asimetría (Ej: cuerpo rotado,torsión y/o inclinación de tronco).","NA","0",null,null,null,{"$f":"IF(J9=\"Ha Terminado el Proceso de Identificación para esta Tarea\",\"Si terminó de responder toda la Tabla 3 Presione Aquí para  regresar a Tabla 1 Información General del Puesto de Trabajo donde podrá continuar con la siguiente Tarea\",\"\")","v":"Si terminó de responder toda la Tabla 3 Presione Aquí para  regresar a Tabla 1 Información General del Puesto de Trabajo donde podrá continuar con la siguiente Tarea"},{"$f":"F31","v":0}]
[null,null,null,"La carga es mantenida cerca del cuerpo.","NA","0",null,null,null,null,{"$f":"F31","v":0}]
[null,null,null,"El desplazamiento vertical de la carga se realiza entrelas caderas y los hombros.","NA","0"]
[null,null,null,"Frecuencia máxima de MMC: el levantamiento/descenso es menor a 5 veces por minuto","NA","0",null,null,null,null,{"$f":"F31","v":0}]
[null,null,"5,1 a 10 Kgs","Se observa ausencia de asimetría (Ej: cuerpo rotado,torsión y/o inclinación de tronco).","NA","0"]
[null,null,null,"La carga es mantenida cerca del cuerpo.","NA","0"]
[null,null,null,"El desplazamiento vertical de la carga se realiza entre las caderas y los hombros.","NA","0",null,null,null,null,{"$f":"F31","v":0}]
[null,null,null,"Frecuencia máxima de MMC: el levantamiento/descenso es menor a 1 veces por minuto.","NA","0"]
[null,null,"+ de 10 Kgs","Ausencia de cargas mayores a 10 Kgs.","NA","0"]
[null,null,null,null,null,{"$f":"F4+F5+F6+F7+F8+F9+F10+F11+F12+F13+F14+F15+F16+F17+F18+F19","v":0},null,null,null,null,{"$f":"F31","v":0}]
[null,null,null,"Transporte Manual de Carga"]
[]
[null,null,null,null,null,null,null,null,null,null,{"$f":"F31","v":0}]
[]
[null,null,null,null,"Si / No / NA"]
[null,null,null,null,"NA",{"$f":"IF(E26=\"SI\",\"0\",IF(E26=\"NA\",\"0\",\"1\"))","v":"0"}]
[null,null,null,null,"NA",{"$f":"IF(E27=\"SI\",\"0\",IF(E27=\"NA\",\"0\",\"1\"))","v":"0"},null,null,null,null,{"$f":"F31","v":0}]
[null,null,null,null,"NA","0"]
[null,null,null,"Ausencia de posturas inadecuadas durante el transporte de carga.","NA","0"]
[null,null,null,null,null,{"$f":"F26+F27+F28+F29","v":0},null,null,null,null,{"$f":"F31","v":0}]
[null,null,null,null,null,{"$f":"(F20+F30)","v":0}]
[]
[]
[null,null,null,null,null,null,null,null,null,"Presione solo si al completar Tabla 3  se lo indica el Cuadro de Resultado",{"$f":"F31","v":0}]

{"sheet":"TABLA 3T5P3","index":95,"n_rows":34,"n_cols":11,"rows_kept":34,"cut":false,"hidden":false,"merged":[]}
[]
[null,null,null,"LEVANTAMIENTO, DESCENSO Y TRANSPORTE DE CARGA - IDENTIFICACIÓN AVANZADA  CONDICIÓN ACEPTABLE  \n",null,null,null,null,null,"Cuadro de Resultado Tabla 3"]
[null,null,"Condición","Levantamiento/descenso y transporte manual de carga","Si / No / NA"]
[null,null,"Ambiente de Trabajo","La temperatura en donde se realiza la tarea es entre los 18° y 26° (grados Celsius).","NA",{"$f":"IF(E4=\"SI\",\"0\",IF(E4=\"NA\",\"0\",\"1\"))","v":"0"},null,null,null,"La Tarea:"]
[null,null,null,"El piso se encuentra en buenas condiciones (regular, seco y estable).","NA",{"$f":"IF(E5=\"SI\",\"0\",IF(E5=\"NA\",\"0\",\"1\"))","v":"0"},null,null,{"$f":"'TABLA 1 P3'!B14","v":"N°5"},{"$f":"'TABLA 1 P3'!C14","v":"NA"}]
[null,null,null,"El espacio de trabajo permite el normal movimiento de los trabajadores (sin generar posturas incómodas) durante el levantamiento/descenso y/o transporte.","NA","0",null,null,null,"Resultado:"]
[null,null,"Característica de la Carga","El tamaño de la carga permite la visibilidad y movimientos normales del trabajador.","NA","0",null,null,{"$f":"F31","v":0},{"$f":"IF(F31>=1,\"No es Aceptable\",\"Aceptable\")","v":"Aceptable"}]
[null,null,null,"El centro de gravedad de la carga es estable.","NA","0",null,null,null,"Por lo que usted:"]
[null,null,null,"La carga permite su agarre sin riesgo de cortes, compresión o quemaduras.","NA","0",null,null,null,{"$f":"IF(J7=\"Aceptable\",\"Ha Terminado el Proceso de Identificación para esta Tarea\",\"Debe Aplicar Tabla 4\")","v":"Ha Terminado el Proceso de Identificación para esta Tarea"},{"$f":"F31","v":0}]
[null,null,"Horas de Trabajo\n","La tarea de levantamiento/descenso o transporte de carga dura menos de 8 hrs.","NA","0"]
[null,null,"3 a 5 Kgs","Se observa ausencia de asimetría (Ej: cuerpo rotado,torsión y/o inclinación de tronco).","NA","0",null,null,null,{"$f":"IF(J9=\"Ha Terminado el Proceso de Identificación para esta Tarea\",\"Si terminó de responder toda la Tabla 3 Presione Aquí para  regresar a Tabla 1 Información General del Puesto de Trabajo donde podrá continuar con la siguiente Tarea\",\"\")","v":"Si terminó de responder toda la Tabla 3 Presione Aquí para  regresar a Tabla 1 Información General del Puesto de Trabajo donde podrá continuar con la siguiente Tarea"},{"$f":"F31","v":0}]
[null,null,null,"La carga es mantenida cerca del cuerpo.","NA","0",null,null,null,null,{"$f":"F31","v":0}]
[null,null,null,"El desplazamiento vertical de la carga se realiza entrelas caderas y los hombros.","NA","0"]
[null,null,null,"Frecuencia máxima de MMC: el levantamiento/descenso es menor a 5 veces por minuto","NA","0",null,null,null,null,{"$f":"F31","v":0}]
[null,null,"5,1 a 10 Kgs","Se observa ausencia de asimetría (Ej: cuerpo rotado,torsión y/o inclinación de tronco).","NA","0"]
[null,null,null,"La carga es mantenida cerca del cuerpo.","NA","0"]
[null,null,null,"El desplazamiento vertical de la carga se realiza entre las caderas y los hombros.","NA","0",null,null,null,null,{"$f":"F31","v":0}]
[null,null,null,"Frecuencia máxima de MMC: el levantamiento/descenso es menor a 1 veces por minuto.","NA","0"]
[null,null,"+ de 10 Kgs","Ausencia de cargas mayores a 10 Kgs.","NA","0"]
[null,null,null,null,null,{"$f":"F4+F5+F6+F7+F8+F9+F10+F11+F12+F13+F14+F15+F16+F17+F18+F19","v":0},null,null,null,null,{"$f":"F31","v":0}]
[null,null,null,"Transporte Manual de Carga"]
[]
[null,null,null,null,null,null,null,null,null,null,{"$f":"F31","v":0}]
[]
[null,null,null,null,"Si / No / NA"]
[null,null,null,null,"NA",{"$f":"IF(E26=\"SI\",\"0\",IF(E26=\"NA\",\"0\",\"1\"))","v":"0"}]
[null,null,null,null,"NA",{"$f":"IF(E27=\"SI\",\"0\",IF(E27=\"NA\",\"0\",\"1\"))","v":"0"},null,null,null,null,{"$f":"F31","v":0}]
[null,null,null,null,"NA","0"]
[null,null,null,"Ausencia de posturas inadecuadas durante el transporte de carga.","NA","0"]
[null,null,null,null,null,{"$f":"F26+F27+F28+F29","v":0},null,null,null,null,{"$f":"F31","v":0}]
[null,null,null,null,null,{"$f":"(F20+F30)","v":0}]
[]
[]
[null,null,null,null,null,null,null,null,null,"Presione solo si al completar Tabla 3  se lo indica el Cuadro de Resultado",{"$f":"F31","v":0}]

{"sheet":"TABLA 3T5P4","index":96,"n_rows":34,"n_cols":11,"rows_kept":34,"cut":false,"hidden":false,"merged":[]}
[]
[null,null,null,"LEVANTAMIENTO, DESCENSO Y TRANSPORTE DE CARGA - IDENTIFICACIÓN AVANZADA  CONDICIÓN ACEPTABLE  \n",null,null,null,null,null,"Cuadro de Resultado Tabla 3"]
[null,null,"Condición","Levantamiento/descenso y transporte manual de carga","Si / No / NA"]
[null,null,"Ambiente de Trabajo","La temperatura en donde se realiza la tarea es entre los 18° y 26° (grados Celsius).","NA",{"$f":"IF(E4=\"SI\",\"0\",IF(E4=\"NA\",\"0\",\"1\"))","v":"0"},null,null,null,"La Tarea:"]
[null,null,null,"El piso se encuentra en buenas condiciones (regular, seco y estable).","NA",{"$f":"IF(E5=\"SI\",\"0\",IF(E5=\"NA\",\"0\",\"1\"))","v":"0"},null,null,{"$f":"'TABLA 1 P4'!B14","v":"N°5"},{"$f":"'TABLA 1 P4'!C14","v":"NA"}]
[null,null,null,"El espacio de trabajo permite el normal movimiento de los trabajadores (sin generar posturas incómodas) durante el levantamiento/descenso y/o transporte.","NA","0",null,null,null,"Resultado:"]
[null,null,"Característica de la Carga","El tamaño de la carga permite la visibilidad y movimientos normales del trabajador.","NA","0",null,null,{"$f":"F31","v":0},{"$f":"IF(F31>=1,\"No es Aceptable\",\"Aceptable\")","v":"Aceptable"}]
[null,null,null,"El centro de gravedad de la carga es estable.","NA","0",null,null,null,"Por lo que usted:"]
[null,null,null,"La carga permite su agarre sin riesgo de cortes, compresión o quemaduras.","NA","0",null,null,null,{"$f":"IF(J7=\"Aceptable\",\"Ha Terminado el Proceso de Identificación para esta Tarea\",\"Debe Aplicar Tabla 4\")","v":"Ha Terminado el Proceso de Identificación para esta Tarea"},{"$f":"F31","v":0}]
[null,null,"Horas de Trabajo\n","La tarea de levantamiento/descenso o transporte de carga dura menos de 8 hrs.","NA","0"]
[null,null,"3 a 5 Kgs","Se observa ausencia de asimetría (Ej: cuerpo rotado,torsión y/o inclinación de tronco).","NA","0",null,null,null,{"$f":"IF(J9=\"Ha Terminado el Proceso de Identificación para esta Tarea\",\"Si terminó de responder toda la Tabla 3 Presione Aquí para  regresar a Tabla 1 Información General del Puesto de Trabajo donde podrá continuar con la siguiente Tarea\",\"\")","v":"Si terminó de responder toda la Tabla 3 Presione Aquí para  regresar a Tabla 1 Información General del Puesto de Trabajo donde podrá continuar con la siguiente Tarea"},{"$f":"F31","v":0}]
[null,null,null,"La carga es mantenida cerca del cuerpo.","NA","0",null,null,null,null,{"$f":"F31","v":0}]
[null,null,null,"El desplazamiento vertical de la carga se realiza entrelas caderas y los hombros.","NA","0"]
[null,null,null,"Frecuencia máxima de MMC: el levantamiento/descenso es menor a 5 veces por minuto","NA","0",null,null,null,null,{"$f":"F31","v":0}]
[null,null,"5,1 a 10 Kgs","Se observa ausencia de asimetría (Ej: cuerpo rotado,torsión y/o inclinación de tronco).","NA","0"]
[null,null,null,"La carga es mantenida cerca del cuerpo.","NA","0"]
[null,null,null,"El desplazamiento vertical de la carga se realiza entre las caderas y los hombros.","NA","0",null,null,null,null,{"$f":"F31","v":0}]
[null,null,null,"Frecuencia máxima de MMC: el levantamiento/descenso es menor a 1 veces por minuto.","NA","0"]
[null,null,"+ de 10 Kgs","Ausencia de cargas mayores a 10 Kgs.","NA","0"]
[null,null,null,null,null,{"$f":"F4+F5+F6+F7+F8+F9+F10+F11+F12+F13+F14+F15+F16+F17+F18+F19","v":0},null,null,null,null,{"$f":"F31","v":0}]
[null,null,null,"Transporte Manual de Carga"]
[]
[null,null,null,null,null,null,null,null,null,null,{"$f":"F31","v":0}]
[]
[null,null,null,null,"Si / No / NA"]
[null,null,null,null,"NA",{"$f":"IF(E26=\"SI\",\"0\",IF(E26=\"NA\",\"0\",\"1\"))","v":"0"}]
[null,null,null,null,"NA",{"$f":"IF(E27=\"SI\",\"0\",IF(E27=\"NA\",\"0\",\"1\"))","v":"0"},null,null,null,null,{"$f":"F31","v":0}]
[null,null,null,null,"NA","0"]
[null,null,null,"Ausencia de posturas inadecuadas durante el transporte de carga.","NA","0"]
[null,null,null,null,null,{"$f":"F26+F27+F28+F29","v":0},null,null,null,null,{"$f":"F31","v":0}]
[null,null,null,null,null,{"$f":"(F20+F30)","v":0}]
[]
[]
[null,null,null,null,null,null,null,null,null,"Presione solo si al completar Tabla 3  se lo indica el Cuadro de Resultado",{"$f":"F31","v":0}]

{"sheet":"TABLA 3T5P5","index":97,"n_rows":34,"n_cols":11,"rows_kept":34,"cut":false,"hidden":false,"merged":[]}
[]
[null,null,null,"LEVANTAMIENTO, DESCENSO Y TRANSPORTE DE CARGA - IDENTIFICACIÓN AVANZADA  CONDICIÓN ACEPTABLE  \n",null,null,null,null,null,"Cuadro de Resultado Tabla 3"]
[null,null,"Condición","Levantamiento/descenso y transporte manual de carga","Si / No / NA"]
[null,null,"Ambiente de Trabajo","La temperatura en donde se realiza la tarea es entre los 18° y 26° (grados Celsius).","NA",{"$f":"IF(E4=\"SI\",\"0\",IF(E4=\"NA\",\"0\",\"1\"))","v":"0"},null,null,null,"La Tarea:"]
[null,null,null,"El piso se encuentra en buenas condiciones (regular, seco y estable).","NA",{"$f":"IF(E5=\"SI\",\"0\",IF(E5=\"NA\",\"0\",\"1\"))","v":"0"},null,null,{"$f":"'TABLA 1 P5'!B14","v":"N°5"},{"$f":"'TABLA 1 P5'!C14","v":"NA"}]
[null,null,null,"El espacio de trabajo permite el normal movimiento de los trabajadores (sin generar posturas incómodas) durante el levantamiento/descenso y/o transporte.","NA","0",null,null,null,"Resultado:"]
[null,null,"Característica de la Carga","El tamaño de la carga permite la visibilidad y movimientos normales del trabajador.","NA","0",null,null,{"$f":"F31","v":0},{"$f":"IF(F31>=1,\"No es Aceptable\",\"Aceptable\")","v":"Aceptable"}]
[null,null,null,"El centro de gravedad de la carga es estable.","NA","0",null,null,null,"Por lo que usted:"]
[null,null,null,"La carga permite su agarre sin riesgo de cortes, compresión o quemaduras.","NA","0",null,null,null,{"$f":"IF(J7=\"Aceptable\",\"Ha Terminado el Proceso de Identificación para esta Tarea\",\"Debe Aplicar Tabla 4\")","v":"Ha Terminado el Proceso de Identificación para esta Tarea"},{"$f":"F31","v":0}]
[null,null,"Horas de Trabajo\n","La tarea de levantamiento/descenso o transporte de carga dura menos de 8 hrs.","NA","0"]
[null,null,"3 a 5 Kgs","Se observa ausencia de asimetría (Ej: cuerpo rotado,torsión y/o inclinación de tronco).","NA","0",null,null,null,{"$f":"IF(J9=\"Ha Terminado el Proceso de Identificación para esta Tarea\",\"Si terminó de responder toda la Tabla 3 Presione Aquí para  regresar a Tabla 1 Información General del Puesto de Trabajo donde podrá continuar con la siguiente Tarea\",\"\")","v":"Si terminó de responder toda la Tabla 3 Presione Aquí para  regresar a Tabla 1 Información General del Puesto de Trabajo donde podrá continuar con la siguiente Tarea"},{"$f":"F31","v":0}]
[null,null,null,"La carga es mantenida cerca del cuerpo.","NA","0",null,null,null,null,{"$f":"F31","v":0}]
[null,null,null,"El desplazamiento vertical de la carga se realiza entrelas caderas y los hombros.","NA","0"]
[null,null,null,"Frecuencia máxima de MMC: el levantamiento/descenso es menor a 5 veces por minuto","NA","0",null,null,null,null,{"$f":"F31","v":0}]
[null,null,"5,1 a 10 Kgs","Se observa ausencia de asimetría (Ej: cuerpo rotado,torsión y/o inclinación de tronco).","NA","0"]
[null,null,null,"La carga es mantenida cerca del cuerpo.","NA","0"]
[null,null,null,"El desplazamiento vertical de la carga se realiza entre las caderas y los hombros.","NA","0",null,null,null,null,{"$f":"F31","v":0}]
[null,null,null,"Frecuencia máxima de MMC: el levantamiento/descenso es menor a 1 veces por minuto.","NA","0"]
[null,null,"+ de 10 Kgs","Ausencia de cargas mayores a 10 Kgs.","NA","0"]
[null,null,null,null,null,{"$f":"F4+F5+F6+F7+F8+F9+F10+F11+F12+F13+F14+F15+F16+F17+F18+F19","v":0},null,null,null,null,{"$f":"F31","v":0}]
[null,null,null,"Transporte Manual de Carga"]
[]
[null,null,null,null,null,null,null,null,null,null,{"$f":"F31","v":0}]
[]
[null,null,null,null,"Si / No / NA"]
[null,null,null,null,"NA",{"$f":"IF(E26=\"SI\",\"0\",IF(E26=\"NA\",\"0\",\"1\"))","v":"0"}]
[null,null,null,null,"NA",{"$f":"IF(E27=\"SI\",\"0\",IF(E27=\"NA\",\"0\",\"1\"))","v":"0"},null,null,null,null,{"$f":"F31","v":0}]
[null,null,null,null,"NA","0"]
[null,null,null,"Ausencia de posturas inadecuadas durante el transporte de carga.","NA","0"]
[null,null,null,null,null,{"$f":"F26+F27+F28+F29","v":0},null,null,null,null,{"$f":"F31","v":0}]
[null,null,null,null,null,{"$f":"(F20+F30)","v":0}]
[]
[]
[null,null,null,null,null,null,null,null,null,"Presione solo si al completar Tabla 3  se lo indica el Cuadro de Resultado",{"$f":"F31","v":0}]

{"sheet":"TABLA 3T5P6","index":98,"n_rows":34,"n_cols":11,"rows_kept":34,"cut":false,"hidden":false,"merged":[]}
[]
[null,null,null,"LEVANTAMIENTO, DESCENSO Y TRANSPORTE DE CARGA - IDENTIFICACIÓN AVANZADA  CONDICIÓN ACEPTABLE  \n",null,null,null,null,null,"Cuadro de Resultado Tabla 3"]
[null,null,"Condición","Levantamiento/descenso y transporte manual de carga","Si / No / NA"]
[null,null,"Ambiente de Trabajo","La temperatura en donde se realiza la tarea es entre los 18° y 26° (grados Celsius).","NA",{"$f":"IF(E4=\"SI\",\"0\",IF(E4=\"NA\",\"0\",\"1\"))","v":"0"},null,null,null,"La Tarea:"]
[null,null,null,"El piso se encuentra en buenas condiciones (regular, seco y estable).","NA",{"$f":"IF(E5=\"SI\",\"0\",IF(E5=\"NA\",\"0\",\"1\"))","v":"0"},null,null,{"$f":"'TABLA 1 P6'!B14","v":"N°5"},{"$f":"'TABLA 1 P6'!C14","v":"NA"}]
[null,null,null,"El espacio de trabajo permite el normal movimiento de los trabajadores (sin generar posturas incómodas) durante el levantamiento/descenso y/o transporte.","NA","0",null,null,null,"Resultado:"]
[null,null,"Característica de la Carga","El tamaño de la carga permite la visibilidad y movimientos normales del trabajador.","NA","0",null,null,{"$f":"F31","v":0},{"$f":"IF(F31>=1,\"No es Aceptable\",\"Aceptable\")","v":"Aceptable"}]
[null,null,null,"El centro de gravedad de la carga es estable.","NA","0",null,null,null,"Por lo que usted:"]
[null,null,null,"La carga permite su agarre sin riesgo de cortes, compresión o quemaduras.","NA","0",null,null,null,{"$f":"IF(J7=\"Aceptable\",\"Ha Terminado el Proceso de Identificación para esta Tarea\",\"Debe Aplicar Tabla 4\")","v":"Ha Terminado el Proceso de Identificación para esta Tarea"},{"$f":"F31","v":0}]
[null,null,"Horas de Trabajo\n","La tarea de levantamiento/descenso o transporte de carga dura menos de 8 hrs.","NA","0"]
[null,null,"3 a 5 Kgs","Se observa ausencia de asimetría (Ej: cuerpo rotado,torsión y/o inclinación de tronco).","NA","0",null,null,null,{"$f":"IF(J9=\"Ha Terminado el Proceso de Identificación para esta Tarea\",\"Si terminó de responder toda la Tabla 3 Presione Aquí para  regresar a Tabla 1 Información General del Puesto de Trabajo donde podrá continuar con la siguiente Tarea\",\"\")","v":"Si terminó de responder toda la Tabla 3 Presione Aquí para  regresar a Tabla 1 Información General del Puesto de Trabajo donde podrá continuar con la siguiente Tarea"},{"$f":"F31","v":0}]
[null,null,null,"La carga es mantenida cerca del cuerpo.","NA","0",null,null,null,null,{"$f":"F31","v":0}]
[null,null,null,"El desplazamiento vertical de la carga se realiza entrelas caderas y los hombros.","NA","0"]
[null,null,null,"Frecuencia máxima de MMC: el levantamiento/descenso es menor a 5 veces por minuto","NA","0",null,null,null,null,{"$f":"F31","v":0}]
[null,null,"5,1 a 10 Kgs","Se observa ausencia de asimetría (Ej: cuerpo rotado,torsión y/o inclinación de tronco).","NA","0"]
[null,null,null,"La carga es mantenida cerca del cuerpo.","NA","0"]
[null,null,null,"El desplazamiento vertical de la carga se realiza entre las caderas y los hombros.","NA","0",null,null,null,null,{"$f":"F31","v":0}]
[null,null,null,"Frecuencia máxima de MMC: el levantamiento/descenso es menor a 1 veces por minuto.","NA","0"]
[null,null,"+ de 10 Kgs","Ausencia de cargas mayores a 10 Kgs.","NA","0"]
[null,null,null,null,null,{"$f":"F4+F5+F6+F7+F8+F9+F10+F11+F12+F13+F14+F15+F16+F17+F18+F19","v":0},null,null,null,null,{"$f":"F31","v":0}]
[null,null,null,"Transporte Manual de Carga"]
[]
[null,null,null,null,null,null,null,null,null,null,{"$f":"F31","v":0}]
[]
[null,null,null,null,"Si / No / NA"]
[null,null,null,null,"NA",{"$f":"IF(E26=\"SI\",\"0\",IF(E26=\"NA\",\"0\",\"1\"))","v":"0"}]
[null,null,null,null,"NA",{"$f":"IF(E27=\"SI\",\"0\",IF(E27=\"NA\",\"0\",\"1\"))","v":"0"},null,null,null,null,{"$f":"F31","v":0}]
[null,null,null,null,"NA","0"]
[null,null,null,"Ausencia de posturas inadecuadas durante el transporte de carga.","NA","0"]
[null,null,null,null,null,{"$f":"F26+F27+F28+F29","v":0},null,null,null,null,{"$f":"F31","v":0}]
[null,null,null,null,null,{"$f":"(F20+F30)","v":0}]
[]
[]
[null,null,null,null,null,null,null,null,null,"Presione solo si al completar Tabla 3  se lo indica el Cuadro de Resultado",{"$f":"F31","v":0}]

{"sheet":"TABLA 3T5P7","index":99,"n_rows":34,"n_cols":11,"rows_kept":34,"cut":false,"hidden":false,"merged":[]}
[]
[null,null,null,"LEVANTAMIENTO, DESCENSO Y TRANSPORTE DE CARGA - IDENTIFICACIÓN AVANZADA  CONDICIÓN ACEPTABLE  \n",null,null,null,null,null,"Cuadro de Resultado Tabla 3"]
[null,null,"Condición","Levantamiento/descenso y transporte manual de carga","Si / No / NA"]
[null,null,"Ambiente de Trabajo","La temperatura en donde se realiza la tarea es entre los 18° y 26° (grados Celsius).","NA",{"$f":"IF(E4=\"SI\",\"0\",IF(E4=\"NA\",\"0\",\"1\"))","v":"0"},null,null,null,"La Tarea:"]
[null,null,null,"El piso se encuentra en buenas condiciones (regular, seco y estable).","NA",{"$f":"IF(E5=\"SI\",\"0\",IF(E5=\"NA\",\"0\",\"1\"))","v":"0"},null,null,{"$f":"'TABLA 1 P7'!B14","v":"N°5"},{"$f":"'TABLA 1 P7'!C14","v":"NA"}]
[null,null,null,"El espacio de trabajo permite el normal movimiento de los trabajadores (sin generar posturas incómodas) durante el levantamiento/descenso y/o transporte.","NA","0",null,null,null,"Resultado:"]
[null,null,"Característica de la Carga","El tamaño de la carga permite la visibilidad y movimientos normales del trabajador.","NA","0",null,null,{"$f":"F31","v":0},{"$f":"IF(F31>=1,\"No es Aceptable\",\"Aceptable\")","v":"Aceptable"}]
[null,null,null,"El centro de gravedad de la carga es estable.","NA","0",null,null,null,"Por lo que usted:"]
[null,null,null,"La carga permite su agarre sin riesgo de cortes, compresión o quemaduras.","NA","0",null,null,null,{"$f":"IF(J7=\"Aceptable\",\"Ha Terminado el Proceso de Identificación para esta Tarea\",\"Debe Aplicar Tabla 4\")","v":"Ha Terminado el Proceso de Identificación para esta Tarea"},{"$f":"F31","v":0}]
[null,null,"Horas de Trabajo\n","La tarea de levantamiento/descenso o transporte de carga dura menos de 8 hrs.","NA","0"]
[null,null,"3 a 5 Kgs","Se observa ausencia de asimetría (Ej: cuerpo rotado,torsión y/o inclinación de tronco).","NA","0",null,null,null,{"$f":"IF(J9=\"Ha Terminado el Proceso de Identificación para esta Tarea\",\"Si terminó de responder toda la Tabla 3 Presione Aquí para  regresar a Tabla 1 Información General del Puesto de Trabajo donde podrá continuar con la siguiente Tarea\",\"\")","v":"Si terminó de responder toda la Tabla 3 Presione Aquí para  regresar a Tabla 1 Información General del Puesto de Trabajo donde podrá continuar con la siguiente Tarea"},{"$f":"F31","v":0}]
[null,null,null,"La carga es mantenida cerca del cuerpo.","NA","0",null,null,null,null,{"$f":"F31","v":0}]
[null,null,null,"El desplazamiento vertical de la carga se realiza entrelas caderas y los hombros.","NA","0"]
[null,null,null,"Frecuencia máxima de MMC: el levantamiento/descenso es menor a 5 veces por minuto","NA","0",null,null,null,null,{"$f":"F31","v":0}]
[null,null,"5,1 a 10 Kgs","Se observa ausencia de asimetría (Ej: cuerpo rotado,torsión y/o inclinación de tronco).","NA","0"]
[null,null,null,"La carga es mantenida cerca del cuerpo.","NA","0"]
[null,null,null,"El desplazamiento vertical de la carga se realiza entre las caderas y los hombros.","NA","0",null,null,null,null,{"$f":"F31","v":0}]
[null,null,null,"Frecuencia máxima de MMC: el levantamiento/descenso es menor a 1 veces por minuto.","NA","0"]
[null,null,"+ de 10 Kgs","Ausencia de cargas mayores a 10 Kgs.","NA","0"]
[null,null,null,null,null,{"$f":"F4+F5+F6+F7+F8+F9+F10+F11+F12+F13+F14+F15+F16+F17+F18+F19","v":0},null,null,null,null,{"$f":"F31","v":0}]
[null,null,null,"Transporte Manual de Carga"]
[]
[null,null,null,null,null,null,null,null,null,null,{"$f":"F31","v":0}]
[]
[null,null,null,null,"Si / No / NA"]
[null,null,null,null,"NA",{"$f":"IF(E26=\"SI\",\"0\",IF(E26=\"NA\",\"0\",\"1\"))","v":"0"}]
[null,null,null,null,"NA",{"$f":"IF(E27=\"SI\",\"0\",IF(E27=\"NA\",\"0\",\"1\"))","v":"0"},null,null,null,null,{"$f":"F31","v":0}]
[null,null,null,null,"NA","0"]
[null,null,null,"Ausencia de posturas inadecuadas durante el transporte de carga.","NA","0"]
[null,null,null,null,null,{"$f":"F26+F27+F28+F29","v":0},null,null,null,null,{"$f":"F31","v":0}]
[null,null,null,null,null,{"$f":"(F20+F30)","v":0}]
[]
[]
[null,null,null,null,null,null,null,null,null,"Presione solo si al completar Tabla 3  se lo indica el Cuadro de Resultado",{"$f":"F31","v":0}]

{"sheet":"TABLA 3T5P8","index":100,"n_rows":34,"n_cols":11,"rows_kept":34,"cut":false,"hidden":false,"merged":[]}
[]
[null,null,null,"LEVANTAMIENTO, DESCENSO Y TRANSPORTE DE CARGA - IDENTIFICACIÓN AVANZADA  CONDICIÓN ACEPTABLE  \n",null,null,null,null,null,"Cuadro de Resultado Tabla 3"]
[null,null,"Condición","Levantamiento/descenso y transporte manual de carga","Si / No / NA"]
[null,null,"Ambiente de Trabajo","La temperatura en donde se realiza la tarea es entre los 18° y 26° (grados Celsius).","NA",{"$f":"IF(E4=\"SI\",\"0\",IF(E4=\"NA\",\"0\",\"1\"))","v":"0"},null,null,null,"La Tarea:"]
[null,null,null,"El piso se encuentra en buenas condiciones (regular, seco y estable).","NA",{"$f":"IF(E5=\"SI\",\"0\",IF(E5=\"NA\",\"0\",\"1\"))","v":"0"},null,null,{"$f":"'TABLA 1 P8'!B14","v":"N°5"},{"$f":"'TABLA 1 P8'!C14","v":"NA"}]
[null,null,null,"El espacio de trabajo permite el normal movimiento de los trabajadores (sin generar posturas incómodas) durante el levantamiento/descenso y/o transporte.","NA","0",null,null,null,"Resultado:"]
[null,null,"Característica de la Carga","El tamaño de la carga permite la visibilidad y movimientos normales del trabajador.","NA","0",null,null,{"$f":"F31","v":0},{"$f":"IF(F31>=1,\"No es Aceptable\",\"Aceptable\")","v":"Aceptable"}]
[null,null,null,"El centro de gravedad de la carga es estable.","NA","0",null,null,null,"Por lo que usted:"]
[null,null,null,"La carga permite su agarre sin riesgo de cortes, compresión o quemaduras.","NA","0",null,null,null,{"$f":"IF(J7=\"Aceptable\",\"Ha Terminado el Proceso de Identificación para esta Tarea\",\"Debe Aplicar Tabla 4\")","v":"Ha Terminado el Proceso de Identificación para esta Tarea"},{"$f":"F31","v":0}]
[null,null,"Horas de Trabajo\n","La tarea de levantamiento/descenso o transporte de carga dura menos de 8 hrs.","NA","0"]
[null,null,"3 a 5 Kgs","Se observa ausencia de asimetría (Ej: cuerpo rotado,torsión y/o inclinación de tronco).","NA","0",null,null,null,{"$f":"IF(J9=\"Ha Terminado el Proceso de Identificación para esta Tarea\",\"Si terminó de responder toda la Tabla 3 Presione Aquí para  regresar a Tabla 1 Información General del Puesto de Trabajo donde podrá continuar con la siguiente Tarea\",\"\")","v":"Si terminó de responder toda la Tabla 3 Presione Aquí para  regresar a Tabla 1 Información General del Puesto de Trabajo donde podrá continuar con la siguiente Tarea"},{"$f":"F31","v":0}]
[null,null,null,"La carga es mantenida cerca del cuerpo.","NA","0",null,null,null,null,{"$f":"F31","v":0}]
[null,null,null,"El desplazamiento vertical de la carga se realiza entrelas caderas y los hombros.","NA","0"]
[null,null,null,"Frecuencia máxima de MMC: el levantamiento/descenso es menor a 5 veces por minuto","NA","0",null,null,null,null,{"$f":"F31","v":0}]
[null,null,"5,1 a 10 Kgs","Se observa ausencia de asimetría (Ej: cuerpo rotado,torsión y/o inclinación de tronco).","NA","0"]
[null,null,null,"La carga es mantenida cerca del cuerpo.","NA","0"]
[null,null,null,"El desplazamiento vertical de la carga se realiza entre las caderas y los hombros.","NA","0",null,null,null,null,{"$f":"F31","v":0}]
[null,null,null,"Frecuencia máxima de MMC: el levantamiento/descenso es menor a 1 veces por minuto.","NA","0"]
[null,null,"+ de 10 Kgs","Ausencia de cargas mayores a 10 Kgs.","NA","0"]
[null,null,null,null,null,{"$f":"F4+F5+F6+F7+F8+F9+F10+F11+F12+F13+F14+F15+F16+F17+F18+F19","v":0},null,null,null,null,{"$f":"F31","v":0}]
[null,null,null,"Transporte Manual de Carga"]
[]
[null,null,null,null,null,null,null,null,null,null,{"$f":"F31","v":0}]
[]
[null,null,null,null,"Si / No / NA"]
[null,null,null,null,"NA",{"$f":"IF(E26=\"SI\",\"0\",IF(E26=\"NA\",\"0\",\"1\"))","v":"0"}]
[null,null,null,null,"NA",{"$f":"IF(E27=\"SI\",\"0\",IF(E27=\"NA\",\"0\",\"1\"))","v":"0"},null,null,null,null,{"$f":"F31","v":0}]
[null,null,null,null,"NA","0"]
[null,null,null,"Ausencia de posturas inadecuadas durante el transporte de carga.","NA","0"]
[null,null,null,null,null,{"$f":"F26+F27+F28+F29","v":0},null,null,null,null,{"$f":"F31","v":0}]
[null,null,null,null,null,{"$f":"(F20+F30)","v":0}]
[]
[]
[null,null,null,null,null,null,null,null,null,"Presione solo si al completar Tabla 3  se lo indica el Cuadro de Resultado",{"$f":"F31","v":0}]

{"sheet":"TABLA 3T5P9","index":101,"n_rows":34,"n_cols":11,"rows_kept":34,"cut":false,"hidden":false,"merged":[]}
[]
[null,null,null,"LEVANTAMIENTO, DESCENSO Y TRANSPORTE DE CARGA - IDENTIFICACIÓN AVANZADA  CONDICIÓN ACEPTABLE  \n",null,null,null,null,null,"Cuadro de Resultado Tabla 3"]
[null,null,"Condición","Levantamiento/descenso y transporte manual de carga","Si / No / NA"]
[null,null,"Ambiente de Trabajo","La temperatura en donde se realiza la tarea es entre los 18° y 26° (grados Celsius).","NA",{"$f":"IF(E4=\"SI\",\"0\",IF(E4=\"NA\",\"0\",\"1\"))","v":"0"},null,null,null,"La Tarea:"]
[null,null,null,"El piso se encuentra en buenas condiciones (regular, seco y estable).","NA",{"$f":"IF(E5=\"SI\",\"0\",IF(E5=\"NA\",\"0\",\"1\"))","v":"0"},null,null,{"$f":"'TABLA 1 P9'!B14","v":"N°5"},{"$f":"'TABLA 1 P9'!C14","v":"NA"}]
[null,null,null,"El espacio de trabajo permite el normal movimiento de los trabajadores (sin generar posturas incómodas) durante el levantamiento/descenso y/o transporte.","NA","0",null,null,null,"Resultado:"]
[null,null,"Característica de la Carga","El tamaño de la carga permite la visibilidad y movimientos normales del trabajador.","NA","0",null,null,{"$f":"F31","v":0},{"$f":"IF(F31>=1,\"No es Aceptable\",\"Aceptable\")","v":"Aceptable"}]
[null,null,null,"El centro de gravedad de la carga es estable.","NA","0",null,null,null,"Por lo que usted:"]
[null,null,null,"La carga permite su agarre sin riesgo de cortes, compresión o quemaduras.","NA","0",null,null,null,{"$f":"IF(J7=\"Aceptable\",\"Ha Terminado el Proceso de Identificación para esta Tarea\",\"Debe Aplicar Tabla 4\")","v":"Ha Terminado el Proceso de Identificación para esta Tarea"},{"$f":"F31","v":0}]
[null,null,"Horas de Trabajo\n","La tarea de levantamiento/descenso o transporte de carga dura menos de 8 hrs.","NA","0"]
[null,null,"3 a 5 Kgs","Se observa ausencia de asimetría (Ej: cuerpo rotado,torsión y/o inclinación de tronco).","NA","0",null,null,null,{"$f":"IF(J9=\"Ha Terminado el Proceso de Identificación para esta Tarea\",\"Si terminó de responder toda la Tabla 3 Presione Aquí para  regresar a Tabla 1 Información General del Puesto de Trabajo donde podrá continuar con la siguiente Tarea\",\"\")","v":"Si terminó de responder toda la Tabla 3 Presione Aquí para  regresar a Tabla 1 Información General del Puesto de Trabajo donde podrá continuar con la siguiente Tarea"},{"$f":"F31","v":0}]
[null,null,null,"La carga es mantenida cerca del cuerpo.","NA","0",null,null,null,null,{"$f":"F31","v":0}]
[null,null,null,"El desplazamiento vertical de la carga se realiza entrelas caderas y los hombros.","NA","0"]
[null,null,null,"Frecuencia máxima de MMC: el levantamiento/descenso es menor a 5 veces por minuto","NA","0",null,null,null,null,{"$f":"F31","v":0}]
[null,null,"5,1 a 10 Kgs","Se observa ausencia de asimetría (Ej: cuerpo rotado,torsión y/o inclinación de tronco).","NA","0"]
[null,null,null,"La carga es mantenida cerca del cuerpo.","NA","0"]
[null,null,null,"El desplazamiento vertical de la carga se realiza entre las caderas y los hombros.","NA","0",null,null,null,null,{"$f":"F31","v":0}]
[null,null,null,"Frecuencia máxima de MMC: el levantamiento/descenso es menor a 1 veces por minuto.","NA","0"]
[null,null,"+ de 10 Kgs","Ausencia de cargas mayores a 10 Kgs.","NA","0"]
[null,null,null,null,null,{"$f":"F4+F5+F6+F7+F8+F9+F10+F11+F12+F13+F14+F15+F16+F17+F18+F19","v":0},null,null,null,null,{"$f":"F31","v":0}]
[null,null,null,"Transporte Manual de Carga"]
[]
[null,null,null,null,null,null,null,null,null,null,{"$f":"F31","v":0}]
[]
[null,null,null,null,"Si / No / NA"]
[null,null,null,null,"NA",{"$f":"IF(E26=\"SI\",\"0\",IF(E26=\"NA\",\"0\",\"1\"))","v":"0"}]
[null,null,null,null,"NA",{"$f":"IF(E27=\"SI\",\"0\",IF(E27=\"NA\",\"0\",\"1\"))","v":"0"},null,null,null,null,{"$f":"F31","v":0}]
[null,null,null,null,"NA","0"]
[null,null,null,"Ausencia de posturas inadecuadas durante el transporte de carga.","NA","0"]
[null,null,null,null,null,{"$f":"F26+F27+F28+F29","v":0},null,null,null,null,{"$f":"F31","v":0}]
[null,null,null,null,null,{"$f":"(F20+F30)","v":0}]
[]
[]
[null,null,null,null,null,null,null,null,null,"Presione solo si al completar Tabla 3  se lo indica el Cuadro de Resultado",{"$f":"F31","v":0}]

{"sheet":"TABLA 3T5P10","index":102,"n_rows":34,"n_cols":11,"rows_kept":34,"cut":false,"hidden":false,"merged":[]}
[]
[null,null,null,"LEVANTAMIENTO, DESCENSO Y TRANSPORTE DE CARGA - IDENTIFICACIÓN AVANZADA  CONDICIÓN ACEPTABLE  \n",null,null,null,null,null,"Cuadro de Resultado Tabla 3"]
[null,null,"Condición","Levantamiento/descenso y transporte manual de carga","Si / No / NA"]
[null,null,"Ambiente de Trabajo","La temperatura en donde se realiza la tarea es entre los 18° y 26° (grados Celsius).","NA",{"$f":"IF(E4=\"SI\",\"0\",IF(E4=\"NA\",\"0\",\"1\"))","v":"0"},null,null,null,"La Tarea:"]
[null,null,null,"El piso se encuentra en buenas condiciones (regular, seco y estable).","NA",{"$f":"IF(E5=\"SI\",\"0\",IF(E5=\"NA\",\"0\",\"1\"))","v":"0"},null,null,{"$f":"'TABLA 1 P10'!B14","v":"N°5"},{"$f":"'TABLA 1 P10'!C14","v":"NA"}]
[null,null,null,"El espacio de trabajo permite el normal movimiento de los trabajadores (sin generar posturas incómodas) durante el levantamiento/descenso y/o transporte.","NA","0",null,null,null,"Resultado:"]
[null,null,"Característica de la Carga","El tamaño de la carga permite la visibilidad y movimientos normales del trabajador.","NA","0",null,null,{"$f":"F31","v":0},{"$f":"IF(F31>=1,\"No es Aceptable\",\"Aceptable\")","v":"Aceptable"}]
[null,null,null,"El centro de gravedad de la carga es estable.","NA","0",null,null,null,"Por lo que usted:"]
[null,null,null,"La carga permite su agarre sin riesgo de cortes, compresión o quemaduras.","NA","0",null,null,null,{"$f":"IF(J7=\"Aceptable\",\"Ha Terminado el Proceso de Identificación para esta Tarea\",\"Debe Aplicar Tabla 4\")","v":"Ha Terminado el Proceso de Identificación para esta Tarea"},{"$f":"F31","v":0}]
[null,null,"Horas de Trabajo\n","La tarea de levantamiento/descenso o transporte de carga dura menos de 8 hrs.","NA","0"]
[null,null,"3 a 5 Kgs","Se observa ausencia de asimetría (Ej: cuerpo rotado,torsión y/o inclinación de tronco).","NA","0",null,null,null,{"$f":"IF(J9=\"Ha Terminado el Proceso de Identificación para esta Tarea\",\"Si terminó de responder toda la Tabla 3 Presione Aquí para  regresar a Tabla 1 Información General del Puesto de Trabajo donde podrá continuar con la siguiente Tarea\",\"\")","v":"Si terminó de responder toda la Tabla 3 Presione Aquí para  regresar a Tabla 1 Información General del Puesto de Trabajo donde podrá continuar con la siguiente Tarea"},{"$f":"F31","v":0}]
[null,null,null,"La carga es mantenida cerca del cuerpo.","NA","0",null,null,null,null,{"$f":"F31","v":0}]
[null,null,null,"El desplazamiento vertical de la carga se realiza entrelas caderas y los hombros.","NA","0"]
[null,null,null,"Frecuencia máxima de MMC: el levantamiento/descenso es menor a 5 veces por minuto","NA","0",null,null,null,null,{"$f":"F31","v":0}]
[null,null,"5,1 a 10 Kgs","Se observa ausencia de asimetría (Ej: cuerpo rotado,torsión y/o inclinación de tronco).","NA","0"]
[null,null,null,"La carga es mantenida cerca del cuerpo.","NA","0"]
[null,null,null,"El desplazamiento vertical de la carga se realiza entre las caderas y los hombros.","NA","0",null,null,null,null,{"$f":"F31","v":0}]
[null,null,null,"Frecuencia máxima de MMC: el levantamiento/descenso es menor a 1 veces por minuto.","NA","0"]
[null,null,"+ de 10 Kgs","Ausencia de cargas mayores a 10 Kgs.","NA","0"]
[null,null,null,null,null,{"$f":"F4+F5+F6+F7+F8+F9+F10+F11+F12+F13+F14+F15+F16+F17+F18+F19","v":0},null,null,null,null,{"$f":"F31","v":0}]
[null,null,null,"Transporte Manual de Carga"]
[]
[null,null,null,null,null,null,null,null,null,null,{"$f":"F31","v":0}]
[]
[null,null,null,null,"Si / No / NA"]
[null,null,null,null,"NA",{"$f":"IF(E26=\"SI\",\"0\",IF(E26=\"NA\",\"0\",\"1\"))","v":"0"}]
[null,null,null,null,"NA",{"$f":"IF(E27=\"SI\",\"0\",IF(E27=\"NA\",\"0\",\"1\"))","v":"0"},null,null,null,null,{"$f":"F31","v":0}]
[null,null,null,null,"NA","0"]
[null,null,null,"Ausencia de posturas inadecuadas durante el transporte de carga.","NA","0"]
[null,null,null,null,null,{"$f":"F26+F27+F28+F29","v":0},null,null,null,null,{"$f":"F31","v":0}]
[null,null,null,null,null,{"$f":"(F20+F30)","v":0}]
[]
[]
[null,null,null,null,null,null,null,null,null,"Presione solo si al completar Tabla 3  se lo indica el Cuadro de Resultado",{"$f":"F31","v":0}]

{"sheet":"TABLA 4T5P1","index":103,"n_rows":31,"n_cols":10,"rows_kept":31,"cut":false,"hidden":false,"merged":[]}
[]
[null,null,null,"LEVANTAMIENTO, DESCENSO Y TRANSPORTE DE CARGA - IDENTIFICACIÓN AVANZADA CONDICIÓN CRÍTICA  ",null,null,null,null,null,"Cuadro de Resultado Tabla 4"]
[null,null,"Condición","Levantamiento/descenso y transporte manual de carga","Si / No / NA"]
[null,null,"Ambiente de Trabajo","Presencia de temperatura extrema (bajo 16° o superior a los 26° grados Celsius) y sin ropa que proteja de las temperaturas extremas.","NA",{"$f":"IF(E4=\"No\",\"0\",IF(E4=\"NA\",\"0\",\"1\"))","v":"0"},null,null,null,"La Tarea:"]
[null,null,null,"Presencia de suelo resbaladizo, irregular o inestable.","NA",{"$f":"IF(E5=\"No\",\"0\",IF(E5=\"NA\",\"0\",\"1\"))","v":"0"},null,null,{"$f":"'TABLA 1 P1'!B14","v":"N°5"},{"$f":"'TABLA 1 P1'!C14","v":"NA"}]
[null,null,null,"Presencia de espacio insuficiente para el levantamiento/descenso y transporte de carga que genera posturas incomodas o restricción en el movimiento.","NA","0",null,null,null,"Resultado:"]
[null,null,"Característica de la Carga","El tamaño de la carga reduce la visión del trabajador y/o dificulta su movimiento.","NA","0",null,null,{"$f":"F31","v":0},{"$f":"IF(F31>=1,\"Crítica\",\"No Crítica\")","v":"No Crítica"}]
[null,null,null,"El centro de gravedad de la carga no es estable (ej.: líquidos, elementos que se mueven dentro de la carga).","NA","0",null,null,null,"Por lo que usted:"]
[null,null,null,"La forma/configuración de la carga presenta bordes,\nsuperficies o protuberancias afiladas.","NA","0",null,null,null,{"$f":"IF(J7=\"No Crítica\",\"Ha terminado el Proceso de Identificación para esta Tarea y deberá iniciar el proceso de Evaluación Cuantitativa del riesgo\",\"Ha terminado el Proceso de Identificación para esta Tarea y deberá aplicar medidas para reducir el riesgo\")","v":"Ha terminado el Proceso de Identificación para esta Tarea y deberá iniciar el proceso de Evaluación Cuantitativa del riesgo"}]
[null,null,null,"Las superficies de contacto son demasiado frías o demasiado calientes.","NA","0"]
[null,null,"Horas de Trabajo","La tarea de levantamiento/descenso o transporte de\ncarga dura más de 8 hrs.","NA","0"]
[null,null,null,"Condición crítica: presencia de tarea de Levantamiento/descenso y transporte de carga con condiciones de diseño y frecuencia que exceden los valores máximos sugeridos ",null,{"$f":"F4+F5+F6+F7+F8+F9+F10+F11","v":0},null,null,null,"Si terminó de responder toda la Tabla 4 Presione Aquí para  regresar a Tabla 1 Información General del Puesto de Trabajo donde podrá continuar con la siguiente Tarea"]
[null,null,null,null,"Si / No / NA"]
[null,null,"Posición Vertical","La ubicación de las manos al inicio o final del levantamiento/descenso\nde una carga es superior a 155 cm o inferior a 20 cm°.","NA",{"$f":"IF(E14=\"No\",\"0\",IF(E14=\"NA\",\"0\",\"1\"))","v":"0"}]
[null,null,"Desplazamiento Vertical","La distancia vertical entre el origen y el destino del objeto manipulado\nes mayor a 135 cm°.","NA",{"$f":"IF(E15=\"No\",\"0\",IF(E15=\"NA\",\"0\",\"1\"))","v":"0"}]
[null,null,"Posición Horizontal","La distancia horizontal entre el cuerpo y las manos (nudillos) es superior a 55 cm correspondiente a la zona de alcance máximo de brazos","NA","0"]
[null,null,"Asimetría","Rotación o inclinación extrema del tronco sin movimientos de los pies","NA","0"]
[null,null,"Frecuencia","Corta duración: más de 15 levantamientos/descensos por minuto, en\nuna tarea que no supere los 60 minutos seguidos en el turno de trabajo\ny seguida de al menos 60 minutos de descanso o tarea liviana (que no\nimplique MMC).","NA","0"]
[null,null,null,"Media duración: más de 12 levantamientos/descensos por minuto,\nen una tarea que no supere los 120 minutos seguidos en el turno de\ntrabajo y seguida de al menos 30 minutos de descanso o tarea liviana\n(que no implique MMC).","NA","0"]
[null,null,null,"Larga duración: más de 8 levantamientos/descensos por minuto, en\nuna tarea que supere los 120 minutos seguidos en el turno de trabajo.","NA","0"]
[null,null,null,"Condición crítica: presencia de tarea de Levantamiento/descenso y transporte con peso de la carga que exceda los siguientes límites ","Si / No / NA",{"$f":"F14+F15+F16+F17+F18+F19+F20","v":0}]
[null,null,"Hombres \n(18-45 años) + ","25 kgs","NA",{"$f":"IF(E22=\"No\",\"0\",IF(E22=\"NA\",\"0\",\"1\"))","v":"0"}]
[null,null,"Mujeres\n(18-45 años) + ","20 kgs","NA",{"$f":"IF(E23=\"No\",\"0\",IF(E23=\"NA\",\"0\",\"1\"))","v":"0"}]
[null,null,"Hombres \n(< 18-45 años o > 45 años) + ","20 kgs","NA","0"]
[null,null,"Mujeres \n(< 18-45 años o > 45 años) + ","15 kgs","NA","0"]
[null,null,"Mujer\nEmbarazada","3 kgs","NA","0"]
[null,null,null,"Condición crítica: presencia de tarea de Levantamiento/descenso y transporte con peso de la carga que exceda los siguientes límites ","Si / No / NA",{"$f":"F22+F23+F24+F25+F26","v":0}]
[null,null,"Distancia de transporte de 20 mts. o más","6.000 Kgs. en 8 hrs.","NA",{"$f":"IF(E28=\"No\",\"0\",IF(E28=\"NA\",\"0\",\"1\"))","v":"0"}]
[null,null,"Distancia de transporte menos a 20 mts.","10.000 Kgs. en 8 hrs.","NA",{"$f":"IF(E29=\"No\",\"0\",IF(E29=\"NA\",\"0\",\"1\"))","v":"0"}]
[null,null,null,null,null,{"$f":"F28+F29","v":0}]
[null,null,null,null,null,{"$f":"F12+F21+F27+F30","v":0}]

{"sheet":"TABLA 4T5P2","index":104,"n_rows":31,"n_cols":10,"rows_kept":31,"cut":false,"hidden":false,"merged":[]}
[]
[null,null,null,"LEVANTAMIENTO, DESCENSO Y TRANSPORTE DE CARGA - IDENTIFICACIÓN AVANZADA CONDICIÓN CRÍTICA  ",null,null,null,null,null,"Cuadro de Resultado Tabla 4"]
[null,null,"Condición","Levantamiento/descenso y transporte manual de carga","Si / No / NA"]
[null,null,"Ambiente de Trabajo","Presencia de temperatura extrema (bajo 16° o superior a los 26° grados Celsius) y sin ropa que proteja de las temperaturas extremas.","NA",{"$f":"IF(E4=\"No\",\"0\",IF(E4=\"NA\",\"0\",\"1\"))","v":"0"},null,null,null,"La Tarea:"]
[null,null,null,"Presencia de suelo resbaladizo, irregular o inestable.","NA",{"$f":"IF(E5=\"No\",\"0\",IF(E5=\"NA\",\"0\",\"1\"))","v":"0"},null,null,{"$f":"'TABLA 1 P2'!B14","v":"N°5"},{"$f":"'TABLA 1 P2'!C14","v":"NA"}]
[null,null,null,"Presencia de espacio insuficiente para el levantamiento/descenso y transporte de carga que genera posturas incomodas o restricción en el movimiento.","NA","0",null,null,null,"Resultado:"]
[null,null,"Característica de la Carga","El tamaño de la carga reduce la visión del trabajador y/o dificulta su movimiento.","NA","0",null,null,{"$f":"F31","v":0},{"$f":"IF(F31>=1,\"Crítica\",\"No Crítica\")","v":"No Crítica"}]
[null,null,null,"El centro de gravedad de la carga no es estable (ej.: líquidos, elementos que se mueven dentro de la carga).","NA","0",null,null,null,"Por lo que usted:"]
[null,null,null,"La forma/configuración de la carga presenta bordes,\nsuperficies o protuberancias afiladas.","NA","0",null,null,null,{"$f":"IF(J7=\"No Crítica\",\"Ha terminado el Proceso de Identificación para esta Tarea y deberá iniciar el proceso de Evaluación Cuantitativa del riesgo\",\"Ha terminado el Proceso de Identificación para esta Tarea y deberá aplicar medidas para reducir el riesgo\")","v":"Ha terminado el Proceso de Identificación para esta Tarea y deberá iniciar el proceso de Evaluación Cuantitativa del riesgo"}]
[null,null,null,"Las superficies de contacto son demasiado frías o demasiado calientes.","NA","0"]
[null,null,"Horas de Trabajo","La tarea de levantamiento/descenso o transporte de\ncarga dura más de 8 hrs.","NA","0"]
[null,null,null,"Condición crítica: presencia de tarea de Levantamiento/descenso y transporte de carga con condiciones de diseño y frecuencia que exceden los valores máximos sugeridos ",null,{"$f":"F4+F5+F6+F7+F8+F9+F10+F11","v":0},null,null,null,"Si terminó de responder toda la Tabla 4 Presione Aquí para  regresar a Tabla 1 Información General del Puesto de Trabajo donde podrá continuar con la siguiente Tarea"]
[null,null,null,null,"Si / No / NA"]
[null,null,"Posición Vertical","La ubicación de las manos al inicio o final del levantamiento/descenso\nde una carga es superior a 155 cm o inferior a 20 cm°.","NA",{"$f":"IF(E14=\"No\",\"0\",IF(E14=\"NA\",\"0\",\"1\"))","v":"0"}]
[null,null,"Desplazamiento Vertical","La distancia vertical entre el origen y el destino del objeto manipulado\nes mayor a 135 cm°.","NA",{"$f":"IF(E15=\"No\",\"0\",IF(E15=\"NA\",\"0\",\"1\"))","v":"0"}]
[null,null,"Posición Horizontal","La distancia horizontal entre el cuerpo y las manos (nudillos) es superior a 55 cm correspondiente a la zona de alcance máximo de brazos","NA","0"]
[null,null,"Asimetría","Rotación o inclinación extrema del tronco sin movimientos de los pies","NA","0"]
[null,null,"Frecuencia","Corta duración: más de 15 levantamientos/descensos por minuto, en\nuna tarea que no supere los 60 minutos seguidos en el turno de trabajo\ny seguida de al menos 60 minutos de descanso o tarea liviana (que no\nimplique MMC).","NA","0"]
[null,null,null,"Media duración: más de 12 levantamientos/descensos por minuto,\nen una tarea que no supere los 120 minutos seguidos en el turno de\ntrabajo y seguida de al menos 30 minutos de descanso o tarea liviana\n(que no implique MMC).","NA","0"]
[null,null,null,"Larga duración: más de 8 levantamientos/descensos por minuto, en\nuna tarea que supere los 120 minutos seguidos en el turno de trabajo.","NA","0"]
[null,null,null,"Condición crítica: presencia de tarea de Levantamiento/descenso y transporte con peso de la carga que exceda los siguientes límites ","Si / No / NA",{"$f":"F14+F15+F16+F17+F18+F19+F20","v":0}]
[null,null,"Hombres \n(18-45 años) + ","25 kgs","NA",{"$f":"IF(E22=\"No\",\"0\",IF(E22=\"NA\",\"0\",\"1\"))","v":"0"}]
[null,null,"Mujeres\n(18-45 años) + ","20 kgs","NA",{"$f":"IF(E23=\"No\",\"0\",IF(E23=\"NA\",\"0\",\"1\"))","v":"0"}]
[null,null,"Hombres \n(< 18-45 años o > 45 años) + ","20 kgs","NA","0"]
[null,null,"Mujeres \n(< 18-45 años o > 45 años) + ","15 kgs","NA","0"]
[null,null,"Mujer\nEmbarazada","3 kgs","NA","0"]
[null,null,null,"Condición crítica: presencia de tarea de Levantamiento/descenso y transporte con peso de la carga que exceda los siguientes límites ","Si / No / NA",{"$f":"F22+F23+F24+F25+F26","v":0}]
[null,null,"Distancia de transporte de 20 mts. o más","6.000 Kgs. en 8 hrs.","NA",{"$f":"IF(E28=\"No\",\"0\",IF(E28=\"NA\",\"0\",\"1\"))","v":"0"}]
[null,null,"Distancia de transporte menos a 20 mts.","10.000 Kgs. en 8 hrs.","NA",{"$f":"IF(E29=\"No\",\"0\",IF(E29=\"NA\",\"0\",\"1\"))","v":"0"}]
[null,null,null,null,null,{"$f":"F28+F29","v":0}]
[null,null,null,null,null,{"$f":"F12+F21+F27+F30","v":0}]

{"sheet":"TABLA 4T5P3","index":105,"n_rows":31,"n_cols":10,"rows_kept":31,"cut":false,"hidden":false,"merged":[]}
[]
[null,null,null,"LEVANTAMIENTO, DESCENSO Y TRANSPORTE DE CARGA - IDENTIFICACIÓN AVANZADA CONDICIÓN CRÍTICA  ",null,null,null,null,null,"Cuadro de Resultado Tabla 4"]
[null,null,"Condición","Levantamiento/descenso y transporte manual de carga","Si / No / NA"]
[null,null,"Ambiente de Trabajo","Presencia de temperatura extrema (bajo 16° o superior a los 26° grados Celsius) y sin ropa que proteja de las temperaturas extremas.","NA",{"$f":"IF(E4=\"No\",\"0\",IF(E4=\"NA\",\"0\",\"1\"))","v":"0"},null,null,null,"La Tarea:"]
[null,null,null,"Presencia de suelo resbaladizo, irregular o inestable.","NA",{"$f":"IF(E5=\"No\",\"0\",IF(E5=\"NA\",\"0\",\"1\"))","v":"0"},null,null,{"$f":"'TABLA 1 P3'!B14","v":"N°5"},{"$f":"'TABLA 1 P3'!C14","v":"NA"}]
[null,null,null,"Presencia de espacio insuficiente para el levantamiento/descenso y transporte de carga que genera posturas incomodas o restricción en el movimiento.","NA","0",null,null,null,"Resultado:"]
[null,null,"Característica de la Carga","El tamaño de la carga reduce la visión del trabajador y/o dificulta su movimiento.","NA","0",null,null,{"$f":"F31","v":0},{"$f":"IF(F31>=1,\"Crítica\",\"No Crítica\")","v":"No Crítica"}]
[null,null,null,"El centro de gravedad de la carga no es estable (ej.: líquidos, elementos que se mueven dentro de la carga).","NA","0",null,null,null,"Por lo que usted:"]
[null,null,null,"La forma/configuración de la carga presenta bordes,\nsuperficies o protuberancias afiladas.","NA","0",null,null,null,{"$f":"IF(J7=\"No Crítica\",\"Ha terminado el Proceso de Identificación para esta Tarea y deberá iniciar el proceso de Evaluación Cuantitativa del riesgo\",\"Ha terminado el Proceso de Identificación para esta Tarea y deberá aplicar medidas para reducir el riesgo\")","v":"Ha terminado el Proceso de Identificación para esta Tarea y deberá iniciar el proceso de Evaluación Cuantitativa del riesgo"}]
[null,null,null,"Las superficies de contacto son demasiado frías o demasiado calientes.","NA","0"]
[null,null,"Horas de Trabajo","La tarea de levantamiento/descenso o transporte de\ncarga dura más de 8 hrs.","NA","0"]
[null,null,null,"Condición crítica: presencia de tarea de Levantamiento/descenso y transporte de carga con condiciones de diseño y frecuencia que exceden los valores máximos sugeridos ",null,{"$f":"F4+F5+F6+F7+F8+F9+F10+F11","v":0},null,null,null,"Si terminó de responder toda la Tabla 4 Presione Aquí para  regresar a Tabla 1 Información General del Puesto de Trabajo donde podrá continuar con la siguiente Tarea"]
[null,null,null,null,"Si / No / NA"]
[null,null,"Posición Vertical","La ubicación de las manos al inicio o final del levantamiento/descenso\nde una carga es superior a 155 cm o inferior a 20 cm°.","NA",{"$f":"IF(E14=\"No\",\"0\",IF(E14=\"NA\",\"0\",\"1\"))","v":"0"}]
[null,null,"Desplazamiento Vertical","La distancia vertical entre el origen y el destino del objeto manipulado\nes mayor a 135 cm°.","NA",{"$f":"IF(E15=\"No\",\"0\",IF(E15=\"NA\",\"0\",\"1\"))","v":"0"}]
[null,null,"Posición Horizontal","La distancia horizontal entre el cuerpo y las manos (nudillos) es superior a 55 cm correspondiente a la zona de alcance máximo de brazos","NA","0"]
[null,null,"Asimetría","Rotación o inclinación extrema del tronco sin movimientos de los pies","NA","0"]
[null,null,"Frecuencia","Corta duración: más de 15 levantamientos/descensos por minuto, en\nuna tarea que no supere los 60 minutos seguidos en el turno de trabajo\ny seguida de al menos 60 minutos de descanso o tarea liviana (que no\nimplique MMC).","NA","0"]
[null,null,null,"Media duración: más de 12 levantamientos/descensos por minuto,\nen una tarea que no supere los 120 minutos seguidos en el turno de\ntrabajo y seguida de al menos 30 minutos de descanso o tarea liviana\n(que no implique MMC).","NA","0"]
[null,null,null,"Larga duración: más de 8 levantamientos/descensos por minuto, en\nuna tarea que supere los 120 minutos seguidos en el turno de trabajo.","NA","0"]
[null,null,null,"Condición crítica: presencia de tarea de Levantamiento/descenso y transporte con peso de la carga que exceda los siguientes límites ","Si / No / NA",{"$f":"F14+F15+F16+F17+F18+F19+F20","v":0}]
[null,null,"Hombres \n(18-45 años) + ","25 kgs","NA",{"$f":"IF(E22=\"No\",\"0\",IF(E22=\"NA\",\"0\",\"1\"))","v":"0"}]
[null,null,"Mujeres\n(18-45 años) + ","20 kgs","NA",{"$f":"IF(E23=\"No\",\"0\",IF(E23=\"NA\",\"0\",\"1\"))","v":"0"}]
[null,null,"Hombres \n(< 18-45 años o > 45 años) + ","20 kgs","NA","0"]
[null,null,"Mujeres \n(< 18-45 años o > 45 años) + ","15 kgs","NA","0"]
[null,null,"Mujer\nEmbarazada","3 kgs","NA","0"]
[null,null,null,"Condición crítica: presencia de tarea de Levantamiento/descenso y transporte con peso de la carga que exceda los siguientes límites ","Si / No / NA",{"$f":"F22+F23+F24+F25+F26","v":0}]
[null,null,"Distancia de transporte de 20 mts. o más","6.000 Kgs. en 8 hrs.","NA",{"$f":"IF(E28=\"No\",\"0\",IF(E28=\"NA\",\"0\",\"1\"))","v":"0"}]
[null,null,"Distancia de transporte menos a 20 mts.","10.000 Kgs. en 8 hrs.","NA",{"$f":"IF(E29=\"No\",\"0\",IF(E29=\"NA\",\"0\",\"1\"))","v":"0"}]
[null,null,null,null,null,{"$f":"F28+F29","v":0}]
[null,null,null,null,null,{"$f":"F12+F21+F27+F30","v":0}]

{"sheet":"TABLA 4T5P4","index":106,"n_rows":31,"n_cols":10,"rows_kept":31,"cut":false,"hidden":false,"merged":[]}
[]
[null,null,null,"LEVANTAMIENTO, DESCENSO Y TRANSPORTE DE CARGA - IDENTIFICACIÓN AVANZADA CONDICIÓN CRÍTICA  ",null,null,null,null,null,"Cuadro de Resultado Tabla 4"]
[null,null,"Condición","Levantamiento/descenso y transporte manual de carga","Si / No / NA"]
[null,null,"Ambiente de Trabajo","Presencia de temperatura extrema (bajo 16° o superior a los 26° grados Celsius) y sin ropa que proteja de las temperaturas extremas.","NA",{"$f":"IF(E4=\"No\",\"0\",IF(E4=\"NA\",\"0\",\"1\"))","v":"0"},null,null,null,"La Tarea:"]
[null,null,null,"Presencia de suelo resbaladizo, irregular o inestable.","NA",{"$f":"IF(E5=\"No\",\"0\",IF(E5=\"NA\",\"0\",\"1\"))","v":"0"},null,null,{"$f":"'TABLA 1 P4'!B14","v":"N°5"},{"$f":"'TABLA 1 P4'!C14","v":"NA"}]
[null,null,null,"Presencia de espacio insuficiente para el levantamiento/descenso y transporte de carga que genera posturas incomodas o restricción en el movimiento.","NA","0",null,null,null,"Resultado:"]
[null,null,"Característica de la Carga","El tamaño de la carga reduce la visión del trabajador y/o dificulta su movimiento.","NA","0",null,null,{"$f":"F31","v":0},{"$f":"IF(F31>=1,\"Crítica\",\"No Crítica\")","v":"No Crítica"}]
[null,null,null,"El centro de gravedad de la carga no es estable (ej.: líquidos, elementos que se mueven dentro de la carga).","NA","0",null,null,null,"Por lo que usted:"]
[null,null,null,"La forma/configuración de la carga presenta bordes,\nsuperficies o protuberancias afiladas.","NA","0",null,null,null,{"$f":"IF(J7=\"No Crítica\",\"Ha terminado el Proceso de Identificación para esta Tarea y deberá iniciar el proceso de Evaluación Cuantitativa del riesgo\",\"Ha terminado el Proceso de Identificación para esta Tarea y deberá aplicar medidas para reducir el riesgo\")","v":"Ha terminado el Proceso de Identificación para esta Tarea y deberá iniciar el proceso de Evaluación Cuantitativa del riesgo"}]
[null,null,null,"Las superficies de contacto son demasiado frías o demasiado calientes.","NA","0"]
[null,null,"Horas de Trabajo","La tarea de levantamiento/descenso o transporte de\ncarga dura más de 8 hrs.","NA","0"]
[null,null,null,"Condición crítica: presencia de tarea de Levantamiento/descenso y transporte de carga con condiciones de diseño y frecuencia que exceden los valores máximos sugeridos ",null,{"$f":"F4+F5+F6+F7+F8+F9+F10+F11","v":0},null,null,null,"Si terminó de responder toda la Tabla 4 Presione Aquí para  regresar a Tabla 1 Información General del Puesto de Trabajo donde podrá continuar con la siguiente Tarea"]
[null,null,null,null,"Si / No / NA"]
[null,null,"Posición Vertical","La ubicación de las manos al inicio o final del levantamiento/descenso\nde una carga es superior a 155 cm o inferior a 20 cm°.","NA",{"$f":"IF(E14=\"No\",\"0\",IF(E14=\"NA\",\"0\",\"1\"))","v":"0"}]
[null,null,"Desplazamiento Vertical","La distancia vertical entre el origen y el destino del objeto manipulado\nes mayor a 135 cm°.","NA",{"$f":"IF(E15=\"No\",\"0\",IF(E15=\"NA\",\"0\",\"1\"))","v":"0"}]
[null,null,"Posición Horizontal","La distancia horizontal entre el cuerpo y las manos (nudillos) es superior a 55 cm correspondiente a la zona de alcance máximo de brazos","NA","0"]
[null,null,"Asimetría","Rotación o inclinación extrema del tronco sin movimientos de los pies","NA","0"]
[null,null,"Frecuencia","Corta duración: más de 15 levantamientos/descensos por minuto, en\nuna tarea que no supere los 60 minutos seguidos en el turno de trabajo\ny seguida de al menos 60 minutos de descanso o tarea liviana (que no\nimplique MMC).","NA","0"]
[null,null,null,"Media duración: más de 12 levantamientos/descensos por minuto,\nen una tarea que no supere los 120 minutos seguidos en el turno de\ntrabajo y seguida de al menos 30 minutos de descanso o tarea liviana\n(que no implique MMC).","NA","0"]
[null,null,null,"Larga duración: más de 8 levantamientos/descensos por minuto, en\nuna tarea que supere los 120 minutos seguidos en el turno de trabajo.","NA","0"]
[null,null,null,"Condición crítica: presencia de tarea de Levantamiento/descenso y transporte con peso de la carga que exceda los siguientes límites ","Si / No / NA",{"$f":"F14+F15+F16+F17+F18+F19+F20","v":0}]
[null,null,"Hombres \n(18-45 años) + ","25 kgs","NA",{"$f":"IF(E22=\"No\",\"0\",IF(E22=\"NA\",\"0\",\"1\"))","v":"0"}]
[null,null,"Mujeres\n(18-45 años) + ","20 kgs","NA",{"$f":"IF(E23=\"No\",\"0\",IF(E23=\"NA\",\"0\",\"1\"))","v":"0"}]
[null,null,"Hombres \n(< 18-45 años o > 45 años) + ","20 kgs","NA","0"]
[null,null,"Mujeres \n(< 18-45 años o > 45 años) + ","15 kgs","NA","0"]
[null,null,"Mujer\nEmbarazada","3 kgs","NA","0"]
[null,null,null,"Condición crítica: presencia de tarea de Levantamiento/descenso y transporte con peso de la carga que exceda los siguientes límites ","Si / No / NA",{"$f":"F22+F23+F24+F25+F26","v":0}]
[null,null,"Distancia de transporte de 20 mts. o más","6.000 Kgs. en 8 hrs.","NA",{"$f":"IF(E28=\"No\",\"0\",IF(E28=\"NA\",\"0\",\"1\"))","v":"0"}]
[null,null,"Distancia de transporte menos a 20 mts.","10.000 Kgs. en 8 hrs.","NA",{"$f":"IF(E29=\"No\",\"0\",IF(E29=\"NA\",\"0\",\"1\"))","v":"0"}]
[null,null,null,null,null,{"$f":"F28+F29","v":0}]
[null,null,null,null,null,{"$f":"F12+F21+F27+F30","v":0}]

{"sheet":"TABLA 4T5P5","index":107,"n_rows":31,"n_cols":10,"rows_kept":31,"cut":false,"hidden":false,"merged":[]}
[]
[null,null,null,"LEVANTAMIENTO, DESCENSO Y TRANSPORTE DE CARGA - IDENTIFICACIÓN AVANZADA CONDICIÓN CRÍTICA  ",null,null,null,null,null,"Cuadro de Resultado Tabla 4"]
[null,null,"Condición","Levantamiento/descenso y transporte manual de carga","Si / No / NA"]
[null,null,"Ambiente de Trabajo","Presencia de temperatura extrema (bajo 16° o superior a los 26° grados Celsius) y sin ropa que proteja de las temperaturas extremas.","NA",{"$f":"IF(E4=\"No\",\"0\",IF(E4=\"NA\",\"0\",\"1\"))","v":"0"},null,null,null,"La Tarea:"]
[null,null,null,"Presencia de suelo resbaladizo, irregular o inestable.","NA",{"$f":"IF(E5=\"No\",\"0\",IF(E5=\"NA\",\"0\",\"1\"))","v":"0"},null,null,{"$f":"'TABLA 1 P5'!B14","v":"N°5"},{"$f":"'TABLA 1 P5'!C14","v":"NA"}]
[null,null,null,"Presencia de espacio insuficiente para el levantamiento/descenso y transporte de carga que genera posturas incomodas o restricción en el movimiento.","NA","0",null,null,null,"Resultado:"]
[null,null,"Característica de la Carga","El tamaño de la carga reduce la visión del trabajador y/o dificulta su movimiento.","NA","0",null,null,{"$f":"F31","v":0},{"$f":"IF(F31>=1,\"Crítica\",\"No Crítica\")","v":"No Crítica"}]
[null,null,null,"El centro de gravedad de la carga no es estable (ej.: líquidos, elementos que se mueven dentro de la carga).","NA","0",null,null,null,"Por lo que usted:"]
[null,null,null,"La forma/configuración de la carga presenta bordes,\nsuperficies o protuberancias afiladas.","NA","0",null,null,null,{"$f":"IF(J7=\"No Crítica\",\"Ha terminado el Proceso de Identificación para esta Tarea y deberá iniciar el proceso de Evaluación Cuantitativa del riesgo\",\"Ha terminado el Proceso de Identificación para esta Tarea y deberá aplicar medidas para reducir el riesgo\")","v":"Ha terminado el Proceso de Identificación para esta Tarea y deberá iniciar el proceso de Evaluación Cuantitativa del riesgo"}]
[null,null,null,"Las superficies de contacto son demasiado frías o demasiado calientes.","NA","0"]
[null,null,"Horas de Trabajo","La tarea de levantamiento/descenso o transporte de\ncarga dura más de 8 hrs.","NA","0"]
[null,null,null,"Condición crítica: presencia de tarea de Levantamiento/descenso y transporte de carga con condiciones de diseño y frecuencia que exceden los valores máximos sugeridos ",null,{"$f":"F4+F5+F6+F7+F8+F9+F10+F11","v":0},null,null,null,"Si terminó de responder toda la Tabla 4 Presione Aquí para  regresar a Tabla 1 Información General del Puesto de Trabajo donde podrá continuar con la siguiente Tarea"]
[null,null,null,null,"Si / No / NA"]
[null,null,"Posición Vertical","La ubicación de las manos al inicio o final del levantamiento/descenso\nde una carga es superior a 155 cm o inferior a 20 cm°.","NA",{"$f":"IF(E14=\"No\",\"0\",IF(E14=\"NA\",\"0\",\"1\"))","v":"0"}]
[null,null,"Desplazamiento Vertical","La distancia vertical entre el origen y el destino del objeto manipulado\nes mayor a 135 cm°.","NA",{"$f":"IF(E15=\"No\",\"0\",IF(E15=\"NA\",\"0\",\"1\"))","v":"0"}]
[null,null,"Posición Horizontal","La distancia horizontal entre el cuerpo y las manos (nudillos) es superior a 55 cm correspondiente a la zona de alcance máximo de brazos","NA","0"]
[null,null,"Asimetría","Rotación o inclinación extrema del tronco sin movimientos de los pies","NA","0"]
[null,null,"Frecuencia","Corta duración: más de 15 levantamientos/descensos por minuto, en\nuna tarea que no supere los 60 minutos seguidos en el turno de trabajo\ny seguida de al menos 60 minutos de descanso o tarea liviana (que no\nimplique MMC).","NA","0"]
[null,null,null,"Media duración: más de 12 levantamientos/descensos por minuto,\nen una tarea que no supere los 120 minutos seguidos en el turno de\ntrabajo y seguida de al menos 30 minutos de descanso o tarea liviana\n(que no implique MMC).","NA","0"]
[null,null,null,"Larga duración: más de 8 levantamientos/descensos por minuto, en\nuna tarea que supere los 120 minutos seguidos en el turno de trabajo.","NA","0"]
[null,null,null,"Condición crítica: presencia de tarea de Levantamiento/descenso y transporte con peso de la carga que exceda los siguientes límites ","Si / No / NA",{"$f":"F14+F15+F16+F17+F18+F19+F20","v":0}]
[null,null,"Hombres \n(18-45 años) + ","25 kgs","NA",{"$f":"IF(E22=\"No\",\"0\",IF(E22=\"NA\",\"0\",\"1\"))","v":"0"}]
[null,null,"Mujeres\n(18-45 años) + ","20 kgs","NA",{"$f":"IF(E23=\"No\",\"0\",IF(E23=\"NA\",\"0\",\"1\"))","v":"0"}]
[null,null,"Hombres \n(< 18-45 años o > 45 años) + ","20 kgs","NA","0"]
[null,null,"Mujeres \n(< 18-45 años o > 45 años) + ","15 kgs","NA","0"]
[null,null,"Mujer\nEmbarazada","3 kgs","NA","0"]
[null,null,null,"Condición crítica: presencia de tarea de Levantamiento/descenso y transporte con peso de la carga que exceda los siguientes límites ","Si / No / NA",{"$f":"F22+F23+F24+F25+F26","v":0}]
[null,null,"Distancia de transporte de 20 mts. o más","6.000 Kgs. en 8 hrs.","NA",{"$f":"IF(E28=\"No\",\"0\",IF(E28=\"NA\",\"0\",\"1\"))","v":"0"}]
[null,null,"Distancia de transporte menos a 20 mts.","10.000 Kgs. en 8 hrs.","NA",{"$f":"IF(E29=\"No\",\"0\",IF(E29=\"NA\",\"0\",\"1\"))","v":"0"}]
[null,null,null,null,null,{"$f":"F28+F29","v":0}]
[null,null,null,null,null,{"$f":"F12+F21+F27+F30","v":0}]

{"sheet":"TABLA 4T5P6","index":108,"n_rows":31,"n_cols":10,"rows_kept":31,"cut":false,"hidden":false,"merged":[]}
[]
[null,null,null,"LEVANTAMIENTO, DESCENSO Y TRANSPORTE DE CARGA - IDENTIFICACIÓN AVANZADA CONDICIÓN CRÍTICA  ",null,null,null,null,null,"Cuadro de Resultado Tabla 4"]
[null,null,"Condición","Levantamiento/descenso y transporte manual de carga","Si / No / NA"]
[null,null,"Ambiente de Trabajo","Presencia de temperatura extrema (bajo 16° o superior a los 26° grados Celsius) y sin ropa que proteja de las temperaturas extremas.","NA",{"$f":"IF(E4=\"No\",\"0\",IF(E4=\"NA\",\"0\",\"1\"))","v":"0"},null,null,null,"La Tarea:"]
[null,null,null,"Presencia de suelo resbaladizo, irregular o inestable.","NA",{"$f":"IF(E5=\"No\",\"0\",IF(E5=\"NA\",\"0\",\"1\"))","v":"0"},null,null,{"$f":"'TABLA 1 P6'!B14","v":"N°5"},{"$f":"'TABLA 1 P6'!C14","v":"NA"}]
[null,null,null,"Presencia de espacio insuficiente para el levantamiento/descenso y transporte de carga que genera posturas incomodas o restricción en el movimiento.","NA","0",null,null,null,"Resultado:"]
[null,null,"Característica de la Carga","El tamaño de la carga reduce la visión del trabajador y/o dificulta su movimiento.","NA","0",null,null,{"$f":"F31","v":0},{"$f":"IF(F31>=1,\"Crítica\",\"No Crítica\")","v":"No Crítica"}]
[null,null,null,"El centro de gravedad de la carga no es estable (ej.: líquidos, elementos que se mueven dentro de la carga).","NA","0",null,null,null,"Por lo que usted:"]
[null,null,null,"La forma/configuración de la carga presenta bordes,\nsuperficies o protuberancias afiladas.","NA","0",null,null,null,{"$f":"IF(J7=\"No Crítica\",\"Ha terminado el Proceso de Identificación para esta Tarea y deberá iniciar el proceso de Evaluación Cuantitativa del riesgo\",\"Ha terminado el Proceso de Identificación para esta Tarea y deberá aplicar medidas para reducir el riesgo\")","v":"Ha terminado el Proceso de Identificación para esta Tarea y deberá iniciar el proceso de Evaluación Cuantitativa del riesgo"}]
[null,null,null,"Las superficies de contacto son demasiado frías o demasiado calientes.","NA","0"]
[null,null,"Horas de Trabajo","La tarea de levantamiento/descenso o transporte de\ncarga dura más de 8 hrs.","NA","0"]
[null,null,null,"Condición crítica: presencia de tarea de Levantamiento/descenso y transporte de carga con condiciones de diseño y frecuencia que exceden los valores máximos sugeridos ",null,{"$f":"F4+F5+F6+F7+F8+F9+F10+F11","v":0},null,null,null,"Si terminó de responder toda la Tabla 4 Presione Aquí para  regresar a Tabla 1 Información General del Puesto de Trabajo donde podrá continuar con la siguiente Tarea"]
[null,null,null,null,"Si / No / NA"]
[null,null,"Posición Vertical","La ubicación de las manos al inicio o final del levantamiento/descenso\nde una carga es superior a 155 cm o inferior a 20 cm°.","NA",{"$f":"IF(E14=\"No\",\"0\",IF(E14=\"NA\",\"0\",\"1\"))","v":"0"}]
[null,null,"Desplazamiento Vertical","La distancia vertical entre el origen y el destino del objeto manipulado\nes mayor a 135 cm°.","NA",{"$f":"IF(E15=\"No\",\"0\",IF(E15=\"NA\",\"0\",\"1\"))","v":"0"}]
[null,null,"Posición Horizontal","La distancia horizontal entre el cuerpo y las manos (nudillos) es superior a 55 cm correspondiente a la zona de alcance máximo de brazos","NA","0"]
[null,null,"Asimetría","Rotación o inclinación extrema del tronco sin movimientos de los pies","NA","0"]
[null,null,"Frecuencia","Corta duración: más de 15 levantamientos/descensos por minuto, en\nuna tarea que no supere los 60 minutos seguidos en el turno de trabajo\ny seguida de al menos 60 minutos de descanso o tarea liviana (que no\nimplique MMC).","NA","0"]
[null,null,null,"Media duración: más de 12 levantamientos/descensos por minuto,\nen una tarea que no supere los 120 minutos seguidos en el turno de\ntrabajo y seguida de al menos 30 minutos de descanso o tarea liviana\n(que no implique MMC).","NA","0"]
[null,null,null,"Larga duración: más de 8 levantamientos/descensos por minuto, en\nuna tarea que supere los 120 minutos seguidos en el turno de trabajo.","NA","0"]
[null,null,null,"Condición crítica: presencia de tarea de Levantamiento/descenso y transporte con peso de la carga que exceda los siguientes límites ","Si / No / NA",{"$f":"F14+F15+F16+F17+F18+F19+F20","v":0}]
[null,null,"Hombres \n(18-45 años) + ","25 kgs","NA",{"$f":"IF(E22=\"No\",\"0\",IF(E22=\"NA\",\"0\",\"1\"))","v":"0"}]
[null,null,"Mujeres\n(18-45 años) + ","20 kgs","NA",{"$f":"IF(E23=\"No\",\"0\",IF(E23=\"NA\",\"0\",\"1\"))","v":"0"}]
[null,null,"Hombres \n(< 18-45 años o > 45 años) + ","20 kgs","NA","0"]
[null,null,"Mujeres \n(< 18-45 años o > 45 años) + ","15 kgs","NA","0"]
[null,null,"Mujer\nEmbarazada","3 kgs","NA","0"]
[null,null,null,"Condición crítica: presencia de tarea de Levantamiento/descenso y transporte con peso de la carga que exceda los siguientes límites ","Si / No / NA",{"$f":"F22+F23+F24+F25+F26","v":0}]
[null,null,"Distancia de transporte de 20 mts. o más","6.000 Kgs. en 8 hrs.","NA",{"$f":"IF(E28=\"No\",\"0\",IF(E28=\"NA\",\"0\",\"1\"))","v":"0"}]
[null,null,"Distancia de transporte menos a 20 mts.","10.000 Kgs. en 8 hrs.","NA",{"$f":"IF(E29=\"No\",\"0\",IF(E29=\"NA\",\"0\",\"1\"))","v":"0"}]
[null,null,null,null,null,{"$f":"F28+F29","v":0}]
[null,null,null,null,null,{"$f":"F12+F21+F27+F30","v":0}]

{"sheet":"TABLA 4T5P7","index":109,"n_rows":31,"n_cols":10,"rows_kept":31,"cut":false,"hidden":false,"merged":[]}
[]
[null,null,null,"LEVANTAMIENTO, DESCENSO Y TRANSPORTE DE CARGA - IDENTIFICACIÓN AVANZADA CONDICIÓN CRÍTICA  ",null,null,null,null,null,"Cuadro de Resultado Tabla 4"]
[null,null,"Condición","Levantamiento/descenso y transporte manual de carga","Si / No / NA"]
[null,null,"Ambiente de Trabajo","Presencia de temperatura extrema (bajo 16° o superior a los 26° grados Celsius) y sin ropa que proteja de las temperaturas extremas.","NA",{"$f":"IF(E4=\"No\",\"0\",IF(E4=\"NA\",\"0\",\"1\"))","v":"0"},null,null,null,"La Tarea:"]
[null,null,null,"Presencia de suelo resbaladizo, irregular o inestable.","NA",{"$f":"IF(E5=\"No\",\"0\",IF(E5=\"NA\",\"0\",\"1\"))","v":"0"},null,null,{"$f":"'TABLA 1 P7'!B14","v":"N°5"},{"$f":"'TABLA 1 P7'!C14","v":"NA"}]
[null,null,null,"Presencia de espacio insuficiente para el levantamiento/descenso y transporte de carga que genera posturas incomodas o restricción en el movimiento.","NA","0",null,null,null,"Resultado:"]
[null,null,"Característica de la Carga","El tamaño de la carga reduce la visión del trabajador y/o dificulta su movimiento.","NA","0",null,null,{"$f":"F31","v":0},{"$f":"IF(F31>=1,\"Crítica\",\"No Crítica\")","v":"No Crítica"}]
[null,null,null,"El centro de gravedad de la carga no es estable (ej.: líquidos, elementos que se mueven dentro de la carga).","NA","0",null,null,null,"Por lo que usted:"]
[null,null,null,"La forma/configuración de la carga presenta bordes,\nsuperficies o protuberancias afiladas.","NA","0",null,null,null,{"$f":"IF(J7=\"No Crítica\",\"Ha terminado el Proceso de Identificación para esta Tarea y deberá iniciar el proceso de Evaluación Cuantitativa del riesgo\",\"Ha terminado el Proceso de Identificación para esta Tarea y deberá aplicar medidas para reducir el riesgo\")","v":"Ha terminado el Proceso de Identificación para esta Tarea y deberá iniciar el proceso de Evaluación Cuantitativa del riesgo"}]
[null,null,null,"Las superficies de contacto son demasiado frías o demasiado calientes.","NA","0"]
[null,null,"Horas de Trabajo","La tarea de levantamiento/descenso o transporte de\ncarga dura más de 8 hrs.","NA","0"]
[null,null,null,"Condición crítica: presencia de tarea de Levantamiento/descenso y transporte de carga con condiciones de diseño y frecuencia que exceden los valores máximos sugeridos ",null,{"$f":"F4+F5+F6+F7+F8+F9+F10+F11","v":0},null,null,null,"Si terminó de responder toda la Tabla 4 Presione Aquí para  regresar a Tabla 1 Información General del Puesto de Trabajo donde podrá continuar con la siguiente Tarea"]
[null,null,null,null,"Si / No / NA"]
[null,null,"Posición Vertical","La ubicación de las manos al inicio o final del levantamiento/descenso\nde una carga es superior a 155 cm o inferior a 20 cm°.","NA",{"$f":"IF(E14=\"No\",\"0\",IF(E14=\"NA\",\"0\",\"1\"))","v":"0"}]
[null,null,"Desplazamiento Vertical","La distancia vertical entre el origen y el destino del objeto manipulado\nes mayor a 135 cm°.","NA",{"$f":"IF(E15=\"No\",\"0\",IF(E15=\"NA\",\"0\",\"1\"))","v":"0"}]
[null,null,"Posición Horizontal","La distancia horizontal entre el cuerpo y las manos (nudillos) es superior a 55 cm correspondiente a la zona de alcance máximo de brazos","NA","0"]
[null,null,"Asimetría","Rotación o inclinación extrema del tronco sin movimientos de los pies","NA","0"]
[null,null,"Frecuencia","Corta duración: más de 15 levantamientos/descensos por minuto, en\nuna tarea que no supere los 60 minutos seguidos en el turno de trabajo\ny seguida de al menos 60 minutos de descanso o tarea liviana (que no\nimplique MMC).","NA","0"]
[null,null,null,"Media duración: más de 12 levantamientos/descensos por minuto,\nen una tarea que no supere los 120 minutos seguidos en el turno de\ntrabajo y seguida de al menos 30 minutos de descanso o tarea liviana\n(que no implique MMC).","NA","0"]
[null,null,null,"Larga duración: más de 8 levantamientos/descensos por minuto, en\nuna tarea que supere los 120 minutos seguidos en el turno de trabajo.","NA","0"]
[null,null,null,"Condición crítica: presencia de tarea de Levantamiento/descenso y transporte con peso de la carga que exceda los siguientes límites ","Si / No / NA",{"$f":"F14+F15+F16+F17+F18+F19+F20","v":0}]
[null,null,"Hombres \n(18-45 años) + ","25 kgs","NA",{"$f":"IF(E22=\"No\",\"0\",IF(E22=\"NA\",\"0\",\"1\"))","v":"0"}]
[null,null,"Mujeres\n(18-45 años) + ","20 kgs","NA",{"$f":"IF(E23=\"No\",\"0\",IF(E23=\"NA\",\"0\",\"1\"))","v":"0"}]
[null,null,"Hombres \n(< 18-45 años o > 45 años) + ","20 kgs","NA","0"]
[null,null,"Mujeres \n(< 18-45 años o > 45 años) + ","15 kgs","NA","0"]
[null,null,"Mujer\nEmbarazada","3 kgs","NA","0"]
[null,null,null,"Condición crítica: presencia de tarea de Levantamiento/descenso y transporte con peso de la carga que exceda los siguientes límites ","Si / No / NA",{"$f":"F22+F23+F24+F25+F26","v":0}]
[null,null,"Distancia de transporte de 20 mts. o más","6.000 Kgs. en 8 hrs.","NA",{"$f":"IF(E28=\"No\",\"0\",IF(E28=\"NA\",\"0\",\"1\"))","v":"0"}]
[null,null,"Distancia de transporte menos a 20 mts.","10.000 Kgs. en 8 hrs.","NA",{"$f":"IF(E29=\"No\",\"0\",IF(E29=\"NA\",\"0\",\"1\"))","v":"0"}]
[null,null,null,null,null,{"$f":"F28+F29","v":0}]
[null,null,null,null,null,{"$f":"F12+F21+F27+F30","v":0}]

{"sheet":"TABLA 4T5P8","index":110,"n_rows":31,"n_cols":10,"rows_kept":31,"cut":false,"hidden":false,"merged":[]}
[]
[null,null,null,"LEVANTAMIENTO, DESCENSO Y TRANSPORTE DE CARGA - IDENTIFICACIÓN AVANZADA CONDICIÓN CRÍTICA  ",null,null,null,null,null,"Cuadro de Resultado Tabla 4"]
[null,null,"Condición","Levantamiento/descenso y transporte manual de carga","Si / No / NA"]
[null,null,"Ambiente de Trabajo","Presencia de temperatura extrema (bajo 16° o superior a los 26° grados Celsius) y sin ropa que proteja de las temperaturas extremas.","NA",{"$f":"IF(E4=\"No\",\"0\",IF(E4=\"NA\",\"0\",\"1\"))","v":"0"},null,null,null,"La Tarea:"]
[null,null,null,"Presencia de suelo resbaladizo, irregular o inestable.","NA",{"$f":"IF(E5=\"No\",\"0\",IF(E5=\"NA\",\"0\",\"1\"))","v":"0"},null,null,{"$f":"'TABLA 1 P8'!B14","v":"N°5"},{"$f":"'TABLA 1 P8'!C14","v":"NA"}]
[null,null,null,"Presencia de espacio insuficiente para el levantamiento/descenso y transporte de carga que genera posturas incomodas o restricción en el movimiento.","NA","0",null,null,null,"Resultado:"]
[null,null,"Característica de la Carga","El tamaño de la carga reduce la visión del trabajador y/o dificulta su movimiento.","NA","0",null,null,{"$f":"F31","v":0},{"$f":"IF(F31>=1,\"Crítica\",\"No Crítica\")","v":"No Crítica"}]
[null,null,null,"El centro de gravedad de la carga no es estable (ej.: líquidos, elementos que se mueven dentro de la carga).","NA","0",null,null,null,"Por lo que usted:"]
[null,null,null,"La forma/configuración de la carga presenta bordes,\nsuperficies o protuberancias afiladas.","NA","0",null,null,null,{"$f":"IF(J7=\"No Crítica\",\"Ha terminado el Proceso de Identificación para esta Tarea y deberá iniciar el proceso de Evaluación Cuantitativa del riesgo\",\"Ha terminado el Proceso de Identificación para esta Tarea y deberá aplicar medidas para reducir el riesgo\")","v":"Ha terminado el Proceso de Identificación para esta Tarea y deberá iniciar el proceso de Evaluación Cuantitativa del riesgo"}]
[null,null,null,"Las superficies de contacto son demasiado frías o demasiado calientes.","NA","0"]
[null,null,"Horas de Trabajo","La tarea de levantamiento/descenso o transporte de\ncarga dura más de 8 hrs.","NA","0"]
[null,null,null,"Condición crítica: presencia de tarea de Levantamiento/descenso y transporte de carga con condiciones de diseño y frecuencia que exceden los valores máximos sugeridos ",null,{"$f":"F4+F5+F6+F7+F8+F9+F10+F11","v":0},null,null,null,"Si terminó de responder toda la Tabla 4 Presione Aquí para  regresar a Tabla 1 Información General del Puesto de Trabajo donde podrá continuar con la siguiente Tarea"]
[null,null,null,null,"Si / No / NA"]
[null,null,"Posición Vertical","La ubicación de las manos al inicio o final del levantamiento/descenso\nde una carga es superior a 155 cm o inferior a 20 cm°.","NA",{"$f":"IF(E14=\"No\",\"0\",IF(E14=\"NA\",\"0\",\"1\"))","v":"0"}]
[null,null,"Desplazamiento Vertical","La distancia vertical entre el origen y el destino del objeto manipulado\nes mayor a 135 cm°.","NA",{"$f":"IF(E15=\"No\",\"0\",IF(E15=\"NA\",\"0\",\"1\"))","v":"0"}]
[null,null,"Posición Horizontal","La distancia horizontal entre el cuerpo y las manos (nudillos) es superior a 55 cm correspondiente a la zona de alcance máximo de brazos","NA","0"]
[null,null,"Asimetría","Rotación o inclinación extrema del tronco sin movimientos de los pies","NA","0"]
[null,null,"Frecuencia","Corta duración: más de 15 levantamientos/descensos por minuto, en\nuna tarea que no supere los 60 minutos seguidos en el turno de trabajo\ny seguida de al menos 60 minutos de descanso o tarea liviana (que no\nimplique MMC).","NA","0"]
[null,null,null,"Media duración: más de 12 levantamientos/descensos por minuto,\nen una tarea que no supere los 120 minutos seguidos en el turno de\ntrabajo y seguida de al menos 30 minutos de descanso o tarea liviana\n(que no implique MMC).","NA","0"]
[null,null,null,"Larga duración: más de 8 levantamientos/descensos por minuto, en\nuna tarea que supere los 120 minutos seguidos en el turno de trabajo.","NA","0"]
[null,null,null,"Condición crítica: presencia de tarea de Levantamiento/descenso y transporte con peso de la carga que exceda los siguientes límites ","Si / No / NA",{"$f":"F14+F15+F16+F17+F18+F19+F20","v":0}]
[null,null,"Hombres \n(18-45 años) + ","25 kgs","NA",{"$f":"IF(E22=\"No\",\"0\",IF(E22=\"NA\",\"0\",\"1\"))","v":"0"}]
[null,null,"Mujeres\n(18-45 años) + ","20 kgs","NA",{"$f":"IF(E23=\"No\",\"0\",IF(E23=\"NA\",\"0\",\"1\"))","v":"0"}]
[null,null,"Hombres \n(< 18-45 años o > 45 años) + ","20 kgs","NA","0"]
[null,null,"Mujeres \n(< 18-45 años o > 45 años) + ","15 kgs","NA","0"]
[null,null,"Mujer\nEmbarazada","3 kgs","NA","0"]
[null,null,null,"Condición crítica: presencia de tarea de Levantamiento/descenso y transporte con peso de la carga que exceda los siguientes límites ","Si / No / NA",{"$f":"F22+F23+F24+F25+F26","v":0}]
[null,null,"Distancia de transporte de 20 mts. o más","6.000 Kgs. en 8 hrs.","NA",{"$f":"IF(E28=\"No\",\"0\",IF(E28=\"NA\",\"0\",\"1\"))","v":"0"}]
[null,null,"Distancia de transporte menos a 20 mts.","10.000 Kgs. en 8 hrs.","NA",{"$f":"IF(E29=\"No\",\"0\",IF(E29=\"NA\",\"0\",\"1\"))","v":"0"}]
[null,null,null,null,null,{"$f":"F28+F29","v":0}]
[null,null,null,null,null,{"$f":"F12+F21+F27+F30","v":0}]

{"sheet":"TABLA 4T5P9","index":111,"n_rows":31,"n_cols":10,"rows_kept":31,"cut":false,"hidden":false,"merged":[]}
[]
[null,null,null,"LEVANTAMIENTO, DESCENSO Y TRANSPORTE DE CARGA - IDENTIFICACIÓN AVANZADA CONDICIÓN CRÍTICA  ",null,null,null,null,null,"Cuadro de Resultado Tabla 4"]
[null,null,"Condición","Levantamiento/descenso y transporte manual de carga","Si / No / NA"]
[null,null,"Ambiente de Trabajo","Presencia de temperatura extrema (bajo 16° o superior a los 26° grados Celsius) y sin ropa que proteja de las temperaturas extremas.","NA",{"$f":"IF(E4=\"No\",\"0\",IF(E4=\"NA\",\"0\",\"1\"))","v":"0"},null,null,null,"La Tarea:"]
[null,null,null,"Presencia de suelo resbaladizo, irregular o inestable.","NA",{"$f":"IF(E5=\"No\",\"0\",IF(E5=\"NA\",\"0\",\"1\"))","v":"0"},null,null,{"$f":"'TABLA 1 P9'!B14","v":"N°5"},{"$f":"'TABLA 1 P9'!C14","v":"NA"}]
[null,null,null,"Presencia de espacio insuficiente para el levantamiento/descenso y transporte de carga que genera posturas incomodas o restricción en el movimiento.","NA","0",null,null,null,"Resultado:"]
[null,null,"Característica de la Carga","El tamaño de la carga reduce la visión del trabajador y/o dificulta su movimiento.","NA","0",null,null,{"$f":"F31","v":0},{"$f":"IF(F31>=1,\"Crítica\",\"No Crítica\")","v":"No Crítica"}]
[null,null,null,"El centro de gravedad de la carga no es estable (ej.: líquidos, elementos que se mueven dentro de la carga).","NA","0",null,null,null,"Por lo que usted:"]
[null,null,null,"La forma/configuración de la carga presenta bordes,\nsuperficies o protuberancias afiladas.","NA","0",null,null,null,{"$f":"IF(J7=\"No Crítica\",\"Ha terminado el Proceso de Identificación para esta Tarea y deberá iniciar el proceso de Evaluación Cuantitativa del riesgo\",\"Ha terminado el Proceso de Identificación para esta Tarea y deberá aplicar medidas para reducir el riesgo\")","v":"Ha terminado el Proceso de Identificación para esta Tarea y deberá iniciar el proceso de Evaluación Cuantitativa del riesgo"}]
[null,null,null,"Las superficies de contacto son demasiado frías o demasiado calientes.","NA","0"]
[null,null,"Horas de Trabajo","La tarea de levantamiento/descenso o transporte de\ncarga dura más de 8 hrs.","NA","0"]
[null,null,null,"Condición crítica: presencia de tarea de Levantamiento/descenso y transporte de carga con condiciones de diseño y frecuencia que exceden los valores máximos sugeridos ",null,{"$f":"F4+F5+F6+F7+F8+F9+F10+F11","v":0},null,null,null,"Si terminó de responder toda la Tabla 4 Presione Aquí para  regresar a Tabla 1 Información General del Puesto de Trabajo donde podrá continuar con la siguiente Tarea"]
[null,null,null,null,"Si / No / NA"]
[null,null,"Posición Vertical","La ubicación de las manos al inicio o final del levantamiento/descenso\nde una carga es superior a 155 cm o inferior a 20 cm°.","NA",{"$f":"IF(E14=\"No\",\"0\",IF(E14=\"NA\",\"0\",\"1\"))","v":"0"}]
[null,null,"Desplazamiento Vertical","La distancia vertical entre el origen y el destino del objeto manipulado\nes mayor a 135 cm°.","NA",{"$f":"IF(E15=\"No\",\"0\",IF(E15=\"NA\",\"0\",\"1\"))","v":"0"}]
[null,null,"Posición Horizontal","La distancia horizontal entre el cuerpo y las manos (nudillos) es superior a 55 cm correspondiente a la zona de alcance máximo de brazos","NA","0"]
[null,null,"Asimetría","Rotación o inclinación extrema del tronco sin movimientos de los pies","NA","0"]
[null,null,"Frecuencia","Corta duración: más de 15 levantamientos/descensos por minuto, en\nuna tarea que no supere los 60 minutos seguidos en el turno de trabajo\ny seguida de al menos 60 minutos de descanso o tarea liviana (que no\nimplique MMC).","NA","0"]
[null,null,null,"Media duración: más de 12 levantamientos/descensos por minuto,\nen una tarea que no supere los 120 minutos seguidos en el turno de\ntrabajo y seguida de al menos 30 minutos de descanso o tarea liviana\n(que no implique MMC).","NA","0"]
[null,null,null,"Larga duración: más de 8 levantamientos/descensos por minuto, en\nuna tarea que supere los 120 minutos seguidos en el turno de trabajo.","NA","0"]
[null,null,null,"Condición crítica: presencia de tarea de Levantamiento/descenso y transporte con peso de la carga que exceda los siguientes límites ","Si / No / NA",{"$f":"F14+F15+F16+F17+F18+F19+F20","v":0}]
[null,null,"Hombres \n(18-45 años) + ","25 kgs","NA",{"$f":"IF(E22=\"No\",\"0\",IF(E22=\"NA\",\"0\",\"1\"))","v":"0"}]
[null,null,"Mujeres\n(18-45 años) + ","20 kgs","NA",{"$f":"IF(E23=\"No\",\"0\",IF(E23=\"NA\",\"0\",\"1\"))","v":"0"}]
[null,null,"Hombres \n(< 18-45 años o > 45 años) + ","20 kgs","NA","0"]
[null,null,"Mujeres \n(< 18-45 años o > 45 años) + ","15 kgs","NA","0"]
[null,null,"Mujer\nEmbarazada","3 kgs","NA","0"]
[null,null,null,"Condición crítica: presencia de tarea de Levantamiento/descenso y transporte con peso de la carga que exceda los siguientes límites ","Si / No / NA",{"$f":"F22+F23+F24+F25+F26","v":0}]
[null,null,"Distancia de transporte de 20 mts. o más","6.000 Kgs. en 8 hrs.","NA",{"$f":"IF(E28=\"No\",\"0\",IF(E28=\"NA\",\"0\",\"1\"))","v":"0"}]
[null,null,"Distancia de transporte menos a 20 mts.","10.000 Kgs. en 8 hrs.","NA",{"$f":"IF(E29=\"No\",\"0\",IF(E29=\"NA\",\"0\",\"1\"))","v":"0"}]
[null,null,null,null,null,{"$f":"F28+F29","v":0}]
[null,null,null,null,null,{"$f":"F12+F21+F27+F30","v":0}]

{"sheet":"TABLA 4T5P10","index":112,"n_rows":31,"n_cols":10,"rows_kept":31,"cut":false,"hidden":false,"merged":[]}
[]
[null,null,null,"LEVANTAMIENTO, DESCENSO Y TRANSPORTE DE CARGA - IDENTIFICACIÓN AVANZADA CONDICIÓN CRÍTICA  ",null,null,null,null,null,"Cuadro de Resultado Tabla 4"]
[null,null,"Condición","Levantamiento/descenso y transporte manual de carga","Si / No / NA"]
[null,null,"Ambiente de Trabajo","Presencia de temperatura extrema (bajo 16° o superior a los 26° grados Celsius) y sin ropa que proteja de las temperaturas extremas.","NA",{"$f":"IF(E4=\"No\",\"0\",IF(E4=\"NA\",\"0\",\"1\"))","v":"0"},null,null,null,"La Tarea:"]
[null,null,null,"Presencia de suelo resbaladizo, irregular o inestable.","NA",{"$f":"IF(E5=\"No\",\"0\",IF(E5=\"NA\",\"0\",\"1\"))","v":"0"},null,null,{"$f":"'TABLA 1 P10'!B14","v":"N°5"},{"$f":"'TABLA 1 P10'!C14","v":"NA"}]
[null,null,null,"Presencia de espacio insuficiente para el levantamiento/descenso y transporte de carga que genera posturas incomodas o restricción en el movimiento.","NA","0",null,null,null,"Resultado:"]
[null,null,"Característica de la Carga","El tamaño de la carga reduce la visión del trabajador y/o dificulta su movimiento.","NA","0",null,null,{"$f":"F31","v":0},{"$f":"IF(F31>=1,\"Crítica\",\"No Crítica\")","v":"No Crítica"}]
[null,null,null,"El centro de gravedad de la carga no es estable (ej.: líquidos, elementos que se mueven dentro de la carga).","NA","0",null,null,null,"Por lo que usted:"]
[null,null,null,"La forma/configuración de la carga presenta bordes,\nsuperficies o protuberancias afiladas.","NA","0",null,null,null,{"$f":"IF(J7=\"No Crítica\",\"Ha terminado el Proceso de Identificación para esta Tarea y deberá iniciar el proceso de Evaluación Cuantitativa del riesgo\",\"Ha terminado el Proceso de Identificación para esta Tarea y deberá aplicar medidas para reducir el riesgo\")","v":"Ha terminado el Proceso de Identificación para esta Tarea y deberá iniciar el proceso de Evaluación Cuantitativa del riesgo"}]
[null,null,null,"Las superficies de contacto son demasiado frías o demasiado calientes.","NA","0"]
[null,null,"Horas de Trabajo","La tarea de levantamiento/descenso o transporte de\ncarga dura más de 8 hrs.","NA","0"]
[null,null,null,"Condición crítica: presencia de tarea de Levantamiento/descenso y transporte de carga con condiciones de diseño y frecuencia que exceden los valores máximos sugeridos ",null,{"$f":"F4+F5+F6+F7+F8+F9+F10+F11","v":0},null,null,null,"Si terminó de responder toda la Tabla 4 Presione Aquí para  regresar a Tabla 1 Información General del Puesto de Trabajo donde podrá continuar con la siguiente Tarea"]
[null,null,null,null,"Si / No / NA"]
[null,null,"Posición Vertical","La ubicación de las manos al inicio o final del levantamiento/descenso\nde una carga es superior a 155 cm o inferior a 20 cm°.","NA",{"$f":"IF(E14=\"No\",\"0\",IF(E14=\"NA\",\"0\",\"1\"))","v":"0"}]
[null,null,"Desplazamiento Vertical","La distancia vertical entre el origen y el destino del objeto manipulado\nes mayor a 135 cm°.","NA",{"$f":"IF(E15=\"No\",\"0\",IF(E15=\"NA\",\"0\",\"1\"))","v":"0"}]
[null,null,"Posición Horizontal","La distancia horizontal entre el cuerpo y las manos (nudillos) es superior a 55 cm correspondiente a la zona de alcance máximo de brazos","NA","0"]
[null,null,"Asimetría","Rotación o inclinación extrema del tronco sin movimientos de los pies","NA","0"]
[null,null,"Frecuencia","Corta duración: más de 15 levantamientos/descensos por minuto, en\nuna tarea que no supere los 60 minutos seguidos en el turno de trabajo\ny seguida de al menos 60 minutos de descanso o tarea liviana (que no\nimplique MMC).","NA","0"]
[null,null,null,"Media duración: más de 12 levantamientos/descensos por minuto,\nen una tarea que no supere los 120 minutos seguidos en el turno de\ntrabajo y seguida de al menos 30 minutos de descanso o tarea liviana\n(que no implique MMC).","NA","0"]
[null,null,null,"Larga duración: más de 8 levantamientos/descensos por minuto, en\nuna tarea que supere los 120 minutos seguidos en el turno de trabajo.","NA","0"]
[null,null,null,"Condición crítica: presencia de tarea de Levantamiento/descenso y transporte con peso de la carga que exceda los siguientes límites ","Si / No / NA",{"$f":"F14+F15+F16+F17+F18+F19+F20","v":0}]
[null,null,"Hombres \n(18-45 años) + ","25 kgs","NA",{"$f":"IF(E22=\"No\",\"0\",IF(E22=\"NA\",\"0\",\"1\"))","v":"0"}]
[null,null,"Mujeres\n(18-45 años) + ","20 kgs","NA",{"$f":"IF(E23=\"No\",\"0\",IF(E23=\"NA\",\"0\",\"1\"))","v":"0"}]
[null,null,"Hombres \n(< 18-45 años o > 45 años) + ","20 kgs","NA","0"]
[null,null,"Mujeres \n(< 18-45 años o > 45 años) + ","15 kgs","NA","0"]
[null,null,"Mujer\nEmbarazada","3 kgs","NA","0"]
[null,null,null,"Condición crítica: presencia de tarea de Levantamiento/descenso y transporte con peso de la carga que exceda los siguientes límites ","Si / No / NA",{"$f":"F22+F23+F24+F25+F26","v":0}]
[null,null,"Distancia de transporte de 20 mts. o más","6.000 Kgs. en 8 hrs.","NA",{"$f":"IF(E28=\"No\",\"0\",IF(E28=\"NA\",\"0\",\"1\"))","v":"0"}]
[null,null,"Distancia de transporte menos a 20 mts.","10.000 Kgs. en 8 hrs.","NA",{"$f":"IF(E29=\"No\",\"0\",IF(E29=\"NA\",\"0\",\"1\"))","v":"0"}]
[null,null,null,null,null,{"$f":"F28+F29","v":0}]
[null,null,null,null,null,{"$f":"F12+F21+F27+F30","v":0}]

{"sheet":"TABLA 5T1P1","index":113,"n_rows":23,"n_cols":11,"rows_kept":23,"cut":false,"hidden":false,"merged":[]}
[]
[null,null,null,"EMPUJE Y ARRASTRE DE CARGA - IDENTIFICACIÓN AVANZADA  CONDICIÓN ACEPTABLE  ",null,null,null,null,null,"Cuadro de Resultado Tabla 5"]
[null,null,"Condición","Empueje y Arrastre de Carga","Si / No / NA"]
[null,null,"Ambiente de Trabajo","La temperatura en donde se realiza la tarea es entre los 18° y 26° (grados Celsius).","NA",{"$f":"IF(E4=\"SI\",\"0\",IF(E4=\"NA\",\"0\",\"1\"))","v":"0"},null,null,null,"La Tarea:"]
[null,null,null,"El piso se encuentra en buenas condiciones (regular, compacto, seco y estable) y sin pendiente.","NA",{"$f":"IF(E5=\"SI\",\"0\",IF(E5=\"NA\",\"0\",\"1\"))","v":"0"},null,null,{"$f":"'TABLA 1 P1'!B6","v":"N° 1"},{"$f":"'TABLA 1 P1'!C6","v":"NA"}]
[null,null,null,"Presencia de vías/caminos donde se permite el normal desplazamiento (espacio suficiente para el desplazamiento).","NA","0",null,null,null,"Resultado:"]
[null,null,null,"El carro o transpaleta permite la visibilidad y movimientos normales del trabajador.","NA","0",null,null,{"$f":"F18","v":0},{"$f":"IF(F18>=1,\"No es Aceptable\",\"Aceptable\")","v":"Aceptable"}]
[null,null,null,"El centro de gravedad de la carga es estable.","NA","0",null,null,null,"Por lo que usted:"]
[null,null,"Característica del carro o transpaleta","La carro o transpaleta permite su agarre sin riesgo de cortes, compresión o quemaduras.","NA","0",null,null,null,{"$f":"IF(J7=\"Aceptable\",\"Ha Terminado el Proceso de Identificación para esta Tarea\",\"Debe Aplicar Tabla 6\")","v":"Ha Terminado el Proceso de Identificación para esta Tarea"},{"$f":"F18","v":0}]
[null,null,null,"Presencia de ruedas grandes o pequeñas en buen estado.","NA","0"]
[null,null,null,"Presencia de ruedas grandes o pequeñas adecuadas al tipo de carro, peso de la carga y vías de desplazamiento.","NA","0",null,null,null,{"$f":"IF(J7=\"Aceptable\",\"Si terminó de responder toda la Tabla 5 Presione Aquí para  regresar a Tabla 1 Información General del Puesto de Trabajo donde podrá continuar con la siguiente Tarea\",\"\")","v":"Si terminó de responder toda la Tabla 5 Presione Aquí para  regresar a Tabla 1 Información General del Puesto de Trabajo donde podrá continuar con la siguiente Tarea"},{"$f":"F18","v":0}]
[null,null,"Riesgo","Empueje y Arrastre de Carga","Si / No / NA"]
[null,null,"Magnitud de la Fuerza","Método dinamómetro (*): la fuerza inicial no supera los 10 kgs de fuerza y la fuerza de sustentación no supera los 5 kgs de fuerza.\nMétodo Escala de Borg: los trabajadores perciben leve esfuerzo físico (valor 2 o menos en escala de Borg) durante la tarea (s) de empuje y arrastre de carga (Para obtener la información debe preguntar a los trabajadores utilizando la escala de Borg (Anexo 3).","NA","0",null,null,null,null,{"$f":"F18","v":0}]
[null,null,"Duración","La(s) tarea(s) de empuje y arrastre de carga duran hasta 8 hrs. diaria.","NA","0"]
[null,null,"Altura aplicación de la Fuerza","La fuerza se realiza entre las caderas y la zona media del tronco.","NA","0",null,null,null,null,{"$f":"F18","v":0}]
[null,null,"Postura","La fuerza de empuje o arrastre es aplicada con el tronco recto (sin flexión o torsión).","NA","0"]
[null,null,"Zona de agarre","Las manos están delante del cuerpo y entre los hombros cuando se realiza la fuerza de empuje o arrastre.","NA","0"]
[null,null,null,null,null,{"$f":"F4+F5+F6+F7+F8+F9+F10+F11+F13+F14+F15+F16+F17","v":0},null,null,null,null,{"$f":"F18","v":0}]
[]
[]
[]
[]
[null,null,null,null,null,null,null,null,null,"Presione solo si al completar Tabla 5  se lo indica el Cuadro de Resultado",{"$f":"F18","v":0}]

{"sheet":"TABLA 5T1P2","index":114,"n_rows":23,"n_cols":11,"rows_kept":23,"cut":false,"hidden":false,"merged":[]}
[]
[null,null,null,"EMPUJE Y ARRASTRE DE CARGA - IDENTIFICACIÓN AVANZADA  CONDICIÓN ACEPTABLE  ",null,null,null,null,null,"Cuadro de Resultado Tabla 5"]
[null,null,"Condición","Empueje y Arrastre de Carga","Si / No / NA"]
[null,null,"Ambiente de Trabajo","La temperatura en donde se realiza la tarea es entre los 18° y 26° (grados Celsius).","NA",{"$f":"IF(E4=\"SI\",\"0\",IF(E4=\"NA\",\"0\",\"1\"))","v":"0"},null,null,null,"La Tarea:"]
[null,null,null,"El piso se encuentra en buenas condiciones (regular, compacto, seco y estable) y sin pendiente.","NA",{"$f":"IF(E5=\"SI\",\"0\",IF(E5=\"NA\",\"0\",\"1\"))","v":"0"},null,null,{"$f":"'TABLA 1 P2'!B6","v":"N° 1"},{"$f":"'TABLA 1 P2'!C6","v":"NA"}]
[null,null,null,"Presencia de vías/caminos donde se permite el normal desplazamiento (espacio suficiente para el desplazamiento).","NA","0",null,null,null,"Resultado:"]
[null,null,null,"El carro o transpaleta permite la visibilidad y movimientos normales del trabajador.","NA","0",null,null,{"$f":"F18","v":0},{"$f":"IF(F18>=1,\"No es Aceptable\",\"Aceptable\")","v":"Aceptable"}]
[null,null,null,"El centro de gravedad de la carga es estable.","NA","0",null,null,null,"Por lo que usted:"]
[null,null,"Característica del carro o transpaleta","La carro o transpaleta permite su agarre sin riesgo de cortes, compresión o quemaduras.","NA","0",null,null,null,{"$f":"IF(J7=\"Aceptable\",\"Ha Terminado el Proceso de Identificación para esta Tarea\",\"Debe Aplicar Tabla 6\")","v":"Ha Terminado el Proceso de Identificación para esta Tarea"},{"$f":"F18","v":0}]
[null,null,null,"Presencia de ruedas grandes o pequeñas en buen estado.","NA","0"]
[null,null,null,"Presencia de ruedas grandes o pequeñas adecuadas al tipo de carro, peso de la carga y vías de desplazamiento.","NA","0",null,null,null,{"$f":"IF(J7=\"Aceptable\",\"Si terminó de responder toda la Tabla 5 Presione Aquí para  regresar a Tabla 1 Información General del Puesto de Trabajo donde podrá continuar con la siguiente Tarea\",\"\")","v":"Si terminó de responder toda la Tabla 5 Presione Aquí para  regresar a Tabla 1 Información General del Puesto de Trabajo donde podrá continuar con la siguiente Tarea"},{"$f":"F18","v":0}]
[null,null,"Riesgo","Empueje y Arrastre de Carga","Si / No / NA"]
[null,null,"Magnitud de la Fuerza","Método dinamómetro (*): la fuerza inicial no supera los 10 kgs de fuerza y la fuerza de sustentación no supera los 5 kgs de fuerza.\nMétodo Escala de Borg: los trabajadores perciben leve esfuerzo físico (valor 2 o menos en escala de Borg) durante la tarea (s) de empuje y arrastre de carga (Para obtener la información debe preguntar a los trabajadores utilizando la escala de Borg (Anexo 3).","NA","0",null,null,null,null,{"$f":"F18","v":0}]
[null,null,"Duración","La(s) tarea(s) de empuje y arrastre de carga duran hasta 8 hrs. diaria.","NA","0"]
[null,null,"Altura aplicación de la Fuerza","La fuerza se realiza entre las caderas y la zona media del tronco.","NA","0",null,null,null,null,{"$f":"F18","v":0}]
[null,null,"Postura","La fuerza de empuje o arrastre es aplicada con el tronco recto (sin flexión o torsión).","NA","0"]
[null,null,"Zona de agarre","Las manos están delante del cuerpo y entre los hombros cuando se realiza la fuerza de empuje o arrastre.","NA","0"]
[null,null,null,null,null,{"$f":"F4+F5+F6+F7+F8+F9+F10+F11+F13+F14+F15+F16+F17","v":0},null,null,null,null,{"$f":"F18","v":0}]
[]
[]
[]
[]
[null,null,null,null,null,null,null,null,null,"Presione solo si al completar Tabla 5  se lo indica el Cuadro de Resultado",{"$f":"F18","v":0}]

{"sheet":"TABLA 5T1P3","index":115,"n_rows":23,"n_cols":11,"rows_kept":23,"cut":false,"hidden":false,"merged":[]}
[]
[null,null,null,"EMPUJE Y ARRASTRE DE CARGA - IDENTIFICACIÓN AVANZADA  CONDICIÓN ACEPTABLE  ",null,null,null,null,null,"Cuadro de Resultado Tabla 5"]
[null,null,"Condición","Empueje y Arrastre de Carga","Si / No / NA"]
[null,null,"Ambiente de Trabajo","La temperatura en donde se realiza la tarea es entre los 18° y 26° (grados Celsius).","NA",{"$f":"IF(E4=\"SI\",\"0\",IF(E4=\"NA\",\"0\",\"1\"))","v":"0"},null,null,null,"La Tarea:"]
[null,null,null,"El piso se encuentra en buenas condiciones (regular, compacto, seco y estable) y sin pendiente.","NA",{"$f":"IF(E5=\"SI\",\"0\",IF(E5=\"NA\",\"0\",\"1\"))","v":"0"},null,null,{"$f":"'TABLA 1 P3'!B6","v":"N° 1"},{"$f":"'TABLA 1 P3'!C6","v":"NA"}]
[null,null,null,"Presencia de vías/caminos donde se permite el normal desplazamiento (espacio suficiente para el desplazamiento).","NA","0",null,null,null,"Resultado:"]
[null,null,null,"El carro o transpaleta permite la visibilidad y movimientos normales del trabajador.","NA","0",null,null,{"$f":"F18","v":0},{"$f":"IF(F18>=1,\"No es Aceptable\",\"Aceptable\")","v":"Aceptable"}]
[null,null,null,"El centro de gravedad de la carga es estable.","NA","0",null,null,null,"Por lo que usted:"]
[null,null,"Característica del carro o transpaleta","La carro o transpaleta permite su agarre sin riesgo de cortes, compresión o quemaduras.","NA","0",null,null,null,{"$f":"IF(J7=\"Aceptable\",\"Ha Terminado el Proceso de Identificación para esta Tarea\",\"Debe Aplicar Tabla 6\")","v":"Ha Terminado el Proceso de Identificación para esta Tarea"},{"$f":"F18","v":0}]
[null,null,null,"Presencia de ruedas grandes o pequeñas en buen estado.","NA","0"]
[null,null,null,"Presencia de ruedas grandes o pequeñas adecuadas al tipo de carro, peso de la carga y vías de desplazamiento.","NA","0",null,null,null,{"$f":"IF(J7=\"Aceptable\",\"Si terminó de responder toda la Tabla 5 Presione Aquí para  regresar a Tabla 1 Información General del Puesto de Trabajo donde podrá continuar con la siguiente Tarea\",\"\")","v":"Si terminó de responder toda la Tabla 5 Presione Aquí para  regresar a Tabla 1 Información General del Puesto de Trabajo donde podrá continuar con la siguiente Tarea"},{"$f":"F18","v":0}]
[null,null,"Riesgo","Empueje y Arrastre de Carga","Si / No / NA"]
[null,null,"Magnitud de la Fuerza","Método dinamómetro (*): la fuerza inicial no supera los 10 kgs de fuerza y la fuerza de sustentación no supera los 5 kgs de fuerza.\nMétodo Escala de Borg: los trabajadores perciben leve esfuerzo físico (valor 2 o menos en escala de Borg) durante la tarea (s) de empuje y arrastre de carga (Para obtener la información debe preguntar a los trabajadores utilizando la escala de Borg (Anexo 3).","NA","0",null,null,null,null,{"$f":"F18","v":0}]
[null,null,"Duración","La(s) tarea(s) de empuje y arrastre de carga duran hasta 8 hrs. diaria.","NA","0"]
[null,null,"Altura aplicación de la Fuerza","La fuerza se realiza entre las caderas y la zona media del tronco.","NA","0",null,null,null,null,{"$f":"F18","v":0}]
[null,null,"Postura","La fuerza de empuje o arrastre es aplicada con el tronco recto (sin flexión o torsión).","NA","0"]
[null,null,"Zona de agarre","Las manos están delante del cuerpo y entre los hombros cuando se realiza la fuerza de empuje o arrastre.","NA","0"]
[null,null,null,null,null,{"$f":"F4+F5+F6+F7+F8+F9+F10+F11+F13+F14+F15+F16+F17","v":0},null,null,null,null,{"$f":"F18","v":0}]
[]
[]
[]
[]
[null,null,null,null,null,null,null,null,null,"Presione solo si al completar Tabla 5  se lo indica el Cuadro de Resultado",{"$f":"F18","v":0}]

{"sheet":"TABLA 5T1P4","index":116,"n_rows":23,"n_cols":11,"rows_kept":23,"cut":false,"hidden":false,"merged":[]}
[]
[null,null,null,"EMPUJE Y ARRASTRE DE CARGA - IDENTIFICACIÓN AVANZADA  CONDICIÓN ACEPTABLE  ",null,null,null,null,null,"Cuadro de Resultado Tabla 5"]
[null,null,"Condición","Empueje y Arrastre de Carga","Si / No / NA"]
[null,null,"Ambiente de Trabajo","La temperatura en donde se realiza la tarea es entre los 18° y 26° (grados Celsius).","NA",{"$f":"IF(E4=\"SI\",\"0\",IF(E4=\"NA\",\"0\",\"1\"))","v":"0"},null,null,null,"La Tarea:"]
[null,null,null,"El piso se encuentra en buenas condiciones (regular, compacto, seco y estable) y sin pendiente.","NA",{"$f":"IF(E5=\"SI\",\"0\",IF(E5=\"NA\",\"0\",\"1\"))","v":"0"},null,null,{"$f":"'TABLA 1 P4'!B6","v":"N° 1"},{"$f":"'TABLA 1 P4'!C6","v":"NA"}]
[null,null,null,"Presencia de vías/caminos donde se permite el normal desplazamiento (espacio suficiente para el desplazamiento).","NA","0",null,null,null,"Resultado:"]
[null,null,null,"El carro o transpaleta permite la visibilidad y movimientos normales del trabajador.","NA","0",null,null,{"$f":"F18","v":0},{"$f":"IF(F18>=1,\"No es Aceptable\",\"Aceptable\")","v":"Aceptable"}]
[null,null,null,"El centro de gravedad de la carga es estable.","NA","0",null,null,null,"Por lo que usted:"]
[null,null,"Característica del carro o transpaleta","La carro o transpaleta permite su agarre sin riesgo de cortes, compresión o quemaduras.","NA","0",null,null,null,{"$f":"IF(J7=\"Aceptable\",\"Ha Terminado el Proceso de Identificación para esta Tarea\",\"Debe Aplicar Tabla 6\")","v":"Ha Terminado el Proceso de Identificación para esta Tarea"},{"$f":"F18","v":0}]
[null,null,null,"Presencia de ruedas grandes o pequeñas en buen estado.","NA","0"]
[null,null,null,"Presencia de ruedas grandes o pequeñas adecuadas al tipo de carro, peso de la carga y vías de desplazamiento.","NA","0",null,null,null,{"$f":"IF(J7=\"Aceptable\",\"Si terminó de responder toda la Tabla 5 Presione Aquí para  regresar a Tabla 1 Información General del Puesto de Trabajo donde podrá continuar con la siguiente Tarea\",\"\")","v":"Si terminó de responder toda la Tabla 5 Presione Aquí para  regresar a Tabla 1 Información General del Puesto de Trabajo donde podrá continuar con la siguiente Tarea"},{"$f":"F18","v":0}]
[null,null,"Riesgo","Empueje y Arrastre de Carga","Si / No / NA"]
[null,null,"Magnitud de la Fuerza","Método dinamómetro (*): la fuerza inicial no supera los 10 kgs de fuerza y la fuerza de sustentación no supera los 5 kgs de fuerza.\nMétodo Escala de Borg: los trabajadores perciben leve esfuerzo físico (valor 2 o menos en escala de Borg) durante la tarea (s) de empuje y arrastre de carga (Para obtener la información debe preguntar a los trabajadores utilizando la escala de Borg (Anexo 3).","NA","0",null,null,null,null,{"$f":"F18","v":0}]
[null,null,"Duración","La(s) tarea(s) de empuje y arrastre de carga duran hasta 8 hrs. diaria.","NA","0"]
[null,null,"Altura aplicación de la Fuerza","La fuerza se realiza entre las caderas y la zona media del tronco.","NA","0",null,null,null,null,{"$f":"F18","v":0}]
[null,null,"Postura","La fuerza de empuje o arrastre es aplicada con el tronco recto (sin flexión o torsión).","NA","0"]
[null,null,"Zona de agarre","Las manos están delante del cuerpo y entre los hombros cuando se realiza la fuerza de empuje o arrastre.","NA","0"]
[null,null,null,null,null,{"$f":"F4+F5+F6+F7+F8+F9+F10+F11+F13+F14+F15+F16+F17","v":0},null,null,null,null,{"$f":"F18","v":0}]
[]
[]
[]
[]
[null,null,null,null,null,null,null,null,null,"Presione solo si al completar Tabla 5  se lo indica el Cuadro de Resultado",{"$f":"F18","v":0}]

{"sheet":"TABLA 5T1P5","index":117,"n_rows":23,"n_cols":11,"rows_kept":23,"cut":false,"hidden":false,"merged":[]}
[]
[null,null,null,"EMPUJE Y ARRASTRE DE CARGA - IDENTIFICACIÓN AVANZADA  CONDICIÓN ACEPTABLE  ",null,null,null,null,null,"Cuadro de Resultado Tabla 5"]
[null,null,"Condición","Empueje y Arrastre de Carga","Si / No / NA"]
[null,null,"Ambiente de Trabajo","La temperatura en donde se realiza la tarea es entre los 18° y 26° (grados Celsius).","NA",{"$f":"IF(E4=\"SI\",\"0\",IF(E4=\"NA\",\"0\",\"1\"))","v":"0"},null,null,null,"La Tarea:"]
[null,null,null,"El piso se encuentra en buenas condiciones (regular, compacto, seco y estable) y sin pendiente.","NA",{"$f":"IF(E5=\"SI\",\"0\",IF(E5=\"NA\",\"0\",\"1\"))","v":"0"},null,null,{"$f":"'TABLA 1 P5'!B6","v":"N° 1"},{"$f":"'TABLA 1 P5'!C6","v":"NA"}]
[null,null,null,"Presencia de vías/caminos donde se permite el normal desplazamiento (espacio suficiente para el desplazamiento).","NA","0",null,null,null,"Resultado:"]
[null,null,null,"El carro o transpaleta permite la visibilidad y movimientos normales del trabajador.","NA","0",null,null,{"$f":"F18","v":0},{"$f":"IF(F18>=1,\"No es Aceptable\",\"Aceptable\")","v":"Aceptable"}]
[null,null,null,"El centro de gravedad de la carga es estable.","NA","0",null,null,null,"Por lo que usted:"]
[null,null,"Característica del carro o transpaleta","La carro o transpaleta permite su agarre sin riesgo de cortes, compresión o quemaduras.","NA","0",null,null,null,{"$f":"IF(J7=\"Aceptable\",\"Ha Terminado el Proceso de Identificación para esta Tarea\",\"Debe Aplicar Tabla 6\")","v":"Ha Terminado el Proceso de Identificación para esta Tarea"},{"$f":"F18","v":0}]
[null,null,null,"Presencia de ruedas grandes o pequeñas en buen estado.","NA","0"]
[null,null,null,"Presencia de ruedas grandes o pequeñas adecuadas al tipo de carro, peso de la carga y vías de desplazamiento.","NA","0",null,null,null,{"$f":"IF(J7=\"Aceptable\",\"Si terminó de responder toda la Tabla 5 Presione Aquí para  regresar a Tabla 1 Información General del Puesto de Trabajo donde podrá continuar con la siguiente Tarea\",\"\")","v":"Si terminó de responder toda la Tabla 5 Presione Aquí para  regresar a Tabla 1 Información General del Puesto de Trabajo donde podrá continuar con la siguiente Tarea"},{"$f":"F18","v":0}]
[null,null,"Riesgo","Empueje y Arrastre de Carga","Si / No / NA"]
[null,null,"Magnitud de la Fuerza","Método dinamómetro (*): la fuerza inicial no supera los 10 kgs de fuerza y la fuerza de sustentación no supera los 5 kgs de fuerza.\nMétodo Escala de Borg: los trabajadores perciben leve esfuerzo físico (valor 2 o menos en escala de Borg) durante la tarea (s) de empuje y arrastre de carga (Para obtener la información debe preguntar a los trabajadores utilizando la escala de Borg (Anexo 3).","NA","0",null,null,null,null,{"$f":"F18","v":0}]
[null,null,"Duración","La(s) tarea(s) de empuje y arrastre de carga duran hasta 8 hrs. diaria.","NA","0"]
[null,null,"Altura aplicación de la Fuerza","La fuerza se realiza entre las caderas y la zona media del tronco.","NA","0",null,null,null,null,{"$f":"F18","v":0}]
[null,null,"Postura","La fuerza de empuje o arrastre es aplicada con el tronco recto (sin flexión o torsión).","NA","0"]
[null,null,"Zona de agarre","Las manos están delante del cuerpo y entre los hombros cuando se realiza la fuerza de empuje o arrastre.","NA","0"]
[null,null,null,null,null,{"$f":"F4+F5+F6+F7+F8+F9+F10+F11+F13+F14+F15+F16+F17","v":0},null,null,null,null,{"$f":"F18","v":0}]
[]
[]
[]
[]
[null,null,null,null,null,null,null,null,null,"Presione solo si al completar Tabla 5  se lo indica el Cuadro de Resultado",{"$f":"F18","v":0}]

{"sheet":"TABLA 5T1P6","index":118,"n_rows":23,"n_cols":11,"rows_kept":23,"cut":false,"hidden":false,"merged":[]}
[]
[null,null,null,"EMPUJE Y ARRASTRE DE CARGA - IDENTIFICACIÓN AVANZADA  CONDICIÓN ACEPTABLE  ",null,null,null,null,null,"Cuadro de Resultado Tabla 5"]
[null,null,"Condición","Empueje y Arrastre de Carga","Si / No / NA"]
[null,null,"Ambiente de Trabajo","La temperatura en donde se realiza la tarea es entre los 18° y 26° (grados Celsius).","NA",{"$f":"IF(E4=\"SI\",\"0\",IF(E4=\"NA\",\"0\",\"1\"))","v":"0"},null,null,null,"La Tarea:"]
[null,null,null,"El piso se encuentra en buenas condiciones (regular, compacto, seco y estable) y sin pendiente.","NA",{"$f":"IF(E5=\"SI\",\"0\",IF(E5=\"NA\",\"0\",\"1\"))","v":"0"},null,null,{"$f":"'TABLA 1 P6'!B6","v":"N° 1"},{"$f":"'TABLA 1 P6'!C6","v":"NA"}]
[null,null,null,"Presencia de vías/caminos donde se permite el normal desplazamiento (espacio suficiente para el desplazamiento).","NA","0",null,null,null,"Resultado:"]
[null,null,null,"El carro o transpaleta permite la visibilidad y movimientos normales del trabajador.","NA","0",null,null,{"$f":"F18","v":0},{"$f":"IF(F18>=1,\"No es Aceptable\",\"Aceptable\")","v":"Aceptable"}]
[null,null,null,"El centro de gravedad de la carga es estable.","NA","0",null,null,null,"Por lo que usted:"]
[null,null,"Característica del carro o transpaleta","La carro o transpaleta permite su agarre sin riesgo de cortes, compresión o quemaduras.","NA","0",null,null,null,{"$f":"IF(J7=\"Aceptable\",\"Ha Terminado el Proceso de Identificación para esta Tarea\",\"Debe Aplicar Tabla 6\")","v":"Ha Terminado el Proceso de Identificación para esta Tarea"},{"$f":"F18","v":0}]
[null,null,null,"Presencia de ruedas grandes o pequeñas en buen estado.","NA","0"]
[null,null,null,"Presencia de ruedas grandes o pequeñas adecuadas al tipo de carro, peso de la carga y vías de desplazamiento.","NA","0",null,null,null,{"$f":"IF(J7=\"Aceptable\",\"Si terminó de responder toda la Tabla 5 Presione Aquí para  regresar a Tabla 1 Información General del Puesto de Trabajo donde podrá continuar con la siguiente Tarea\",\"\")","v":"Si terminó de responder toda la Tabla 5 Presione Aquí para  regresar a Tabla 1 Información General del Puesto de Trabajo donde podrá continuar con la siguiente Tarea"},{"$f":"F18","v":0}]
[null,null,"Riesgo","Empueje y Arrastre de Carga","Si / No / NA"]
[null,null,"Magnitud de la Fuerza","Método dinamómetro (*): la fuerza inicial no supera los 10 kgs de fuerza y la fuerza de sustentación no supera los 5 kgs de fuerza.\nMétodo Escala de Borg: los trabajadores perciben leve esfuerzo físico (valor 2 o menos en escala de Borg) durante la tarea (s) de empuje y arrastre de carga (Para obtener la información debe preguntar a los trabajadores utilizando la escala de Borg (Anexo 3).","NA","0",null,null,null,null,{"$f":"F18","v":0}]
[null,null,"Duración","La(s) tarea(s) de empuje y arrastre de carga duran hasta 8 hrs. diaria.","NA","0"]
[null,null,"Altura aplicación de la Fuerza","La fuerza se realiza entre las caderas y la zona media del tronco.","NA","0",null,null,null,null,{"$f":"F18","v":0}]
[null,null,"Postura","La fuerza de empuje o arrastre es aplicada con el tronco recto (sin flexión o torsión).","NA","0"]
[null,null,"Zona de agarre","Las manos están delante del cuerpo y entre los hombros cuando se realiza la fuerza de empuje o arrastre.","NA","0"]
[null,null,null,null,null,{"$f":"F4+F5+F6+F7+F8+F9+F10+F11+F13+F14+F15+F16+F17","v":0},null,null,null,null,{"$f":"F18","v":0}]
[]
[]
[]
[]
[null,null,null,null,null,null,null,null,null,"Presione solo si al completar Tabla 5  se lo indica el Cuadro de Resultado",{"$f":"F18","v":0}]

{"sheet":"TABLA 5T1P7","index":119,"n_rows":23,"n_cols":11,"rows_kept":23,"cut":false,"hidden":false,"merged":[]}
[]
[null,null,null,"EMPUJE Y ARRASTRE DE CARGA - IDENTIFICACIÓN AVANZADA  CONDICIÓN ACEPTABLE  ",null,null,null,null,null,"Cuadro de Resultado Tabla 5"]
[null,null,"Condición","Empueje y Arrastre de Carga","Si / No / NA"]
[null,null,"Ambiente de Trabajo","La temperatura en donde se realiza la tarea es entre los 18° y 26° (grados Celsius).","NA",{"$f":"IF(E4=\"SI\",\"0\",IF(E4=\"NA\",\"0\",\"1\"))","v":"0"},null,null,null,"La Tarea:"]
[null,null,null,"El piso se encuentra en buenas condiciones (regular, compacto, seco y estable) y sin pendiente.","NA",{"$f":"IF(E5=\"SI\",\"0\",IF(E5=\"NA\",\"0\",\"1\"))","v":"0"},null,null,{"$f":"'TABLA 1 P7'!B6","v":"N° 1"},{"$f":"'TABLA 1 P7'!C6","v":"NA"}]
[null,null,null,"Presencia de vías/caminos donde se permite el normal desplazamiento (espacio suficiente para el desplazamiento).","NA","0",null,null,null,"Resultado:"]
[null,null,null,"El carro o transpaleta permite la visibilidad y movimientos normales del trabajador.","NA","0",null,null,{"$f":"F18","v":0},{"$f":"IF(F18>=1,\"No es Aceptable\",\"Aceptable\")","v":"Aceptable"}]
[null,null,null,"El centro de gravedad de la carga es estable.","NA","0",null,null,null,"Por lo que usted:"]
[null,null,"Característica del carro o transpaleta","La carro o transpaleta permite su agarre sin riesgo de cortes, compresión o quemaduras.","NA","0",null,null,null,{"$f":"IF(J7=\"Aceptable\",\"Ha Terminado el Proceso de Identificación para esta Tarea\",\"Debe Aplicar Tabla 6\")","v":"Ha Terminado el Proceso de Identificación para esta Tarea"},{"$f":"F18","v":0}]
[null,null,null,"Presencia de ruedas grandes o pequeñas en buen estado.","NA","0"]
[null,null,null,"Presencia de ruedas grandes o pequeñas adecuadas al tipo de carro, peso de la carga y vías de desplazamiento.","NA","0",null,null,null,{"$f":"IF(J7=\"Aceptable\",\"Si terminó de responder toda la Tabla 5 Presione Aquí para  regresar a Tabla 1 Información General del Puesto de Trabajo donde podrá continuar con la siguiente Tarea\",\"\")","v":"Si terminó de responder toda la Tabla 5 Presione Aquí para  regresar a Tabla 1 Información General del Puesto de Trabajo donde podrá continuar con la siguiente Tarea"},{"$f":"F18","v":0}]
[null,null,"Riesgo","Empueje y Arrastre de Carga","Si / No / NA"]
[null,null,"Magnitud de la Fuerza","Método dinamómetro (*): la fuerza inicial no supera los 10 kgs de fuerza y la fuerza de sustentación no supera los 5 kgs de fuerza.\nMétodo Escala de Borg: los trabajadores perciben leve esfuerzo físico (valor 2 o menos en escala de Borg) durante la tarea (s) de empuje y arrastre de carga (Para obtener la información debe preguntar a los trabajadores utilizando la escala de Borg (Anexo 3).","NA","0",null,null,null,null,{"$f":"F18","v":0}]
[null,null,"Duración","La(s) tarea(s) de empuje y arrastre de carga duran hasta 8 hrs. diaria.","NA","0"]
[null,null,"Altura aplicación de la Fuerza","La fuerza se realiza entre las caderas y la zona media del tronco.","NA","0",null,null,null,null,{"$f":"F18","v":0}]
[null,null,"Postura","La fuerza de empuje o arrastre es aplicada con el tronco recto (sin flexión o torsión).","NA","0"]
[null,null,"Zona de agarre","Las manos están delante del cuerpo y entre los hombros cuando se realiza la fuerza de empuje o arrastre.","NA","0"]
[null,null,null,null,null,{"$f":"F4+F5+F6+F7+F8+F9+F10+F11+F13+F14+F15+F16+F17","v":0},null,null,null,null,{"$f":"F18","v":0}]
[]
[]
[]
[]
[null,null,null,null,null,null,null,null,null,"Presione solo si al completar Tabla 5  se lo indica el Cuadro de Resultado",{"$f":"F18","v":0}]

{"sheet":"TABLA 5T1P8","index":120,"n_rows":23,"n_cols":11,"rows_kept":23,"cut":false,"hidden":false,"merged":[]}
[]
[null,null,null,"EMPUJE Y ARRASTRE DE CARGA - IDENTIFICACIÓN AVANZADA  CONDICIÓN ACEPTABLE  ",null,null,null,null,null,"Cuadro de Resultado Tabla 5"]
[null,null,"Condición","Empueje y Arrastre de Carga","Si / No / NA"]
[null,null,"Ambiente de Trabajo","La temperatura en donde se realiza la tarea es entre los 18° y 26° (grados Celsius).","NA",{"$f":"IF(E4=\"SI\",\"0\",IF(E4=\"NA\",\"0\",\"1\"))","v":"0"},null,null,null,"La Tarea:"]
[null,null,null,"El piso se encuentra en buenas condiciones (regular, compacto, seco y estable) y sin pendiente.","NA",{"$f":"IF(E5=\"SI\",\"0\",IF(E5=\"NA\",\"0\",\"1\"))","v":"0"},null,null,{"$f":"'TABLA 1 P8'!B6","v":"N° 1"},{"$f":"'TABLA 1 P8'!C6","v":"NA"}]
[null,null,null,"Presencia de vías/caminos donde se permite el normal desplazamiento (espacio suficiente para el desplazamiento).","NA","0",null,null,null,"Resultado:"]
[null,null,null,"El carro o transpaleta permite la visibilidad y movimientos normales del trabajador.","NA","0",null,null,{"$f":"F18","v":0},{"$f":"IF(F18>=1,\"No es Aceptable\",\"Aceptable\")","v":"Aceptable"}]
[null,null,null,"El centro de gravedad de la carga es estable.","NA","0",null,null,null,"Por lo que usted:"]
[null,null,"Característica del carro o transpaleta","La carro o transpaleta permite su agarre sin riesgo de cortes, compresión o quemaduras.","NA","0",null,null,null,{"$f":"IF(J7=\"Aceptable\",\"Ha Terminado el Proceso de Identificación para esta Tarea\",\"Debe Aplicar Tabla 6\")","v":"Ha Terminado el Proceso de Identificación para esta Tarea"},{"$f":"F18","v":0}]
[null,null,null,"Presencia de ruedas grandes o pequeñas en buen estado.","NA","0"]
[null,null,null,"Presencia de ruedas grandes o pequeñas adecuadas al tipo de carro, peso de la carga y vías de desplazamiento.","NA","0",null,null,null,{"$f":"IF(J7=\"Aceptable\",\"Si terminó de responder toda la Tabla 5 Presione Aquí para  regresar a Tabla 1 Información General del Puesto de Trabajo donde podrá continuar con la siguiente Tarea\",\"\")","v":"Si terminó de responder toda la Tabla 5 Presione Aquí para  regresar a Tabla 1 Información General del Puesto de Trabajo donde podrá continuar con la siguiente Tarea"},{"$f":"F18","v":0}]
[null,null,"Riesgo","Empueje y Arrastre de Carga","Si / No / NA"]
[null,null,"Magnitud de la Fuerza","Método dinamómetro (*): la fuerza inicial no supera los 10 kgs de fuerza y la fuerza de sustentación no supera los 5 kgs de fuerza.\nMétodo Escala de Borg: los trabajadores perciben leve esfuerzo físico (valor 2 o menos en escala de Borg) durante la tarea (s) de empuje y arrastre de carga (Para obtener la información debe preguntar a los trabajadores utilizando la escala de Borg (Anexo 3).","NA","0",null,null,null,null,{"$f":"F18","v":0}]
[null,null,"Duración","La(s) tarea(s) de empuje y arrastre de carga duran hasta 8 hrs. diaria.","NA","0"]
[null,null,"Altura aplicación de la Fuerza","La fuerza se realiza entre las caderas y la zona media del tronco.","NA","0",null,null,null,null,{"$f":"F18","v":0}]
[null,null,"Postura","La fuerza de empuje o arrastre es aplicada con el tronco recto (sin flexión o torsión).","NA","0"]
[null,null,"Zona de agarre","Las manos están delante del cuerpo y entre los hombros cuando se realiza la fuerza de empuje o arrastre.","NA","0"]
[null,null,null,null,null,{"$f":"F4+F5+F6+F7+F8+F9+F10+F11+F13+F14+F15+F16+F17","v":0},null,null,null,null,{"$f":"F18","v":0}]
[]
[]
[]
[]
[null,null,null,null,null,null,null,null,null,"Presione solo si al completar Tabla 5  se lo indica el Cuadro de Resultado",{"$f":"F18","v":0}]

{"sheet":"TABLA 5T1P9","index":121,"n_rows":23,"n_cols":11,"rows_kept":23,"cut":false,"hidden":false,"merged":[]}
[]
[null,null,null,"EMPUJE Y ARRASTRE DE CARGA - IDENTIFICACIÓN AVANZADA  CONDICIÓN ACEPTABLE  ",null,null,null,null,null,"Cuadro de Resultado Tabla 5"]
[null,null,"Condición","Empueje y Arrastre de Carga","Si / No / NA"]
[null,null,"Ambiente de Trabajo","La temperatura en donde se realiza la tarea es entre los 18° y 26° (grados Celsius).","NA",{"$f":"IF(E4=\"SI\",\"0\",IF(E4=\"NA\",\"0\",\"1\"))","v":"0"},null,null,null,"La Tarea:"]
[null,null,null,"El piso se encuentra en buenas condiciones (regular, compacto, seco y estable) y sin pendiente.","NA",{"$f":"IF(E5=\"SI\",\"0\",IF(E5=\"NA\",\"0\",\"1\"))","v":"0"},null,null,{"$f":"'TABLA 1 P9'!B6","v":"N° 1"},{"$f":"'TABLA 1 P9'!C6","v":"NA"}]
[null,null,null,"Presencia de vías/caminos donde se permite el normal desplazamiento (espacio suficiente para el desplazamiento).","NA","0",null,null,null,"Resultado:"]
[null,null,null,"El carro o transpaleta permite la visibilidad y movimientos normales del trabajador.","NA","0",null,null,{"$f":"F18","v":0},{"$f":"IF(F18>=1,\"No es Aceptable\",\"Aceptable\")","v":"Aceptable"}]
[null,null,null,"El centro de gravedad de la carga es estable.","NA","0",null,null,null,"Por lo que usted:"]
[null,null,"Característica del carro o transpaleta","La carro o transpaleta permite su agarre sin riesgo de cortes, compresión o quemaduras.","NA","0",null,null,null,{"$f":"IF(J7=\"Aceptable\",\"Ha Terminado el Proceso de Identificación para esta Tarea\",\"Debe Aplicar Tabla 6\")","v":"Ha Terminado el Proceso de Identificación para esta Tarea"},{"$f":"F18","v":0}]
[null,null,null,"Presencia de ruedas grandes o pequeñas en buen estado.","NA","0"]
[null,null,null,"Presencia de ruedas grandes o pequeñas adecuadas al tipo de carro, peso de la carga y vías de desplazamiento.","NA","0",null,null,null,{"$f":"IF(J7=\"Aceptable\",\"Si terminó de responder toda la Tabla 5 Presione Aquí para  regresar a Tabla 1 Información General del Puesto de Trabajo donde podrá continuar con la siguiente Tarea\",\"\")","v":"Si terminó de responder toda la Tabla 5 Presione Aquí para  regresar a Tabla 1 Información General del Puesto de Trabajo donde podrá continuar con la siguiente Tarea"},{"$f":"F18","v":0}]
[null,null,"Riesgo","Empueje y Arrastre de Carga","Si / No / NA"]
[null,null,"Magnitud de la Fuerza","Método dinamómetro (*): la fuerza inicial no supera los 10 kgs de fuerza y la fuerza de sustentación no supera los 5 kgs de fuerza.\nMétodo Escala de Borg: los trabajadores perciben leve esfuerzo físico (valor 2 o menos en escala de Borg) durante la tarea (s) de empuje y arrastre de carga (Para obtener la información debe preguntar a los trabajadores utilizando la escala de Borg (Anexo 3).","NA","0",null,null,null,null,{"$f":"F18","v":0}]
[null,null,"Duración","La(s) tarea(s) de empuje y arrastre de carga duran hasta 8 hrs. diaria.","NA","0"]
[null,null,"Altura aplicación de la Fuerza","La fuerza se realiza entre las caderas y la zona media del tronco.","NA","0",null,null,null,null,{"$f":"F18","v":0}]
[null,null,"Postura","La fuerza de empuje o arrastre es aplicada con el tronco recto (sin flexión o torsión).","NA","0"]
[null,null,"Zona de agarre","Las manos están delante del cuerpo y entre los hombros cuando se realiza la fuerza de empuje o arrastre.","NA","0"]
[null,null,null,null,null,{"$f":"F4+F5+F6+F7+F8+F9+F10+F11+F13+F14+F15+F16+F17","v":0},null,null,null,null,{"$f":"F18","v":0}]
[]
[]
[]
[]
[null,null,null,null,null,null,null,null,null,"Presione solo si al completar Tabla 5  se lo indica el Cuadro de Resultado",{"$f":"F18","v":0}]

{"sheet":"TABLA 5T1P10","index":122,"n_rows":23,"n_cols":11,"rows_kept":23,"cut":false,"hidden":false,"merged":[]}
[]
[null,null,null,"EMPUJE Y ARRASTRE DE CARGA - IDENTIFICACIÓN AVANZADA  CONDICIÓN ACEPTABLE  ",null,null,null,null,null,"Cuadro de Resultado Tabla 5"]
[null,null,"Condición","Empueje y Arrastre de Carga","Si / No / NA"]
[null,null,"Ambiente de Trabajo","La temperatura en donde se realiza la tarea es entre los 18° y 26° (grados Celsius).","NA",{"$f":"IF(E4=\"SI\",\"0\",IF(E4=\"NA\",\"0\",\"1\"))","v":"0"},null,null,null,"La Tarea:"]
[null,null,null,"El piso se encuentra en buenas condiciones (regular, compacto, seco y estable) y sin pendiente.","NA",{"$f":"IF(E5=\"SI\",\"0\",IF(E5=\"NA\",\"0\",\"1\"))","v":"0"},null,null,{"$f":"'TABLA 1 P10'!B6","v":"N° 1"},{"$f":"'TABLA 1 P10'!C6","v":"NA"}]
[null,null,null,"Presencia de vías/caminos donde se permite el normal desplazamiento (espacio suficiente para el desplazamiento).","NA","0",null,null,null,"Resultado:"]
[null,null,null,"El carro o transpaleta permite la visibilidad y movimientos normales del trabajador.","NA","0",null,null,{"$f":"F18","v":0},{"$f":"IF(F18>=1,\"No es Aceptable\",\"Aceptable\")","v":"Aceptable"}]
[null,null,null,"El centro de gravedad de la carga es estable.","NA","0",null,null,null,"Por lo que usted:"]
[null,null,"Característica del carro o transpaleta","La carro o transpaleta permite su agarre sin riesgo de cortes, compresión o quemaduras.","NA","0",null,null,null,{"$f":"IF(J7=\"Aceptable\",\"Ha Terminado el Proceso de Identificación para esta Tarea\",\"Debe Aplicar Tabla 6\")","v":"Ha Terminado el Proceso de Identificación para esta Tarea"},{"$f":"F18","v":0}]
[null,null,null,"Presencia de ruedas grandes o pequeñas en buen estado.","NA","0"]
[null,null,null,"Presencia de ruedas grandes o pequeñas adecuadas al tipo de carro, peso de la carga y vías de desplazamiento.","NA","0",null,null,null,{"$f":"IF(J7=\"Aceptable\",\"Si terminó de responder toda la Tabla 5 Presione Aquí para  regresar a Tabla 1 Información General del Puesto de Trabajo donde podrá continuar con la siguiente Tarea\",\"\")","v":"Si terminó de responder toda la Tabla 5 Presione Aquí para  regresar a Tabla 1 Información General del Puesto de Trabajo donde podrá continuar con la siguiente Tarea"},{"$f":"F18","v":0}]
[null,null,"Riesgo","Empueje y Arrastre de Carga","Si / No / NA"]
[null,null,"Magnitud de la Fuerza","Método dinamómetro (*): la fuerza inicial no supera los 10 kgs de fuerza y la fuerza de sustentación no supera los 5 kgs de fuerza.\nMétodo Escala de Borg: los trabajadores perciben leve esfuerzo físico (valor 2 o menos en escala de Borg) durante la tarea (s) de empuje y arrastre de carga (Para obtener la información debe preguntar a los trabajadores utilizando la escala de Borg (Anexo 3).","NA","0",null,null,null,null,{"$f":"F18","v":0}]
[null,null,"Duración","La(s) tarea(s) de empuje y arrastre de carga duran hasta 8 hrs. diaria.","NA","0"]
[null,null,"Altura aplicación de la Fuerza","La fuerza se realiza entre las caderas y la zona media del tronco.","NA","0",null,null,null,null,{"$f":"F18","v":0}]
[null,null,"Postura","La fuerza de empuje o arrastre es aplicada con el tronco recto (sin flexión o torsión).","NA","0"]
[null,null,"Zona de agarre","Las manos están delante del cuerpo y entre los hombros cuando se realiza la fuerza de empuje o arrastre.","NA","0"]
[null,null,null,null,null,{"$f":"F4+F5+F6+F7+F8+F9+F10+F11+F13+F14+F15+F16+F17","v":0},null,null,null,null,{"$f":"F18","v":0}]
[]
[]
[]
[]
[null,null,null,null,null,null,null,null,null,"Presione solo si al completar Tabla 5  se lo indica el Cuadro de Resultado",{"$f":"F18","v":0}]

{"sheet":"TABLA 6T1P1","index":123,"n_rows":21,"n_cols":10,"rows_kept":21,"cut":false,"hidden":false,"merged":[]}
[]
[null,null,null,"EMPUJE Y ARRASTRE DE CARGA - IDENTIFICACIÓN AVANZADA CONDICIÓN CRÍTICA  \n",null,null,null,null,null,"Cuadro de Resultado Tabla 6"]
[null,null,"Condición","Levantamiento/descenso y transporte manual de carga","Si / No / NA"]
[null,null,"Ambiente de Trabajo","Presencia de temperatura extrema (bajo 16° o superior a los 26° grados Celsius) y sin ropa que proteja de las temperaturas extremas.","NA",{"$f":"IF(E4=\"No\",\"0\",IF(E4=\"NA\",\"0\",\"1\"))","v":"0"},null,null,null,"La Tarea:"]
[null,null,null,"Presencia de suelo resbaladizo, irregular o inestable.","NA",{"$f":"IF(E5=\"No\",\"0\",IF(E5=\"NA\",\"0\",\"1\"))","v":"0"},null,null,{"$f":"'TABLA 1 P1'!B6","v":"N° 1"},{"$f":"'TABLA 1 P1'!C6","v":"NA"}]
[null,null,null,"Presencia de vías/caminos donde se restringen los movimientos.","NA","0",null,null,null,"Resultado:"]
[null,null,"Característica del carro o transpaleta","El carro o transpaleta reduce la vista del operador y/o dificulta su movimiento.","NA","0",null,null,{"$f":"F21","v":0},{"$f":"IF(F21>=1,\"Crítica\",\"No Crítica\")","v":"No Crítica"}]
[null,null,null,"La carga es inestable.","NA","0",null,null,null,"Por lo que usted:"]
[null,null,null,"El carro o transpaleta tiene condiciones peligrosas (bordes, superficies o protuberancias afiladas, etc) que pueden lesionar al trabajador.","NA","0",null,null,null,{"$f":"IF(J7=\"No Crítica\",\"Ha terminado el Proceso de Identificación para esta Tarea y deberá iniciar el proceso de Evaluación Cuantitativa del riesgo\",\"Ha terminado el Proceso de Identificación para esta Tarea y deberá aplicar medidas para reducir el riesgo\")","v":"Ha terminado el Proceso de Identificación para esta Tarea y deberá iniciar el proceso de Evaluación Cuantitativa del riesgo"}]
[null,null,null,"Presencia de ruedas grandes o pequeñas en mal estado, rotas, desgastadas o con poca mantención.","NA","0"]
[null,null,null,"Presencia de ruedas grandes o pequeñas inadecuadas al tipo de carro, peso de la carga y vías de desplazamiento.","NA","0"]
[null,null,"Horas de Trabajo","La tarea de levantamiento/descenso o transporte de carga dura más de 8 hrs.","NA","0"]
[null,null,"Riesgo","Empueje y Arrastre de Carga","Si / No / NA",null,null,null,null,"Si terminó de responder toda la Tabla 6 Presione Aquí para  regresar a Tabla 1 Información General del Puesto de Trabajo donde podrá continuar con la siguiente Tarea"]
[null,null,"Magnitud de la Fuerza","Método dinamómetro (*):\n1. Fuerza inicial es superior a 36 kgs. (Hombres) o 24 kgs.\n(Mujeres).\n2. Fuerza de sustentación es superior a 25 kgs. (Hombres)\ny 15 kgs. (Mujeres).\nMétodo Escala de Borg: los trabajadores perciben alto nivel de esfuerzo físico (valor 8 o más en escala de Borg) durante la (s) tarea (s) de empuje y arrastre de carga (Para obtener la información debe preguntar a los trabajadores utilizando la escala de Borg al final de este anexo).","NA",{"$f":"IF(E14=\"No\",\"0\",IF(E14=\"NA\",\"0\",\"1\"))","v":"0"}]
[null,null,"Dirección de la Fuerza","Durante el desplazamiento la carga requiere de un levantamiento parcial, mientras se empuja o arrastra.","NA",{"$f":"IF(E15=\"No\",\"0\",IF(E15=\"NA\",\"0\",\"1\"))","v":"0"}]
[null,null,"Esfuerzo Físico","La fuerza de empuje o arrastre es realizada con movimientos bruscos o de manera poco controlada.","NA","0"]
[null,null,"Postura","La fuerza de empuje o arrastre es aplicada con el tronco en flexión o torsión significativa.","NA","0"]
[null,null,"Zona de Agarre","Las manos no están delante del cuerpo o fuera del ancho de los hombros cuando se realiza la fuerza de empuje o arrastre.","NA","0"]
[null,null,"Altura aplicación de la Fuerza","La fuerza de empuje o arrastre es aplicada sobre los 150 cm o bajo los 60 cm.","NA","0"]
[null,null,"Duración","La(s) tarea(s) de empuje y arrastre de carga duran más de 8 hrs. diaria.","NA","0"]
[null,null,null,null,null,{"$f":"F4+F5+F6+F7+F8+F9+F10+F11+F12+F14+F15+F16+F17+F18+F19+F20","v":0}]

{"sheet":"TABLA 6T1P2","index":124,"n_rows":21,"n_cols":10,"rows_kept":21,"cut":false,"hidden":false,"merged":[]}
[]
[null,null,null,"EMPUJE Y ARRASTRE DE CARGA - IDENTIFICACIÓN AVANZADA CONDICIÓN CRÍTICA  \n",null,null,null,null,null,"Cuadro de Resultado Tabla 6"]
[null,null,"Condición","Levantamiento/descenso y transporte manual de carga","Si / No / NA"]
[null,null,"Ambiente de Trabajo","Presencia de temperatura extrema (bajo 16° o superior a los 26° grados Celsius) y sin ropa que proteja de las temperaturas extremas.","NA",{"$f":"IF(E4=\"No\",\"0\",IF(E4=\"NA\",\"0\",\"1\"))","v":"0"},null,null,null,"La Tarea:"]
[null,null,null,"Presencia de suelo resbaladizo, irregular o inestable.","NA",{"$f":"IF(E5=\"No\",\"0\",IF(E5=\"NA\",\"0\",\"1\"))","v":"0"},null,null,{"$f":"'TABLA 1 P1'!B6","v":"N° 1"},{"$f":"'TABLA 1 P2'!C6","v":"NA"}]
[null,null,null,"Presencia de vías/caminos donde se restringen los movimientos.","NA","0",null,null,null,"Resultado:"]
[null,null,"Característica del carro o transpaleta","El carro o transpaleta reduce la vista del operador y/o dificulta su movimiento.","NA","0",null,null,{"$f":"F21","v":0},{"$f":"IF(F21>=1,\"Crítica\",\"No Crítica\")","v":"No Crítica"}]
[null,null,null,"La carga es inestable.","NA","0",null,null,null,"Por lo que usted:"]
[null,null,null,"El carro o transpaleta tiene condiciones peligrosas (bordes, superficies o protuberancias afiladas, etc) que pueden lesionar al trabajador.","NA","0",null,null,null,{"$f":"IF(J7=\"No Crítica\",\"Ha terminado el Proceso de Identificación para esta Tarea y deberá iniciar el proceso de Evaluación Cuantitativa del riesgo\",\"Ha terminado el Proceso de Identificación para esta Tarea y deberá aplicar medidas para reducir el riesgo\")","v":"Ha terminado el Proceso de Identificación para esta Tarea y deberá iniciar el proceso de Evaluación Cuantitativa del riesgo"}]
[null,null,null,"Presencia de ruedas grandes o pequeñas en mal estado, rotas, desgastadas o con poca mantención.","NA","0"]
[null,null,null,"Presencia de ruedas grandes o pequeñas inadecuadas al tipo de carro, peso de la carga y vías de desplazamiento.","NA","0"]
[null,null,"Horas de Trabajo","La tarea de levantamiento/descenso o transporte de carga dura más de 8 hrs.","NA","0"]
[null,null,"Riesgo","Empueje y Arrastre de Carga","Si / No / NA",null,null,null,null,"Si terminó de responder toda la Tabla 6 Presione Aquí para  regresar a Tabla 1 Información General del Puesto de Trabajo donde podrá continuar con la siguiente Tarea"]
[null,null,"Magnitud de la Fuerza","Método dinamómetro (*):\n1. Fuerza inicial es superior a 36 kgs. (Hombres) o 24 kgs.\n(Mujeres).\n2. Fuerza de sustentación es superior a 25 kgs. (Hombres)\ny 15 kgs. (Mujeres).\nMétodo Escala de Borg: los trabajadores perciben alto nivel de esfuerzo físico (valor 8 o más en escala de Borg) durante la (s) tarea (s) de empuje y arrastre de carga (Para obtener la información debe preguntar a los trabajadores utilizando la escala de Borg al final de este anexo).","NA",{"$f":"IF(E14=\"No\",\"0\",IF(E14=\"NA\",\"0\",\"1\"))","v":"0"}]
[null,null,"Dirección de la Fuerza","Durante el desplazamiento la carga requiere de un levantamiento parcial, mientras se empuja o arrastra.","NA",{"$f":"IF(E15=\"No\",\"0\",IF(E15=\"NA\",\"0\",\"1\"))","v":"0"}]
[null,null,"Esfuerzo Físico","La fuerza de empuje o arrastre es realizada con movimientos bruscos o de manera poco controlada.","NA","0"]
[null,null,"Postura","La fuerza de empuje o arrastre es aplicada con el tronco en flexión o torsión significativa.","NA","0"]
[null,null,"Zona de Agarre","Las manos no están delante del cuerpo o fuera del ancho de los hombros cuando se realiza la fuerza de empuje o arrastre.","NA","0"]
[null,null,"Altura aplicación de la Fuerza","La fuerza de empuje o arrastre es aplicada sobre los 150 cm o bajo los 60 cm.","NA","0"]
[null,null,"Duración","La(s) tarea(s) de empuje y arrastre de carga duran más de 8 hrs. diaria.","NA","0"]
[null,null,null,null,null,{"$f":"F4+F5+F6+F7+F8+F9+F10+F11+F12+F14+F15+F16+F17+F18+F19+F20","v":0}]

{"sheet":"TABLA 6T1P3","index":125,"n_rows":21,"n_cols":10,"rows_kept":21,"cut":false,"hidden":false,"merged":[]}
[]
[null,null,null,"EMPUJE Y ARRASTRE DE CARGA - IDENTIFICACIÓN AVANZADA CONDICIÓN CRÍTICA  \n",null,null,null,null,null,"Cuadro de Resultado Tabla 6"]
[null,null,"Condición","Levantamiento/descenso y transporte manual de carga","Si / No / NA"]
[null,null,"Ambiente de Trabajo","Presencia de temperatura extrema (bajo 16° o superior a los 26° grados Celsius) y sin ropa que proteja de las temperaturas extremas.","NA",{"$f":"IF(E4=\"No\",\"0\",IF(E4=\"NA\",\"0\",\"1\"))","v":"0"},null,null,null,"La Tarea:"]
[null,null,null,"Presencia de suelo resbaladizo, irregular o inestable.","NA",{"$f":"IF(E5=\"No\",\"0\",IF(E5=\"NA\",\"0\",\"1\"))","v":"0"},null,null,{"$f":"'TABLA 1 P3'!B6","v":"N° 1"},{"$f":"'TABLA 1 P3'!C6","v":"NA"}]
[null,null,null,"Presencia de vías/caminos donde se restringen los movimientos.","NA","0",null,null,null,"Resultado:"]
[null,null,"Característica del carro o transpaleta","El carro o transpaleta reduce la vista del operador y/o dificulta su movimiento.","NA","0",null,null,{"$f":"F21","v":0},{"$f":"IF(F21>=1,\"Crítica\",\"No Crítica\")","v":"No Crítica"}]
[null,null,null,"La carga es inestable.","NA","0",null,null,null,"Por lo que usted:"]
[null,null,null,"El carro o transpaleta tiene condiciones peligrosas (bordes, superficies o protuberancias afiladas, etc) que pueden lesionar al trabajador.","NA","0",null,null,null,{"$f":"IF(J7=\"No Crítica\",\"Ha terminado el Proceso de Identificación para esta Tarea y deberá iniciar el proceso de Evaluación Cuantitativa del riesgo\",\"Ha terminado el Proceso de Identificación para esta Tarea y deberá aplicar medidas para reducir el riesgo\")","v":"Ha terminado el Proceso de Identificación para esta Tarea y deberá iniciar el proceso de Evaluación Cuantitativa del riesgo"}]
[null,null,null,"Presencia de ruedas grandes o pequeñas en mal estado, rotas, desgastadas o con poca mantención.","NA","0"]
[null,null,null,"Presencia de ruedas grandes o pequeñas inadecuadas al tipo de carro, peso de la carga y vías de desplazamiento.","NA","0"]
[null,null,"Horas de Trabajo","La tarea de levantamiento/descenso o transporte de carga dura más de 8 hrs.","NA","0"]
[null,null,"Riesgo","Empueje y Arrastre de Carga","Si / No / NA",null,null,null,null,"Si terminó de responder toda la Tabla 6 Presione Aquí para  regresar a Tabla 1 Información General del Puesto de Trabajo donde podrá continuar con la siguiente Tarea"]
[null,null,"Magnitud de la Fuerza","Método dinamómetro (*):\n1. Fuerza inicial es superior a 36 kgs. (Hombres) o 24 kgs.\n(Mujeres).\n2. Fuerza de sustentación es superior a 25 kgs. (Hombres)\ny 15 kgs. (Mujeres).\nMétodo Escala de Borg: los trabajadores perciben alto nivel de esfuerzo físico (valor 8 o más en escala de Borg) durante la (s) tarea (s) de empuje y arrastre de carga (Para obtener la información debe preguntar a los trabajadores utilizando la escala de Borg al final de este anexo).","NA",{"$f":"IF(E14=\"No\",\"0\",IF(E14=\"NA\",\"0\",\"1\"))","v":"0"}]
[null,null,"Dirección de la Fuerza","Durante el desplazamiento la carga requiere de un levantamiento parcial, mientras se empuja o arrastra.","NA",{"$f":"IF(E15=\"No\",\"0\",IF(E15=\"NA\",\"0\",\"1\"))","v":"0"}]
[null,null,"Esfuerzo Físico","La fuerza de empuje o arrastre es realizada con movimientos bruscos o de manera poco controlada.","NA","0"]
[null,null,"Postura","La fuerza de empuje o arrastre es aplicada con el tronco en flexión o torsión significativa.","NA","0"]
[null,null,"Zona de Agarre","Las manos no están delante del cuerpo o fuera del ancho de los hombros cuando se realiza la fuerza de empuje o arrastre.","NA","0"]
[null,null,"Altura aplicación de la Fuerza","La fuerza de empuje o arrastre es aplicada sobre los 150 cm o bajo los 60 cm.","NA","0"]
[null,null,"Duración","La(s) tarea(s) de empuje y arrastre de carga duran más de 8 hrs. diaria.","NA","0"]
[null,null,null,null,null,{"$f":"F4+F5+F6+F7+F8+F9+F10+F11+F12+F14+F15+F16+F17+F18+F19+F20","v":0}]

{"sheet":"TABLA 6T1P4","index":126,"n_rows":21,"n_cols":10,"rows_kept":21,"cut":false,"hidden":false,"merged":[]}
[]
[null,null,null,"EMPUJE Y ARRASTRE DE CARGA - IDENTIFICACIÓN AVANZADA CONDICIÓN CRÍTICA  \n",null,null,null,null,null,"Cuadro de Resultado Tabla 6"]
[null,null,"Condición","Levantamiento/descenso y transporte manual de carga","Si / No / NA"]
[null,null,"Ambiente de Trabajo","Presencia de temperatura extrema (bajo 16° o superior a los 26° grados Celsius) y sin ropa que proteja de las temperaturas extremas.","NA",{"$f":"IF(E4=\"No\",\"0\",IF(E4=\"NA\",\"0\",\"1\"))","v":"0"},null,null,null,"La Tarea:"]
[null,null,null,"Presencia de suelo resbaladizo, irregular o inestable.","NA",{"$f":"IF(E5=\"No\",\"0\",IF(E5=\"NA\",\"0\",\"1\"))","v":"0"},null,null,{"$f":"'TABLA 1 P4'!B6","v":"N° 1"},{"$f":"'TABLA 1 P4'!C6","v":"NA"}]
[null,null,null,"Presencia de vías/caminos donde se restringen los movimientos.","NA","0",null,null,null,"Resultado:"]
[null,null,"Característica del carro o transpaleta","El carro o transpaleta reduce la vista del operador y/o dificulta su movimiento.","NA","0",null,null,{"$f":"F21","v":0},{"$f":"IF(F21>=1,\"Crítica\",\"No Crítica\")","v":"No Crítica"}]
[null,null,null,"La carga es inestable.","NA","0",null,null,null,"Por lo que usted:"]
[null,null,null,"El carro o transpaleta tiene condiciones peligrosas (bordes, superficies o protuberancias afiladas, etc) que pueden lesionar al trabajador.","NA","0",null,null,null,{"$f":"IF(J7=\"No Crítica\",\"Ha terminado el Proceso de Identificación para esta Tarea y deberá iniciar el proceso de Evaluación Cuantitativa del riesgo\",\"Ha terminado el Proceso de Identificación para esta Tarea y deberá aplicar medidas para reducir el riesgo\")","v":"Ha terminado el Proceso de Identificación para esta Tarea y deberá iniciar el proceso de Evaluación Cuantitativa del riesgo"}]
[null,null,null,"Presencia de ruedas grandes o pequeñas en mal estado, rotas, desgastadas o con poca mantención.","NA","0"]
[null,null,null,"Presencia de ruedas grandes o pequeñas inadecuadas al tipo de carro, peso de la carga y vías de desplazamiento.","NA","0"]
[null,null,"Horas de Trabajo","La tarea de levantamiento/descenso o transporte de carga dura más de 8 hrs.","NA","0"]
[null,null,"Riesgo","Empueje y Arrastre de Carga","Si / No / NA",null,null,null,null,"Si terminó de responder toda la Tabla 6 Presione Aquí para  regresar a Tabla 1 Información General del Puesto de Trabajo donde podrá continuar con la siguiente Tarea"]
[null,null,"Magnitud de la Fuerza","Método dinamómetro (*):\n1. Fuerza inicial es superior a 36 kgs. (Hombres) o 24 kgs.\n(Mujeres).\n2. Fuerza de sustentación es superior a 25 kgs. (Hombres)\ny 15 kgs. (Mujeres).\nMétodo Escala de Borg: los trabajadores perciben alto nivel de esfuerzo físico (valor 8 o más en escala de Borg) durante la (s) tarea (s) de empuje y arrastre de carga (Para obtener la información debe preguntar a los trabajadores utilizando la escala de Borg al final de este anexo).","NA",{"$f":"IF(E14=\"No\",\"0\",IF(E14=\"NA\",\"0\",\"1\"))","v":"0"}]
[null,null,"Dirección de la Fuerza","Durante el desplazamiento la carga requiere de un levantamiento parcial, mientras se empuja o arrastra.","NA",{"$f":"IF(E15=\"No\",\"0\",IF(E15=\"NA\",\"0\",\"1\"))","v":"0"}]
[null,null,"Esfuerzo Físico","La fuerza de empuje o arrastre es realizada con movimientos bruscos o de manera poco controlada.","NA","0"]
[null,null,"Postura","La fuerza de empuje o arrastre es aplicada con el tronco en flexión o torsión significativa.","NA","0"]
[null,null,"Zona de Agarre","Las manos no están delante del cuerpo o fuera del ancho de los hombros cuando se realiza la fuerza de empuje o arrastre.","NA","0"]
[null,null,"Altura aplicación de la Fuerza","La fuerza de empuje o arrastre es aplicada sobre los 150 cm o bajo los 60 cm.","NA","0"]
[null,null,"Duración","La(s) tarea(s) de empuje y arrastre de carga duran más de 8 hrs. diaria.","NA","0"]
[null,null,null,null,null,{"$f":"F4+F5+F6+F7+F8+F9+F10+F11+F12+F14+F15+F16+F17+F18+F19+F20","v":0}]

{"sheet":"TABLA 6T1P5","index":127,"n_rows":21,"n_cols":10,"rows_kept":21,"cut":false,"hidden":false,"merged":[]}
[]
[null,null,null,"EMPUJE Y ARRASTRE DE CARGA - IDENTIFICACIÓN AVANZADA CONDICIÓN CRÍTICA  \n",null,null,null,null,null,"Cuadro de Resultado Tabla 6"]
[null,null,"Condición","Levantamiento/descenso y transporte manual de carga","Si / No / NA"]
[null,null,"Ambiente de Trabajo","Presencia de temperatura extrema (bajo 16° o superior a los 26° grados Celsius) y sin ropa que proteja de las temperaturas extremas.","NA",{"$f":"IF(E4=\"No\",\"0\",IF(E4=\"NA\",\"0\",\"1\"))","v":"0"},null,null,null,"La Tarea:"]
[null,null,null,"Presencia de suelo resbaladizo, irregular o inestable.","NA",{"$f":"IF(E5=\"No\",\"0\",IF(E5=\"NA\",\"0\",\"1\"))","v":"0"},null,null,{"$f":"'TABLA 1 P5'!B6","v":"N° 1"},{"$f":"'TABLA 1 P5'!C6","v":"NA"}]
[null,null,null,"Presencia de vías/caminos donde se restringen los movimientos.","NA","0",null,null,null,"Resultado:"]
[null,null,"Característica del carro o transpaleta","El carro o transpaleta reduce la vista del operador y/o dificulta su movimiento.","NA","0",null,null,{"$f":"F21","v":0},{"$f":"IF(F21>=1,\"Crítica\",\"No Crítica\")","v":"No Crítica"}]
[null,null,null,"La carga es inestable.","NA","0",null,null,null,"Por lo que usted:"]
[null,null,null,"El carro o transpaleta tiene condiciones peligrosas (bordes, superficies o protuberancias afiladas, etc) que pueden lesionar al trabajador.","NA","0",null,null,null,{"$f":"IF(J7=\"No Crítica\",\"Ha terminado el Proceso de Identificación para esta Tarea y deberá iniciar el proceso de Evaluación Cuantitativa del riesgo\",\"Ha terminado el Proceso de Identificación para esta Tarea y deberá aplicar medidas para reducir el riesgo\")","v":"Ha terminado el Proceso de Identificación para esta Tarea y deberá iniciar el proceso de Evaluación Cuantitativa del riesgo"}]
[null,null,null,"Presencia de ruedas grandes o pequeñas en mal estado, rotas, desgastadas o con poca mantención.","NA","0"]
[null,null,null,"Presencia de ruedas grandes o pequeñas inadecuadas al tipo de carro, peso de la carga y vías de desplazamiento.","NA","0"]
[null,null,"Horas de Trabajo","La tarea de levantamiento/descenso o transporte de carga dura más de 8 hrs.","NA","0"]
[null,null,"Riesgo","Empueje y Arrastre de Carga","Si / No / NA",null,null,null,null,"Si terminó de responder toda la Tabla 6 Presione Aquí para  regresar a Tabla 1 Información General del Puesto de Trabajo donde podrá continuar con la siguiente Tarea"]
[null,null,"Magnitud de la Fuerza","Método dinamómetro (*):\n1. Fuerza inicial es superior a 36 kgs. (Hombres) o 24 kgs.\n(Mujeres).\n2. Fuerza de sustentación es superior a 25 kgs. (Hombres)\ny 15 kgs. (Mujeres).\nMétodo Escala de Borg: los trabajadores perciben alto nivel de esfuerzo físico (valor 8 o más en escala de Borg) durante la (s) tarea (s) de empuje y arrastre de carga (Para obtener la información debe preguntar a los trabajadores utilizando la escala de Borg al final de este anexo).","NA",{"$f":"IF(E14=\"No\",\"0\",IF(E14=\"NA\",\"0\",\"1\"))","v":"0"}]
[null,null,"Dirección de la Fuerza","Durante el desplazamiento la carga requiere de un levantamiento parcial, mientras se empuja o arrastra.","NA",{"$f":"IF(E15=\"No\",\"0\",IF(E15=\"NA\",\"0\",\"1\"))","v":"0"}]
[null,null,"Esfuerzo Físico","La fuerza de empuje o arrastre es realizada con movimientos bruscos o de manera poco controlada.","NA","0"]
[null,null,"Postura","La fuerza de empuje o arrastre es aplicada con el tronco en flexión o torsión significativa.","NA","0"]
[null,null,"Zona de Agarre","Las manos no están delante del cuerpo o fuera del ancho de los hombros cuando se realiza la fuerza de empuje o arrastre.","NA","0"]
[null,null,"Altura aplicación de la Fuerza","La fuerza de empuje o arrastre es aplicada sobre los 150 cm o bajo los 60 cm.","NA","0"]
[null,null,"Duración","La(s) tarea(s) de empuje y arrastre de carga duran más de 8 hrs. diaria.","NA","0"]
[null,null,null,null,null,{"$f":"F4+F5+F6+F7+F8+F9+F10+F11+F12+F14+F15+F16+F17+F18+F19+F20","v":0}]

{"sheet":"TABLA 6T1P6","index":128,"n_rows":21,"n_cols":10,"rows_kept":21,"cut":false,"hidden":false,"merged":[]}
[]
[null,null,null,"EMPUJE Y ARRASTRE DE CARGA - IDENTIFICACIÓN AVANZADA CONDICIÓN CRÍTICA  \n",null,null,null,null,null,"Cuadro de Resultado Tabla 6"]
[null,null,"Condición","Levantamiento/descenso y transporte manual de carga","Si / No / NA"]
[null,null,"Ambiente de Trabajo","Presencia de temperatura extrema (bajo 16° o superior a los 26° grados Celsius) y sin ropa que proteja de las temperaturas extremas.","NA",{"$f":"IF(E4=\"No\",\"0\",IF(E4=\"NA\",\"0\",\"1\"))","v":"0"},null,null,null,"La Tarea:"]
[null,null,null,"Presencia de suelo resbaladizo, irregular o inestable.","NA",{"$f":"IF(E5=\"No\",\"0\",IF(E5=\"NA\",\"0\",\"1\"))","v":"0"},null,null,{"$f":"'TABLA 1 P6'!B6","v":"N° 1"},{"$f":"'TABLA 1 P6'!C6","v":"NA"}]
[null,null,null,"Presencia de vías/caminos donde se restringen los movimientos.","NA","0",null,null,null,"Resultado:"]
[null,null,"Característica del carro o transpaleta","El carro o transpaleta reduce la vista del operador y/o dificulta su movimiento.","NA","0",null,null,{"$f":"F21","v":0},{"$f":"IF(F21>=1,\"Crítica\",\"No Crítica\")","v":"No Crítica"}]
[null,null,null,"La carga es inestable.","NA","0",null,null,null,"Por lo que usted:"]
[null,null,null,"El carro o transpaleta tiene condiciones peligrosas (bordes, superficies o protuberancias afiladas, etc) que pueden lesionar al trabajador.","NA","0",null,null,null,{"$f":"IF(J7=\"No Crítica\",\"Ha terminado el Proceso de Identificación para esta Tarea y deberá iniciar el proceso de Evaluación Cuantitativa del riesgo\",\"Ha terminado el Proceso de Identificación para esta Tarea y deberá aplicar medidas para reducir el riesgo\")","v":"Ha terminado el Proceso de Identificación para esta Tarea y deberá iniciar el proceso de Evaluación Cuantitativa del riesgo"}]
[null,null,null,"Presencia de ruedas grandes o pequeñas en mal estado, rotas, desgastadas o con poca mantención.","NA","0"]
[null,null,null,"Presencia de ruedas grandes o pequeñas inadecuadas al tipo de carro, peso de la carga y vías de desplazamiento.","NA","0"]
[null,null,"Horas de Trabajo","La tarea de levantamiento/descenso o transporte de carga dura más de 8 hrs.","NA","0"]
[null,null,"Riesgo","Empueje y Arrastre de Carga","Si / No / NA",null,null,null,null,"Si terminó de responder toda la Tabla 6 Presione Aquí para  regresar a Tabla 1 Información General del Puesto de Trabajo donde podrá continuar con la siguiente Tarea"]
[null,null,"Magnitud de la Fuerza","Método dinamómetro (*):\n1. Fuerza inicial es superior a 36 kgs. (Hombres) o 24 kgs.\n(Mujeres).\n2. Fuerza de sustentación es superior a 25 kgs. (Hombres)\ny 15 kgs. (Mujeres).\nMétodo Escala de Borg: los trabajadores perciben alto nivel de esfuerzo físico (valor 8 o más en escala de Borg) durante la (s) tarea (s) de empuje y arrastre de carga (Para obtener la información debe preguntar a los trabajadores utilizando la escala de Borg al final de este anexo).","NA",{"$f":"IF(E14=\"No\",\"0\",IF(E14=\"NA\",\"0\",\"1\"))","v":"0"}]
[null,null,"Dirección de la Fuerza","Durante el desplazamiento la carga requiere de un levantamiento parcial, mientras se empuja o arrastra.","NA",{"$f":"IF(E15=\"No\",\"0\",IF(E15=\"NA\",\"0\",\"1\"))","v":"0"}]
[null,null,"Esfuerzo Físico","La fuerza de empuje o arrastre es realizada con movimientos bruscos o de manera poco controlada.","NA","0"]
[null,null,"Postura","La fuerza de empuje o arrastre es aplicada con el tronco en flexión o torsión significativa.","NA","0"]
[null,null,"Zona de Agarre","Las manos no están delante del cuerpo o fuera del ancho de los hombros cuando se realiza la fuerza de empuje o arrastre.","NA","0"]
[null,null,"Altura aplicación de la Fuerza","La fuerza de empuje o arrastre es aplicada sobre los 150 cm o bajo los 60 cm.","NA","0"]
[null,null,"Duración","La(s) tarea(s) de empuje y arrastre de carga duran más de 8 hrs. diaria.","NA","0"]
[null,null,null,null,null,{"$f":"F4+F5+F6+F7+F8+F9+F10+F11+F12+F14+F15+F16+F17+F18+F19+F20","v":0}]

{"sheet":"TABLA 6T1P7","index":129,"n_rows":21,"n_cols":10,"rows_kept":21,"cut":false,"hidden":false,"merged":[]}
[]
[null,null,null,"EMPUJE Y ARRASTRE DE CARGA - IDENTIFICACIÓN AVANZADA CONDICIÓN CRÍTICA  \n",null,null,null,null,null,"Cuadro de Resultado Tabla 6"]
[null,null,"Condición","Levantamiento/descenso y transporte manual de carga","Si / No / NA"]
[null,null,"Ambiente de Trabajo","Presencia de temperatura extrema (bajo 16° o superior a los 26° grados Celsius) y sin ropa que proteja de las temperaturas extremas.","NA",{"$f":"IF(E4=\"No\",\"0\",IF(E4=\"NA\",\"0\",\"1\"))","v":"0"},null,null,null,"La Tarea:"]
[null,null,null,"Presencia de suelo resbaladizo, irregular o inestable.","NA",{"$f":"IF(E5=\"No\",\"0\",IF(E5=\"NA\",\"0\",\"1\"))","v":"0"},null,null,{"$f":"'TABLA 1 P7'!B6","v":"N° 1"},{"$f":"'TABLA 1 P7'!C6","v":"NA"}]
[null,null,null,"Presencia de vías/caminos donde se restringen los movimientos.","NA","0",null,null,null,"Resultado:"]
[null,null,"Característica del carro o transpaleta","El carro o transpaleta reduce la vista del operador y/o dificulta su movimiento.","NA","0",null,null,{"$f":"F21","v":0},{"$f":"IF(F21>=1,\"Crítica\",\"No Crítica\")","v":"No Crítica"}]
[null,null,null,"La carga es inestable.","NA","0",null,null,null,"Por lo que usted:"]
[null,null,null,"El carro o transpaleta tiene condiciones peligrosas (bordes, superficies o protuberancias afiladas, etc) que pueden lesionar al trabajador.","NA","0",null,null,null,{"$f":"IF(J7=\"No Crítica\",\"Ha terminado el Proceso de Identificación para esta Tarea y deberá iniciar el proceso de Evaluación Cuantitativa del riesgo\",\"Ha terminado el Proceso de Identificación para esta Tarea y deberá aplicar medidas para reducir el riesgo\")","v":"Ha terminado el Proceso de Identificación para esta Tarea y deberá iniciar el proceso de Evaluación Cuantitativa del riesgo"}]
[null,null,null,"Presencia de ruedas grandes o pequeñas en mal estado, rotas, desgastadas o con poca mantención.","NA","0"]
[null,null,null,"Presencia de ruedas grandes o pequeñas inadecuadas al tipo de carro, peso de la carga y vías de desplazamiento.","NA","0"]
[null,null,"Horas de Trabajo","La tarea de levantamiento/descenso o transporte de carga dura más de 8 hrs.","NA","0"]
[null,null,"Riesgo","Empueje y Arrastre de Carga","Si / No / NA",null,null,null,null,"Si terminó de responder toda la Tabla 6 Presione Aquí para  regresar a Tabla 1 Información General del Puesto de Trabajo donde podrá continuar con la siguiente Tarea"]
[null,null,"Magnitud de la Fuerza","Método dinamómetro (*):\n1. Fuerza inicial es superior a 36 kgs. (Hombres) o 24 kgs.\n(Mujeres).\n2. Fuerza de sustentación es superior a 25 kgs. (Hombres)\ny 15 kgs. (Mujeres).\nMétodo Escala de Borg: los trabajadores perciben alto nivel de esfuerzo físico (valor 8 o más en escala de Borg) durante la (s) tarea (s) de empuje y arrastre de carga (Para obtener la información debe preguntar a los trabajadores utilizando la escala de Borg al final de este anexo).","NA",{"$f":"IF(E14=\"No\",\"0\",IF(E14=\"NA\",\"0\",\"1\"))","v":"0"}]
[null,null,"Dirección de la Fuerza","Durante el desplazamiento la carga requiere de un levantamiento parcial, mientras se empuja o arrastra.","NA",{"$f":"IF(E15=\"No\",\"0\",IF(E15=\"NA\",\"0\",\"1\"))","v":"0"}]
[null,null,"Esfuerzo Físico","La fuerza de empuje o arrastre es realizada con movimientos bruscos o de manera poco controlada.","NA","0"]
[null,null,"Postura","La fuerza de empuje o arrastre es aplicada con el tronco en flexión o torsión significativa.","NA","0"]
[null,null,"Zona de Agarre","Las manos no están delante del cuerpo o fuera del ancho de los hombros cuando se realiza la fuerza de empuje o arrastre.","NA","0"]
[null,null,"Altura aplicación de la Fuerza","La fuerza de empuje o arrastre es aplicada sobre los 150 cm o bajo los 60 cm.","NA","0"]
[null,null,"Duración","La(s) tarea(s) de empuje y arrastre de carga duran más de 8 hrs. diaria.","NA","0"]
[null,null,null,null,null,{"$f":"F4+F5+F6+F7+F8+F9+F10+F11+F12+F14+F15+F16+F17+F18+F19+F20","v":0}]

{"sheet":"TABLA 6T1P8","index":130,"n_rows":21,"n_cols":10,"rows_kept":21,"cut":false,"hidden":false,"merged":[]}
[]
[null,null,null,"EMPUJE Y ARRASTRE DE CARGA - IDENTIFICACIÓN AVANZADA CONDICIÓN CRÍTICA  \n",null,null,null,null,null,"Cuadro de Resultado Tabla 6"]
[null,null,"Condición","Levantamiento/descenso y transporte manual de carga","Si / No / NA"]
[null,null,"Ambiente de Trabajo","Presencia de temperatura extrema (bajo 16° o superior a los 26° grados Celsius) y sin ropa que proteja de las temperaturas extremas.","NA",{"$f":"IF(E4=\"No\",\"0\",IF(E4=\"NA\",\"0\",\"1\"))","v":"0"},null,null,null,"La Tarea:"]
[null,null,null,"Presencia de suelo resbaladizo, irregular o inestable.","NA",{"$f":"IF(E5=\"No\",\"0\",IF(E5=\"NA\",\"0\",\"1\"))","v":"0"},null,null,{"$f":"'TABLA 1 P8'!B6","v":"N° 1"},{"$f":"'TABLA 1 P8'!C6","v":"NA"}]
[null,null,null,"Presencia de vías/caminos donde se restringen los movimientos.","NA","0",null,null,null,"Resultado:"]
[null,null,"Característica del carro o transpaleta","El carro o transpaleta reduce la vista del operador y/o dificulta su movimiento.","NA","0",null,null,{"$f":"F21","v":0},{"$f":"IF(F21>=1,\"Crítica\",\"No Crítica\")","v":"No Crítica"}]
[null,null,null,"La carga es inestable.","NA","0",null,null,null,"Por lo que usted:"]
[null,null,null,"El carro o transpaleta tiene condiciones peligrosas (bordes, superficies o protuberancias afiladas, etc) que pueden lesionar al trabajador.","NA","0",null,null,null,{"$f":"IF(J7=\"No Crítica\",\"Ha terminado el Proceso de Identificación para esta Tarea y deberá iniciar el proceso de Evaluación Cuantitativa del riesgo\",\"Ha terminado el Proceso de Identificación para esta Tarea y deberá aplicar medidas para reducir el riesgo\")","v":"Ha terminado el Proceso de Identificación para esta Tarea y deberá iniciar el proceso de Evaluación Cuantitativa del riesgo"}]
[null,null,null,"Presencia de ruedas grandes o pequeñas en mal estado, rotas, desgastadas o con poca mantención.","NA","0"]
[null,null,null,"Presencia de ruedas grandes o pequeñas inadecuadas al tipo de carro, peso de la carga y vías de desplazamiento.","NA","0"]
[null,null,"Horas de Trabajo","La tarea de levantamiento/descenso o transporte de carga dura más de 8 hrs.","NA","0"]
[null,null,"Riesgo","Empueje y Arrastre de Carga","Si / No / NA",null,null,null,null,"Si terminó de responder toda la Tabla 6 Presione Aquí para  regresar a Tabla 1 Información General del Puesto de Trabajo donde podrá continuar con la siguiente Tarea"]
[null,null,"Magnitud de la Fuerza","Método dinamómetro (*):\n1. Fuerza inicial es superior a 36 kgs. (Hombres) o 24 kgs.\n(Mujeres).\n2. Fuerza de sustentación es superior a 25 kgs. (Hombres)\ny 15 kgs. (Mujeres).\nMétodo Escala de Borg: los trabajadores perciben alto nivel de esfuerzo físico (valor 8 o más en escala de Borg) durante la (s) tarea (s) de empuje y arrastre de carga (Para obtener la información debe preguntar a los trabajadores utilizando la escala de Borg al final de este anexo).","NA",{"$f":"IF(E14=\"No\",\"0\",IF(E14=\"NA\",\"0\",\"1\"))","v":"0"}]
[null,null,"Dirección de la Fuerza","Durante el desplazamiento la carga requiere de un levantamiento parcial, mientras se empuja o arrastra.","NA",{"$f":"IF(E15=\"No\",\"0\",IF(E15=\"NA\",\"0\",\"1\"))","v":"0"}]
[null,null,"Esfuerzo Físico","La fuerza de empuje o arrastre es realizada con movimientos bruscos o de manera poco controlada.","NA","0"]
[null,null,"Postura","La fuerza de empuje o arrastre es aplicada con el tronco en flexión o torsión significativa.","NA","0"]
[null,null,"Zona de Agarre","Las manos no están delante del cuerpo o fuera del ancho de los hombros cuando se realiza la fuerza de empuje o arrastre.","NA","0"]
[null,null,"Altura aplicación de la Fuerza","La fuerza de empuje o arrastre es aplicada sobre los 150 cm o bajo los 60 cm.","NA","0"]
[null,null,"Duración","La(s) tarea(s) de empuje y arrastre de carga duran más de 8 hrs. diaria.","NA","0"]
[null,null,null,null,null,{"$f":"F4+F5+F6+F7+F8+F9+F10+F11+F12+F14+F15+F16+F17+F18+F19+F20","v":0}]

{"sheet":"TABLA 6T1P9","index":131,"n_rows":21,"n_cols":10,"rows_kept":21,"cut":false,"hidden":false,"merged":[]}
[]
[null,null,null,"EMPUJE Y ARRASTRE DE CARGA - IDENTIFICACIÓN AVANZADA CONDICIÓN CRÍTICA  \n",null,null,null,null,null,"Cuadro de Resultado Tabla 6"]
[null,null,"Condición","Levantamiento/descenso y transporte manual de carga","Si / No / NA"]
[null,null,"Ambiente de Trabajo","Presencia de temperatura extrema (bajo 16° o superior a los 26° grados Celsius) y sin ropa que proteja de las temperaturas extremas.","NA",{"$f":"IF(E4=\"No\",\"0\",IF(E4=\"NA\",\"0\",\"1\"))","v":"0"},null,null,null,"La Tarea:"]
[null,null,null,"Presencia de suelo resbaladizo, irregular o inestable.","NA",{"$f":"IF(E5=\"No\",\"0\",IF(E5=\"NA\",\"0\",\"1\"))","v":"0"},null,null,{"$f":"'TABLA 1 P9'!B6","v":"N° 1"},{"$f":"'TABLA 1 P9'!C6","v":"NA"}]
[null,null,null,"Presencia de vías/caminos donde se restringen los movimientos.","NA","0",null,null,null,"Resultado:"]
[null,null,"Característica del carro o transpaleta","El carro o transpaleta reduce la vista del operador y/o dificulta su movimiento.","NA","0",null,null,{"$f":"F21","v":0},{"$f":"IF(F21>=1,\"Crítica\",\"No Crítica\")","v":"No Crítica"}]
[null,null,null,"La carga es inestable.","NA","0",null,null,null,"Por lo que usted:"]
[null,null,null,"El carro o transpaleta tiene condiciones peligrosas (bordes, superficies o protuberancias afiladas, etc) que pueden lesionar al trabajador.","NA","0",null,null,null,{"$f":"IF(J7=\"No Crítica\",\"Ha terminado el Proceso de Identificación para esta Tarea y deberá iniciar el proceso de Evaluación Cuantitativa del riesgo\",\"Ha terminado el Proceso de Identificación para esta Tarea y deberá aplicar medidas para reducir el riesgo\")","v":"Ha terminado el Proceso de Identificación para esta Tarea y deberá iniciar el proceso de Evaluación Cuantitativa del riesgo"}]
[null,null,null,"Presencia de ruedas grandes o pequeñas en mal estado, rotas, desgastadas o con poca mantención.","NA","0"]
[null,null,null,"Presencia de ruedas grandes o pequeñas inadecuadas al tipo de carro, peso de la carga y vías de desplazamiento.","NA","0"]
[null,null,"Horas de Trabajo","La tarea de levantamiento/descenso o transporte de carga dura más de 8 hrs.","NA","0"]
[null,null,"Riesgo","Empueje y Arrastre de Carga","Si / No / NA",null,null,null,null,"Si terminó de responder toda la Tabla 6 Presione Aquí para  regresar a Tabla 1 Información General del Puesto de Trabajo donde podrá continuar con la siguiente Tarea"]
[null,null,"Magnitud de la Fuerza","Método dinamómetro (*):\n1. Fuerza inicial es superior a 36 kgs. (Hombres) o 24 kgs.\n(Mujeres).\n2. Fuerza de sustentación es superior a 25 kgs. (Hombres)\ny 15 kgs. (Mujeres).\nMétodo Escala de Borg: los trabajadores perciben alto nivel de esfuerzo físico (valor 8 o más en escala de Borg) durante la (s) tarea (s) de empuje y arrastre de carga (Para obtener la información debe preguntar a los trabajadores utilizando la escala de Borg al final de este anexo).","NA",{"$f":"IF(E14=\"No\",\"0\",IF(E14=\"NA\",\"0\",\"1\"))","v":"0"}]
[null,null,"Dirección de la Fuerza","Durante el desplazamiento la carga requiere de un levantamiento parcial, mientras se empuja o arrastra.","NA",{"$f":"IF(E15=\"No\",\"0\",IF(E15=\"NA\",\"0\",\"1\"))","v":"0"}]
[null,null,"Esfuerzo Físico","La fuerza de empuje o arrastre es realizada con movimientos bruscos o de manera poco controlada.","NA","0"]
[null,null,"Postura","La fuerza de empuje o arrastre es aplicada con el tronco en flexión o torsión significativa.","NA","0"]
[null,null,"Zona de Agarre","Las manos no están delante del cuerpo o fuera del ancho de los hombros cuando se realiza la fuerza de empuje o arrastre.","NA","0"]
[null,null,"Altura aplicación de la Fuerza","La fuerza de empuje o arrastre es aplicada sobre los 150 cm o bajo los 60 cm.","NA","0"]
[null,null,"Duración","La(s) tarea(s) de empuje y arrastre de carga duran más de 8 hrs. diaria.","NA","0"]
[null,null,null,null,null,{"$f":"F4+F5+F6+F7+F8+F9+F10+F11+F12+F14+F15+F16+F17+F18+F19+F20","v":0}]

{"sheet":"TABLA 6T1P10","index":132,"n_rows":21,"n_cols":10,"rows_kept":21,"cut":false,"hidden":false,"merged":[]}
[]
[null,null,null,"EMPUJE Y ARRASTRE DE CARGA - IDENTIFICACIÓN AVANZADA CONDICIÓN CRÍTICA  \n",null,null,null,null,null,"Cuadro de Resultado Tabla 6"]
[null,null,"Condición","Levantamiento/descenso y transporte manual de carga","Si / No / NA"]
[null,null,"Ambiente de Trabajo","Presencia de temperatura extrema (bajo 16° o superior a los 26° grados Celsius) y sin ropa que proteja de las temperaturas extremas.","NA",{"$f":"IF(E4=\"No\",\"0\",IF(E4=\"NA\",\"0\",\"1\"))","v":"0"},null,null,null,"La Tarea:"]
[null,null,null,"Presencia de suelo resbaladizo, irregular o inestable.","NA",{"$f":"IF(E5=\"No\",\"0\",IF(E5=\"NA\",\"0\",\"1\"))","v":"0"},null,null,{"$f":"'TABLA 1 P10'!B6","v":"N° 1"},{"$f":"'TABLA 1 P10'!C6","v":"NA"}]
[null,null,null,"Presencia de vías/caminos donde se restringen los movimientos.","NA","0",null,null,null,"Resultado:"]
[null,null,"Característica del carro o transpaleta","El carro o transpaleta reduce la vista del operador y/o dificulta su movimiento.","NA","0",null,null,{"$f":"F21","v":0},{"$f":"IF(F21>=1,\"Crítica\",\"No Crítica\")","v":"No Crítica"}]
[null,null,null,"La carga es inestable.","NA","0",null,null,null,"Por lo que usted:"]
[null,null,null,"El carro o transpaleta tiene condiciones peligrosas (bordes, superficies o protuberancias afiladas, etc) que pueden lesionar al trabajador.","NA","0",null,null,null,{"$f":"IF(J7=\"No Crítica\",\"Ha terminado el Proceso de Identificación para esta Tarea y deberá iniciar el proceso de Evaluación Cuantitativa del riesgo\",\"Ha terminado el Proceso de Identificación para esta Tarea y deberá aplicar medidas para reducir el riesgo\")","v":"Ha terminado el Proceso de Identificación para esta Tarea y deberá iniciar el proceso de Evaluación Cuantitativa del riesgo"}]
[null,null,null,"Presencia de ruedas grandes o pequeñas en mal estado, rotas, desgastadas o con poca mantención.","NA","0"]
[null,null,null,"Presencia de ruedas grandes o pequeñas inadecuadas al tipo de carro, peso de la carga y vías de desplazamiento.","NA","0"]
[null,null,"Horas de Trabajo","La tarea de levantamiento/descenso o transporte de carga dura más de 8 hrs.","NA","0"]
[null,null,"Riesgo","Empueje y Arrastre de Carga","Si / No / NA",null,null,null,null,"Si terminó de responder toda la Tabla 6 Presione Aquí para  regresar a Tabla 1 Información General del Puesto de Trabajo donde podrá continuar con la siguiente Tarea"]
[null,null,"Magnitud de la Fuerza","Método dinamómetro (*):\n1. Fuerza inicial es superior a 36 kgs. (Hombres) o 24 kgs.\n(Mujeres).\n2. Fuerza de sustentación es superior a 25 kgs. (Hombres)\ny 15 kgs. (Mujeres).\nMétodo Escala de Borg: los trabajadores perciben alto nivel de esfuerzo físico (valor 8 o más en escala de Borg) durante la (s) tarea (s) de empuje y arrastre de carga (Para obtener la información debe preguntar a los trabajadores utilizando la escala de Borg al final de este anexo).","NA",{"$f":"IF(E14=\"No\",\"0\",IF(E14=\"NA\",\"0\",\"1\"))","v":"0"}]
[null,null,"Dirección de la Fuerza","Durante el desplazamiento la carga requiere de un levantamiento parcial, mientras se empuja o arrastra.","NA",{"$f":"IF(E15=\"No\",\"0\",IF(E15=\"NA\",\"0\",\"1\"))","v":"0"}]
[null,null,"Esfuerzo Físico","La fuerza de empuje o arrastre es realizada con movimientos bruscos o de manera poco controlada.","NA","0"]
[null,null,"Postura","La fuerza de empuje o arrastre es aplicada con el tronco en flexión o torsión significativa.","NA","0"]
[null,null,"Zona de Agarre","Las manos no están delante del cuerpo o fuera del ancho de los hombros cuando se realiza la fuerza de empuje o arrastre.","NA","0"]
[null,null,"Altura aplicación de la Fuerza","La fuerza de empuje o arrastre es aplicada sobre los 150 cm o bajo los 60 cm.","NA","0"]
[null,null,"Duración","La(s) tarea(s) de empuje y arrastre de carga duran más de 8 hrs. diaria.","NA","0"]
[null,null,null,null,null,{"$f":"F4+F5+F6+F7+F8+F9+F10+F11+F12+F14+F15+F16+F17+F18+F19+F20","v":0}]

{"sheet":"TABLA 5T2P1","index":133,"n_rows":23,"n_cols":11,"rows_kept":23,"cut":false,"hidden":false,"merged":[]}
[]
[null,null,null,"EMPUJE Y ARRASTRE DE CARGA - IDENTIFICACIÓN AVANZADA  CONDICIÓN ACEPTABLE  ",null,null,null,null,null,"Cuadro de Resultado Tabla 5"]
[null,null,"Condición","Empueje y Arrastre de Carga","Si / No / NA"]
[null,null,"Ambiente de Trabajo","La temperatura en donde se realiza la tarea es entre los 18° y 26° (grados Celsius).","NA",{"$f":"IF(E4=\"SI\",\"0\",IF(E4=\"NA\",\"0\",\"1\"))","v":"0"},null,null,null,"La Tarea:"]
[null,null,null,"El piso se encuentra en buenas condiciones (regular, compacto, seco y estable) y sin pendiente.","NA",{"$f":"IF(E5=\"SI\",\"0\",IF(E5=\"NA\",\"0\",\"1\"))","v":"0"},null,null,{"$f":"'TABLA 1 P1'!B8","v":"N° 2"},{"$f":"'TABLA 1 P1'!C8","v":"NA"}]
[null,null,null,"Presencia de vías/caminos donde se permite el normal desplazamiento (espacio suficiente para el desplazamiento).","NA","0",null,null,null,"Resultado:"]
[null,null,null,"El carro o transpaleta permite la visibilidad y movimientos normales del trabajador.","NA","0",null,null,{"$f":"F18","v":0},{"$f":"IF(F18>=1,\"No es Aceptable\",\"Aceptable\")","v":"Aceptable"}]
[null,null,null,"El centro de gravedad de la carga es estable.","NA","0",null,null,null,"Por lo que usted:"]
[null,null,"Característica del carro o transpaleta","La carro o transpaleta permite su agarre sin riesgo de cortes, compresión o quemaduras.","NA","0",null,null,null,{"$f":"IF(J7=\"Aceptable\",\"Ha Terminado el Proceso de Identificación para esta Tarea\",\"Debe Aplicar Tabla 6\")","v":"Ha Terminado el Proceso de Identificación para esta Tarea"},{"$f":"F18","v":0}]
[null,null,null,"Presencia de ruedas grandes o pequeñas en buen estado.","NA","0"]
[null,null,null,"Presencia de ruedas grandes o pequeñas adecuadas al tipo de carro, peso de la carga y vías de desplazamiento.","NA","0",null,null,null,{"$f":"IF(J7=\"Aceptable\",\"Si terminó de responder toda la Tabla 5 Presione Aquí para  regresar a Tabla 1 Información General del Puesto de Trabajo donde podrá continuar con la siguiente Tarea\",\"\")","v":"Si terminó de responder toda la Tabla 5 Presione Aquí para  regresar a Tabla 1 Información General del Puesto de Trabajo donde podrá continuar con la siguiente Tarea"},{"$f":"F18","v":0}]
[null,null,"Riesgo","Empueje y Arrastre de Carga","Si / No / NA"]
[null,null,"Magnitud de la Fuerza","Método dinamómetro (*): la fuerza inicial no supera los 10 kgs de fuerza y la fuerza de sustentación no supera los 5 kgs de fuerza.\nMétodo Escala de Borg: los trabajadores perciben leve esfuerzo físico (valor 2 o menos en escala de Borg) durante la tarea (s) de empuje y arrastre de carga (Para obtener la información debe preguntar a los trabajadores utilizando la escala de Borg (Anexo 3).","NA","0",null,null,null,null,{"$f":"F18","v":0}]
[null,null,"Duración","La(s) tarea(s) de empuje y arrastre de carga duran hasta 8 hrs. diaria.","NA","0"]
[null,null,"Altura aplicación de la Fuerza","La fuerza se realiza entre las caderas y la zona media del tronco.","NA","0",null,null,null,null,{"$f":"F18","v":0}]
[null,null,"Postura","La fuerza de empuje o arrastre es aplicada con el tronco recto (sin flexión o torsión).","NA","0"]
[null,null,"Zona de agarre","Las manos están delante del cuerpo y entre los hombros cuando se realiza la fuerza de empuje o arrastre.","NA","0"]
[null,null,null,null,null,{"$f":"F4+F5+F6+F7+F8+F9+F10+F11+F13+F14+F15+F16+F17","v":0},null,null,null,null,{"$f":"F18","v":0}]
[]
[]
[]
[]
[null,null,null,null,null,null,null,null,null,"Presione solo si al completar Tabla 5  se lo indica el Cuadro de Resultado",{"$f":"F18","v":0}]

{"sheet":"TABLA 5T2P2","index":134,"n_rows":23,"n_cols":11,"rows_kept":23,"cut":false,"hidden":false,"merged":[]}
[]
[null,null,null,"EMPUJE Y ARRASTRE DE CARGA - IDENTIFICACIÓN AVANZADA  CONDICIÓN ACEPTABLE  ",null,null,null,null,null,"Cuadro de Resultado Tabla 5"]
[null,null,"Condición","Empueje y Arrastre de Carga","Si / No / NA"]
[null,null,"Ambiente de Trabajo","La temperatura en donde se realiza la tarea es entre los 18° y 26° (grados Celsius).","NA",{"$f":"IF(E4=\"SI\",\"0\",IF(E4=\"NA\",\"0\",\"1\"))","v":"0"},null,null,null,"La Tarea:"]
[null,null,null,"El piso se encuentra en buenas condiciones (regular, compacto, seco y estable) y sin pendiente.","NA",{"$f":"IF(E5=\"SI\",\"0\",IF(E5=\"NA\",\"0\",\"1\"))","v":"0"},null,null,{"$f":"'TABLA 1 P2'!B8","v":"N° 2"},{"$f":"'TABLA 1 P2'!C8","v":"NA"}]
[null,null,null,"Presencia de vías/caminos donde se permite el normal desplazamiento (espacio suficiente para el desplazamiento).","NA","0",null,null,null,"Resultado:"]
[null,null,null,"El carro o transpaleta permite la visibilidad y movimientos normales del trabajador.","NA","0",null,null,{"$f":"F18","v":0},{"$f":"IF(F18>=1,\"No es Aceptable\",\"Aceptable\")","v":"Aceptable"}]
[null,null,null,"El centro de gravedad de la carga es estable.","NA","0",null,null,null,"Por lo que usted:"]
[null,null,"Característica del carro o transpaleta","La carro o transpaleta permite su agarre sin riesgo de cortes, compresión o quemaduras.","NA","0",null,null,null,{"$f":"IF(J7=\"Aceptable\",\"Ha Terminado el Proceso de Identificación para esta Tarea\",\"Debe Aplicar Tabla 6\")","v":"Ha Terminado el Proceso de Identificación para esta Tarea"},{"$f":"F18","v":0}]
[null,null,null,"Presencia de ruedas grandes o pequeñas en buen estado.","NA","0"]
[null,null,null,"Presencia de ruedas grandes o pequeñas adecuadas al tipo de carro, peso de la carga y vías de desplazamiento.","NA","0",null,null,null,{"$f":"IF(J7=\"Aceptable\",\"Si terminó de responder toda la Tabla 5 Presione Aquí para  regresar a Tabla 1 Información General del Puesto de Trabajo donde podrá continuar con la siguiente Tarea\",\"\")","v":"Si terminó de responder toda la Tabla 5 Presione Aquí para  regresar a Tabla 1 Información General del Puesto de Trabajo donde podrá continuar con la siguiente Tarea"},{"$f":"F18","v":0}]
[null,null,"Riesgo","Empueje y Arrastre de Carga","Si / No / NA"]
[null,null,"Magnitud de la Fuerza","Método dinamómetro (*): la fuerza inicial no supera los 10 kgs de fuerza y la fuerza de sustentación no supera los 5 kgs de fuerza.\nMétodo Escala de Borg: los trabajadores perciben leve esfuerzo físico (valor 2 o menos en escala de Borg) durante la tarea (s) de empuje y arrastre de carga (Para obtener la información debe preguntar a los trabajadores utilizando la escala de Borg (Anexo 3).","NA","0",null,null,null,null,{"$f":"F18","v":0}]
[null,null,"Duración","La(s) tarea(s) de empuje y arrastre de carga duran hasta 8 hrs. diaria.","NA","0"]
[null,null,"Altura aplicación de la Fuerza","La fuerza se realiza entre las caderas y la zona media del tronco.","NA","0",null,null,null,null,{"$f":"F18","v":0}]
[null,null,"Postura","La fuerza de empuje o arrastre es aplicada con el tronco recto (sin flexión o torsión).","NA","0"]
[null,null,"Zona de agarre","Las manos están delante del cuerpo y entre los hombros cuando se realiza la fuerza de empuje o arrastre.","NA","0"]
[null,null,null,null,null,{"$f":"F4+F5+F6+F7+F8+F9+F10+F11+F13+F14+F15+F16+F17","v":0},null,null,null,null,{"$f":"F18","v":0}]
[]
[]
[]
[]
[null,null,null,null,null,null,null,null,null,"Presione solo si al completar Tabla 5  se lo indica el Cuadro de Resultado",{"$f":"F18","v":0}]

{"sheet":"TABLA 5T2P3","index":135,"n_rows":23,"n_cols":11,"rows_kept":23,"cut":false,"hidden":false,"merged":[]}
[]
[null,null,null,"EMPUJE Y ARRASTRE DE CARGA - IDENTIFICACIÓN AVANZADA  CONDICIÓN ACEPTABLE  ",null,null,null,null,null,"Cuadro de Resultado Tabla 5"]
[null,null,"Condición","Empueje y Arrastre de Carga","Si / No / NA"]
[null,null,"Ambiente de Trabajo","La temperatura en donde se realiza la tarea es entre los 18° y 26° (grados Celsius).","NA",{"$f":"IF(E4=\"SI\",\"0\",IF(E4=\"NA\",\"0\",\"1\"))","v":"0"},null,null,null,"La Tarea:"]
[null,null,null,"El piso se encuentra en buenas condiciones (regular, compacto, seco y estable) y sin pendiente.","NA",{"$f":"IF(E5=\"SI\",\"0\",IF(E5=\"NA\",\"0\",\"1\"))","v":"0"},null,null,{"$f":"'TABLA 1 P3'!B8","v":"N° 2"},{"$f":"'TABLA 1 P3'!C8","v":"NA"}]
[null,null,null,"Presencia de vías/caminos donde se permite el normal desplazamiento (espacio suficiente para el desplazamiento).","NA","0",null,null,null,"Resultado:"]
[null,null,null,"El carro o transpaleta permite la visibilidad y movimientos normales del trabajador.","NA","0",null,null,{"$f":"F18","v":0},{"$f":"IF(F18>=1,\"No es Aceptable\",\"Aceptable\")","v":"Aceptable"}]
[null,null,null,"El centro de gravedad de la carga es estable.","NA","0",null,null,null,"Por lo que usted:"]
[null,null,"Característica del carro o transpaleta","La carro o transpaleta permite su agarre sin riesgo de cortes, compresión o quemaduras.","NA","0",null,null,null,{"$f":"IF(J7=\"Aceptable\",\"Ha Terminado el Proceso de Identificación para esta Tarea\",\"Debe Aplicar Tabla 6\")","v":"Ha Terminado el Proceso de Identificación para esta Tarea"},{"$f":"F18","v":0}]
[null,null,null,"Presencia de ruedas grandes o pequeñas en buen estado.","NA","0"]
[null,null,null,"Presencia de ruedas grandes o pequeñas adecuadas al tipo de carro, peso de la carga y vías de desplazamiento.","NA","0",null,null,null,{"$f":"IF(J7=\"Aceptable\",\"Si terminó de responder toda la Tabla 5 Presione Aquí para  regresar a Tabla 1 Información General del Puesto de Trabajo donde podrá continuar con la siguiente Tarea\",\"\")","v":"Si terminó de responder toda la Tabla 5 Presione Aquí para  regresar a Tabla 1 Información General del Puesto de Trabajo donde podrá continuar con la siguiente Tarea"},{"$f":"F18","v":0}]
[null,null,"Riesgo","Empueje y Arrastre de Carga","Si / No / NA"]
[null,null,"Magnitud de la Fuerza","Método dinamómetro (*): la fuerza inicial no supera los 10 kgs de fuerza y la fuerza de sustentación no supera los 5 kgs de fuerza.\nMétodo Escala de Borg: los trabajadores perciben leve esfuerzo físico (valor 2 o menos en escala de Borg) durante la tarea (s) de empuje y arrastre de carga (Para obtener la información debe preguntar a los trabajadores utilizando la escala de Borg (Anexo 3).","NA","0",null,null,null,null,{"$f":"F18","v":0}]
[null,null,"Duración","La(s) tarea(s) de empuje y arrastre de carga duran hasta 8 hrs. diaria.","NA","0"]
[null,null,"Altura aplicación de la Fuerza","La fuerza se realiza entre las caderas y la zona media del tronco.","NA","0",null,null,null,null,{"$f":"F18","v":0}]
[null,null,"Postura","La fuerza de empuje o arrastre es aplicada con el tronco recto (sin flexión o torsión).","NA","0"]
[null,null,"Zona de agarre","Las manos están delante del cuerpo y entre los hombros cuando se realiza la fuerza de empuje o arrastre.","NA","0"]
[null,null,null,null,null,{"$f":"F4+F5+F6+F7+F8+F9+F10+F11+F13+F14+F15+F16+F17","v":0},null,null,null,null,{"$f":"F18","v":0}]
[]
[]
[]
[]
[null,null,null,null,null,null,null,null,null,"Presione solo si al completar Tabla 5  se lo indica el Cuadro de Resultado",{"$f":"F18","v":0}]

{"sheet":"TABLA 5T2P4","index":136,"n_rows":23,"n_cols":11,"rows_kept":23,"cut":false,"hidden":false,"merged":[]}
[]
[null,null,null,"EMPUJE Y ARRASTRE DE CARGA - IDENTIFICACIÓN AVANZADA  CONDICIÓN ACEPTABLE  ",null,null,null,null,null,"Cuadro de Resultado Tabla 5"]
[null,null,"Condición","Empueje y Arrastre de Carga","Si / No / NA"]
[null,null,"Ambiente de Trabajo","La temperatura en donde se realiza la tarea es entre los 18° y 26° (grados Celsius).","NA",{"$f":"IF(E4=\"SI\",\"0\",IF(E4=\"NA\",\"0\",\"1\"))","v":"0"},null,null,null,"La Tarea:"]
[null,null,null,"El piso se encuentra en buenas condiciones (regular, compacto, seco y estable) y sin pendiente.","NA",{"$f":"IF(E5=\"SI\",\"0\",IF(E5=\"NA\",\"0\",\"1\"))","v":"0"},null,null,{"$f":"'TABLA 1 P4'!B8","v":"N° 2"},{"$f":"'TABLA 1 P4'!C8","v":"NA"}]
[null,null,null,"Presencia de vías/caminos donde se permite el normal desplazamiento (espacio suficiente para el desplazamiento).","NA","0",null,null,null,"Resultado:"]
[null,null,null,"El carro o transpaleta permite la visibilidad y movimientos normales del trabajador.","NA","0",null,null,{"$f":"F18","v":0},{"$f":"IF(F18>=1,\"No es Aceptable\",\"Aceptable\")","v":"Aceptable"}]
[null,null,null,"El centro de gravedad de la carga es estable.","NA","0",null,null,null,"Por lo que usted:"]
[null,null,"Característica del carro o transpaleta","La carro o transpaleta permite su agarre sin riesgo de cortes, compresión o quemaduras.","NA","0",null,null,null,{"$f":"IF(J7=\"Aceptable\",\"Ha Terminado el Proceso de Identificación para esta Tarea\",\"Debe Aplicar Tabla 6\")","v":"Ha Terminado el Proceso de Identificación para esta Tarea"},{"$f":"F18","v":0}]
[null,null,null,"Presencia de ruedas grandes o pequeñas en buen estado.","NA","0"]
[null,null,null,"Presencia de ruedas grandes o pequeñas adecuadas al tipo de carro, peso de la carga y vías de desplazamiento.","NA","0",null,null,null,{"$f":"IF(J7=\"Aceptable\",\"Si terminó de responder toda la Tabla 5 Presione Aquí para  regresar a Tabla 1 Información General del Puesto de Trabajo donde podrá continuar con la siguiente Tarea\",\"\")","v":"Si terminó de responder toda la Tabla 5 Presione Aquí para  regresar a Tabla 1 Información General del Puesto de Trabajo donde podrá continuar con la siguiente Tarea"},{"$f":"F18","v":0}]
[null,null,"Riesgo","Empueje y Arrastre de Carga","Si / No / NA"]
[null,null,"Magnitud de la Fuerza","Método dinamómetro (*): la fuerza inicial no supera los 10 kgs de fuerza y la fuerza de sustentación no supera los 5 kgs de fuerza.\nMétodo Escala de Borg: los trabajadores perciben leve esfuerzo físico (valor 2 o menos en escala de Borg) durante la tarea (s) de empuje y arrastre de carga (Para obtener la información debe preguntar a los trabajadores utilizando la escala de Borg (Anexo 3).","NA","0",null,null,null,null,{"$f":"F18","v":0}]
[null,null,"Duración","La(s) tarea(s) de empuje y arrastre de carga duran hasta 8 hrs. diaria.","NA","0"]
[null,null,"Altura aplicación de la Fuerza","La fuerza se realiza entre las caderas y la zona media del tronco.","NA","0",null,null,null,null,{"$f":"F18","v":0}]
[null,null,"Postura","La fuerza de empuje o arrastre es aplicada con el tronco recto (sin flexión o torsión).","NA","0"]
[null,null,"Zona de agarre","Las manos están delante del cuerpo y entre los hombros cuando se realiza la fuerza de empuje o arrastre.","NA","0"]
[null,null,null,null,null,{"$f":"F4+F5+F6+F7+F8+F9+F10+F11+F13+F14+F15+F16+F17","v":0},null,null,null,null,{"$f":"F18","v":0}]
[]
[]
[]
[]
[null,null,null,null,null,null,null,null,null,"Presione solo si al completar Tabla 5  se lo indica el Cuadro de Resultado",{"$f":"F18","v":0}]

{"sheet":"TABLA 5T2P5","index":137,"n_rows":23,"n_cols":11,"rows_kept":23,"cut":false,"hidden":false,"merged":[]}
[]
[null,null,null,"EMPUJE Y ARRASTRE DE CARGA - IDENTIFICACIÓN AVANZADA  CONDICIÓN ACEPTABLE  ",null,null,null,null,null,"Cuadro de Resultado Tabla 5"]
[null,null,"Condición","Empueje y Arrastre de Carga","Si / No / NA"]
[null,null,"Ambiente de Trabajo","La temperatura en donde se realiza la tarea es entre los 18° y 26° (grados Celsius).","NA",{"$f":"IF(E4=\"SI\",\"0\",IF(E4=\"NA\",\"0\",\"1\"))","v":"0"},null,null,null,"La Tarea:"]
[null,null,null,"El piso se encuentra en buenas condiciones (regular, compacto, seco y estable) y sin pendiente.","NA",{"$f":"IF(E5=\"SI\",\"0\",IF(E5=\"NA\",\"0\",\"1\"))","v":"0"},null,null,{"$f":"'TABLA 1 P5'!B8","v":"N° 2"},{"$f":"'TABLA 1 P5'!C8","v":"NA"}]
[null,null,null,"Presencia de vías/caminos donde se permite el normal desplazamiento (espacio suficiente para el desplazamiento).","NA","0",null,null,null,"Resultado:"]
[null,null,null,"El carro o transpaleta permite la visibilidad y movimientos normales del trabajador.","NA","0",null,null,{"$f":"F18","v":0},{"$f":"IF(F18>=1,\"No es Aceptable\",\"Aceptable\")","v":"Aceptable"}]
[null,null,null,"El centro de gravedad de la carga es estable.","NA","0",null,null,null,"Por lo que usted:"]
[null,null,"Característica del carro o transpaleta","La carro o transpaleta permite su agarre sin riesgo de cortes, compresión o quemaduras.","NA","0",null,null,null,{"$f":"IF(J7=\"Aceptable\",\"Ha Terminado el Proceso de Identificación para esta Tarea\",\"Debe Aplicar Tabla 6\")","v":"Ha Terminado el Proceso de Identificación para esta Tarea"},{"$f":"F18","v":0}]
[null,null,null,"Presencia de ruedas grandes o pequeñas en buen estado.","NA","0"]
[null,null,null,"Presencia de ruedas grandes o pequeñas adecuadas al tipo de carro, peso de la carga y vías de desplazamiento.","NA","0",null,null,null,{"$f":"IF(J7=\"Aceptable\",\"Si terminó de responder toda la Tabla 5 Presione Aquí para  regresar a Tabla 1 Información General del Puesto de Trabajo donde podrá continuar con la siguiente Tarea\",\"\")","v":"Si terminó de responder toda la Tabla 5 Presione Aquí para  regresar a Tabla 1 Información General del Puesto de Trabajo donde podrá continuar con la siguiente Tarea"},{"$f":"F18","v":0}]
[null,null,"Riesgo","Empueje y Arrastre de Carga","Si / No / NA"]
[null,null,"Magnitud de la Fuerza","Método dinamómetro (*): la fuerza inicial no supera los 10 kgs de fuerza y la fuerza de sustentación no supera los 5 kgs de fuerza.\nMétodo Escala de Borg: los trabajadores perciben leve esfuerzo físico (valor 2 o menos en escala de Borg) durante la tarea (s) de empuje y arrastre de carga (Para obtener la información debe preguntar a los trabajadores utilizando la escala de Borg (Anexo 3).","NA","0",null,null,null,null,{"$f":"F18","v":0}]
[null,null,"Duración","La(s) tarea(s) de empuje y arrastre de carga duran hasta 8 hrs. diaria.","NA","0"]
[null,null,"Altura aplicación de la Fuerza","La fuerza se realiza entre las caderas y la zona media del tronco.","NA","0",null,null,null,null,{"$f":"F18","v":0}]
[null,null,"Postura","La fuerza de empuje o arrastre es aplicada con el tronco recto (sin flexión o torsión).","NA","0"]
[null,null,"Zona de agarre","Las manos están delante del cuerpo y entre los hombros cuando se realiza la fuerza de empuje o arrastre.","NA","0"]
[null,null,null,null,null,{"$f":"F4+F5+F6+F7+F8+F9+F10+F11+F13+F14+F15+F16+F17","v":0},null,null,null,null,{"$f":"F18","v":0}]
[]
[]
[]
[]
[null,null,null,null,null,null,null,null,null,"Presione solo si al completar Tabla 5  se lo indica el Cuadro de Resultado",{"$f":"F18","v":0}]

{"sheet":"TABLA 5T2P6","index":138,"n_rows":23,"n_cols":11,"rows_kept":23,"cut":false,"hidden":false,"merged":[]}
[]
[null,null,null,"EMPUJE Y ARRASTRE DE CARGA - IDENTIFICACIÓN AVANZADA  CONDICIÓN ACEPTABLE  ",null,null,null,null,null,"Cuadro de Resultado Tabla 5"]
[null,null,"Condición","Empueje y Arrastre de Carga","Si / No / NA"]
[null,null,"Ambiente de Trabajo","La temperatura en donde se realiza la tarea es entre los 18° y 26° (grados Celsius).","NA",{"$f":"IF(E4=\"SI\",\"0\",IF(E4=\"NA\",\"0\",\"1\"))","v":"0"},null,null,null,"La Tarea:"]
[null,null,null,"El piso se encuentra en buenas condiciones (regular, compacto, seco y estable) y sin pendiente.","NA",{"$f":"IF(E5=\"SI\",\"0\",IF(E5=\"NA\",\"0\",\"1\"))","v":"0"},null,null,{"$f":"'TABLA 1 P6'!B8","v":"N° 2"},{"$f":"'TABLA 1 P6'!C8","v":"NA"}]
[null,null,null,"Presencia de vías/caminos donde se permite el normal desplazamiento (espacio suficiente para el desplazamiento).","NA","0",null,null,null,"Resultado:"]
[null,null,null,"El carro o transpaleta permite la visibilidad y movimientos normales del trabajador.","NA","0",null,null,{"$f":"F18","v":0},{"$f":"IF(F18>=1,\"No es Aceptable\",\"Aceptable\")","v":"Aceptable"}]
[null,null,null,"El centro de gravedad de la carga es estable.","NA","0",null,null,null,"Por lo que usted:"]
[null,null,"Característica del carro o transpaleta","La carro o transpaleta permite su agarre sin riesgo de cortes, compresión o quemaduras.","NA","0",null,null,null,{"$f":"IF(J7=\"Aceptable\",\"Ha Terminado el Proceso de Identificación para esta Tarea\",\"Debe Aplicar Tabla 6\")","v":"Ha Terminado el Proceso de Identificación para esta Tarea"},{"$f":"F18","v":0}]
[null,null,null,"Presencia de ruedas grandes o pequeñas en buen estado.","NA","0"]
[null,null,null,"Presencia de ruedas grandes o pequeñas adecuadas al tipo de carro, peso de la carga y vías de desplazamiento.","NA","0",null,null,null,{"$f":"IF(J7=\"Aceptable\",\"Si terminó de responder toda la Tabla 5 Presione Aquí para  regresar a Tabla 1 Información General del Puesto de Trabajo donde podrá continuar con la siguiente Tarea\",\"\")","v":"Si terminó de responder toda la Tabla 5 Presione Aquí para  regresar a Tabla 1 Información General del Puesto de Trabajo donde podrá continuar con la siguiente Tarea"},{"$f":"F18","v":0}]
[null,null,"Riesgo","Empueje y Arrastre de Carga","Si / No / NA"]
[null,null,"Magnitud de la Fuerza","Método dinamómetro (*): la fuerza inicial no supera los 10 kgs de fuerza y la fuerza de sustentación no supera los 5 kgs de fuerza.\nMétodo Escala de Borg: los trabajadores perciben leve esfuerzo físico (valor 2 o menos en escala de Borg) durante la tarea (s) de empuje y arrastre de carga (Para obtener la información debe preguntar a los trabajadores utilizando la escala de Borg (Anexo 3).","NA","0",null,null,null,null,{"$f":"F18","v":0}]
[null,null,"Duración","La(s) tarea(s) de empuje y arrastre de carga duran hasta 8 hrs. diaria.","NA","0"]
[null,null,"Altura aplicación de la Fuerza","La fuerza se realiza entre las caderas y la zona media del tronco.","NA","0",null,null,null,null,{"$f":"F18","v":0}]
[null,null,"Postura","La fuerza de empuje o arrastre es aplicada con el tronco recto (sin flexión o torsión).","NA","0"]
[null,null,"Zona de agarre","Las manos están delante del cuerpo y entre los hombros cuando se realiza la fuerza de empuje o arrastre.","NA","0"]
[null,null,null,null,null,{"$f":"F4+F5+F6+F7+F8+F9+F10+F11+F13+F14+F15+F16+F17","v":0},null,null,null,null,{"$f":"F18","v":0}]
[]
[]
[]
[]
[null,null,null,null,null,null,null,null,null,"Presione solo si al completar Tabla 5  se lo indica el Cuadro de Resultado",{"$f":"F18","v":0}]

{"sheet":"TABLA 5T2P7","index":139,"n_rows":23,"n_cols":11,"rows_kept":23,"cut":false,"hidden":false,"merged":[]}
[]
[null,null,null,"EMPUJE Y ARRASTRE DE CARGA - IDENTIFICACIÓN AVANZADA  CONDICIÓN ACEPTABLE  ",null,null,null,null,null,"Cuadro de Resultado Tabla 5"]
[null,null,"Condición","Empueje y Arrastre de Carga","Si / No / NA"]
[null,null,"Ambiente de Trabajo","La temperatura en donde se realiza la tarea es entre los 18° y 26° (grados Celsius).","NA",{"$f":"IF(E4=\"SI\",\"0\",IF(E4=\"NA\",\"0\",\"1\"))","v":"0"},null,null,null,"La Tarea:"]
[null,null,null,"El piso se encuentra en buenas condiciones (regular, compacto, seco y estable) y sin pendiente.","NA",{"$f":"IF(E5=\"SI\",\"0\",IF(E5=\"NA\",\"0\",\"1\"))","v":"0"},null,null,{"$f":"'TABLA 1 P7'!B8","v":"N° 2"},{"$f":"'TABLA 1 P7'!C8","v":"NA"}]
[null,null,null,"Presencia de vías/caminos donde se permite el normal desplazamiento (espacio suficiente para el desplazamiento).","NA","0",null,null,null,"Resultado:"]
[null,null,null,"El carro o transpaleta permite la visibilidad y movimientos normales del trabajador.","NA","0",null,null,{"$f":"F18","v":0},{"$f":"IF(F18>=1,\"No es Aceptable\",\"Aceptable\")","v":"Aceptable"}]
[null,null,null,"El centro de gravedad de la carga es estable.","NA","0",null,null,null,"Por lo que usted:"]
[null,null,"Característica del carro o transpaleta","La carro o transpaleta permite su agarre sin riesgo de cortes, compresión o quemaduras.","NA","0",null,null,null,{"$f":"IF(J7=\"Aceptable\",\"Ha Terminado el Proceso de Identificación para esta Tarea\",\"Debe Aplicar Tabla 6\")","v":"Ha Terminado el Proceso de Identificación para esta Tarea"},{"$f":"F18","v":0}]
[null,null,null,"Presencia de ruedas grandes o pequeñas en buen estado.","NA","0"]
[null,null,null,"Presencia de ruedas grandes o pequeñas adecuadas al tipo de carro, peso de la carga y vías de desplazamiento.","NA","0",null,null,null,{"$f":"IF(J7=\"Aceptable\",\"Si terminó de responder toda la Tabla 5 Presione Aquí para  regresar a Tabla 1 Información General del Puesto de Trabajo donde podrá continuar con la siguiente Tarea\",\"\")","v":"Si terminó de responder toda la Tabla 5 Presione Aquí para  regresar a Tabla 1 Información General del Puesto de Trabajo donde podrá continuar con la siguiente Tarea"},{"$f":"F18","v":0}]
[null,null,"Riesgo","Empueje y Arrastre de Carga","Si / No / NA"]
[null,null,"Magnitud de la Fuerza","Método dinamómetro (*): la fuerza inicial no supera los 10 kgs de fuerza y la fuerza de sustentación no supera los 5 kgs de fuerza.\nMétodo Escala de Borg: los trabajadores perciben leve esfuerzo físico (valor 2 o menos en escala de Borg) durante la tarea (s) de empuje y arrastre de carga (Para obtener la información debe preguntar a los trabajadores utilizando la escala de Borg (Anexo 3).","NA","0",null,null,null,null,{"$f":"F18","v":0}]
[null,null,"Duración","La(s) tarea(s) de empuje y arrastre de carga duran hasta 8 hrs. diaria.","NA","0"]
[null,null,"Altura aplicación de la Fuerza","La fuerza se realiza entre las caderas y la zona media del tronco.","NA","0",null,null,null,null,{"$f":"F18","v":0}]
[null,null,"Postura","La fuerza de empuje o arrastre es aplicada con el tronco recto (sin flexión o torsión).","NA","0"]
[null,null,"Zona de agarre","Las manos están delante del cuerpo y entre los hombros cuando se realiza la fuerza de empuje o arrastre.","NA","0"]
[null,null,null,null,null,{"$f":"F4+F5+F6+F7+F8+F9+F10+F11+F13+F14+F15+F16+F17","v":0},null,null,null,null,{"$f":"F18","v":0}]
[]
[]
[]
[]
[null,null,null,null,null,null,null,null,null,"Presione solo si al completar Tabla 5  se lo indica el Cuadro de Resultado",{"$f":"F18","v":0}]

{"sheet":"TABLA 5T2P8","index":140,"n_rows":23,"n_cols":11,"rows_kept":23,"cut":false,"hidden":false,"merged":[]}
[]
[null,null,null,"EMPUJE Y ARRASTRE DE CARGA - IDENTIFICACIÓN AVANZADA  CONDICIÓN ACEPTABLE  ",null,null,null,null,null,"Cuadro de Resultado Tabla 5"]
[null,null,"Condición","Empueje y Arrastre de Carga","Si / No / NA"]
[null,null,"Ambiente de Trabajo","La temperatura en donde se realiza la tarea es entre los 18° y 26° (grados Celsius).","NA",{"$f":"IF(E4=\"SI\",\"0\",IF(E4=\"NA\",\"0\",\"1\"))","v":"0"},null,null,null,"La Tarea:"]
[null,null,null,"El piso se encuentra en buenas condiciones (regular, compacto, seco y estable) y sin pendiente.","NA",{"$f":"IF(E5=\"SI\",\"0\",IF(E5=\"NA\",\"0\",\"1\"))","v":"0"},null,null,{"$f":"'TABLA 1 P8'!B8","v":"N° 2"},{"$f":"'TABLA 1 P8'!C8","v":"NA"}]
[null,null,null,"Presencia de vías/caminos donde se permite el normal desplazamiento (espacio suficiente para el desplazamiento).","NA","0",null,null,null,"Resultado:"]
[null,null,null,"El carro o transpaleta permite la visibilidad y movimientos normales del trabajador.","NA","0",null,null,{"$f":"F18","v":0},{"$f":"IF(F18>=1,\"No es Aceptable\",\"Aceptable\")","v":"Aceptable"}]
[null,null,null,"El centro de gravedad de la carga es estable.","NA","0",null,null,null,"Por lo que usted:"]
[null,null,"Característica del carro o transpaleta","La carro o transpaleta permite su agarre sin riesgo de cortes, compresión o quemaduras.","NA","0",null,null,null,{"$f":"IF(J7=\"Aceptable\",\"Ha Terminado el Proceso de Identificación para esta Tarea\",\"Debe Aplicar Tabla 6\")","v":"Ha Terminado el Proceso de Identificación para esta Tarea"},{"$f":"F18","v":0}]
[null,null,null,"Presencia de ruedas grandes o pequeñas en buen estado.","NA","0"]
[null,null,null,"Presencia de ruedas grandes o pequeñas adecuadas al tipo de carro, peso de la carga y vías de desplazamiento.","NA","0",null,null,null,{"$f":"IF(J7=\"Aceptable\",\"Si terminó de responder toda la Tabla 5 Presione Aquí para  regresar a Tabla 1 Información General del Puesto de Trabajo donde podrá continuar con la siguiente Tarea\",\"\")","v":"Si terminó de responder toda la Tabla 5 Presione Aquí para  regresar a Tabla 1 Información General del Puesto de Trabajo donde podrá continuar con la siguiente Tarea"},{"$f":"F18","v":0}]
[null,null,"Riesgo","Empueje y Arrastre de Carga","Si / No / NA"]
[null,null,"Magnitud de la Fuerza","Método dinamómetro (*): la fuerza inicial no supera los 10 kgs de fuerza y la fuerza de sustentación no supera los 5 kgs de fuerza.\nMétodo Escala de Borg: los trabajadores perciben leve esfuerzo físico (valor 2 o menos en escala de Borg) durante la tarea (s) de empuje y arrastre de carga (Para obtener la información debe preguntar a los trabajadores utilizando la escala de Borg (Anexo 3).","NA","0",null,null,null,null,{"$f":"F18","v":0}]
[null,null,"Duración","La(s) tarea(s) de empuje y arrastre de carga duran hasta 8 hrs. diaria.","NA","0"]
[null,null,"Altura aplicación de la Fuerza","La fuerza se realiza entre las caderas y la zona media del tronco.","NA","0",null,null,null,null,{"$f":"F18","v":0}]
[null,null,"Postura","La fuerza de empuje o arrastre es aplicada con el tronco recto (sin flexión o torsión).","NA","0"]
[null,null,"Zona de agarre","Las manos están delante del cuerpo y entre los hombros cuando se realiza la fuerza de empuje o arrastre.","NA","0"]
[null,null,null,null,null,{"$f":"F4+F5+F6+F7+F8+F9+F10+F11+F13+F14+F15+F16+F17","v":0},null,null,null,null,{"$f":"F18","v":0}]
[]
[]
[]
[]
[null,null,null,null,null,null,null,null,null,"Presione solo si al completar Tabla 5  se lo indica el Cuadro de Resultado",{"$f":"F18","v":0}]

{"sheet":"TABLA 5T2P9","index":141,"n_rows":23,"n_cols":11,"rows_kept":23,"cut":false,"hidden":false,"merged":[]}
[]
[null,null,null,"EMPUJE Y ARRASTRE DE CARGA - IDENTIFICACIÓN AVANZADA  CONDICIÓN ACEPTABLE  ",null,null,null,null,null,"Cuadro de Resultado Tabla 5"]
[null,null,"Condición","Empueje y Arrastre de Carga","Si / No / NA"]
[null,null,"Ambiente de Trabajo","La temperatura en donde se realiza la tarea es entre los 18° y 26° (grados Celsius).","NA",{"$f":"IF(E4=\"SI\",\"0\",IF(E4=\"NA\",\"0\",\"1\"))","v":"0"},null,null,null,"La Tarea:"]
[null,null,null,"El piso se encuentra en buenas condiciones (regular, compacto, seco y estable) y sin pendiente.","NA",{"$f":"IF(E5=\"SI\",\"0\",IF(E5=\"NA\",\"0\",\"1\"))","v":"0"},null,null,{"$f":"'TABLA 1 P9'!B8","v":"N° 2"},{"$f":"'TABLA 1 P9'!C8","v":"NA"}]
[null,null,null,"Presencia de vías/caminos donde se permite el normal desplazamiento (espacio suficiente para el desplazamiento).","NA","0",null,null,null,"Resultado:"]
[null,null,null,"El carro o transpaleta permite la visibilidad y movimientos normales del trabajador.","NA","0",null,null,{"$f":"F18","v":0},{"$f":"IF(F18>=1,\"No es Aceptable\",\"Aceptable\")","v":"Aceptable"}]
[null,null,null,"El centro de gravedad de la carga es estable.","NA","0",null,null,null,"Por lo que usted:"]
[null,null,"Característica del carro o transpaleta","La carro o transpaleta permite su agarre sin riesgo de cortes, compresión o quemaduras.","NA","0",null,null,null,{"$f":"IF(J7=\"Aceptable\",\"Ha Terminado el Proceso de Identificación para esta Tarea\",\"Debe Aplicar Tabla 6\")","v":"Ha Terminado el Proceso de Identificación para esta Tarea"},{"$f":"F18","v":0}]
[null,null,null,"Presencia de ruedas grandes o pequeñas en buen estado.","NA","0"]
[null,null,null,"Presencia de ruedas grandes o pequeñas adecuadas al tipo de carro, peso de la carga y vías de desplazamiento.","NA","0",null,null,null,{"$f":"IF(J7=\"Aceptable\",\"Si terminó de responder toda la Tabla 5 Presione Aquí para  regresar a Tabla 1 Información General del Puesto de Trabajo donde podrá continuar con la siguiente Tarea\",\"\")","v":"Si terminó de responder toda la Tabla 5 Presione Aquí para  regresar a Tabla 1 Información General del Puesto de Trabajo donde podrá continuar con la siguiente Tarea"},{"$f":"F18","v":0}]
[null,null,"Riesgo","Empueje y Arrastre de Carga","Si / No / NA"]
[null,null,"Magnitud de la Fuerza","Método dinamómetro (*): la fuerza inicial no supera los 10 kgs de fuerza y la fuerza de sustentación no supera los 5 kgs de fuerza.\nMétodo Escala de Borg: los trabajadores perciben leve esfuerzo físico (valor 2 o menos en escala de Borg) durante la tarea (s) de empuje y arrastre de carga (Para obtener la información debe preguntar a los trabajadores utilizando la escala de Borg (Anexo 3).","NA","0",null,null,null,null,{"$f":"F18","v":0}]
[null,null,"Duración","La(s) tarea(s) de empuje y arrastre de carga duran hasta 8 hrs. diaria.","NA","0"]
[null,null,"Altura aplicación de la Fuerza","La fuerza se realiza entre las caderas y la zona media del tronco.","NA","0",null,null,null,null,{"$f":"F18","v":0}]
[null,null,"Postura","La fuerza de empuje o arrastre es aplicada con el tronco recto (sin flexión o torsión).","NA","0"]
[null,null,"Zona de agarre","Las manos están delante del cuerpo y entre los hombros cuando se realiza la fuerza de empuje o arrastre.","NA","0"]
[null,null,null,null,null,{"$f":"F4+F5+F6+F7+F8+F9+F10+F11+F13+F14+F15+F16+F17","v":0},null,null,null,null,{"$f":"F18","v":0}]
[]
[]
[]
[]
[null,null,null,null,null,null,null,null,null,"Presione solo si al completar Tabla 5  se lo indica el Cuadro de Resultado",{"$f":"F18","v":0}]

{"sheet":"TABLA 5T2P10","index":142,"n_rows":23,"n_cols":11,"rows_kept":23,"cut":false,"hidden":false,"merged":[]}
[]
[null,null,null,"EMPUJE Y ARRASTRE DE CARGA - IDENTIFICACIÓN AVANZADA  CONDICIÓN ACEPTABLE  ",null,null,null,null,null,"Cuadro de Resultado Tabla 5"]
[null,null,"Condición","Empueje y Arrastre de Carga","Si / No / NA"]
[null,null,"Ambiente de Trabajo","La temperatura en donde se realiza la tarea es entre los 18° y 26° (grados Celsius).","NA",{"$f":"IF(E4=\"SI\",\"0\",IF(E4=\"NA\",\"0\",\"1\"))","v":"0"},null,null,null,"La Tarea:"]
[null,null,null,"El piso se encuentra en buenas condiciones (regular, compacto, seco y estable) y sin pendiente.","NA",{"$f":"IF(E5=\"SI\",\"0\",IF(E5=\"NA\",\"0\",\"1\"))","v":"0"},null,null,{"$f":"'TABLA 1 P10'!B8","v":"N° 2"},{"$f":"'TABLA 1 P10'!C8","v":"NA"}]
[null,null,null,"Presencia de vías/caminos donde se permite el normal desplazamiento (espacio suficiente para el desplazamiento).","NA","0",null,null,null,"Resultado:"]
[null,null,null,"El carro o transpaleta permite la visibilidad y movimientos normales del trabajador.","NA","0",null,null,{"$f":"F18","v":0},{"$f":"IF(F18>=1,\"No es Aceptable\",\"Aceptable\")","v":"Aceptable"}]
[null,null,null,"El centro de gravedad de la carga es estable.","NA","0",null,null,null,"Por lo que usted:"]
[null,null,"Característica del carro o transpaleta","La carro o transpaleta permite su agarre sin riesgo de cortes, compresión o quemaduras.","NA","0",null,null,null,{"$f":"IF(J7=\"Aceptable\",\"Ha Terminado el Proceso de Identificación para esta Tarea\",\"Debe Aplicar Tabla 6\")","v":"Ha Terminado el Proceso de Identificación para esta Tarea"},{"$f":"F18","v":0}]
[null,null,null,"Presencia de ruedas grandes o pequeñas en buen estado.","NA","0"]
[null,null,null,"Presencia de ruedas grandes o pequeñas adecuadas al tipo de carro, peso de la carga y vías de desplazamiento.","NA","0",null,null,null,{"$f":"IF(J7=\"Aceptable\",\"Si terminó de responder toda la Tabla 5 Presione Aquí para  regresar a Tabla 1 Información General del Puesto de Trabajo donde podrá continuar con la siguiente Tarea\",\"\")","v":"Si terminó de responder toda la Tabla 5 Presione Aquí para  regresar a Tabla 1 Información General del Puesto de Trabajo donde podrá continuar con la siguiente Tarea"},{"$f":"F18","v":0}]
[null,null,"Riesgo","Empueje y Arrastre de Carga","Si / No / NA"]
[null,null,"Magnitud de la Fuerza","Método dinamómetro (*): la fuerza inicial no supera los 10 kgs de fuerza y la fuerza de sustentación no supera los 5 kgs de fuerza.\nMétodo Escala de Borg: los trabajadores perciben leve esfuerzo físico (valor 2 o menos en escala de Borg) durante la tarea (s) de empuje y arrastre de carga (Para obtener la información debe preguntar a los trabajadores utilizando la escala de Borg (Anexo 3).","NA","0",null,null,null,null,{"$f":"F18","v":0}]
[null,null,"Duración","La(s) tarea(s) de empuje y arrastre de carga duran hasta 8 hrs. diaria.","NA","0"]
[null,null,"Altura aplicación de la Fuerza","La fuerza se realiza entre las caderas y la zona media del tronco.","NA","0",null,null,null,null,{"$f":"F18","v":0}]
[null,null,"Postura","La fuerza de empuje o arrastre es aplicada con el tronco recto (sin flexión o torsión).","NA","0"]
[null,null,"Zona de agarre","Las manos están delante del cuerpo y entre los hombros cuando se realiza la fuerza de empuje o arrastre.","NA","0"]
[null,null,null,null,null,{"$f":"F4+F5+F6+F7+F8+F9+F10+F11+F13+F14+F15+F16+F17","v":0},null,null,null,null,{"$f":"F18","v":0}]
[]
[]
[]
[]
[null,null,null,null,null,null,null,null,null,"Presione solo si al completar Tabla 5  se lo indica el Cuadro de Resultado",{"$f":"F18","v":0}]

{"sheet":"TABLA 6T2P1","index":143,"n_rows":21,"n_cols":10,"rows_kept":21,"cut":false,"hidden":false,"merged":[]}
[]
[null,null,null,"EMPUJE Y ARRASTRE DE CARGA - IDENTIFICACIÓN AVANZADA CONDICIÓN CRÍTICA  \n",null,null,null,null,null,"Cuadro de Resultado Tabla 6"]
[null,null,"Condición","Levantamiento/descenso y transporte manual de carga","Si / No / NA"]
[null,null,"Ambiente de Trabajo","Presencia de temperatura extrema (bajo 16° o superior a los 26° grados Celsius) y sin ropa que proteja de las temperaturas extremas.","NA",{"$f":"IF(E4=\"No\",\"0\",IF(E4=\"NA\",\"0\",\"1\"))","v":"0"},null,null,null,"La Tarea:"]
[null,null,null,"Presencia de suelo resbaladizo, irregular o inestable.","NA",{"$f":"IF(E5=\"No\",\"0\",IF(E5=\"NA\",\"0\",\"1\"))","v":"0"},null,null,{"$f":"'TABLA 1 P1'!B8","v":"N° 2"},{"$f":"'TABLA 1 P1'!C8","v":"NA"}]
[null,null,null,"Presencia de vías/caminos donde se restringen los movimientos.","NA","0",null,null,null,"Resultado:"]
[null,null,"Característica del carro o transpaleta","El carro o transpaleta reduce la vista del operador y/o dificulta su movimiento.","NA","0",null,null,{"$f":"F21","v":0},{"$f":"IF(F21>=1,\"Crítica\",\"No Crítica\")","v":"No Crítica"}]
[null,null,null,"La carga es inestable.","NA","0",null,null,null,"Por lo que usted:"]
[null,null,null,"El carro o transpaleta tiene condiciones peligrosas (bordes, superficies o protuberancias afiladas, etc) que pueden lesionar al trabajador.","NA","0",null,null,null,{"$f":"IF(J7=\"No Crítica\",\"Ha terminado el Proceso de Identificación para esta Tarea y deberá iniciar el proceso de Evaluación Cuantitativa del riesgo\",\"Ha terminado el Proceso de Identificación para esta Tarea y deberá aplicar medidas para reducir el riesgo\")","v":"Ha terminado el Proceso de Identificación para esta Tarea y deberá iniciar el proceso de Evaluación Cuantitativa del riesgo"}]
[null,null,null,"Presencia de ruedas grandes o pequeñas en mal estado, rotas, desgastadas o con poca mantención.","NA","0"]
[null,null,null,"Presencia de ruedas grandes o pequeñas inadecuadas al tipo de carro, peso de la carga y vías de desplazamiento.","NA","0"]
[null,null,"Horas de Trabajo","La tarea de levantamiento/descenso o transporte de carga dura más de 8 hrs.","NA","0"]
[null,null,"Riesgo","Empueje y Arrastre de Carga","Si / No / NA",null,null,null,null,"Si terminó de responder toda la Tabla 6 Presione Aquí para  regresar a Tabla 1 Información General del Puesto de Trabajo donde podrá continuar con la siguiente Tarea"]
[null,null,"Magnitud de la Fuerza","Método dinamómetro (*):\n1. Fuerza inicial es superior a 36 kgs. (Hombres) o 24 kgs.\n(Mujeres).\n2. Fuerza de sustentación es superior a 25 kgs. (Hombres)\ny 15 kgs. (Mujeres).\nMétodo Escala de Borg: los trabajadores perciben alto nivel de esfuerzo físico (valor 8 o más en escala de Borg) durante la (s) tarea (s) de empuje y arrastre de carga (Para obtener la información debe preguntar a los trabajadores utilizando la escala de Borg al final de este anexo).","NA",{"$f":"IF(E14=\"No\",\"0\",IF(E14=\"NA\",\"0\",\"1\"))","v":"0"}]
[null,null,"Dirección de la Fuerza","Durante el desplazamiento la carga requiere de un levantamiento parcial, mientras se empuja o arrastra.","NA",{"$f":"IF(E15=\"No\",\"0\",IF(E15=\"NA\",\"0\",\"1\"))","v":"0"}]
[null,null,"Esfuerzo Físico","La fuerza de empuje o arrastre es realizada con movimientos bruscos o de manera poco controlada.","NA","0"]
[null,null,"Postura","La fuerza de empuje o arrastre es aplicada con el tronco en flexión o torsión significativa.","NA","0"]
[null,null,"Zona de Agarre","Las manos no están delante del cuerpo o fuera del ancho de los hombros cuando se realiza la fuerza de empuje o arrastre.","NA","0"]
[null,null,"Altura aplicación de la Fuerza","La fuerza de empuje o arrastre es aplicada sobre los 150 cm o bajo los 60 cm.","NA","0"]
[null,null,"Duración","La(s) tarea(s) de empuje y arrastre de carga duran más de 8 hrs. diaria.","NA","0"]
[null,null,null,null,null,{"$f":"F4+F5+F6+F7+F8+F9+F10+F11+F12+F14+F15+F16+F17+F18+F19+F20","v":0}]

{"sheet":"TABLA 6T2P2","index":144,"n_rows":21,"n_cols":10,"rows_kept":21,"cut":false,"hidden":false,"merged":[]}
[]
[null,null,null,"EMPUJE Y ARRASTRE DE CARGA - IDENTIFICACIÓN AVANZADA CONDICIÓN CRÍTICA  \n",null,null,null,null,null,"Cuadro de Resultado Tabla 6"]
[null,null,"Condición","Levantamiento/descenso y transporte manual de carga","Si / No / NA"]
[null,null,"Ambiente de Trabajo","Presencia de temperatura extrema (bajo 16° o superior a los 26° grados Celsius) y sin ropa que proteja de las temperaturas extremas.","NA",{"$f":"IF(E4=\"No\",\"0\",IF(E4=\"NA\",\"0\",\"1\"))","v":"0"},null,null,null,"La Tarea:"]
[null,null,null,"Presencia de suelo resbaladizo, irregular o inestable.","NA",{"$f":"IF(E5=\"No\",\"0\",IF(E5=\"NA\",\"0\",\"1\"))","v":"0"},null,null,{"$f":"'TABLA 1 P2'!B8","v":"N° 2"},{"$f":"'TABLA 1 P2'!C8","v":"NA"}]
[null,null,null,"Presencia de vías/caminos donde se restringen los movimientos.","NA","0",null,null,null,"Resultado:"]
[null,null,"Característica del carro o transpaleta","El carro o transpaleta reduce la vista del operador y/o dificulta su movimiento.","NA","0",null,null,{"$f":"F21","v":0},{"$f":"IF(F21>=1,\"Crítica\",\"No Crítica\")","v":"No Crítica"}]
[null,null,null,"La carga es inestable.","NA","0",null,null,null,"Por lo que usted:"]
[null,null,null,"El carro o transpaleta tiene condiciones peligrosas (bordes, superficies o protuberancias afiladas, etc) que pueden lesionar al trabajador.","NA","0",null,null,null,{"$f":"IF(J7=\"No Crítica\",\"Ha terminado el Proceso de Identificación para esta Tarea y deberá iniciar el proceso de Evaluación Cuantitativa del riesgo\",\"Ha terminado el Proceso de Identificación para esta Tarea y deberá aplicar medidas para reducir el riesgo\")","v":"Ha terminado el Proceso de Identificación para esta Tarea y deberá iniciar el proceso de Evaluación Cuantitativa del riesgo"}]
[null,null,null,"Presencia de ruedas grandes o pequeñas en mal estado, rotas, desgastadas o con poca mantención.","NA","0"]
[null,null,null,"Presencia de ruedas grandes o pequeñas inadecuadas al tipo de carro, peso de la carga y vías de desplazamiento.","NA","0"]
[null,null,"Horas de Trabajo","La tarea de levantamiento/descenso o transporte de carga dura más de 8 hrs.","NA","0"]
[null,null,"Riesgo","Empueje y Arrastre de Carga","Si / No / NA",null,null,null,null,"Si terminó de responder toda la Tabla 6 Presione Aquí para  regresar a Tabla 1 Información General del Puesto de Trabajo donde podrá continuar con la siguiente Tarea"]
[null,null,"Magnitud de la Fuerza","Método dinamómetro (*):\n1. Fuerza inicial es superior a 36 kgs. (Hombres) o 24 kgs.\n(Mujeres).\n2. Fuerza de sustentación es superior a 25 kgs. (Hombres)\ny 15 kgs. (Mujeres).\nMétodo Escala de Borg: los trabajadores perciben alto nivel de esfuerzo físico (valor 8 o más en escala de Borg) durante la (s) tarea (s) de empuje y arrastre de carga (Para obtener la información debe preguntar a los trabajadores utilizando la escala de Borg al final de este anexo).","NA",{"$f":"IF(E14=\"No\",\"0\",IF(E14=\"NA\",\"0\",\"1\"))","v":"0"}]
[null,null,"Dirección de la Fuerza","Durante el desplazamiento la carga requiere de un levantamiento parcial, mientras se empuja o arrastra.","NA",{"$f":"IF(E15=\"No\",\"0\",IF(E15=\"NA\",\"0\",\"1\"))","v":"0"}]
[null,null,"Esfuerzo Físico","La fuerza de empuje o arrastre es realizada con movimientos bruscos o de manera poco controlada.","NA","0"]
[null,null,"Postura","La fuerza de empuje o arrastre es aplicada con el tronco en flexión o torsión significativa.","NA","0"]
[null,null,"Zona de Agarre","Las manos no están delante del cuerpo o fuera del ancho de los hombros cuando se realiza la fuerza de empuje o arrastre.","NA","0"]
[null,null,"Altura aplicación de la Fuerza","La fuerza de empuje o arrastre es aplicada sobre los 150 cm o bajo los 60 cm.","NA","0"]
[null,null,"Duración","La(s) tarea(s) de empuje y arrastre de carga duran más de 8 hrs. diaria.","NA","0"]
[null,null,null,null,null,{"$f":"F4+F5+F6+F7+F8+F9+F10+F11+F12+F14+F15+F16+F17+F18+F19+F20","v":0}]

{"sheet":"TABLA 6T2P3","index":145,"n_rows":21,"n_cols":10,"rows_kept":21,"cut":false,"hidden":false,"merged":[]}
[]
[null,null,null,"EMPUJE Y ARRASTRE DE CARGA - IDENTIFICACIÓN AVANZADA CONDICIÓN CRÍTICA  \n",null,null,null,null,null,"Cuadro de Resultado Tabla 6"]
[null,null,"Condición","Levantamiento/descenso y transporte manual de carga","Si / No / NA"]
[null,null,"Ambiente de Trabajo","Presencia de temperatura extrema (bajo 16° o superior a los 26° grados Celsius) y sin ropa que proteja de las temperaturas extremas.","NA",{"$f":"IF(E4=\"No\",\"0\",IF(E4=\"NA\",\"0\",\"1\"))","v":"0"},null,null,null,"La Tarea:"]
[null,null,null,"Presencia de suelo resbaladizo, irregular o inestable.","NA",{"$f":"IF(E5=\"No\",\"0\",IF(E5=\"NA\",\"0\",\"1\"))","v":"0"},null,null,{"$f":"'TABLA 1 P3'!B8","v":"N° 2"},{"$f":"'TABLA 1 P3'!C8","v":"NA"}]
[null,null,null,"Presencia de vías/caminos donde se restringen los movimientos.","NA","0",null,null,null,"Resultado:"]
[null,null,"Característica del carro o transpaleta","El carro o transpaleta reduce la vista del operador y/o dificulta su movimiento.","NA","0",null,null,{"$f":"F21","v":0},{"$f":"IF(F21>=1,\"Crítica\",\"No Crítica\")","v":"No Crítica"}]
[null,null,null,"La carga es inestable.","NA","0",null,null,null,"Por lo que usted:"]
[null,null,null,"El carro o transpaleta tiene condiciones peligrosas (bordes, superficies o protuberancias afiladas, etc) que pueden lesionar al trabajador.","NA","0",null,null,null,{"$f":"IF(J7=\"No Crítica\",\"Ha terminado el Proceso de Identificación para esta Tarea y deberá iniciar el proceso de Evaluación Cuantitativa del riesgo\",\"Ha terminado el Proceso de Identificación para esta Tarea y deberá aplicar medidas para reducir el riesgo\")","v":"Ha terminado el Proceso de Identificación para esta Tarea y deberá iniciar el proceso de Evaluación Cuantitativa del riesgo"}]
[null,null,null,"Presencia de ruedas grandes o pequeñas en mal estado, rotas, desgastadas o con poca mantención.","NA","0"]
[null,null,null,"Presencia de ruedas grandes o pequeñas inadecuadas al tipo de carro, peso de la carga y vías de desplazamiento.","NA","0"]
[null,null,"Horas de Trabajo","La tarea de levantamiento/descenso o transporte de carga dura más de 8 hrs.","NA","0"]
[null,null,"Riesgo","Empueje y Arrastre de Carga","Si / No / NA",null,null,null,null,"Si terminó de responder toda la Tabla 6 Presione Aquí para  regresar a Tabla 1 Información General del Puesto de Trabajo donde podrá continuar con la siguiente Tarea"]
[null,null,"Magnitud de la Fuerza","Método dinamómetro (*):\n1. Fuerza inicial es superior a 36 kgs. (Hombres) o 24 kgs.\n(Mujeres).\n2. Fuerza de sustentación es superior a 25 kgs. (Hombres)\ny 15 kgs. (Mujeres).\nMétodo Escala de Borg: los trabajadores perciben alto nivel de esfuerzo físico (valor 8 o más en escala de Borg) durante la (s) tarea (s) de empuje y arrastre de carga (Para obtener la información debe preguntar a los trabajadores utilizando la escala de Borg al final de este anexo).","NA",{"$f":"IF(E14=\"No\",\"0\",IF(E14=\"NA\",\"0\",\"1\"))","v":"0"}]
[null,null,"Dirección de la Fuerza","Durante el desplazamiento la carga requiere de un levantamiento parcial, mientras se empuja o arrastra.","NA",{"$f":"IF(E15=\"No\",\"0\",IF(E15=\"NA\",\"0\",\"1\"))","v":"0"}]
[null,null,"Esfuerzo Físico","La fuerza de empuje o arrastre es realizada con movimientos bruscos o de manera poco controlada.","NA","0"]
[null,null,"Postura","La fuerza de empuje o arrastre es aplicada con el tronco en flexión o torsión significativa.","NA","0"]
[null,null,"Zona de Agarre","Las manos no están delante del cuerpo o fuera del ancho de los hombros cuando se realiza la fuerza de empuje o arrastre.","NA","0"]
[null,null,"Altura aplicación de la Fuerza","La fuerza de empuje o arrastre es aplicada sobre los 150 cm o bajo los 60 cm.","NA","0"]
[null,null,"Duración","La(s) tarea(s) de empuje y arrastre de carga duran más de 8 hrs. diaria.","NA","0"]
[null,null,null,null,null,{"$f":"F4+F5+F6+F7+F8+F9+F10+F11+F12+F14+F15+F16+F17+F18+F19+F20","v":0}]

{"sheet":"TABLA 6T2P4","index":146,"n_rows":21,"n_cols":10,"rows_kept":21,"cut":false,"hidden":false,"merged":[]}
[]
[null,null,null,"EMPUJE Y ARRASTRE DE CARGA - IDENTIFICACIÓN AVANZADA CONDICIÓN CRÍTICA  \n",null,null,null,null,null,"Cuadro de Resultado Tabla 6"]
[null,null,"Condición","Levantamiento/descenso y transporte manual de carga","Si / No / NA"]
[null,null,"Ambiente de Trabajo","Presencia de temperatura extrema (bajo 16° o superior a los 26° grados Celsius) y sin ropa que proteja de las temperaturas extremas.","NA",{"$f":"IF(E4=\"No\",\"0\",IF(E4=\"NA\",\"0\",\"1\"))","v":"0"},null,null,null,"La Tarea:"]
[null,null,null,"Presencia de suelo resbaladizo, irregular o inestable.","NA",{"$f":"IF(E5=\"No\",\"0\",IF(E5=\"NA\",\"0\",\"1\"))","v":"0"},null,null,{"$f":"'TABLA 1 P4'!B8","v":"N° 2"},{"$f":"'TABLA 1 P4'!C8","v":"NA"}]
[null,null,null,"Presencia de vías/caminos donde se restringen los movimientos.","NA","0",null,null,null,"Resultado:"]
[null,null,"Característica del carro o transpaleta","El carro o transpaleta reduce la vista del operador y/o dificulta su movimiento.","NA","0",null,null,{"$f":"F21","v":0},{"$f":"IF(F21>=1,\"Crítica\",\"No Crítica\")","v":"No Crítica"}]
[null,null,null,"La carga es inestable.","NA","0",null,null,null,"Por lo que usted:"]
[null,null,null,"El carro o transpaleta tiene condiciones peligrosas (bordes, superficies o protuberancias afiladas, etc) que pueden lesionar al trabajador.","NA","0",null,null,null,{"$f":"IF(J7=\"No Crítica\",\"Ha terminado el Proceso de Identificación para esta Tarea y deberá iniciar el proceso de Evaluación Cuantitativa del riesgo\",\"Ha terminado el Proceso de Identificación para esta Tarea y deberá aplicar medidas para reducir el riesgo\")","v":"Ha terminado el Proceso de Identificación para esta Tarea y deberá iniciar el proceso de Evaluación Cuantitativa del riesgo"}]
[null,null,null,"Presencia de ruedas grandes o pequeñas en mal estado, rotas, desgastadas o con poca mantención.","NA","0"]
[null,null,null,"Presencia de ruedas grandes o pequeñas inadecuadas al tipo de carro, peso de la carga y vías de desplazamiento.","NA","0"]
[null,null,"Horas de Trabajo","La tarea de levantamiento/descenso o transporte de carga dura más de 8 hrs.","NA","0"]
[null,null,"Riesgo","Empueje y Arrastre de Carga","Si / No / NA",null,null,null,null,"Si terminó de responder toda la Tabla 6 Presione Aquí para  regresar a Tabla 1 Información General del Puesto de Trabajo donde podrá continuar con la siguiente Tarea"]
[null,null,"Magnitud de la Fuerza","Método dinamómetro (*):\n1. Fuerza inicial es superior a 36 kgs. (Hombres) o 24 kgs.\n(Mujeres).\n2. Fuerza de sustentación es superior a 25 kgs. (Hombres)\ny 15 kgs. (Mujeres).\nMétodo Escala de Borg: los trabajadores perciben alto nivel de esfuerzo físico (valor 8 o más en escala de Borg) durante la (s) tarea (s) de empuje y arrastre de carga (Para obtener la información debe preguntar a los trabajadores utilizando la escala de Borg al final de este anexo).","NA",{"$f":"IF(E14=\"No\",\"0\",IF(E14=\"NA\",\"0\",\"1\"))","v":"0"}]
[null,null,"Dirección de la Fuerza","Durante el desplazamiento la carga requiere de un levantamiento parcial, mientras se empuja o arrastra.","NA",{"$f":"IF(E15=\"No\",\"0\",IF(E15=\"NA\",\"0\",\"1\"))","v":"0"}]
[null,null,"Esfuerzo Físico","La fuerza de empuje o arrastre es realizada con movimientos bruscos o de manera poco controlada.","NA","0"]
[null,null,"Postura","La fuerza de empuje o arrastre es aplicada con el tronco en flexión o torsión significativa.","NA","0"]
[null,null,"Zona de Agarre","Las manos no están delante del cuerpo o fuera del ancho de los hombros cuando se realiza la fuerza de empuje o arrastre.","NA","0"]
[null,null,"Altura aplicación de la Fuerza","La fuerza de empuje o arrastre es aplicada sobre los 150 cm o bajo los 60 cm.","NA","0"]
[null,null,"Duración","La(s) tarea(s) de empuje y arrastre de carga duran más de 8 hrs. diaria.","NA","0"]
[null,null,null,null,null,{"$f":"F4+F5+F6+F7+F8+F9+F10+F11+F12+F14+F15+F16+F17+F18+F19+F20","v":0}]

{"sheet":"TABLA 6T2P5","index":147,"n_rows":21,"n_cols":10,"rows_kept":21,"cut":false,"hidden":false,"merged":[]}
[]
[null,null,null,"EMPUJE Y ARRASTRE DE CARGA - IDENTIFICACIÓN AVANZADA CONDICIÓN CRÍTICA  \n",null,null,null,null,null,"Cuadro de Resultado Tabla 6"]
[null,null,"Condición","Levantamiento/descenso y transporte manual de carga","Si / No / NA"]
[null,null,"Ambiente de Trabajo","Presencia de temperatura extrema (bajo 16° o superior a los 26° grados Celsius) y sin ropa que proteja de las temperaturas extremas.","NA",{"$f":"IF(E4=\"No\",\"0\",IF(E4=\"NA\",\"0\",\"1\"))","v":"0"},null,null,null,"La Tarea:"]
[null,null,null,"Presencia de suelo resbaladizo, irregular o inestable.","NA",{"$f":"IF(E5=\"No\",\"0\",IF(E5=\"NA\",\"0\",\"1\"))","v":"0"},null,null,{"$f":"'TABLA 1 P5'!B8","v":"N° 2"},{"$f":"'TABLA 1 P5'!C8","v":"NA"}]
[null,null,null,"Presencia de vías/caminos donde se restringen los movimientos.","NA","0",null,null,null,"Resultado:"]
[null,null,"Característica del carro o transpaleta","El carro o transpaleta reduce la vista del operador y/o dificulta su movimiento.","NA","0",null,null,{"$f":"F21","v":0},{"$f":"IF(F21>=1,\"Crítica\",\"No Crítica\")","v":"No Crítica"}]
[null,null,null,"La carga es inestable.","NA","0",null,null,null,"Por lo que usted:"]
[null,null,null,"El carro o transpaleta tiene condiciones peligrosas (bordes, superficies o protuberancias afiladas, etc) que pueden lesionar al trabajador.","NA","0",null,null,null,{"$f":"IF(J7=\"No Crítica\",\"Ha terminado el Proceso de Identificación para esta Tarea y deberá iniciar el proceso de Evaluación Cuantitativa del riesgo\",\"Ha terminado el Proceso de Identificación para esta Tarea y deberá aplicar medidas para reducir el riesgo\")","v":"Ha terminado el Proceso de Identificación para esta Tarea y deberá iniciar el proceso de Evaluación Cuantitativa del riesgo"}]
[null,null,null,"Presencia de ruedas grandes o pequeñas en mal estado, rotas, desgastadas o con poca mantención.","NA","0"]
[null,null,null,"Presencia de ruedas grandes o pequeñas inadecuadas al tipo de carro, peso de la carga y vías de desplazamiento.","NA","0"]
[null,null,"Horas de Trabajo","La tarea de levantamiento/descenso o transporte de carga dura más de 8 hrs.","NA","0"]
[null,null,"Riesgo","Empueje y Arrastre de Carga","Si / No / NA",null,null,null,null,"Si terminó de responder toda la Tabla 6 Presione Aquí para  regresar a Tabla 1 Información General del Puesto de Trabajo donde podrá continuar con la siguiente Tarea"]
[null,null,"Magnitud de la Fuerza","Método dinamómetro (*):\n1. Fuerza inicial es superior a 36 kgs. (Hombres) o 24 kgs.\n(Mujeres).\n2. Fuerza de sustentación es superior a 25 kgs. (Hombres)\ny 15 kgs. (Mujeres).\nMétodo Escala de Borg: los trabajadores perciben alto nivel de esfuerzo físico (valor 8 o más en escala de Borg) durante la (s) tarea (s) de empuje y arrastre de carga (Para obtener la información debe preguntar a los trabajadores utilizando la escala de Borg al final de este anexo).","NA",{"$f":"IF(E14=\"No\",\"0\",IF(E14=\"NA\",\"0\",\"1\"))","v":"0"}]
[null,null,"Dirección de la Fuerza","Durante el desplazamiento la carga requiere de un levantamiento parcial, mientras se empuja o arrastra.","NA",{"$f":"IF(E15=\"No\",\"0\",IF(E15=\"NA\",\"0\",\"1\"))","v":"0"}]
[null,null,"Esfuerzo Físico","La fuerza de empuje o arrastre es realizada con movimientos bruscos o de manera poco controlada.","NA","0"]
[null,null,"Postura","La fuerza de empuje o arrastre es aplicada con el tronco en flexión o torsión significativa.","NA","0"]
[null,null,"Zona de Agarre","Las manos no están delante del cuerpo o fuera del ancho de los hombros cuando se realiza la fuerza de empuje o arrastre.","NA","0"]
[null,null,"Altura aplicación de la Fuerza","La fuerza de empuje o arrastre es aplicada sobre los 150 cm o bajo los 60 cm.","NA","0"]
[null,null,"Duración","La(s) tarea(s) de empuje y arrastre de carga duran más de 8 hrs. diaria.","NA","0"]
[null,null,null,null,null,{"$f":"F4+F5+F6+F7+F8+F9+F10+F11+F12+F14+F15+F16+F17+F18+F19+F20","v":0}]

{"sheet":"TABLA 6T2P6","index":148,"n_rows":21,"n_cols":10,"rows_kept":21,"cut":false,"hidden":false,"merged":[]}
[]
[null,null,null,"EMPUJE Y ARRASTRE DE CARGA - IDENTIFICACIÓN AVANZADA CONDICIÓN CRÍTICA  \n",null,null,null,null,null,"Cuadro de Resultado Tabla 6"]
[null,null,"Condición","Levantamiento/descenso y transporte manual de carga","Si / No / NA"]
[null,null,"Ambiente de Trabajo","Presencia de temperatura extrema (bajo 16° o superior a los 26° grados Celsius) y sin ropa que proteja de las temperaturas extremas.","NA",{"$f":"IF(E4=\"No\",\"0\",IF(E4=\"NA\",\"0\",\"1\"))","v":"0"},null,null,null,"La Tarea:"]
[null,null,null,"Presencia de suelo resbaladizo, irregular o inestable.","NA",{"$f":"IF(E5=\"No\",\"0\",IF(E5=\"NA\",\"0\",\"1\"))","v":"0"},null,null,{"$f":"'TABLA 1 P6'!B8","v":"N° 2"},{"$f":"'TABLA 1 P6'!C8","v":"NA"}]
[null,null,null,"Presencia de vías/caminos donde se restringen los movimientos.","NA","0",null,null,null,"Resultado:"]
[null,null,"Característica del carro o transpaleta","El carro o transpaleta reduce la vista del operador y/o dificulta su movimiento.","NA","0",null,null,{"$f":"F21","v":0},{"$f":"IF(F21>=1,\"Crítica\",\"No Crítica\")","v":"No Crítica"}]
[null,null,null,"La carga es inestable.","NA","0",null,null,null,"Por lo que usted:"]
[null,null,null,"El carro o transpaleta tiene condiciones peligrosas (bordes, superficies o protuberancias afiladas, etc) que pueden lesionar al trabajador.","NA","0",null,null,null,{"$f":"IF(J7=\"No Crítica\",\"Ha terminado el Proceso de Identificación para esta Tarea y deberá iniciar el proceso de Evaluación Cuantitativa del riesgo\",\"Ha terminado el Proceso de Identificación para esta Tarea y deberá aplicar medidas para reducir el riesgo\")","v":"Ha terminado el Proceso de Identificación para esta Tarea y deberá iniciar el proceso de Evaluación Cuantitativa del riesgo"}]
[null,null,null,"Presencia de ruedas grandes o pequeñas en mal estado, rotas, desgastadas o con poca mantención.","NA","0"]
[null,null,null,"Presencia de ruedas grandes o pequeñas inadecuadas al tipo de carro, peso de la carga y vías de desplazamiento.","NA","0"]
[null,null,"Horas de Trabajo","La tarea de levantamiento/descenso o transporte de carga dura más de 8 hrs.","NA","0"]
[null,null,"Riesgo","Empueje y Arrastre de Carga","Si / No / NA",null,null,null,null,"Si terminó de responder toda la Tabla 6 Presione Aquí para  regresar a Tabla 1 Información General del Puesto de Trabajo donde podrá continuar con la siguiente Tarea"]
[null,null,"Magnitud de la Fuerza","Método dinamómetro (*):\n1. Fuerza inicial es superior a 36 kgs. (Hombres) o 24 kgs.\n(Mujeres).\n2. Fuerza de sustentación es superior a 25 kgs. (Hombres)\ny 15 kgs. (Mujeres).\nMétodo Escala de Borg: los trabajadores perciben alto nivel de esfuerzo físico (valor 8 o más en escala de Borg) durante la (s) tarea (s) de empuje y arrastre de carga (Para obtener la información debe preguntar a los trabajadores utilizando la escala de Borg al final de este anexo).","NA",{"$f":"IF(E14=\"No\",\"0\",IF(E14=\"NA\",\"0\",\"1\"))","v":"0"}]
[null,null,"Dirección de la Fuerza","Durante el desplazamiento la carga requiere de un levantamiento parcial, mientras se empuja o arrastra.","NA",{"$f":"IF(E15=\"No\",\"0\",IF(E15=\"NA\",\"0\",\"1\"))","v":"0"}]
[null,null,"Esfuerzo Físico","La fuerza de empuje o arrastre es realizada con movimientos bruscos o de manera poco controlada.","NA","0"]
[null,null,"Postura","La fuerza de empuje o arrastre es aplicada con el tronco en flexión o torsión significativa.","NA","0"]
[null,null,"Zona de Agarre","Las manos no están delante del cuerpo o fuera del ancho de los hombros cuando se realiza la fuerza de empuje o arrastre.","NA","0"]
[null,null,"Altura aplicación de la Fuerza","La fuerza de empuje o arrastre es aplicada sobre los 150 cm o bajo los 60 cm.","NA","0"]
[null,null,"Duración","La(s) tarea(s) de empuje y arrastre de carga duran más de 8 hrs. diaria.","NA","0"]
[null,null,null,null,null,{"$f":"F4+F5+F6+F7+F8+F9+F10+F11+F12+F14+F15+F16+F17+F18+F19+F20","v":0}]

{"sheet":"TABLA 6T2P7","index":149,"n_rows":21,"n_cols":10,"rows_kept":21,"cut":false,"hidden":false,"merged":[]}
[]
[null,null,null,"EMPUJE Y ARRASTRE DE CARGA - IDENTIFICACIÓN AVANZADA CONDICIÓN CRÍTICA  \n",null,null,null,null,null,"Cuadro de Resultado Tabla 6"]
[null,null,"Condición","Levantamiento/descenso y transporte manual de carga","Si / No / NA"]
[null,null,"Ambiente de Trabajo","Presencia de temperatura extrema (bajo 16° o superior a los 26° grados Celsius) y sin ropa que proteja de las temperaturas extremas.","NA",{"$f":"IF(E4=\"No\",\"0\",IF(E4=\"NA\",\"0\",\"1\"))","v":"0"},null,null,null,"La Tarea:"]
[null,null,null,"Presencia de suelo resbaladizo, irregular o inestable.","NA",{"$f":"IF(E5=\"No\",\"0\",IF(E5=\"NA\",\"0\",\"1\"))","v":"0"},null,null,{"$f":"'TABLA 1 P7'!B8","v":"N° 2"},{"$f":"'TABLA 1 P7'!C8","v":"NA"}]
[null,null,null,"Presencia de vías/caminos donde se restringen los movimientos.","NA","0",null,null,null,"Resultado:"]
[null,null,"Característica del carro o transpaleta","El carro o transpaleta reduce la vista del operador y/o dificulta su movimiento.","NA","0",null,null,{"$f":"F21","v":0},{"$f":"IF(F21>=1,\"Crítica\",\"No Crítica\")","v":"No Crítica"}]
[null,null,null,"La carga es inestable.","NA","0",null,null,null,"Por lo que usted:"]
[null,null,null,"El carro o transpaleta tiene condiciones peligrosas (bordes, superficies o protuberancias afiladas, etc) que pueden lesionar al trabajador.","NA","0",null,null,null,{"$f":"IF(J7=\"No Crítica\",\"Ha terminado el Proceso de Identificación para esta Tarea y deberá iniciar el proceso de Evaluación Cuantitativa del riesgo\",\"Ha terminado el Proceso de Identificación para esta Tarea y deberá aplicar medidas para reducir el riesgo\")","v":"Ha terminado el Proceso de Identificación para esta Tarea y deberá iniciar el proceso de Evaluación Cuantitativa del riesgo"}]
[null,null,null,"Presencia de ruedas grandes o pequeñas en mal estado, rotas, desgastadas o con poca mantención.","NA","0"]
[null,null,null,"Presencia de ruedas grandes o pequeñas inadecuadas al tipo de carro, peso de la carga y vías de desplazamiento.","NA","0"]
[null,null,"Horas de Trabajo","La tarea de levantamiento/descenso o transporte de carga dura más de 8 hrs.","NA","0"]
[null,null,"Riesgo","Empueje y Arrastre de Carga","Si / No / NA",null,null,null,null,"Si terminó de responder toda la Tabla 6 Presione Aquí para  regresar a Tabla 1 Información General del Puesto de Trabajo donde podrá continuar con la siguiente Tarea"]
[null,null,"Magnitud de la Fuerza","Método dinamómetro (*):\n1. Fuerza inicial es superior a 36 kgs. (Hombres) o 24 kgs.\n(Mujeres).\n2. Fuerza de sustentación es superior a 25 kgs. (Hombres)\ny 15 kgs. (Mujeres).\nMétodo Escala de Borg: los trabajadores perciben alto nivel de esfuerzo físico (valor 8 o más en escala de Borg) durante la (s) tarea (s) de empuje y arrastre de carga (Para obtener la información debe preguntar a los trabajadores utilizando la escala de Borg al final de este anexo).","NA",{"$f":"IF(E14=\"No\",\"0\",IF(E14=\"NA\",\"0\",\"1\"))","v":"0"}]
[null,null,"Dirección de la Fuerza","Durante el desplazamiento la carga requiere de un levantamiento parcial, mientras se empuja o arrastra.","NA",{"$f":"IF(E15=\"No\",\"0\",IF(E15=\"NA\",\"0\",\"1\"))","v":"0"}]
[null,null,"Esfuerzo Físico","La fuerza de empuje o arrastre es realizada con movimientos bruscos o de manera poco controlada.","NA","0"]
[null,null,"Postura","La fuerza de empuje o arrastre es aplicada con el tronco en flexión o torsión significativa.","NA","0"]
[null,null,"Zona de Agarre","Las manos no están delante del cuerpo o fuera del ancho de los hombros cuando se realiza la fuerza de empuje o arrastre.","NA","0"]
[null,null,"Altura aplicación de la Fuerza","La fuerza de empuje o arrastre es aplicada sobre los 150 cm o bajo los 60 cm.","NA","0"]
[null,null,"Duración","La(s) tarea(s) de empuje y arrastre de carga duran más de 8 hrs. diaria.","NA","0"]
[null,null,null,null,null,{"$f":"F4+F5+F6+F7+F8+F9+F10+F11+F12+F14+F15+F16+F17+F18+F19+F20","v":0}]

{"sheet":"TABLA 6T2P8","index":150,"n_rows":21,"n_cols":10,"rows_kept":21,"cut":false,"hidden":false,"merged":[]}
[]
[null,null,null,"EMPUJE Y ARRASTRE DE CARGA - IDENTIFICACIÓN AVANZADA CONDICIÓN CRÍTICA  \n",null,null,null,null,null,"Cuadro de Resultado Tabla 6"]
[null,null,"Condición","Levantamiento/descenso y transporte manual de carga","Si / No / NA"]
[null,null,"Ambiente de Trabajo","Presencia de temperatura extrema (bajo 16° o superior a los 26° grados Celsius) y sin ropa que proteja de las temperaturas extremas.","NA",{"$f":"IF(E4=\"No\",\"0\",IF(E4=\"NA\",\"0\",\"1\"))","v":"0"},null,null,null,"La Tarea:"]
[null,null,null,"Presencia de suelo resbaladizo, irregular o inestable.","NA",{"$f":"IF(E5=\"No\",\"0\",IF(E5=\"NA\",\"0\",\"1\"))","v":"0"},null,null,{"$f":"'TABLA 1 P8'!B8","v":"N° 2"},{"$f":"'TABLA 1 P8'!C8","v":"NA"}]
[null,null,null,"Presencia de vías/caminos donde se restringen los movimientos.","NA","0",null,null,null,"Resultado:"]
[null,null,"Característica del carro o transpaleta","El carro o transpaleta reduce la vista del operador y/o dificulta su movimiento.","NA","0",null,null,{"$f":"F21","v":0},{"$f":"IF(F21>=1,\"Crítica\",\"No Crítica\")","v":"No Crítica"}]
[null,null,null,"La carga es inestable.","NA","0",null,null,null,"Por lo que usted:"]
[null,null,null,"El carro o transpaleta tiene condiciones peligrosas (bordes, superficies o protuberancias afiladas, etc) que pueden lesionar al trabajador.","NA","0",null,null,null,{"$f":"IF(J7=\"No Crítica\",\"Ha terminado el Proceso de Identificación para esta Tarea y deberá iniciar el proceso de Evaluación Cuantitativa del riesgo\",\"Ha terminado el Proceso de Identificación para esta Tarea y deberá aplicar medidas para reducir el riesgo\")","v":"Ha terminado el Proceso de Identificación para esta Tarea y deberá iniciar el proceso de Evaluación Cuantitativa del riesgo"}]
[null,null,null,"Presencia de ruedas grandes o pequeñas en mal estado, rotas, desgastadas o con poca mantención.","NA","0"]
[null,null,null,"Presencia de ruedas grandes o pequeñas inadecuadas al tipo de carro, peso de la carga y vías de desplazamiento.","NA","0"]
[null,null,"Horas de Trabajo","La tarea de levantamiento/descenso o transporte de carga dura más de 8 hrs.","NA","0"]
[null,null,"Riesgo","Empueje y Arrastre de Carga","Si / No / NA",null,null,null,null,"Si terminó de responder toda la Tabla 6 Presione Aquí para  regresar a Tabla 1 Información General del Puesto de Trabajo donde podrá continuar con la siguiente Tarea"]
[null,null,"Magnitud de la Fuerza","Método dinamómetro (*):\n1. Fuerza inicial es superior a 36 kgs. (Hombres) o 24 kgs.\n(Mujeres).\n2. Fuerza de sustentación es superior a 25 kgs. (Hombres)\ny 15 kgs. (Mujeres).\nMétodo Escala de Borg: los trabajadores perciben alto nivel de esfuerzo físico (valor 8 o más en escala de Borg) durante la (s) tarea (s) de empuje y arrastre de carga (Para obtener la información debe preguntar a los trabajadores utilizando la escala de Borg al final de este anexo).","NA",{"$f":"IF(E14=\"No\",\"0\",IF(E14=\"NA\",\"0\",\"1\"))","v":"0"}]
[null,null,"Dirección de la Fuerza","Durante el desplazamiento la carga requiere de un levantamiento parcial, mientras se empuja o arrastra.","NA",{"$f":"IF(E15=\"No\",\"0\",IF(E15=\"NA\",\"0\",\"1\"))","v":"0"}]
[null,null,"Esfuerzo Físico","La fuerza de empuje o arrastre es realizada con movimientos bruscos o de manera poco controlada.","NA","0"]
[null,null,"Postura","La fuerza de empuje o arrastre es aplicada con el tronco en flexión o torsión significativa.","NA","0"]
[null,null,"Zona de Agarre","Las manos no están delante del cuerpo o fuera del ancho de los hombros cuando se realiza la fuerza de empuje o arrastre.","NA","0"]
[null,null,"Altura aplicación de la Fuerza","La fuerza de empuje o arrastre es aplicada sobre los 150 cm o bajo los 60 cm.","NA","0"]
[null,null,"Duración","La(s) tarea(s) de empuje y arrastre de carga duran más de 8 hrs. diaria.","NA","0"]
[null,null,null,null,null,{"$f":"F4+F5+F6+F7+F8+F9+F10+F11+F12+F14+F15+F16+F17+F18+F19+F20","v":0}]

{"sheet":"TABLA 6T2P9","index":151,"n_rows":21,"n_cols":10,"rows_kept":21,"cut":false,"hidden":false,"merged":[]}
[]
[null,null,null,"EMPUJE Y ARRASTRE DE CARGA - IDENTIFICACIÓN AVANZADA CONDICIÓN CRÍTICA  \n",null,null,null,null,null,"Cuadro de Resultado Tabla 6"]
[null,null,"Condición","Levantamiento/descenso y transporte manual de carga","Si / No / NA"]
[null,null,"Ambiente de Trabajo","Presencia de temperatura extrema (bajo 16° o superior a los 26° grados Celsius) y sin ropa que proteja de las temperaturas extremas.","NA",{"$f":"IF(E4=\"No\",\"0\",IF(E4=\"NA\",\"0\",\"1\"))","v":"0"},null,null,null,"La Tarea:"]
[null,null,null,"Presencia de suelo resbaladizo, irregular o inestable.","NA",{"$f":"IF(E5=\"No\",\"0\",IF(E5=\"NA\",\"0\",\"1\"))","v":"0"},null,null,{"$f":"'TABLA 1 P9'!B8","v":"N° 2"},{"$f":"'TABLA 1 P9'!C8","v":"NA"}]
[null,null,null,"Presencia de vías/caminos donde se restringen los movimientos.","NA","0",null,null,null,"Resultado:"]
[null,null,"Característica del carro o transpaleta","El carro o transpaleta reduce la vista del operador y/o dificulta su movimiento.","NA","0",null,null,{"$f":"F21","v":0},{"$f":"IF(F21>=1,\"Crítica\",\"No Crítica\")","v":"No Crítica"}]
[null,null,null,"La carga es inestable.","NA","0",null,null,null,"Por lo que usted:"]
[null,null,null,"El carro o transpaleta tiene condiciones peligrosas (bordes, superficies o protuberancias afiladas, etc) que pueden lesionar al trabajador.","NA","0",null,null,null,{"$f":"IF(J7=\"No Crítica\",\"Ha terminado el Proceso de Identificación para esta Tarea y deberá iniciar el proceso de Evaluación Cuantitativa del riesgo\",\"Ha terminado el Proceso de Identificación para esta Tarea y deberá aplicar medidas para reducir el riesgo\")","v":"Ha terminado el Proceso de Identificación para esta Tarea y deberá iniciar el proceso de Evaluación Cuantitativa del riesgo"}]
[null,null,null,"Presencia de ruedas grandes o pequeñas en mal estado, rotas, desgastadas o con poca mantención.","NA","0"]
[null,null,null,"Presencia de ruedas grandes o pequeñas inadecuadas al tipo de carro, peso de la carga y vías de desplazamiento.","NA","0"]
[null,null,"Horas de Trabajo","La tarea de levantamiento/descenso o transporte de carga dura más de 8 hrs.","NA","0"]
[null,null,"Riesgo","Empueje y Arrastre de Carga","Si / No / NA",null,null,null,null,"Si terminó de responder toda la Tabla 6 Presione Aquí para  regresar a Tabla 1 Información General del Puesto de Trabajo donde podrá continuar con la siguiente Tarea"]
[null,null,"Magnitud de la Fuerza","Método dinamómetro (*):\n1. Fuerza inicial es superior a 36 kgs. (Hombres) o 24 kgs.\n(Mujeres).\n2. Fuerza de sustentación es superior a 25 kgs. (Hombres)\ny 15 kgs. (Mujeres).\nMétodo Escala de Borg: los trabajadores perciben alto nivel de esfuerzo físico (valor 8 o más en escala de Borg) durante la (s) tarea (s) de empuje y arrastre de carga (Para obtener la información debe preguntar a los trabajadores utilizando la escala de Borg al final de este anexo).","NA",{"$f":"IF(E14=\"No\",\"0\",IF(E14=\"NA\",\"0\",\"1\"))","v":"0"}]
[null,null,"Dirección de la Fuerza","Durante el desplazamiento la carga requiere de un levantamiento parcial, mientras se empuja o arrastra.","NA",{"$f":"IF(E15=\"No\",\"0\",IF(E15=\"NA\",\"0\",\"1\"))","v":"0"}]
[null,null,"Esfuerzo Físico","La fuerza de empuje o arrastre es realizada con movimientos bruscos o de manera poco controlada.","NA","0"]
[null,null,"Postura","La fuerza de empuje o arrastre es aplicada con el tronco en flexión o torsión significativa.","NA","0"]
[null,null,"Zona de Agarre","Las manos no están delante del cuerpo o fuera del ancho de los hombros cuando se realiza la fuerza de empuje o arrastre.","NA","0"]
[null,null,"Altura aplicación de la Fuerza","La fuerza de empuje o arrastre es aplicada sobre los 150 cm o bajo los 60 cm.","NA","0"]
[null,null,"Duración","La(s) tarea(s) de empuje y arrastre de carga duran más de 8 hrs. diaria.","NA","0"]
[null,null,null,null,null,{"$f":"F4+F5+F6+F7+F8+F9+F10+F11+F12+F14+F15+F16+F17+F18+F19+F20","v":0}]

{"sheet":"TABLA 6T2P10","index":152,"n_rows":21,"n_cols":10,"rows_kept":21,"cut":false,"hidden":false,"merged":[]}
[]
[null,null,null,"EMPUJE Y ARRASTRE DE CARGA - IDENTIFICACIÓN AVANZADA CONDICIÓN CRÍTICA  \n",null,null,null,null,null,"Cuadro de Resultado Tabla 6"]
[null,null,"Condición","Levantamiento/descenso y transporte manual de carga","Si / No / NA"]
[null,null,"Ambiente de Trabajo","Presencia de temperatura extrema (bajo 16° o superior a los 26° grados Celsius) y sin ropa que proteja de las temperaturas extremas.","NA",{"$f":"IF(E4=\"No\",\"0\",IF(E4=\"NA\",\"0\",\"1\"))","v":"0"},null,null,null,"La Tarea:"]
[null,null,null,"Presencia de suelo resbaladizo, irregular o inestable.","NA",{"$f":"IF(E5=\"No\",\"0\",IF(E5=\"NA\",\"0\",\"1\"))","v":"0"},null,null,{"$f":"'TABLA 1 P10'!B8","v":"N° 2"},{"$f":"'TABLA 1 P10'!C8","v":"NA"}]
[null,null,null,"Presencia de vías/caminos donde se restringen los movimientos.","NA","0",null,null,null,"Resultado:"]
[null,null,"Característica del carro o transpaleta","El carro o transpaleta reduce la vista del operador y/o dificulta su movimiento.","NA","0",null,null,{"$f":"F21","v":0},{"$f":"IF(F21>=1,\"Crítica\",\"No Crítica\")","v":"No Crítica"}]
[null,null,null,"La carga es inestable.","NA","0",null,null,null,"Por lo que usted:"]
[null,null,null,"El carro o transpaleta tiene condiciones peligrosas (bordes, superficies o protuberancias afiladas, etc) que pueden lesionar al trabajador.","NA","0",null,null,null,{"$f":"IF(J7=\"No Crítica\",\"Ha terminado el Proceso de Identificación para esta Tarea y deberá iniciar el proceso de Evaluación Cuantitativa del riesgo\",\"Ha terminado el Proceso de Identificación para esta Tarea y deberá aplicar medidas para reducir el riesgo\")","v":"Ha terminado el Proceso de Identificación para esta Tarea y deberá iniciar el proceso de Evaluación Cuantitativa del riesgo"}]
[null,null,null,"Presencia de ruedas grandes o pequeñas en mal estado, rotas, desgastadas o con poca mantención.","NA","0"]
[null,null,null,"Presencia de ruedas grandes o pequeñas inadecuadas al tipo de carro, peso de la carga y vías de desplazamiento.","NA","0"]
[null,null,"Horas de Trabajo","La tarea de levantamiento/descenso o transporte de carga dura más de 8 hrs.","NA","0"]
[null,null,"Riesgo","Empueje y Arrastre de Carga","Si / No / NA",null,null,null,null,"Si terminó de responder toda la Tabla 6 Presione Aquí para  regresar a Tabla 1 Información General del Puesto de Trabajo donde podrá continuar con la siguiente Tarea"]
[null,null,"Magnitud de la Fuerza","Método dinamómetro (*):\n1. Fuerza inicial es superior a 36 kgs. (Hombres) o 24 kgs.\n(Mujeres).\n2. Fuerza de sustentación es superior a 25 kgs. (Hombres)\ny 15 kgs. (Mujeres).\nMétodo Escala de Borg: los trabajadores perciben alto nivel de esfuerzo físico (valor 8 o más en escala de Borg) durante la (s) tarea (s) de empuje y arrastre de carga (Para obtener la información debe preguntar a los trabajadores utilizando la escala de Borg al final de este anexo).","NA",{"$f":"IF(E14=\"No\",\"0\",IF(E14=\"NA\",\"0\",\"1\"))","v":"0"}]
[null,null,"Dirección de la Fuerza","Durante el desplazamiento la carga requiere de un levantamiento parcial, mientras se empuja o arrastra.","NA",{"$f":"IF(E15=\"No\",\"0\",IF(E15=\"NA\",\"0\",\"1\"))","v":"0"}]
[null,null,"Esfuerzo Físico","La fuerza de empuje o arrastre es realizada con movimientos bruscos o de manera poco controlada.","NA","0"]
[null,null,"Postura","La fuerza de empuje o arrastre es aplicada con el tronco en flexión o torsión significativa.","NA","0"]
[null,null,"Zona de Agarre","Las manos no están delante del cuerpo o fuera del ancho de los hombros cuando se realiza la fuerza de empuje o arrastre.","NA","0"]
[null,null,"Altura aplicación de la Fuerza","La fuerza de empuje o arrastre es aplicada sobre los 150 cm o bajo los 60 cm.","NA","0"]
[null,null,"Duración","La(s) tarea(s) de empuje y arrastre de carga duran más de 8 hrs. diaria.","NA","0"]
[null,null,null,null,null,{"$f":"F4+F5+F6+F7+F8+F9+F10+F11+F12+F14+F15+F16+F17+F18+F19+F20","v":0}]

{"sheet":"TABLA 5T3P1","index":153,"n_rows":23,"n_cols":11,"rows_kept":23,"cut":false,"hidden":false,"merged":[]}
[]
[null,null,null,"EMPUJE Y ARRASTRE DE CARGA - IDENTIFICACIÓN AVANZADA  CONDICIÓN ACEPTABLE  ",null,null,null,null,null,"Cuadro de Resultado Tabla 5"]
[null,null,"Condición","Empueje y Arrastre de Carga","Si / No / NA"]
[null,null,"Ambiente de Trabajo","La temperatura en donde se realiza la tarea es entre los 18° y 26° (grados Celsius).","NA",{"$f":"IF(E4=\"SI\",\"0\",IF(E4=\"NA\",\"0\",\"1\"))","v":"0"},null,null,null,"La Tarea:"]
[null,null,null,"El piso se encuentra en buenas condiciones (regular, compacto, seco y estable) y sin pendiente.","NA",{"$f":"IF(E5=\"SI\",\"0\",IF(E5=\"NA\",\"0\",\"1\"))","v":"0"},null,null,{"$f":"'TABLA 1 P1'!B10","v":"N° 3"},{"$f":"'TABLA 1 P1'!C10","v":"NA"}]
[null,null,null,"Presencia de vías/caminos donde se permite el normal desplazamiento (espacio suficiente para el desplazamiento).","NA","0",null,null,null,"Resultado:"]
[null,null,null,"El carro o transpaleta permite la visibilidad y movimientos normales del trabajador.","NA","0",null,null,{"$f":"F18","v":0},{"$f":"IF(F18>=1,\"No es Aceptable\",\"Aceptable\")","v":"Aceptable"}]
[null,null,null,"El centro de gravedad de la carga es estable.","NA","0",null,null,null,"Por lo que usted:"]
[null,null,"Característica del carro o transpaleta","La carro o transpaleta permite su agarre sin riesgo de cortes, compresión o quemaduras.","NA","0",null,null,null,{"$f":"IF(J7=\"Aceptable\",\"Ha Terminado el Proceso de Identificación para esta Tarea\",\"Debe Aplicar Tabla 6\")","v":"Ha Terminado el Proceso de Identificación para esta Tarea"},{"$f":"F18","v":0}]
[null,null,null,"Presencia de ruedas grandes o pequeñas en buen estado.","NA","0"]
[null,null,null,"Presencia de ruedas grandes o pequeñas adecuadas al tipo de carro, peso de la carga y vías de desplazamiento.","NA","0",null,null,null,{"$f":"IF(J7=\"Aceptable\",\"Si terminó de responder toda la Tabla 5 Presione Aquí para  regresar a Tabla 1 Información General del Puesto de Trabajo donde podrá continuar con la siguiente Tarea\",\"\")","v":"Si terminó de responder toda la Tabla 5 Presione Aquí para  regresar a Tabla 1 Información General del Puesto de Trabajo donde podrá continuar con la siguiente Tarea"},{"$f":"F18","v":0}]
[null,null,"Riesgo","Empueje y Arrastre de Carga","Si / No / NA"]
[null,null,"Magnitud de la Fuerza","Método dinamómetro (*): la fuerza inicial no supera los 10 kgs de fuerza y la fuerza de sustentación no supera los 5 kgs de fuerza.\nMétodo Escala de Borg: los trabajadores perciben leve esfuerzo físico (valor 2 o menos en escala de Borg) durante la tarea (s) de empuje y arrastre de carga (Para obtener la información debe preguntar a los trabajadores utilizando la escala de Borg (Anexo 3).","NA","0",null,null,null,null,{"$f":"F18","v":0}]
[null,null,"Duración","La(s) tarea(s) de empuje y arrastre de carga duran hasta 8 hrs. diaria.","NA","0"]
[null,null,"Altura aplicación de la Fuerza","La fuerza se realiza entre las caderas y la zona media del tronco.","NA","0",null,null,null,null,{"$f":"F18","v":0}]
[null,null,"Postura","La fuerza de empuje o arrastre es aplicada con el tronco recto (sin flexión o torsión).","NA","0"]
[null,null,"Zona de agarre","Las manos están delante del cuerpo y entre los hombros cuando se realiza la fuerza de empuje o arrastre.","NA","0"]
[null,null,null,null,null,{"$f":"F4+F5+F6+F7+F8+F9+F10+F11+F13+F14+F15+F16+F17","v":0},null,null,null,null,{"$f":"F18","v":0}]
[]
[]
[]
[]
[null,null,null,null,null,null,null,null,null,"Presione solo si al completar Tabla 5  se lo indica el Cuadro de Resultado",{"$f":"F18","v":0}]

{"sheet":"TABLA 5T3P2","index":154,"n_rows":23,"n_cols":11,"rows_kept":23,"cut":false,"hidden":false,"merged":[]}
[]
[null,null,null,"EMPUJE Y ARRASTRE DE CARGA - IDENTIFICACIÓN AVANZADA  CONDICIÓN ACEPTABLE  ",null,null,null,null,null,"Cuadro de Resultado Tabla 5"]
[null,null,"Condición","Empueje y Arrastre de Carga","Si / No / NA"]
[null,null,"Ambiente de Trabajo","La temperatura en donde se realiza la tarea es entre los 18° y 26° (grados Celsius).","NA",{"$f":"IF(E4=\"SI\",\"0\",IF(E4=\"NA\",\"0\",\"1\"))","v":"0"},null,null,null,"La Tarea:"]
[null,null,null,"El piso se encuentra en buenas condiciones (regular, compacto, seco y estable) y sin pendiente.","NA",{"$f":"IF(E5=\"SI\",\"0\",IF(E5=\"NA\",\"0\",\"1\"))","v":"0"},null,null,{"$f":"'TABLA 1 P1'!B10","v":"N° 3"},{"$f":"'TABLA 1 P2'!C10","v":"NA"}]
[null,null,null,"Presencia de vías/caminos donde se permite el normal desplazamiento (espacio suficiente para el desplazamiento).","NA","0",null,null,null,"Resultado:"]
[null,null,null,"El carro o transpaleta permite la visibilidad y movimientos normales del trabajador.","NA","0",null,null,{"$f":"F18","v":0},{"$f":"IF(F18>=1,\"No es Aceptable\",\"Aceptable\")","v":"Aceptable"}]
[null,null,null,"El centro de gravedad de la carga es estable.","NA","0",null,null,null,"Por lo que usted:"]
[null,null,"Característica del carro o transpaleta","La carro o transpaleta permite su agarre sin riesgo de cortes, compresión o quemaduras.","NA","0",null,null,null,{"$f":"IF(J7=\"Aceptable\",\"Ha Terminado el Proceso de Identificación para esta Tarea\",\"Debe Aplicar Tabla 6\")","v":"Ha Terminado el Proceso de Identificación para esta Tarea"},{"$f":"F18","v":0}]
[null,null,null,"Presencia de ruedas grandes o pequeñas en buen estado.","NA","0"]
[null,null,null,"Presencia de ruedas grandes o pequeñas adecuadas al tipo de carro, peso de la carga y vías de desplazamiento.","NA","0",null,null,null,{"$f":"IF(J7=\"Aceptable\",\"Si terminó de responder toda la Tabla 5 Presione Aquí para  regresar a Tabla 1 Información General del Puesto de Trabajo donde podrá continuar con la siguiente Tarea\",\"\")","v":"Si terminó de responder toda la Tabla 5 Presione Aquí para  regresar a Tabla 1 Información General del Puesto de Trabajo donde podrá continuar con la siguiente Tarea"},{"$f":"F18","v":0}]
[null,null,"Riesgo","Empueje y Arrastre de Carga","Si / No / NA"]
[null,null,"Magnitud de la Fuerza","Método dinamómetro (*): la fuerza inicial no supera los 10 kgs de fuerza y la fuerza de sustentación no supera los 5 kgs de fuerza.\nMétodo Escala de Borg: los trabajadores perciben leve esfuerzo físico (valor 2 o menos en escala de Borg) durante la tarea (s) de empuje y arrastre de carga (Para obtener la información debe preguntar a los trabajadores utilizando la escala de Borg (Anexo 3).","NA","0",null,null,null,null,{"$f":"F18","v":0}]
[null,null,"Duración","La(s) tarea(s) de empuje y arrastre de carga duran hasta 8 hrs. diaria.","NA","0"]
[null,null,"Altura aplicación de la Fuerza","La fuerza se realiza entre las caderas y la zona media del tronco.","NA","0",null,null,null,null,{"$f":"F18","v":0}]
[null,null,"Postura","La fuerza de empuje o arrastre es aplicada con el tronco recto (sin flexión o torsión).","NA","0"]
[null,null,"Zona de agarre","Las manos están delante del cuerpo y entre los hombros cuando se realiza la fuerza de empuje o arrastre.","NA","0"]
[null,null,null,null,null,{"$f":"F4+F5+F6+F7+F8+F9+F10+F11+F13+F14+F15+F16+F17","v":0},null,null,null,null,{"$f":"F18","v":0}]
[]
[]
[]
[]
[null,null,null,null,null,null,null,null,null,"Presione solo si al completar Tabla 5  se lo indica el Cuadro de Resultado",{"$f":"F18","v":0}]

{"sheet":"TABLA 5T3P3","index":155,"n_rows":23,"n_cols":11,"rows_kept":23,"cut":false,"hidden":false,"merged":[]}
[]
[null,null,null,"EMPUJE Y ARRASTRE DE CARGA - IDENTIFICACIÓN AVANZADA  CONDICIÓN ACEPTABLE  ",null,null,null,null,null,"Cuadro de Resultado Tabla 5"]
[null,null,"Condición","Empueje y Arrastre de Carga","Si / No / NA"]
[null,null,"Ambiente de Trabajo","La temperatura en donde se realiza la tarea es entre los 18° y 26° (grados Celsius).","NA",{"$f":"IF(E4=\"SI\",\"0\",IF(E4=\"NA\",\"0\",\"1\"))","v":"0"},null,null,null,"La Tarea:"]
[null,null,null,"El piso se encuentra en buenas condiciones (regular, compacto, seco y estable) y sin pendiente.","NA",{"$f":"IF(E5=\"SI\",\"0\",IF(E5=\"NA\",\"0\",\"1\"))","v":"0"},null,null,{"$f":"'TABLA 1 P3'!B10","v":"N° 3"},{"$f":"'TABLA 1 P3'!C10","v":"NA"}]
[null,null,null,"Presencia de vías/caminos donde se permite el normal desplazamiento (espacio suficiente para el desplazamiento).","NA","0",null,null,null,"Resultado:"]
[null,null,null,"El carro o transpaleta permite la visibilidad y movimientos normales del trabajador.","NA","0",null,null,{"$f":"F18","v":0},{"$f":"IF(F18>=1,\"No es Aceptable\",\"Aceptable\")","v":"Aceptable"}]
[null,null,null,"El centro de gravedad de la carga es estable.","NA","0",null,null,null,"Por lo que usted:"]
[null,null,"Característica del carro o transpaleta","La carro o transpaleta permite su agarre sin riesgo de cortes, compresión o quemaduras.","NA","0",null,null,null,{"$f":"IF(J7=\"Aceptable\",\"Ha Terminado el Proceso de Identificación para esta Tarea\",\"Debe Aplicar Tabla 6\")","v":"Ha Terminado el Proceso de Identificación para esta Tarea"},{"$f":"F18","v":0}]
[null,null,null,"Presencia de ruedas grandes o pequeñas en buen estado.","NA","0"]
[null,null,null,"Presencia de ruedas grandes o pequeñas adecuadas al tipo de carro, peso de la carga y vías de desplazamiento.","NA","0",null,null,null,{"$f":"IF(J7=\"Aceptable\",\"Si terminó de responder toda la Tabla 5 Presione Aquí para  regresar a Tabla 1 Información General del Puesto de Trabajo donde podrá continuar con la siguiente Tarea\",\"\")","v":"Si terminó de responder toda la Tabla 5 Presione Aquí para  regresar a Tabla 1 Información General del Puesto de Trabajo donde podrá continuar con la siguiente Tarea"},{"$f":"F18","v":0}]
[null,null,"Riesgo","Empueje y Arrastre de Carga","Si / No / NA"]
[null,null,"Magnitud de la Fuerza","Método dinamómetro (*): la fuerza inicial no supera los 10 kgs de fuerza y la fuerza de sustentación no supera los 5 kgs de fuerza.\nMétodo Escala de Borg: los trabajadores perciben leve esfuerzo físico (valor 2 o menos en escala de Borg) durante la tarea (s) de empuje y arrastre de carga (Para obtener la información debe preguntar a los trabajadores utilizando la escala de Borg (Anexo 3).","NA","0",null,null,null,null,{"$f":"F18","v":0}]
[null,null,"Duración","La(s) tarea(s) de empuje y arrastre de carga duran hasta 8 hrs. diaria.","NA","0"]
[null,null,"Altura aplicación de la Fuerza","La fuerza se realiza entre las caderas y la zona media del tronco.","NA","0",null,null,null,null,{"$f":"F18","v":0}]
[null,null,"Postura","La fuerza de empuje o arrastre es aplicada con el tronco recto (sin flexión o torsión).","NA","0"]
[null,null,"Zona de agarre","Las manos están delante del cuerpo y entre los hombros cuando se realiza la fuerza de empuje o arrastre.","NA","0"]
[null,null,null,null,null,{"$f":"F4+F5+F6+F7+F8+F9+F10+F11+F13+F14+F15+F16+F17","v":0},null,null,null,null,{"$f":"F18","v":0}]
[]
[]
[]
[]
[null,null,null,null,null,null,null,null,null,"Presione solo si al completar Tabla 5  se lo indica el Cuadro de Resultado",{"$f":"F18","v":0}]

{"sheet":"TABLA 5T3P4","index":156,"n_rows":23,"n_cols":11,"rows_kept":23,"cut":false,"hidden":false,"merged":[]}
[]
[null,null,null,"EMPUJE Y ARRASTRE DE CARGA - IDENTIFICACIÓN AVANZADA  CONDICIÓN ACEPTABLE  ",null,null,null,null,null,"Cuadro de Resultado Tabla 5"]
[null,null,"Condición","Empueje y Arrastre de Carga","Si / No / NA"]
[null,null,"Ambiente de Trabajo","La temperatura en donde se realiza la tarea es entre los 18° y 26° (grados Celsius).","NA",{"$f":"IF(E4=\"SI\",\"0\",IF(E4=\"NA\",\"0\",\"1\"))","v":"0"},null,null,null,"La Tarea:"]
[null,null,null,"El piso se encuentra en buenas condiciones (regular, compacto, seco y estable) y sin pendiente.","NA",{"$f":"IF(E5=\"SI\",\"0\",IF(E5=\"NA\",\"0\",\"1\"))","v":"0"},null,null,{"$f":"'TABLA 1 P4'!B10","v":"N° 3"},{"$f":"'TABLA 1 P4'!C10","v":"NA"}]
[null,null,null,"Presencia de vías/caminos donde se permite el normal desplazamiento (espacio suficiente para el desplazamiento).","NA","0",null,null,null,"Resultado:"]
[null,null,null,"El carro o transpaleta permite la visibilidad y movimientos normales del trabajador.","NA","0",null,null,{"$f":"F18","v":0},{"$f":"IF(F18>=1,\"No es Aceptable\",\"Aceptable\")","v":"Aceptable"}]
[null,null,null,"El centro de gravedad de la carga es estable.","NA","0",null,null,null,"Por lo que usted:"]
[null,null,"Característica del carro o transpaleta","La carro o transpaleta permite su agarre sin riesgo de cortes, compresión o quemaduras.","NA","0",null,null,null,{"$f":"IF(J7=\"Aceptable\",\"Ha Terminado el Proceso de Identificación para esta Tarea\",\"Debe Aplicar Tabla 6\")","v":"Ha Terminado el Proceso de Identificación para esta Tarea"},{"$f":"F18","v":0}]
[null,null,null,"Presencia de ruedas grandes o pequeñas en buen estado.","NA","0"]
[null,null,null,"Presencia de ruedas grandes o pequeñas adecuadas al tipo de carro, peso de la carga y vías de desplazamiento.","NA","0",null,null,null,{"$f":"IF(J7=\"Aceptable\",\"Si terminó de responder toda la Tabla 5 Presione Aquí para  regresar a Tabla 1 Información General del Puesto de Trabajo donde podrá continuar con la siguiente Tarea\",\"\")","v":"Si terminó de responder toda la Tabla 5 Presione Aquí para  regresar a Tabla 1 Información General del Puesto de Trabajo donde podrá continuar con la siguiente Tarea"},{"$f":"F18","v":0}]
[null,null,"Riesgo","Empueje y Arrastre de Carga","Si / No / NA"]
[null,null,"Magnitud de la Fuerza","Método dinamómetro (*): la fuerza inicial no supera los 10 kgs de fuerza y la fuerza de sustentación no supera los 5 kgs de fuerza.\nMétodo Escala de Borg: los trabajadores perciben leve esfuerzo físico (valor 2 o menos en escala de Borg) durante la tarea (s) de empuje y arrastre de carga (Para obtener la información debe preguntar a los trabajadores utilizando la escala de Borg (Anexo 3).","NA","0",null,null,null,null,{"$f":"F18","v":0}]
[null,null,"Duración","La(s) tarea(s) de empuje y arrastre de carga duran hasta 8 hrs. diaria.","NA","0"]
[null,null,"Altura aplicación de la Fuerza","La fuerza se realiza entre las caderas y la zona media del tronco.","NA","0",null,null,null,null,{"$f":"F18","v":0}]
[null,null,"Postura","La fuerza de empuje o arrastre es aplicada con el tronco recto (sin flexión o torsión).","NA","0"]
[null,null,"Zona de agarre","Las manos están delante del cuerpo y entre los hombros cuando se realiza la fuerza de empuje o arrastre.","NA","0"]
[null,null,null,null,null,{"$f":"F4+F5+F6+F7+F8+F9+F10+F11+F13+F14+F15+F16+F17","v":0},null,null,null,null,{"$f":"F18","v":0}]
[]
[]
[]
[]
[null,null,null,null,null,null,null,null,null,"Presione solo si al completar Tabla 5  se lo indica el Cuadro de Resultado",{"$f":"F18","v":0}]

{"sheet":"TABLA 5T3P5","index":157,"n_rows":23,"n_cols":11,"rows_kept":23,"cut":false,"hidden":false,"merged":[]}
[]
[null,null,null,"EMPUJE Y ARRASTRE DE CARGA - IDENTIFICACIÓN AVANZADA  CONDICIÓN ACEPTABLE  ",null,null,null,null,null,"Cuadro de Resultado Tabla 5"]
[null,null,"Condición","Empueje y Arrastre de Carga","Si / No / NA"]
[null,null,"Ambiente de Trabajo","La temperatura en donde se realiza la tarea es entre los 18° y 26° (grados Celsius).","NA",{"$f":"IF(E4=\"SI\",\"0\",IF(E4=\"NA\",\"0\",\"1\"))","v":"0"},null,null,null,"La Tarea:"]
[null,null,null,"El piso se encuentra en buenas condiciones (regular, compacto, seco y estable) y sin pendiente.","NA",{"$f":"IF(E5=\"SI\",\"0\",IF(E5=\"NA\",\"0\",\"1\"))","v":"0"},null,null,{"$f":"'TABLA 1 P5'!B10","v":"N° 3"},{"$f":"'TABLA 1 P5'!C10","v":"NA"}]
[null,null,null,"Presencia de vías/caminos donde se permite el normal desplazamiento (espacio suficiente para el desplazamiento).","NA","0",null,null,null,"Resultado:"]
[null,null,null,"El carro o transpaleta permite la visibilidad y movimientos normales del trabajador.","NA","0",null,null,{"$f":"F18","v":0},{"$f":"IF(F18>=1,\"No es Aceptable\",\"Aceptable\")","v":"Aceptable"}]
[null,null,null,"El centro de gravedad de la carga es estable.","NA","0",null,null,null,"Por lo que usted:"]
[null,null,"Característica del carro o transpaleta","La carro o transpaleta permite su agarre sin riesgo de cortes, compresión o quemaduras.","NA","0",null,null,null,{"$f":"IF(J7=\"Aceptable\",\"Ha Terminado el Proceso de Identificación para esta Tarea\",\"Debe Aplicar Tabla 6\")","v":"Ha Terminado el Proceso de Identificación para esta Tarea"},{"$f":"F18","v":0}]
[null,null,null,"Presencia de ruedas grandes o pequeñas en buen estado.","NA","0"]
[null,null,null,"Presencia de ruedas grandes o pequeñas adecuadas al tipo de carro, peso de la carga y vías de desplazamiento.","NA","0",null,null,null,{"$f":"IF(J7=\"Aceptable\",\"Si terminó de responder toda la Tabla 5 Presione Aquí para  regresar a Tabla 1 Información General del Puesto de Trabajo donde podrá continuar con la siguiente Tarea\",\"\")","v":"Si terminó de responder toda la Tabla 5 Presione Aquí para  regresar a Tabla 1 Información General del Puesto de Trabajo donde podrá continuar con la siguiente Tarea"},{"$f":"F18","v":0}]
[null,null,"Riesgo","Empueje y Arrastre de Carga","Si / No / NA"]
[null,null,"Magnitud de la Fuerza","Método dinamómetro (*): la fuerza inicial no supera los 10 kgs de fuerza y la fuerza de sustentación no supera los 5 kgs de fuerza.\nMétodo Escala de Borg: los trabajadores perciben leve esfuerzo físico (valor 2 o menos en escala de Borg) durante la tarea (s) de empuje y arrastre de carga (Para obtener la información debe preguntar a los trabajadores utilizando la escala de Borg (Anexo 3).","NA","0",null,null,null,null,{"$f":"F18","v":0}]
[null,null,"Duración","La(s) tarea(s) de empuje y arrastre de carga duran hasta 8 hrs. diaria.","NA","0"]
[null,null,"Altura aplicación de la Fuerza","La fuerza se realiza entre las caderas y la zona media del tronco.","NA","0",null,null,null,null,{"$f":"F18","v":0}]
[null,null,"Postura","La fuerza de empuje o arrastre es aplicada con el tronco recto (sin flexión o torsión).","NA","0"]
[null,null,"Zona de agarre","Las manos están delante del cuerpo y entre los hombros cuando se realiza la fuerza de empuje o arrastre.","NA","0"]
[null,null,null,null,null,{"$f":"F4+F5+F6+F7+F8+F9+F10+F11+F13+F14+F15+F16+F17","v":0},null,null,null,null,{"$f":"F18","v":0}]
[]
[]
[]
[]
[null,null,null,null,null,null,null,null,null,"Presione solo si al completar Tabla 5  se lo indica el Cuadro de Resultado",{"$f":"F18","v":0}]

{"sheet":"TABLA 5T3P6","index":158,"n_rows":23,"n_cols":11,"rows_kept":23,"cut":false,"hidden":false,"merged":[]}
[]
[null,null,null,"EMPUJE Y ARRASTRE DE CARGA - IDENTIFICACIÓN AVANZADA  CONDICIÓN ACEPTABLE  ",null,null,null,null,null,"Cuadro de Resultado Tabla 5"]
[null,null,"Condición","Empueje y Arrastre de Carga","Si / No / NA"]
[null,null,"Ambiente de Trabajo","La temperatura en donde se realiza la tarea es entre los 18° y 26° (grados Celsius).","NA",{"$f":"IF(E4=\"SI\",\"0\",IF(E4=\"NA\",\"0\",\"1\"))","v":"0"},null,null,null,"La Tarea:"]
[null,null,null,"El piso se encuentra en buenas condiciones (regular, compacto, seco y estable) y sin pendiente.","NA",{"$f":"IF(E5=\"SI\",\"0\",IF(E5=\"NA\",\"0\",\"1\"))","v":"0"},null,null,{"$f":"'TABLA 1 P6'!B10","v":"N° 3"},{"$f":"'TABLA 1 P6'!C10","v":"NA"}]
[null,null,null,"Presencia de vías/caminos donde se permite el normal desplazamiento (espacio suficiente para el desplazamiento).","NA","0",null,null,null,"Resultado:"]
[null,null,null,"El carro o transpaleta permite la visibilidad y movimientos normales del trabajador.","NA","0",null,null,{"$f":"F18","v":0},{"$f":"IF(F18>=1,\"No es Aceptable\",\"Aceptable\")","v":"Aceptable"}]
[null,null,null,"El centro de gravedad de la carga es estable.","NA","0",null,null,null,"Por lo que usted:"]
[null,null,"Característica del carro o transpaleta","La carro o transpaleta permite su agarre sin riesgo de cortes, compresión o quemaduras.","NA","0",null,null,null,{"$f":"IF(J7=\"Aceptable\",\"Ha Terminado el Proceso de Identificación para esta Tarea\",\"Debe Aplicar Tabla 6\")","v":"Ha Terminado el Proceso de Identificación para esta Tarea"},{"$f":"F18","v":0}]
[null,null,null,"Presencia de ruedas grandes o pequeñas en buen estado.","NA","0"]
[null,null,null,"Presencia de ruedas grandes o pequeñas adecuadas al tipo de carro, peso de la carga y vías de desplazamiento.","NA","0",null,null,null,{"$f":"IF(J7=\"Aceptable\",\"Si terminó de responder toda la Tabla 5 Presione Aquí para  regresar a Tabla 1 Información General del Puesto de Trabajo donde podrá continuar con la siguiente Tarea\",\"\")","v":"Si terminó de responder toda la Tabla 5 Presione Aquí para  regresar a Tabla 1 Información General del Puesto de Trabajo donde podrá continuar con la siguiente Tarea"},{"$f":"F18","v":0}]
[null,null,"Riesgo","Empueje y Arrastre de Carga","Si / No / NA"]
[null,null,"Magnitud de la Fuerza","Método dinamómetro (*): la fuerza inicial no supera los 10 kgs de fuerza y la fuerza de sustentación no supera los 5 kgs de fuerza.\nMétodo Escala de Borg: los trabajadores perciben leve esfuerzo físico (valor 2 o menos en escala de Borg) durante la tarea (s) de empuje y arrastre de carga (Para obtener la información debe preguntar a los trabajadores utilizando la escala de Borg (Anexo 3).","NA","0",null,null,null,null,{"$f":"F18","v":0}]
[null,null,"Duración","La(s) tarea(s) de empuje y arrastre de carga duran hasta 8 hrs. diaria.","NA","0"]
[null,null,"Altura aplicación de la Fuerza","La fuerza se realiza entre las caderas y la zona media del tronco.","NA","0",null,null,null,null,{"$f":"F18","v":0}]
[null,null,"Postura","La fuerza de empuje o arrastre es aplicada con el tronco recto (sin flexión o torsión).","NA","0"]
[null,null,"Zona de agarre","Las manos están delante del cuerpo y entre los hombros cuando se realiza la fuerza de empuje o arrastre.","NA","0"]
[null,null,null,null,null,{"$f":"F4+F5+F6+F7+F8+F9+F10+F11+F13+F14+F15+F16+F17","v":0},null,null,null,null,{"$f":"F18","v":0}]
[]
[]
[]
[]
[null,null,null,null,null,null,null,null,null,"Presione solo si al completar Tabla 5  se lo indica el Cuadro de Resultado",{"$f":"F18","v":0}]

{"sheet":"TABLA 5T3P7","index":159,"n_rows":23,"n_cols":11,"rows_kept":23,"cut":false,"hidden":false,"merged":[]}
[]
[null,null,null,"EMPUJE Y ARRASTRE DE CARGA - IDENTIFICACIÓN AVANZADA  CONDICIÓN ACEPTABLE  ",null,null,null,null,null,"Cuadro de Resultado Tabla 5"]
[null,null,"Condición","Empueje y Arrastre de Carga","Si / No / NA"]
[null,null,"Ambiente de Trabajo","La temperatura en donde se realiza la tarea es entre los 18° y 26° (grados Celsius).","NA",{"$f":"IF(E4=\"SI\",\"0\",IF(E4=\"NA\",\"0\",\"1\"))","v":"0"},null,null,null,"La Tarea:"]
[null,null,null,"El piso se encuentra en buenas condiciones (regular, compacto, seco y estable) y sin pendiente.","NA",{"$f":"IF(E5=\"SI\",\"0\",IF(E5=\"NA\",\"0\",\"1\"))","v":"0"},null,null,{"$f":"'TABLA 1 P7'!B10","v":"N° 3"},{"$f":"'TABLA 1 P7'!C10","v":"NA"}]
[null,null,null,"Presencia de vías/caminos donde se permite el normal desplazamiento (espacio suficiente para el desplazamiento).","NA","0",null,null,null,"Resultado:"]
[null,null,null,"El carro o transpaleta permite la visibilidad y movimientos normales del trabajador.","NA","0",null,null,{"$f":"F18","v":0},{"$f":"IF(F18>=1,\"No es Aceptable\",\"Aceptable\")","v":"Aceptable"}]
[null,null,null,"El centro de gravedad de la carga es estable.","NA","0",null,null,null,"Por lo que usted:"]
[null,null,"Característica del carro o transpaleta","La carro o transpaleta permite su agarre sin riesgo de cortes, compresión o quemaduras.","NA","0",null,null,null,{"$f":"IF(J7=\"Aceptable\",\"Ha Terminado el Proceso de Identificación para esta Tarea\",\"Debe Aplicar Tabla 6\")","v":"Ha Terminado el Proceso de Identificación para esta Tarea"},{"$f":"F18","v":0}]
[null,null,null,"Presencia de ruedas grandes o pequeñas en buen estado.","NA","0"]
[null,null,null,"Presencia de ruedas grandes o pequeñas adecuadas al tipo de carro, peso de la carga y vías de desplazamiento.","NA","0",null,null,null,{"$f":"IF(J7=\"Aceptable\",\"Si terminó de responder toda la Tabla 5 Presione Aquí para  regresar a Tabla 1 Información General del Puesto de Trabajo donde podrá continuar con la siguiente Tarea\",\"\")","v":"Si terminó de responder toda la Tabla 5 Presione Aquí para  regresar a Tabla 1 Información General del Puesto de Trabajo donde podrá continuar con la siguiente Tarea"},{"$f":"F18","v":0}]
[null,null,"Riesgo","Empueje y Arrastre de Carga","Si / No / NA"]
[null,null,"Magnitud de la Fuerza","Método dinamómetro (*): la fuerza inicial no supera los 10 kgs de fuerza y la fuerza de sustentación no supera los 5 kgs de fuerza.\nMétodo Escala de Borg: los trabajadores perciben leve esfuerzo físico (valor 2 o menos en escala de Borg) durante la tarea (s) de empuje y arrastre de carga (Para obtener la información debe preguntar a los trabajadores utilizando la escala de Borg (Anexo 3).","NA","0",null,null,null,null,{"$f":"F18","v":0}]
[null,null,"Duración","La(s) tarea(s) de empuje y arrastre de carga duran hasta 8 hrs. diaria.","NA","0"]
[null,null,"Altura aplicación de la Fuerza","La fuerza se realiza entre las caderas y la zona media del tronco.","NA","0",null,null,null,null,{"$f":"F18","v":0}]
[null,null,"Postura","La fuerza de empuje o arrastre es aplicada con el tronco recto (sin flexión o torsión).","NA","0"]
[null,null,"Zona de agarre","Las manos están delante del cuerpo y entre los hombros cuando se realiza la fuerza de empuje o arrastre.","NA","0"]
[null,null,null,null,null,{"$f":"F4+F5+F6+F7+F8+F9+F10+F11+F13+F14+F15+F16+F17","v":0},null,null,null,null,{"$f":"F18","v":0}]
[]
[]
[]
[]
[null,null,null,null,null,null,null,null,null,"Presione solo si al completar Tabla 5  se lo indica el Cuadro de Resultado",{"$f":"F18","v":0}]

{"sheet":"TABLA 5T3P8","index":160,"n_rows":23,"n_cols":11,"rows_kept":23,"cut":false,"hidden":false,"merged":[]}
[]
[null,null,null,"EMPUJE Y ARRASTRE DE CARGA - IDENTIFICACIÓN AVANZADA  CONDICIÓN ACEPTABLE  ",null,null,null,null,null,"Cuadro de Resultado Tabla 5"]
[null,null,"Condición","Empueje y Arrastre de Carga","Si / No / NA"]
[null,null,"Ambiente de Trabajo","La temperatura en donde se realiza la tarea es entre los 18° y 26° (grados Celsius).","NA",{"$f":"IF(E4=\"SI\",\"0\",IF(E4=\"NA\",\"0\",\"1\"))","v":"0"},null,null,null,"La Tarea:"]
[null,null,null,"El piso se encuentra en buenas condiciones (regular, compacto, seco y estable) y sin pendiente.","NA",{"$f":"IF(E5=\"SI\",\"0\",IF(E5=\"NA\",\"0\",\"1\"))","v":"0"},null,null,{"$f":"'TABLA 1 P8'!B10","v":"N° 3"},{"$f":"'TABLA 1 P8'!C10","v":"NA"}]
[null,null,null,"Presencia de vías/caminos donde se permite el normal desplazamiento (espacio suficiente para el desplazamiento).","NA","0",null,null,null,"Resultado:"]
[null,null,null,"El carro o transpaleta permite la visibilidad y movimientos normales del trabajador.","NA","0",null,null,{"$f":"F18","v":0},{"$f":"IF(F18>=1,\"No es Aceptable\",\"Aceptable\")","v":"Aceptable"}]
[null,null,null,"El centro de gravedad de la carga es estable.","NA","0",null,null,null,"Por lo que usted:"]
[null,null,"Característica del carro o transpaleta","La carro o transpaleta permite su agarre sin riesgo de cortes, compresión o quemaduras.","NA","0",null,null,null,{"$f":"IF(J7=\"Aceptable\",\"Ha Terminado el Proceso de Identificación para esta Tarea\",\"Debe Aplicar Tabla 6\")","v":"Ha Terminado el Proceso de Identificación para esta Tarea"},{"$f":"F18","v":0}]
[null,null,null,"Presencia de ruedas grandes o pequeñas en buen estado.","NA","0"]
[null,null,null,"Presencia de ruedas grandes o pequeñas adecuadas al tipo de carro, peso de la carga y vías de desplazamiento.","NA","0",null,null,null,{"$f":"IF(J7=\"Aceptable\",\"Si terminó de responder toda la Tabla 5 Presione Aquí para  regresar a Tabla 1 Información General del Puesto de Trabajo donde podrá continuar con la siguiente Tarea\",\"\")","v":"Si terminó de responder toda la Tabla 5 Presione Aquí para  regresar a Tabla 1 Información General del Puesto de Trabajo donde podrá continuar con la siguiente Tarea"},{"$f":"F18","v":0}]
[null,null,"Riesgo","Empueje y Arrastre de Carga","Si / No / NA"]
[null,null,"Magnitud de la Fuerza","Método dinamómetro (*): la fuerza inicial no supera los 10 kgs de fuerza y la fuerza de sustentación no supera los 5 kgs de fuerza.\nMétodo Escala de Borg: los trabajadores perciben leve esfuerzo físico (valor 2 o menos en escala de Borg) durante la tarea (s) de empuje y arrastre de carga (Para obtener la información debe preguntar a los trabajadores utilizando la escala de Borg (Anexo 3).","NA","0",null,null,null,null,{"$f":"F18","v":0}]
[null,null,"Duración","La(s) tarea(s) de empuje y arrastre de carga duran hasta 8 hrs. diaria.","NA","0"]
[null,null,"Altura aplicación de la Fuerza","La fuerza se realiza entre las caderas y la zona media del tronco.","NA","0",null,null,null,null,{"$f":"F18","v":0}]
[null,null,"Postura","La fuerza de empuje o arrastre es aplicada con el tronco recto (sin flexión o torsión).","NA","0"]
[null,null,"Zona de agarre","Las manos están delante del cuerpo y entre los hombros cuando se realiza la fuerza de empuje o arrastre.","NA","0"]
[null,null,null,null,null,{"$f":"F4+F5+F6+F7+F8+F9+F10+F11+F13+F14+F15+F16+F17","v":0},null,null,null,null,{"$f":"F18","v":0}]
[]
[]
[]
[]
[null,null,null,null,null,null,null,null,null,"Presione solo si al completar Tabla 5  se lo indica el Cuadro de Resultado",{"$f":"F18","v":0}]

{"sheet":"TABLA 5T3P9","index":161,"n_rows":23,"n_cols":11,"rows_kept":23,"cut":false,"hidden":false,"merged":[]}
[]
[null,null,null,"EMPUJE Y ARRASTRE DE CARGA - IDENTIFICACIÓN AVANZADA  CONDICIÓN ACEPTABLE  ",null,null,null,null,null,"Cuadro de Resultado Tabla 5"]
[null,null,"Condición","Empueje y Arrastre de Carga","Si / No / NA"]
[null,null,"Ambiente de Trabajo","La temperatura en donde se realiza la tarea es entre los 18° y 26° (grados Celsius).","NA",{"$f":"IF(E4=\"SI\",\"0\",IF(E4=\"NA\",\"0\",\"1\"))","v":"0"},null,null,null,"La Tarea:"]
[null,null,null,"El piso se encuentra en buenas condiciones (regular, compacto, seco y estable) y sin pendiente.","NA",{"$f":"IF(E5=\"SI\",\"0\",IF(E5=\"NA\",\"0\",\"1\"))","v":"0"},null,null,{"$f":"'TABLA 1 P9'!B10","v":"N° 3"},{"$f":"'TABLA 1 P9'!C10","v":"NA"}]
[null,null,null,"Presencia de vías/caminos donde se permite el normal desplazamiento (espacio suficiente para el desplazamiento).","NA","0",null,null,null,"Resultado:"]
[null,null,null,"El carro o transpaleta permite la visibilidad y movimientos normales del trabajador.","NA","0",null,null,{"$f":"F18","v":0},{"$f":"IF(F18>=1,\"No es Aceptable\",\"Aceptable\")","v":"Aceptable"}]
[null,null,null,"El centro de gravedad de la carga es estable.","NA","0",null,null,null,"Por lo que usted:"]
[null,null,"Característica del carro o transpaleta","La carro o transpaleta permite su agarre sin riesgo de cortes, compresión o quemaduras.","NA","0",null,null,null,{"$f":"IF(J7=\"Aceptable\",\"Ha Terminado el Proceso de Identificación para esta Tarea\",\"Debe Aplicar Tabla 6\")","v":"Ha Terminado el Proceso de Identificación para esta Tarea"},{"$f":"F18","v":0}]
[null,null,null,"Presencia de ruedas grandes o pequeñas en buen estado.","NA","0"]
[null,null,null,"Presencia de ruedas grandes o pequeñas adecuadas al tipo de carro, peso de la carga y vías de desplazamiento.","NA","0",null,null,null,{"$f":"IF(J7=\"Aceptable\",\"Si terminó de responder toda la Tabla 5 Presione Aquí para  regresar a Tabla 1 Información General del Puesto de Trabajo donde podrá continuar con la siguiente Tarea\",\"\")","v":"Si terminó de responder toda la Tabla 5 Presione Aquí para  regresar a Tabla 1 Información General del Puesto de Trabajo donde podrá continuar con la siguiente Tarea"},{"$f":"F18","v":0}]
[null,null,"Riesgo","Empueje y Arrastre de Carga","Si / No / NA"]
[null,null,"Magnitud de la Fuerza","Método dinamómetro (*): la fuerza inicial no supera los 10 kgs de fuerza y la fuerza de sustentación no supera los 5 kgs de fuerza.\nMétodo Escala de Borg: los trabajadores perciben leve esfuerzo físico (valor 2 o menos en escala de Borg) durante la tarea (s) de empuje y arrastre de carga (Para obtener la información debe preguntar a los trabajadores utilizando la escala de Borg (Anexo 3).","NA","0",null,null,null,null,{"$f":"F18","v":0}]
[null,null,"Duración","La(s) tarea(s) de empuje y arrastre de carga duran hasta 8 hrs. diaria.","NA","0"]
[null,null,"Altura aplicación de la Fuerza","La fuerza se realiza entre las caderas y la zona media del tronco.","NA","0",null,null,null,null,{"$f":"F18","v":0}]
[null,null,"Postura","La fuerza de empuje o arrastre es aplicada con el tronco recto (sin flexión o torsión).","NA","0"]
[null,null,"Zona de agarre","Las manos están delante del cuerpo y entre los hombros cuando se realiza la fuerza de empuje o arrastre.","NA","0"]
[null,null,null,null,null,{"$f":"F4+F5+F6+F7+F8+F9+F10+F11+F13+F14+F15+F16+F17","v":0},null,null,null,null,{"$f":"F18","v":0}]
[]
[]
[]
[]
[null,null,null,null,null,null,null,null,null,"Presione solo si al completar Tabla 5  se lo indica el Cuadro de Resultado",{"$f":"F18","v":0}]

{"sheet":"TABLA 5T3P10","index":162,"n_rows":23,"n_cols":11,"rows_kept":23,"cut":false,"hidden":false,"merged":[]}
[]
[null,null,null,"EMPUJE Y ARRASTRE DE CARGA - IDENTIFICACIÓN AVANZADA  CONDICIÓN ACEPTABLE  ",null,null,null,null,null,"Cuadro de Resultado Tabla 5"]
[null,null,"Condición","Empueje y Arrastre de Carga","Si / No / NA"]
[null,null,"Ambiente de Trabajo","La temperatura en donde se realiza la tarea es entre los 18° y 26° (grados Celsius).","NA",{"$f":"IF(E4=\"SI\",\"0\",IF(E4=\"NA\",\"0\",\"1\"))","v":"0"},null,null,null,"La Tarea:"]
[null,null,null,"El piso se encuentra en buenas condiciones (regular, compacto, seco y estable) y sin pendiente.","NA",{"$f":"IF(E5=\"SI\",\"0\",IF(E5=\"NA\",\"0\",\"1\"))","v":"0"},null,null,{"$f":"'TABLA 1 P10'!B10","v":"N° 3"},{"$f":"'TABLA 1 P10'!C10","v":"NA"}]
[null,null,null,"Presencia de vías/caminos donde se permite el normal desplazamiento (espacio suficiente para el desplazamiento).","NA","0",null,null,null,"Resultado:"]
[null,null,null,"El carro o transpaleta permite la visibilidad y movimientos normales del trabajador.","NA","0",null,null,{"$f":"F18","v":0},{"$f":"IF(F18>=1,\"No es Aceptable\",\"Aceptable\")","v":"Aceptable"}]
[null,null,null,"El centro de gravedad de la carga es estable.","NA","0",null,null,null,"Por lo que usted:"]
[null,null,"Característica del carro o transpaleta","La carro o transpaleta permite su agarre sin riesgo de cortes, compresión o quemaduras.","NA","0",null,null,null,{"$f":"IF(J7=\"Aceptable\",\"Ha Terminado el Proceso de Identificación para esta Tarea\",\"Debe Aplicar Tabla 6\")","v":"Ha Terminado el Proceso de Identificación para esta Tarea"},{"$f":"F18","v":0}]
[null,null,null,"Presencia de ruedas grandes o pequeñas en buen estado.","NA","0"]
[null,null,null,"Presencia de ruedas grandes o pequeñas adecuadas al tipo de carro, peso de la carga y vías de desplazamiento.","NA","0",null,null,null,{"$f":"IF(J7=\"Aceptable\",\"Si terminó de responder toda la Tabla 5 Presione Aquí para  regresar a Tabla 1 Información General del Puesto de Trabajo donde podrá continuar con la siguiente Tarea\",\"\")","v":"Si terminó de responder toda la Tabla 5 Presione Aquí para  regresar a Tabla 1 Información General del Puesto de Trabajo donde podrá continuar con la siguiente Tarea"},{"$f":"F18","v":0}]
[null,null,"Riesgo","Empueje y Arrastre de Carga","Si / No / NA"]
[null,null,"Magnitud de la Fuerza","Método dinamómetro (*): la fuerza inicial no supera los 10 kgs de fuerza y la fuerza de sustentación no supera los 5 kgs de fuerza.\nMétodo Escala de Borg: los trabajadores perciben leve esfuerzo físico (valor 2 o menos en escala de Borg) durante la tarea (s) de empuje y arrastre de carga (Para obtener la información debe preguntar a los trabajadores utilizando la escala de Borg (Anexo 3).","NA","0",null,null,null,null,{"$f":"F18","v":0}]
[null,null,"Duración","La(s) tarea(s) de empuje y arrastre de carga duran hasta 8 hrs. diaria.","NA","0"]
[null,null,"Altura aplicación de la Fuerza","La fuerza se realiza entre las caderas y la zona media del tronco.","NA","0",null,null,null,null,{"$f":"F18","v":0}]
[null,null,"Postura","La fuerza de empuje o arrastre es aplicada con el tronco recto (sin flexión o torsión).","NA","0"]
[null,null,"Zona de agarre","Las manos están delante del cuerpo y entre los hombros cuando se realiza la fuerza de empuje o arrastre.","NA","0"]
[null,null,null,null,null,{"$f":"F4+F5+F6+F7+F8+F9+F10+F11+F13+F14+F15+F16+F17","v":0},null,null,null,null,{"$f":"F18","v":0}]
[]
[]
[]
[]
[null,null,null,null,null,null,null,null,null,"Presione solo si al completar Tabla 5  se lo indica el Cuadro de Resultado",{"$f":"F18","v":0}]

{"sheet":"TABLA 6T3P1","index":163,"n_rows":21,"n_cols":10,"rows_kept":21,"cut":false,"hidden":false,"merged":[]}
[]
[null,null,null,"EMPUJE Y ARRASTRE DE CARGA - IDENTIFICACIÓN AVANZADA CONDICIÓN CRÍTICA  \n",null,null,null,null,null,"Cuadro de Resultado Tabla 6"]
[null,null,"Condición","Levantamiento/descenso y transporte manual de carga","Si / No / NA"]
[null,null,"Ambiente de Trabajo","Presencia de temperatura extrema (bajo 16° o superior a los 26° grados Celsius) y sin ropa que proteja de las temperaturas extremas.","NA",{"$f":"IF(E4=\"No\",\"0\",IF(E4=\"NA\",\"0\",\"1\"))","v":"0"},null,null,null,"La Tarea:"]
[null,null,null,"Presencia de suelo resbaladizo, irregular o inestable.","NA",{"$f":"IF(E5=\"No\",\"0\",IF(E5=\"NA\",\"0\",\"1\"))","v":"0"},null,null,{"$f":"'TABLA 1 P1'!B10","v":"N° 3"},{"$f":"'TABLA 1 P1'!C10","v":"NA"}]
[null,null,null,"Presencia de vías/caminos donde se restringen los movimientos.","NA","0",null,null,null,"Resultado:"]
[null,null,"Característica del carro o transpaleta","El carro o transpaleta reduce la vista del operador y/o dificulta su movimiento.","NA","0",null,null,{"$f":"F21","v":0},{"$f":"IF(F21>=1,\"Crítica\",\"No Crítica\")","v":"No Crítica"}]
[null,null,null,"La carga es inestable.","NA","0",null,null,null,"Por lo que usted:"]
[null,null,null,"El carro o transpaleta tiene condiciones peligrosas (bordes, superficies o protuberancias afiladas, etc) que pueden lesionar al trabajador.","NA","0",null,null,null,{"$f":"IF(J7=\"No Crítica\",\"Ha terminado el Proceso de Identificación para esta Tarea y deberá iniciar el proceso de Evaluación Cuantitativa del riesgo\",\"Ha terminado el Proceso de Identificación para esta Tarea y deberá aplicar medidas para reducir el riesgo\")","v":"Ha terminado el Proceso de Identificación para esta Tarea y deberá iniciar el proceso de Evaluación Cuantitativa del riesgo"}]
[null,null,null,"Presencia de ruedas grandes o pequeñas en mal estado, rotas, desgastadas o con poca mantención.","NA","0"]
[null,null,null,"Presencia de ruedas grandes o pequeñas inadecuadas al tipo de carro, peso de la carga y vías de desplazamiento.","NA","0"]
[null,null,"Horas de Trabajo","La tarea de levantamiento/descenso o transporte de carga dura más de 8 hrs.","NA","0"]
[null,null,"Riesgo","Empueje y Arrastre de Carga","Si / No / NA",null,null,null,null,"Si terminó de responder toda la Tabla 6 Presione Aquí para  regresar a Tabla 1 Información General del Puesto de Trabajo donde podrá continuar con la siguiente Tarea"]
[null,null,"Magnitud de la Fuerza","Método dinamómetro (*):\n1. Fuerza inicial es superior a 36 kgs. (Hombres) o 24 kgs.\n(Mujeres).\n2. Fuerza de sustentación es superior a 25 kgs. (Hombres)\ny 15 kgs. (Mujeres).\nMétodo Escala de Borg: los trabajadores perciben alto nivel de esfuerzo físico (valor 8 o más en escala de Borg) durante la (s) tarea (s) de empuje y arrastre de carga (Para obtener la información debe preguntar a los trabajadores utilizando la escala de Borg al final de este anexo).","NA",{"$f":"IF(E14=\"No\",\"0\",IF(E14=\"NA\",\"0\",\"1\"))","v":"0"}]
[null,null,"Dirección de la Fuerza","Durante el desplazamiento la carga requiere de un levantamiento parcial, mientras se empuja o arrastra.","NA",{"$f":"IF(E15=\"No\",\"0\",IF(E15=\"NA\",\"0\",\"1\"))","v":"0"}]
[null,null,"Esfuerzo Físico","La fuerza de empuje o arrastre es realizada con movimientos bruscos o de manera poco controlada.","NA","0"]
[null,null,"Postura","La fuerza de empuje o arrastre es aplicada con el tronco en flexión o torsión significativa.","NA","0"]
[null,null,"Zona de Agarre","Las manos no están delante del cuerpo o fuera del ancho de los hombros cuando se realiza la fuerza de empuje o arrastre.","NA","0"]
[null,null,"Altura aplicación de la Fuerza","La fuerza de empuje o arrastre es aplicada sobre los 150 cm o bajo los 60 cm.","NA","0"]
[null,null,"Duración","La(s) tarea(s) de empuje y arrastre de carga duran más de 8 hrs. diaria.","NA","0"]
[null,null,null,null,null,{"$f":"F4+F5+F6+F7+F8+F9+F10+F11+F12+F14+F15+F16+F17+F18+F19+F20","v":0}]

{"sheet":"TABLA 6T3P2","index":164,"n_rows":21,"n_cols":10,"rows_kept":21,"cut":false,"hidden":false,"merged":[]}
[]
[null,null,null,"EMPUJE Y ARRASTRE DE CARGA - IDENTIFICACIÓN AVANZADA CONDICIÓN CRÍTICA  \n",null,null,null,null,null,"Cuadro de Resultado Tabla 6"]
[null,null,"Condición","Levantamiento/descenso y transporte manual de carga","Si / No / NA"]
[null,null,"Ambiente de Trabajo","Presencia de temperatura extrema (bajo 16° o superior a los 26° grados Celsius) y sin ropa que proteja de las temperaturas extremas.","NA",{"$f":"IF(E4=\"No\",\"0\",IF(E4=\"NA\",\"0\",\"1\"))","v":"0"},null,null,null,"La Tarea:"]
[null,null,null,"Presencia de suelo resbaladizo, irregular o inestable.","NA",{"$f":"IF(E5=\"No\",\"0\",IF(E5=\"NA\",\"0\",\"1\"))","v":"0"},null,null,{"$f":"'TABLA 1 P2'!B10","v":"N° 3"},{"$f":"'TABLA 1 P2'!C10","v":"NA"}]
[null,null,null,"Presencia de vías/caminos donde se restringen los movimientos.","NA","0",null,null,null,"Resultado:"]
[null,null,"Característica del carro o transpaleta","El carro o transpaleta reduce la vista del operador y/o dificulta su movimiento.","NA","0",null,null,{"$f":"F21","v":0},{"$f":"IF(F21>=1,\"Crítica\",\"No Crítica\")","v":"No Crítica"}]
[null,null,null,"La carga es inestable.","NA","0",null,null,null,"Por lo que usted:"]
[null,null,null,"El carro o transpaleta tiene condiciones peligrosas (bordes, superficies o protuberancias afiladas, etc) que pueden lesionar al trabajador.","NA","0",null,null,null,{"$f":"IF(J7=\"No Crítica\",\"Ha terminado el Proceso de Identificación para esta Tarea y deberá iniciar el proceso de Evaluación Cuantitativa del riesgo\",\"Ha terminado el Proceso de Identificación para esta Tarea y deberá aplicar medidas para reducir el riesgo\")","v":"Ha terminado el Proceso de Identificación para esta Tarea y deberá iniciar el proceso de Evaluación Cuantitativa del riesgo"}]
[null,null,null,"Presencia de ruedas grandes o pequeñas en mal estado, rotas, desgastadas o con poca mantención.","NA","0"]
[null,null,null,"Presencia de ruedas grandes o pequeñas inadecuadas al tipo de carro, peso de la carga y vías de desplazamiento.","NA","0"]
[null,null,"Horas de Trabajo","La tarea de levantamiento/descenso o transporte de carga dura más de 8 hrs.","NA","0"]
[null,null,"Riesgo","Empueje y Arrastre de Carga","Si / No / NA",null,null,null,null,"Si terminó de responder toda la Tabla 6 Presione Aquí para  regresar a Tabla 1 Información General del Puesto de Trabajo donde podrá continuar con la siguiente Tarea"]
[null,null,"Magnitud de la Fuerza","Método dinamómetro (*):\n1. Fuerza inicial es superior a 36 kgs. (Hombres) o 24 kgs.\n(Mujeres).\n2. Fuerza de sustentación es superior a 25 kgs. (Hombres)\ny 15 kgs. (Mujeres).\nMétodo Escala de Borg: los trabajadores perciben alto nivel de esfuerzo físico (valor 8 o más en escala de Borg) durante la (s) tarea (s) de empuje y arrastre de carga (Para obtener la información debe preguntar a los trabajadores utilizando la escala de Borg al final de este anexo).","NA",{"$f":"IF(E14=\"No\",\"0\",IF(E14=\"NA\",\"0\",\"1\"))","v":"0"}]
[null,null,"Dirección de la Fuerza","Durante el desplazamiento la carga requiere de un levantamiento parcial, mientras se empuja o arrastra.","NA",{"$f":"IF(E15=\"No\",\"0\",IF(E15=\"NA\",\"0\",\"1\"))","v":"0"}]
[null,null,"Esfuerzo Físico","La fuerza de empuje o arrastre es realizada con movimientos bruscos o de manera poco controlada.","NA","0"]
[null,null,"Postura","La fuerza de empuje o arrastre es aplicada con el tronco en flexión o torsión significativa.","NA","0"]
[null,null,"Zona de Agarre","Las manos no están delante del cuerpo o fuera del ancho de los hombros cuando se realiza la fuerza de empuje o arrastre.","NA","0"]
[null,null,"Altura aplicación de la Fuerza","La fuerza de empuje o arrastre es aplicada sobre los 150 cm o bajo los 60 cm.","NA","0"]
[null,null,"Duración","La(s) tarea(s) de empuje y arrastre de carga duran más de 8 hrs. diaria.","NA","0"]
[null,null,null,null,null,{"$f":"F4+F5+F6+F7+F8+F9+F10+F11+F12+F14+F15+F16+F17+F18+F19+F20","v":0}]

{"sheet":"TABLA 6T3P3","index":165,"n_rows":21,"n_cols":10,"rows_kept":21,"cut":false,"hidden":false,"merged":[]}
[]
[null,null,null,"EMPUJE Y ARRASTRE DE CARGA - IDENTIFICACIÓN AVANZADA CONDICIÓN CRÍTICA  \n",null,null,null,null,null,"Cuadro de Resultado Tabla 6"]
[null,null,"Condición","Levantamiento/descenso y transporte manual de carga","Si / No / NA"]
[null,null,"Ambiente de Trabajo","Presencia de temperatura extrema (bajo 16° o superior a los 26° grados Celsius) y sin ropa que proteja de las temperaturas extremas.","NA",{"$f":"IF(E4=\"No\",\"0\",IF(E4=\"NA\",\"0\",\"1\"))","v":"0"},null,null,null,"La Tarea:"]
[null,null,null,"Presencia de suelo resbaladizo, irregular o inestable.","NA",{"$f":"IF(E5=\"No\",\"0\",IF(E5=\"NA\",\"0\",\"1\"))","v":"0"},null,null,{"$f":"'TABLA 1 P3'!B10","v":"N° 3"},{"$f":"'TABLA 1 P3'!C10","v":"NA"}]
[null,null,null,"Presencia de vías/caminos donde se restringen los movimientos.","NA","0",null,null,null,"Resultado:"]
[null,null,"Característica del carro o transpaleta","El carro o transpaleta reduce la vista del operador y/o dificulta su movimiento.","NA","0",null,null,{"$f":"F21","v":0},{"$f":"IF(F21>=1,\"Crítica\",\"No Crítica\")","v":"No Crítica"}]
[null,null,null,"La carga es inestable.","NA","0",null,null,null,"Por lo que usted:"]
[null,null,null,"El carro o transpaleta tiene condiciones peligrosas (bordes, superficies o protuberancias afiladas, etc) que pueden lesionar al trabajador.","NA","0",null,null,null,{"$f":"IF(J7=\"No Crítica\",\"Ha terminado el Proceso de Identificación para esta Tarea y deberá iniciar el proceso de Evaluación Cuantitativa del riesgo\",\"Ha terminado el Proceso de Identificación para esta Tarea y deberá aplicar medidas para reducir el riesgo\")","v":"Ha terminado el Proceso de Identificación para esta Tarea y deberá iniciar el proceso de Evaluación Cuantitativa del riesgo"}]
[null,null,null,"Presencia de ruedas grandes o pequeñas en mal estado, rotas, desgastadas o con poca mantención.","NA","0"]
[null,null,null,"Presencia de ruedas grandes o pequeñas inadecuadas al tipo de carro, peso de la carga y vías de desplazamiento.","NA","0"]
[null,null,"Horas de Trabajo","La tarea de levantamiento/descenso o transporte de carga dura más de 8 hrs.","NA","0"]
[null,null,"Riesgo","Empueje y Arrastre de Carga","Si / No / NA",null,null,null,null,"Si terminó de responder toda la Tabla 6 Presione Aquí para  regresar a Tabla 1 Información General del Puesto de Trabajo donde podrá continuar con la siguiente Tarea"]
[null,null,"Magnitud de la Fuerza","Método dinamómetro (*):\n1. Fuerza inicial es superior a 36 kgs. (Hombres) o 24 kgs.\n(Mujeres).\n2. Fuerza de sustentación es superior a 25 kgs. (Hombres)\ny 15 kgs. (Mujeres).\nMétodo Escala de Borg: los trabajadores perciben alto nivel de esfuerzo físico (valor 8 o más en escala de Borg) durante la (s) tarea (s) de empuje y arrastre de carga (Para obtener la información debe preguntar a los trabajadores utilizando la escala de Borg al final de este anexo).","NA",{"$f":"IF(E14=\"No\",\"0\",IF(E14=\"NA\",\"0\",\"1\"))","v":"0"}]
[null,null,"Dirección de la Fuerza","Durante el desplazamiento la carga requiere de un levantamiento parcial, mientras se empuja o arrastra.","NA",{"$f":"IF(E15=\"No\",\"0\",IF(E15=\"NA\",\"0\",\"1\"))","v":"0"}]
[null,null,"Esfuerzo Físico","La fuerza de empuje o arrastre es realizada con movimientos bruscos o de manera poco controlada.","NA","0"]
[null,null,"Postura","La fuerza de empuje o arrastre es aplicada con el tronco en flexión o torsión significativa.","NA","0"]
[null,null,"Zona de Agarre","Las manos no están delante del cuerpo o fuera del ancho de los hombros cuando se realiza la fuerza de empuje o arrastre.","NA","0"]
[null,null,"Altura aplicación de la Fuerza","La fuerza de empuje o arrastre es aplicada sobre los 150 cm o bajo los 60 cm.","NA","0"]
[null,null,"Duración","La(s) tarea(s) de empuje y arrastre de carga duran más de 8 hrs. diaria.","NA","0"]
[null,null,null,null,null,{"$f":"F4+F5+F6+F7+F8+F9+F10+F11+F12+F14+F15+F16+F17+F18+F19+F20","v":0}]

{"sheet":"TABLA 6T3P4","index":166,"n_rows":21,"n_cols":10,"rows_kept":21,"cut":false,"hidden":false,"merged":[]}
[]
[null,null,null,"EMPUJE Y ARRASTRE DE CARGA - IDENTIFICACIÓN AVANZADA CONDICIÓN CRÍTICA  \n",null,null,null,null,null,"Cuadro de Resultado Tabla 6"]
[null,null,"Condición","Levantamiento/descenso y transporte manual de carga","Si / No / NA"]
[null,null,"Ambiente de Trabajo","Presencia de temperatura extrema (bajo 16° o superior a los 26° grados Celsius) y sin ropa que proteja de las temperaturas extremas.","NA",{"$f":"IF(E4=\"No\",\"0\",IF(E4=\"NA\",\"0\",\"1\"))","v":"0"},null,null,null,"La Tarea:"]
[null,null,null,"Presencia de suelo resbaladizo, irregular o inestable.","NA",{"$f":"IF(E5=\"No\",\"0\",IF(E5=\"NA\",\"0\",\"1\"))","v":"0"},null,null,{"$f":"'TABLA 1 P4'!B10","v":"N° 3"},{"$f":"'TABLA 1 P4'!C10","v":"NA"}]
[null,null,null,"Presencia de vías/caminos donde se restringen los movimientos.","NA","0",null,null,null,"Resultado:"]
[null,null,"Característica del carro o transpaleta","El carro o transpaleta reduce la vista del operador y/o dificulta su movimiento.","NA","0",null,null,{"$f":"F21","v":0},{"$f":"IF(F21>=1,\"Crítica\",\"No Crítica\")","v":"No Crítica"}]
[null,null,null,"La carga es inestable.","NA","0",null,null,null,"Por lo que usted:"]
[null,null,null,"El carro o transpaleta tiene condiciones peligrosas (bordes, superficies o protuberancias afiladas, etc) que pueden lesionar al trabajador.","NA","0",null,null,null,{"$f":"IF(J7=\"No Crítica\",\"Ha terminado el Proceso de Identificación para esta Tarea y deberá iniciar el proceso de Evaluación Cuantitativa del riesgo\",\"Ha terminado el Proceso de Identificación para esta Tarea y deberá aplicar medidas para reducir el riesgo\")","v":"Ha terminado el Proceso de Identificación para esta Tarea y deberá iniciar el proceso de Evaluación Cuantitativa del riesgo"}]
[null,null,null,"Presencia de ruedas grandes o pequeñas en mal estado, rotas, desgastadas o con poca mantención.","NA","0"]
[null,null,null,"Presencia de ruedas grandes o pequeñas inadecuadas al tipo de carro, peso de la carga y vías de desplazamiento.","NA","0"]
[null,null,"Horas de Trabajo","La tarea de levantamiento/descenso o transporte de carga dura más de 8 hrs.","NA","0"]
[null,null,"Riesgo","Empueje y Arrastre de Carga","Si / No / NA",null,null,null,null,"Si terminó de responder toda la Tabla 6 Presione Aquí para  regresar a Tabla 1 Información General del Puesto de Trabajo donde podrá continuar con la siguiente Tarea"]
[null,null,"Magnitud de la Fuerza","Método dinamómetro (*):\n1. Fuerza inicial es superior a 36 kgs. (Hombres) o 24 kgs.\n(Mujeres).\n2. Fuerza de sustentación es superior a 25 kgs. (Hombres)\ny 15 kgs. (Mujeres).\nMétodo Escala de Borg: los trabajadores perciben alto nivel de esfuerzo físico (valor 8 o más en escala de Borg) durante la (s) tarea (s) de empuje y arrastre de carga (Para obtener la información debe preguntar a los trabajadores utilizando la escala de Borg al final de este anexo).","NA",{"$f":"IF(E14=\"No\",\"0\",IF(E14=\"NA\",\"0\",\"1\"))","v":"0"}]
[null,null,"Dirección de la Fuerza","Durante el desplazamiento la carga requiere de un levantamiento parcial, mientras se empuja o arrastra.","NA",{"$f":"IF(E15=\"No\",\"0\",IF(E15=\"NA\",\"0\",\"1\"))","v":"0"}]
[null,null,"Esfuerzo Físico","La fuerza de empuje o arrastre es realizada con movimientos bruscos o de manera poco controlada.","NA","0"]
[null,null,"Postura","La fuerza de empuje o arrastre es aplicada con el tronco en flexión o torsión significativa.","NA","0"]
[null,null,"Zona de Agarre","Las manos no están delante del cuerpo o fuera del ancho de los hombros cuando se realiza la fuerza de empuje o arrastre.","NA","0"]
[null,null,"Altura aplicación de la Fuerza","La fuerza de empuje o arrastre es aplicada sobre los 150 cm o bajo los 60 cm.","NA","0"]
[null,null,"Duración","La(s) tarea(s) de empuje y arrastre de carga duran más de 8 hrs. diaria.","NA","0"]
[null,null,null,null,null,{"$f":"F4+F5+F6+F7+F8+F9+F10+F11+F12+F14+F15+F16+F17+F18+F19+F20","v":0}]

{"sheet":"TABLA 6T3P5","index":167,"n_rows":21,"n_cols":10,"rows_kept":21,"cut":false,"hidden":false,"merged":[]}
[]
[null,null,null,"EMPUJE Y ARRASTRE DE CARGA - IDENTIFICACIÓN AVANZADA CONDICIÓN CRÍTICA  \n",null,null,null,null,null,"Cuadro de Resultado Tabla 6"]
[null,null,"Condición","Levantamiento/descenso y transporte manual de carga","Si / No / NA"]
[null,null,"Ambiente de Trabajo","Presencia de temperatura extrema (bajo 16° o superior a los 26° grados Celsius) y sin ropa que proteja de las temperaturas extremas.","NA",{"$f":"IF(E4=\"No\",\"0\",IF(E4=\"NA\",\"0\",\"1\"))","v":"0"},null,null,null,"La Tarea:"]
[null,null,null,"Presencia de suelo resbaladizo, irregular o inestable.","NA",{"$f":"IF(E5=\"No\",\"0\",IF(E5=\"NA\",\"0\",\"1\"))","v":"0"},null,null,{"$f":"'TABLA 1 P5'!B10","v":"N° 3"},{"$f":"'TABLA 1 P5'!C10","v":"NA"}]
[null,null,null,"Presencia de vías/caminos donde se restringen los movimientos.","NA","0",null,null,null,"Resultado:"]
[null,null,"Característica del carro o transpaleta","El carro o transpaleta reduce la vista del operador y/o dificulta su movimiento.","NA","0",null,null,{"$f":"F21","v":0},{"$f":"IF(F21>=1,\"Crítica\",\"No Crítica\")","v":"No Crítica"}]
[null,null,null,"La carga es inestable.","NA","0",null,null,null,"Por lo que usted:"]
[null,null,null,"El carro o transpaleta tiene condiciones peligrosas (bordes, superficies o protuberancias afiladas, etc) que pueden lesionar al trabajador.","NA","0",null,null,null,{"$f":"IF(J7=\"No Crítica\",\"Ha terminado el Proceso de Identificación para esta Tarea y deberá iniciar el proceso de Evaluación Cuantitativa del riesgo\",\"Ha terminado el Proceso de Identificación para esta Tarea y deberá aplicar medidas para reducir el riesgo\")","v":"Ha terminado el Proceso de Identificación para esta Tarea y deberá iniciar el proceso de Evaluación Cuantitativa del riesgo"}]
[null,null,null,"Presencia de ruedas grandes o pequeñas en mal estado, rotas, desgastadas o con poca mantención.","NA","0"]
[null,null,null,"Presencia de ruedas grandes o pequeñas inadecuadas al tipo de carro, peso de la carga y vías de desplazamiento.","NA","0"]
[null,null,"Horas de Trabajo","La tarea de levantamiento/descenso o transporte de carga dura más de 8 hrs.","NA","0"]
[null,null,"Riesgo","Empueje y Arrastre de Carga","Si / No / NA",null,null,null,null,"Si terminó de responder toda la Tabla 6 Presione Aquí para  regresar a Tabla 1 Información General del Puesto de Trabajo donde podrá continuar con la siguiente Tarea"]
[null,null,"Magnitud de la Fuerza","Método dinamómetro (*):\n1. Fuerza inicial es superior a 36 kgs. (Hombres) o 24 kgs.\n(Mujeres).\n2. Fuerza de sustentación es superior a 25 kgs. (Hombres)\ny 15 kgs. (Mujeres).\nMétodo Escala de Borg: los trabajadores perciben alto nivel de esfuerzo físico (valor 8 o más en escala de Borg) durante la (s) tarea (s) de empuje y arrastre de carga (Para obtener la información debe preguntar a los trabajadores utilizando la escala de Borg al final de este anexo).","NA",{"$f":"IF(E14=\"No\",\"0\",IF(E14=\"NA\",\"0\",\"1\"))","v":"0"}]
[null,null,"Dirección de la Fuerza","Durante el desplazamiento la carga requiere de un levantamiento parcial, mientras se empuja o arrastra.","NA",{"$f":"IF(E15=\"No\",\"0\",IF(E15=\"NA\",\"0\",\"1\"))","v":"0"}]
[null,null,"Esfuerzo Físico","La fuerza de empuje o arrastre es realizada con movimientos bruscos o de manera poco controlada.","NA","0"]
[null,null,"Postura","La fuerza de empuje o arrastre es aplicada con el tronco en flexión o torsión significativa.","NA","0"]
[null,null,"Zona de Agarre","Las manos no están delante del cuerpo o fuera del ancho de los hombros cuando se realiza la fuerza de empuje o arrastre.","NA","0"]
[null,null,"Altura aplicación de la Fuerza","La fuerza de empuje o arrastre es aplicada sobre los 150 cm o bajo los 60 cm.","NA","0"]
[null,null,"Duración","La(s) tarea(s) de empuje y arrastre de carga duran más de 8 hrs. diaria.","NA","0"]
[null,null,null,null,null,{"$f":"F4+F5+F6+F7+F8+F9+F10+F11+F12+F14+F15+F16+F17+F18+F19+F20","v":0}]

{"sheet":"TABLA 6T3P6","index":168,"n_rows":21,"n_cols":10,"rows_kept":21,"cut":false,"hidden":false,"merged":[]}
[]
[null,null,null,"EMPUJE Y ARRASTRE DE CARGA - IDENTIFICACIÓN AVANZADA CONDICIÓN CRÍTICA  \n",null,null,null,null,null,"Cuadro de Resultado Tabla 6"]
[null,null,"Condición","Levantamiento/descenso y transporte manual de carga","Si / No / NA"]
[null,null,"Ambiente de Trabajo","Presencia de temperatura extrema (bajo 16° o superior a los 26° grados Celsius) y sin ropa que proteja de las temperaturas extremas.","NA",{"$f":"IF(E4=\"No\",\"0\",IF(E4=\"NA\",\"0\",\"1\"))","v":"0"},null,null,null,"La Tarea:"]
[null,null,null,"Presencia de suelo resbaladizo, irregular o inestable.","NA",{"$f":"IF(E5=\"No\",\"0\",IF(E5=\"NA\",\"0\",\"1\"))","v":"0"},null,null,{"$f":"'TABLA 1 P6'!B10","v":"N° 3"},{"$f":"'TABLA 1 P6'!C10","v":"NA"}]
[null,null,null,"Presencia de vías/caminos donde se restringen los movimientos.","NA","0",null,null,null,"Resultado:"]
[null,null,"Característica del carro o transpaleta","El carro o transpaleta reduce la vista del operador y/o dificulta su movimiento.","NA","0",null,null,{"$f":"F21","v":0},{"$f":"IF(F21>=1,\"Crítica\",\"No Crítica\")","v":"No Crítica"}]
[null,null,null,"La carga es inestable.","NA","0",null,null,null,"Por lo que usted:"]
[null,null,null,"El carro o transpaleta tiene condiciones peligrosas (bordes, superficies o protuberancias afiladas, etc) que pueden lesionar al trabajador.","NA","0",null,null,null,{"$f":"IF(J7=\"No Crítica\",\"Ha terminado el Proceso de Identificación para esta Tarea y deberá iniciar el proceso de Evaluación Cuantitativa del riesgo\",\"Ha terminado el Proceso de Identificación para esta Tarea y deberá aplicar medidas para reducir el riesgo\")","v":"Ha terminado el Proceso de Identificación para esta Tarea y deberá iniciar el proceso de Evaluación Cuantitativa del riesgo"}]
[null,null,null,"Presencia de ruedas grandes o pequeñas en mal estado, rotas, desgastadas o con poca mantención.","NA","0"]
[null,null,null,"Presencia de ruedas grandes o pequeñas inadecuadas al tipo de carro, peso de la carga y vías de desplazamiento.","NA","0"]
[null,null,"Horas de Trabajo","La tarea de levantamiento/descenso o transporte de carga dura más de 8 hrs.","NA","0"]
[null,null,"Riesgo","Empueje y Arrastre de Carga","Si / No / NA",null,null,null,null,"Si terminó de responder toda la Tabla 6 Presione Aquí para  regresar a Tabla 1 Información General del Puesto de Trabajo donde podrá continuar con la siguiente Tarea"]
[null,null,"Magnitud de la Fuerza","Método dinamómetro (*):\n1. Fuerza inicial es superior a 36 kgs. (Hombres) o 24 kgs.\n(Mujeres).\n2. Fuerza de sustentación es superior a 25 kgs. (Hombres)\ny 15 kgs. (Mujeres).\nMétodo Escala de Borg: los trabajadores perciben alto nivel de esfuerzo físico (valor 8 o más en escala de Borg) durante la (s) tarea (s) de empuje y arrastre de carga (Para obtener la información debe preguntar a los trabajadores utilizando la escala de Borg al final de este anexo).","NA",{"$f":"IF(E14=\"No\",\"0\",IF(E14=\"NA\",\"0\",\"1\"))","v":"0"}]
[null,null,"Dirección de la Fuerza","Durante el desplazamiento la carga requiere de un levantamiento parcial, mientras se empuja o arrastra.","NA",{"$f":"IF(E15=\"No\",\"0\",IF(E15=\"NA\",\"0\",\"1\"))","v":"0"}]
[null,null,"Esfuerzo Físico","La fuerza de empuje o arrastre es realizada con movimientos bruscos o de manera poco controlada.","NA","0"]
[null,null,"Postura","La fuerza de empuje o arrastre es aplicada con el tronco en flexión o torsión significativa.","NA","0"]
[null,null,"Zona de Agarre","Las manos no están delante del cuerpo o fuera del ancho de los hombros cuando se realiza la fuerza de empuje o arrastre.","NA","0"]
[null,null,"Altura aplicación de la Fuerza","La fuerza de empuje o arrastre es aplicada sobre los 150 cm o bajo los 60 cm.","NA","0"]
[null,null,"Duración","La(s) tarea(s) de empuje y arrastre de carga duran más de 8 hrs. diaria.","NA","0"]
[null,null,null,null,null,{"$f":"F4+F5+F6+F7+F8+F9+F10+F11+F12+F14+F15+F16+F17+F18+F19+F20","v":0}]

{"sheet":"TABLA 6T3P7","index":169,"n_rows":21,"n_cols":10,"rows_kept":21,"cut":false,"hidden":false,"merged":[]}
[]
[null,null,null,"EMPUJE Y ARRASTRE DE CARGA - IDENTIFICACIÓN AVANZADA CONDICIÓN CRÍTICA  \n",null,null,null,null,null,"Cuadro de Resultado Tabla 6"]
[null,null,"Condición","Levantamiento/descenso y transporte manual de carga","Si / No / NA"]
[null,null,"Ambiente de Trabajo","Presencia de temperatura extrema (bajo 16° o superior a los 26° grados Celsius) y sin ropa que proteja de las temperaturas extremas.","NA",{"$f":"IF(E4=\"No\",\"0\",IF(E4=\"NA\",\"0\",\"1\"))","v":"0"},null,null,null,"La Tarea:"]
[null,null,null,"Presencia de suelo resbaladizo, irregular o inestable.","NA",{"$f":"IF(E5=\"No\",\"0\",IF(E5=\"NA\",\"0\",\"1\"))","v":"0"},null,null,{"$f":"'TABLA 1 P7'!B10","v":"N° 3"},{"$f":"'TABLA 1 P7'!C10","v":"NA"}]
[null,null,null,"Presencia de vías/caminos donde se restringen los movimientos.","NA","0",null,null,null,"Resultado:"]
[null,null,"Característica del carro o transpaleta","El carro o transpaleta reduce la vista del operador y/o dificulta su movimiento.","NA","0",null,null,{"$f":"F21","v":0},{"$f":"IF(F21>=1,\"Crítica\",\"No Crítica\")","v":"No Crítica"}]
[null,null,null,"La carga es inestable.","NA","0",null,null,null,"Por lo que usted:"]
[null,null,null,"El carro o transpaleta tiene condiciones peligrosas (bordes, superficies o protuberancias afiladas, etc) que pueden lesionar al trabajador.","NA","0",null,null,null,{"$f":"IF(J7=\"No Crítica\",\"Ha terminado el Proceso de Identificación para esta Tarea y deberá iniciar el proceso de Evaluación Cuantitativa del riesgo\",\"Ha terminado el Proceso de Identificación para esta Tarea y deberá aplicar medidas para reducir el riesgo\")","v":"Ha terminado el Proceso de Identificación para esta Tarea y deberá iniciar el proceso de Evaluación Cuantitativa del riesgo"}]
[null,null,null,"Presencia de ruedas grandes o pequeñas en mal estado, rotas, desgastadas o con poca mantención.","NA","0"]
[null,null,null,"Presencia de ruedas grandes o pequeñas inadecuadas al tipo de carro, peso de la carga y vías de desplazamiento.","NA","0"]
[null,null,"Horas de Trabajo","La tarea de levantamiento/descenso o transporte de carga dura más de 8 hrs.","NA","0"]
[null,null,"Riesgo","Empueje y Arrastre de Carga","Si / No / NA",null,null,null,null,"Si terminó de responder toda la Tabla 6 Presione Aquí para  regresar a Tabla 1 Información General del Puesto de Trabajo donde podrá continuar con la siguiente Tarea"]
[null,null,"Magnitud de la Fuerza","Método dinamómetro (*):\n1. Fuerza inicial es superior a 36 kgs. (Hombres) o 24 kgs.\n(Mujeres).\n2. Fuerza de sustentación es superior a 25 kgs. (Hombres)\ny 15 kgs. (Mujeres).\nMétodo Escala de Borg: los trabajadores perciben alto nivel de esfuerzo físico (valor 8 o más en escala de Borg) durante la (s) tarea (s) de empuje y arrastre de carga (Para obtener la información debe preguntar a los trabajadores utilizando la escala de Borg al final de este anexo).","NA",{"$f":"IF(E14=\"No\",\"0\",IF(E14=\"NA\",\"0\",\"1\"))","v":"0"}]
[null,null,"Dirección de la Fuerza","Durante el desplazamiento la carga requiere de un levantamiento parcial, mientras se empuja o arrastra.","NA",{"$f":"IF(E15=\"No\",\"0\",IF(E15=\"NA\",\"0\",\"1\"))","v":"0"}]
[null,null,"Esfuerzo Físico","La fuerza de empuje o arrastre es realizada con movimientos bruscos o de manera poco controlada.","NA","0"]
[null,null,"Postura","La fuerza de empuje o arrastre es aplicada con el tronco en flexión o torsión significativa.","NA","0"]
[null,null,"Zona de Agarre","Las manos no están delante del cuerpo o fuera del ancho de los hombros cuando se realiza la fuerza de empuje o arrastre.","NA","0"]
[null,null,"Altura aplicación de la Fuerza","La fuerza de empuje o arrastre es aplicada sobre los 150 cm o bajo los 60 cm.","NA","0"]
[null,null,"Duración","La(s) tarea(s) de empuje y arrastre de carga duran más de 8 hrs. diaria.","NA","0"]
[null,null,null,null,null,{"$f":"F4+F5+F6+F7+F8+F9+F10+F11+F12+F14+F15+F16+F17+F18+F19+F20","v":0}]

{"sheet":"TABLA 6T3P8","index":170,"n_rows":21,"n_cols":10,"rows_kept":21,"cut":false,"hidden":false,"merged":[]}
[]
[null,null,null,"EMPUJE Y ARRASTRE DE CARGA - IDENTIFICACIÓN AVANZADA CONDICIÓN CRÍTICA  \n",null,null,null,null,null,"Cuadro de Resultado Tabla 6"]
[null,null,"Condición","Levantamiento/descenso y transporte manual de carga","Si / No / NA"]
[null,null,"Ambiente de Trabajo","Presencia de temperatura extrema (bajo 16° o superior a los 26° grados Celsius) y sin ropa que proteja de las temperaturas extremas.","NA",{"$f":"IF(E4=\"No\",\"0\",IF(E4=\"NA\",\"0\",\"1\"))","v":"0"},null,null,null,"La Tarea:"]
[null,null,null,"Presencia de suelo resbaladizo, irregular o inestable.","NA",{"$f":"IF(E5=\"No\",\"0\",IF(E5=\"NA\",\"0\",\"1\"))","v":"0"},null,null,{"$f":"'TABLA 1 P8'!B10","v":"N° 3"},{"$f":"'TABLA 1 P8'!C10","v":"NA"}]
[null,null,null,"Presencia de vías/caminos donde se restringen los movimientos.","NA","0",null,null,null,"Resultado:"]
[null,null,"Característica del carro o transpaleta","El carro o transpaleta reduce la vista del operador y/o dificulta su movimiento.","NA","0",null,null,{"$f":"F21","v":0},{"$f":"IF(F21>=1,\"Crítica\",\"No Crítica\")","v":"No Crítica"}]
[null,null,null,"La carga es inestable.","NA","0",null,null,null,"Por lo que usted:"]
[null,null,null,"El carro o transpaleta tiene condiciones peligrosas (bordes, superficies o protuberancias afiladas, etc) que pueden lesionar al trabajador.","NA","0",null,null,null,{"$f":"IF(J7=\"No Crítica\",\"Ha terminado el Proceso de Identificación para esta Tarea y deberá iniciar el proceso de Evaluación Cuantitativa del riesgo\",\"Ha terminado el Proceso de Identificación para esta Tarea y deberá aplicar medidas para reducir el riesgo\")","v":"Ha terminado el Proceso de Identificación para esta Tarea y deberá iniciar el proceso de Evaluación Cuantitativa del riesgo"}]
[null,null,null,"Presencia de ruedas grandes o pequeñas en mal estado, rotas, desgastadas o con poca mantención.","NA","0"]
[null,null,null,"Presencia de ruedas grandes o pequeñas inadecuadas al tipo de carro, peso de la carga y vías de desplazamiento.","NA","0"]
[null,null,"Horas de Trabajo","La tarea de levantamiento/descenso o transporte de carga dura más de 8 hrs.","NA","0"]
[null,null,"Riesgo","Empueje y Arrastre de Carga","Si / No / NA",null,null,null,null,"Si terminó de responder toda la Tabla 6 Presione Aquí para  regresar a Tabla 1 Información General del Puesto de Trabajo donde podrá continuar con la siguiente Tarea"]
[null,null,"Magnitud de la Fuerza","Método dinamómetro (*):\n1. Fuerza inicial es superior a 36 kgs. (Hombres) o 24 kgs.\n(Mujeres).\n2. Fuerza de sustentación es superior a 25 kgs. (Hombres)\ny 15 kgs. (Mujeres).\nMétodo Escala de Borg: los trabajadores perciben alto nivel de esfuerzo físico (valor 8 o más en escala de Borg) durante la (s) tarea (s) de empuje y arrastre de carga (Para obtener la información debe preguntar a los trabajadores utilizando la escala de Borg al final de este anexo).","NA",{"$f":"IF(E14=\"No\",\"0\",IF(E14=\"NA\",\"0\",\"1\"))","v":"0"}]
[null,null,"Dirección de la Fuerza","Durante el desplazamiento la carga requiere de un levantamiento parcial, mientras se empuja o arrastra.","NA",{"$f":"IF(E15=\"No\",\"0\",IF(E15=\"NA\",\"0\",\"1\"))","v":"0"}]
[null,null,"Esfuerzo Físico","La fuerza de empuje o arrastre es realizada con movimientos bruscos o de manera poco controlada.","NA","0"]
[null,null,"Postura","La fuerza de empuje o arrastre es aplicada con el tronco en flexión o torsión significativa.","NA","0"]
[null,null,"Zona de Agarre","Las manos no están delante del cuerpo o fuera del ancho de los hombros cuando se realiza la fuerza de empuje o arrastre.","NA","0"]
[null,null,"Altura aplicación de la Fuerza","La fuerza de empuje o arrastre es aplicada sobre los 150 cm o bajo los 60 cm.","NA","0"]
[null,null,"Duración","La(s) tarea(s) de empuje y arrastre de carga duran más de 8 hrs. diaria.","NA","0"]
[null,null,null,null,null,{"$f":"F4+F5+F6+F7+F8+F9+F10+F11+F12+F14+F15+F16+F17+F18+F19+F20","v":0}]

{"sheet":"TABLA 6T3P9","index":171,"n_rows":21,"n_cols":10,"rows_kept":21,"cut":false,"hidden":false,"merged":[]}
[]
[null,null,null,"EMPUJE Y ARRASTRE DE CARGA - IDENTIFICACIÓN AVANZADA CONDICIÓN CRÍTICA  \n",null,null,null,null,null,"Cuadro de Resultado Tabla 6"]
[null,null,"Condición","Levantamiento/descenso y transporte manual de carga","Si / No / NA"]
[null,null,"Ambiente de Trabajo","Presencia de temperatura extrema (bajo 16° o superior a los 26° grados Celsius) y sin ropa que proteja de las temperaturas extremas.","NA",{"$f":"IF(E4=\"No\",\"0\",IF(E4=\"NA\",\"0\",\"1\"))","v":"0"},null,null,null,"La Tarea:"]
[null,null,null,"Presencia de suelo resbaladizo, irregular o inestable.","NA",{"$f":"IF(E5=\"No\",\"0\",IF(E5=\"NA\",\"0\",\"1\"))","v":"0"},null,null,{"$f":"'TABLA 1 P9'!B10","v":"N° 3"},{"$f":"'TABLA 1 P9'!C10","v":"NA"}]
[null,null,null,"Presencia de vías/caminos donde se restringen los movimientos.","NA","0",null,null,null,"Resultado:"]
[null,null,"Característica del carro o transpaleta","El carro o transpaleta reduce la vista del operador y/o dificulta su movimiento.","NA","0",null,null,{"$f":"F21","v":0},{"$f":"IF(F21>=1,\"Crítica\",\"No Crítica\")","v":"No Crítica"}]
[null,null,null,"La carga es inestable.","NA","0",null,null,null,"Por lo que usted:"]
[null,null,null,"El carro o transpaleta tiene condiciones peligrosas (bordes, superficies o protuberancias afiladas, etc) que pueden lesionar al trabajador.","NA","0",null,null,null,{"$f":"IF(J7=\"No Crítica\",\"Ha terminado el Proceso de Identificación para esta Tarea y deberá iniciar el proceso de Evaluación Cuantitativa del riesgo\",\"Ha terminado el Proceso de Identificación para esta Tarea y deberá aplicar medidas para reducir el riesgo\")","v":"Ha terminado el Proceso de Identificación para esta Tarea y deberá iniciar el proceso de Evaluación Cuantitativa del riesgo"}]
[null,null,null,"Presencia de ruedas grandes o pequeñas en mal estado, rotas, desgastadas o con poca mantención.","NA","0"]
[null,null,null,"Presencia de ruedas grandes o pequeñas inadecuadas al tipo de carro, peso de la carga y vías de desplazamiento.","NA","0"]
[null,null,"Horas de Trabajo","La tarea de levantamiento/descenso o transporte de carga dura más de 8 hrs.","NA","0"]
[null,null,"Riesgo","Empueje y Arrastre de Carga","Si / No / NA",null,null,null,null,"Si terminó de responder toda la Tabla 6 Presione Aquí para  regresar a Tabla 1 Información General del Puesto de Trabajo donde podrá continuar con la siguiente Tarea"]
[null,null,"Magnitud de la Fuerza","Método dinamómetro (*):\n1. Fuerza inicial es superior a 36 kgs. (Hombres) o 24 kgs.\n(Mujeres).\n2. Fuerza de sustentación es superior a 25 kgs. (Hombres)\ny 15 kgs. (Mujeres).\nMétodo Escala de Borg: los trabajadores perciben alto nivel de esfuerzo físico (valor 8 o más en escala de Borg) durante la (s) tarea (s) de empuje y arrastre de carga (Para obtener la información debe preguntar a los trabajadores utilizando la escala de Borg al final de este anexo).","NA",{"$f":"IF(E14=\"No\",\"0\",IF(E14=\"NA\",\"0\",\"1\"))","v":"0"}]
[null,null,"Dirección de la Fuerza","Durante el desplazamiento la carga requiere de un levantamiento parcial, mientras se empuja o arrastra.","NA",{"$f":"IF(E15=\"No\",\"0\",IF(E15=\"NA\",\"0\",\"1\"))","v":"0"}]
[null,null,"Esfuerzo Físico","La fuerza de empuje o arrastre es realizada con movimientos bruscos o de manera poco controlada.","NA","0"]
[null,null,"Postura","La fuerza de empuje o arrastre es aplicada con el tronco en flexión o torsión significativa.","NA","0"]
[null,null,"Zona de Agarre","Las manos no están delante del cuerpo o fuera del ancho de los hombros cuando se realiza la fuerza de empuje o arrastre.","NA","0"]
[null,null,"Altura aplicación de la Fuerza","La fuerza de empuje o arrastre es aplicada sobre los 150 cm o bajo los 60 cm.","NA","0"]
[null,null,"Duración","La(s) tarea(s) de empuje y arrastre de carga duran más de 8 hrs. diaria.","NA","0"]
[null,null,null,null,null,{"$f":"F4+F5+F6+F7+F8+F9+F10+F11+F12+F14+F15+F16+F17+F18+F19+F20","v":0}]

{"sheet":"TABLA 6T3P10","index":172,"n_rows":21,"n_cols":10,"rows_kept":21,"cut":false,"hidden":false,"merged":[]}
[]
[null,null,null,"EMPUJE Y ARRASTRE DE CARGA - IDENTIFICACIÓN AVANZADA CONDICIÓN CRÍTICA  \n",null,null,null,null,null,"Cuadro de Resultado Tabla 6"]
[null,null,"Condición","Levantamiento/descenso y transporte manual de carga","Si / No / NA"]
[null,null,"Ambiente de Trabajo","Presencia de temperatura extrema (bajo 16° o superior a los 26° grados Celsius) y sin ropa que proteja de las temperaturas extremas.","NA",{"$f":"IF(E4=\"No\",\"0\",IF(E4=\"NA\",\"0\",\"1\"))","v":"0"},null,null,null,"La Tarea:"]
[null,null,null,"Presencia de suelo resbaladizo, irregular o inestable.","NA",{"$f":"IF(E5=\"No\",\"0\",IF(E5=\"NA\",\"0\",\"1\"))","v":"0"},null,null,{"$f":"'TABLA 1 P10'!B10","v":"N° 3"},{"$f":"'TABLA 1 P10'!C10","v":"NA"}]
[null,null,null,"Presencia de vías/caminos donde se restringen los movimientos.","NA","0",null,null,null,"Resultado:"]
[null,null,"Característica del carro o transpaleta","El carro o transpaleta reduce la vista del operador y/o dificulta su movimiento.","NA","0",null,null,{"$f":"F21","v":0},{"$f":"IF(F21>=1,\"Crítica\",\"No Crítica\")","v":"No Crítica"}]
[null,null,null,"La carga es inestable.","NA","0",null,null,null,"Por lo que usted:"]
[null,null,null,"El carro o transpaleta tiene condiciones peligrosas (bordes, superficies o protuberancias afiladas, etc) que pueden lesionar al trabajador.","NA","0",null,null,null,{"$f":"IF(J7=\"No Crítica\",\"Ha terminado el Proceso de Identificación para esta Tarea y deberá iniciar el proceso de Evaluación Cuantitativa del riesgo\",\"Ha terminado el Proceso de Identificación para esta Tarea y deberá aplicar medidas para reducir el riesgo\")","v":"Ha terminado el Proceso de Identificación para esta Tarea y deberá iniciar el proceso de Evaluación Cuantitativa del riesgo"}]
[null,null,null,"Presencia de ruedas grandes o pequeñas en mal estado, rotas, desgastadas o con poca mantención.","NA","0"]
[null,null,null,"Presencia de ruedas grandes o pequeñas inadecuadas al tipo de carro, peso de la carga y vías de desplazamiento.","NA","0"]
[null,null,"Horas de Trabajo","La tarea de levantamiento/descenso o transporte de carga dura más de 8 hrs.","NA","0"]
[null,null,"Riesgo","Empueje y Arrastre de Carga","Si / No / NA",null,null,null,null,"Si terminó de responder toda la Tabla 6 Presione Aquí para  regresar a Tabla 1 Información General del Puesto de Trabajo donde podrá continuar con la siguiente Tarea"]
[null,null,"Magnitud de la Fuerza","Método dinamómetro (*):\n1. Fuerza inicial es superior a 36 kgs. (Hombres) o 24 kgs.\n(Mujeres).\n2. Fuerza de sustentación es superior a 25 kgs. (Hombres)\ny 15 kgs. (Mujeres).\nMétodo Escala de Borg: los trabajadores perciben alto nivel de esfuerzo físico (valor 8 o más en escala de Borg) durante la (s) tarea (s) de empuje y arrastre de carga (Para obtener la información debe preguntar a los trabajadores utilizando la escala de Borg al final de este anexo).","NA",{"$f":"IF(E14=\"No\",\"0\",IF(E14=\"NA\",\"0\",\"1\"))","v":"0"}]
[null,null,"Dirección de la Fuerza","Durante el desplazamiento la carga requiere de un levantamiento parcial, mientras se empuja o arrastra.","NA",{"$f":"IF(E15=\"No\",\"0\",IF(E15=\"NA\",\"0\",\"1\"))","v":"0"}]
[null,null,"Esfuerzo Físico","La fuerza de empuje o arrastre es realizada con movimientos bruscos o de manera poco controlada.","NA","0"]
[null,null,"Postura","La fuerza de empuje o arrastre es aplicada con el tronco en flexión o torsión significativa.","NA","0"]
[null,null,"Zona de Agarre","Las manos no están delante del cuerpo o fuera del ancho de los hombros cuando se realiza la fuerza de empuje o arrastre.","NA","0"]
[null,null,"Altura aplicación de la Fuerza","La fuerza de empuje o arrastre es aplicada sobre los 150 cm o bajo los 60 cm.","NA","0"]
[null,null,"Duración","La(s) tarea(s) de empuje y arrastre de carga duran más de 8 hrs. diaria.","NA","0"]
[null,null,null,null,null,{"$f":"F4+F5+F6+F7+F8+F9+F10+F11+F12+F14+F15+F16+F17+F18+F19+F20","v":0}]

{"sheet":"TABLA 5T4P1","index":173,"n_rows":23,"n_cols":11,"rows_kept":23,"cut":false,"hidden":false,"merged":[]}
[]
[null,null,null,"EMPUJE Y ARRASTRE DE CARGA - IDENTIFICACIÓN AVANZADA  CONDICIÓN ACEPTABLE  ",null,null,null,null,null,"Cuadro de Resultado Tabla 5"]
[null,null,"Condición","Empueje y Arrastre de Carga","Si / No / NA"]
[null,null,"Ambiente de Trabajo","La temperatura en donde se realiza la tarea es entre los 18° y 26° (grados Celsius).","NA",{"$f":"IF(E4=\"SI\",\"0\",IF(E4=\"NA\",\"0\",\"1\"))","v":"0"},null,null,null,"La Tarea:"]
[null,null,null,"El piso se encuentra en buenas condiciones (regular, compacto, seco y estable) y sin pendiente.","NA",{"$f":"IF(E5=\"SI\",\"0\",IF(E5=\"NA\",\"0\",\"1\"))","v":"0"},null,null,{"$f":"'TABLA 1 P1'!B12","v":"N°4"},{"$f":"'TABLA 1 P1'!C12","v":"NA"}]
[null,null,null,"Presencia de vías/caminos donde se permite el normal desplazamiento (espacio suficiente para el desplazamiento).","NA","0",null,null,null,"Resultado:"]
[null,null,null,"El carro o transpaleta permite la visibilidad y movimientos normales del trabajador.","NA","0",null,null,{"$f":"F18","v":0},{"$f":"IF(F18>=1,\"No es Aceptable\",\"Aceptable\")","v":"Aceptable"}]
[null,null,null,"El centro de gravedad de la carga es estable.","NA","0",null,null,null,"Por lo que usted:"]
[null,null,"Característica del carro o transpaleta","La carro o transpaleta permite su agarre sin riesgo de cortes, compresión o quemaduras.","NA","0",null,null,null,{"$f":"IF(J7=\"Aceptable\",\"Ha Terminado el Proceso de Identificación para esta Tarea\",\"Debe Aplicar Tabla 6\")","v":"Ha Terminado el Proceso de Identificación para esta Tarea"},{"$f":"F18","v":0}]
[null,null,null,"Presencia de ruedas grandes o pequeñas en buen estado.","NA","0"]
[null,null,null,"Presencia de ruedas grandes o pequeñas adecuadas al tipo de carro, peso de la carga y vías de desplazamiento.","NA","0",null,null,null,{"$f":"IF(J7=\"Aceptable\",\"Si terminó de responder toda la Tabla 5 Presione Aquí para  regresar a Tabla 1 Información General del Puesto de Trabajo donde podrá continuar con la siguiente Tarea\",\"\")","v":"Si terminó de responder toda la Tabla 5 Presione Aquí para  regresar a Tabla 1 Información General del Puesto de Trabajo donde podrá continuar con la siguiente Tarea"},{"$f":"F18","v":0}]
[null,null,"Riesgo","Empueje y Arrastre de Carga","Si / No / NA"]
[null,null,"Magnitud de la Fuerza","Método dinamómetro (*): la fuerza inicial no supera los 10 kgs de fuerza y la fuerza de sustentación no supera los 5 kgs de fuerza.\nMétodo Escala de Borg: los trabajadores perciben leve esfuerzo físico (valor 2 o menos en escala de Borg) durante la tarea (s) de empuje y arrastre de carga (Para obtener la información debe preguntar a los trabajadores utilizando la escala de Borg (Anexo 3).","NA","0",null,null,null,null,{"$f":"F18","v":0}]
[null,null,"Duración","La(s) tarea(s) de empuje y arrastre de carga duran hasta 8 hrs. diaria.","NA","0"]
[null,null,"Altura aplicación de la Fuerza","La fuerza se realiza entre las caderas y la zona media del tronco.","NA","0",null,null,null,null,{"$f":"F18","v":0}]
[null,null,"Postura","La fuerza de empuje o arrastre es aplicada con el tronco recto (sin flexión o torsión).","NA","0"]
[null,null,"Zona de agarre","Las manos están delante del cuerpo y entre los hombros cuando se realiza la fuerza de empuje o arrastre.","NA","0"]
[null,null,null,null,null,{"$f":"F4+F5+F6+F7+F8+F9+F10+F11+F13+F14+F15+F16+F17","v":0},null,null,null,null,{"$f":"F18","v":0}]
[]
[]
[]
[]
[null,null,null,null,null,null,null,null,null,"Presione solo si al completar Tabla 5  se lo indica el Cuadro de Resultado",{"$f":"F18","v":0}]

{"sheet":"TABLA 5T4P2","index":174,"n_rows":23,"n_cols":11,"rows_kept":23,"cut":false,"hidden":false,"merged":[]}
[]
[null,null,null,"EMPUJE Y ARRASTRE DE CARGA - IDENTIFICACIÓN AVANZADA  CONDICIÓN ACEPTABLE  ",null,null,null,null,null,"Cuadro de Resultado Tabla 5"]
[null,null,"Condición","Empueje y Arrastre de Carga","Si / No / NA"]
[null,null,"Ambiente de Trabajo","La temperatura en donde se realiza la tarea es entre los 18° y 26° (grados Celsius).","NA",{"$f":"IF(E4=\"SI\",\"0\",IF(E4=\"NA\",\"0\",\"1\"))","v":"0"},null,null,null,"La Tarea:"]
[null,null,null,"El piso se encuentra en buenas condiciones (regular, compacto, seco y estable) y sin pendiente.","NA",{"$f":"IF(E5=\"SI\",\"0\",IF(E5=\"NA\",\"0\",\"1\"))","v":"0"},null,null,{"$f":"'TABLA 1 P2'!B12","v":"N°4"},{"$f":"'TABLA 1 P2'!C12","v":"NA"}]
[null,null,null,"Presencia de vías/caminos donde se permite el normal desplazamiento (espacio suficiente para el desplazamiento).","NA","0",null,null,null,"Resultado:"]
[null,null,null,"El carro o transpaleta permite la visibilidad y movimientos normales del trabajador.","NA","0",null,null,{"$f":"F18","v":0},{"$f":"IF(F18>=1,\"No es Aceptable\",\"Aceptable\")","v":"Aceptable"}]
[null,null,null,"El centro de gravedad de la carga es estable.","NA","0",null,null,null,"Por lo que usted:"]
[null,null,"Característica del carro o transpaleta","La carro o transpaleta permite su agarre sin riesgo de cortes, compresión o quemaduras.","NA","0",null,null,null,{"$f":"IF(J7=\"Aceptable\",\"Ha Terminado el Proceso de Identificación para esta Tarea\",\"Debe Aplicar Tabla 6\")","v":"Ha Terminado el Proceso de Identificación para esta Tarea"},{"$f":"F18","v":0}]
[null,null,null,"Presencia de ruedas grandes o pequeñas en buen estado.","NA","0"]
[null,null,null,"Presencia de ruedas grandes o pequeñas adecuadas al tipo de carro, peso de la carga y vías de desplazamiento.","NA","0",null,null,null,{"$f":"IF(J7=\"Aceptable\",\"Si terminó de responder toda la Tabla 5 Presione Aquí para  regresar a Tabla 1 Información General del Puesto de Trabajo donde podrá continuar con la siguiente Tarea\",\"\")","v":"Si terminó de responder toda la Tabla 5 Presione Aquí para  regresar a Tabla 1 Información General del Puesto de Trabajo donde podrá continuar con la siguiente Tarea"},{"$f":"F18","v":0}]
[null,null,"Riesgo","Empueje y Arrastre de Carga","Si / No / NA"]
[null,null,"Magnitud de la Fuerza","Método dinamómetro (*): la fuerza inicial no supera los 10 kgs de fuerza y la fuerza de sustentación no supera los 5 kgs de fuerza.\nMétodo Escala de Borg: los trabajadores perciben leve esfuerzo físico (valor 2 o menos en escala de Borg) durante la tarea (s) de empuje y arrastre de carga (Para obtener la información debe preguntar a los trabajadores utilizando la escala de Borg (Anexo 3).","NA","0",null,null,null,null,{"$f":"F18","v":0}]
[null,null,"Duración","La(s) tarea(s) de empuje y arrastre de carga duran hasta 8 hrs. diaria.","NA","0"]
[null,null,"Altura aplicación de la Fuerza","La fuerza se realiza entre las caderas y la zona media del tronco.","NA","0",null,null,null,null,{"$f":"F18","v":0}]
[null,null,"Postura","La fuerza de empuje o arrastre es aplicada con el tronco recto (sin flexión o torsión).","NA","0"]
[null,null,"Zona de agarre","Las manos están delante del cuerpo y entre los hombros cuando se realiza la fuerza de empuje o arrastre.","NA","0"]
[null,null,null,null,null,{"$f":"F4+F5+F6+F7+F8+F9+F10+F11+F13+F14+F15+F16+F17","v":0},null,null,null,null,{"$f":"F18","v":0}]
[]
[]
[]
[]
[null,null,null,null,null,null,null,null,null,"Presione solo si al completar Tabla 5  se lo indica el Cuadro de Resultado",{"$f":"F18","v":0}]

{"sheet":"TABLA 5T4P3","index":175,"n_rows":23,"n_cols":11,"rows_kept":23,"cut":false,"hidden":false,"merged":[]}
[]
[null,null,null,"EMPUJE Y ARRASTRE DE CARGA - IDENTIFICACIÓN AVANZADA  CONDICIÓN ACEPTABLE  ",null,null,null,null,null,"Cuadro de Resultado Tabla 5"]
[null,null,"Condición","Empueje y Arrastre de Carga","Si / No / NA"]
[null,null,"Ambiente de Trabajo","La temperatura en donde se realiza la tarea es entre los 18° y 26° (grados Celsius).","NA",{"$f":"IF(E4=\"SI\",\"0\",IF(E4=\"NA\",\"0\",\"1\"))","v":"0"},null,null,null,"La Tarea:"]
[null,null,null,"El piso se encuentra en buenas condiciones (regular, compacto, seco y estable) y sin pendiente.","NA",{"$f":"IF(E5=\"SI\",\"0\",IF(E5=\"NA\",\"0\",\"1\"))","v":"0"},null,null,{"$f":"'TABLA 1 P3'!B12","v":"N°4"},{"$f":"'TABLA 1 P3'!C12","v":"NA"}]
[null,null,null,"Presencia de vías/caminos donde se permite el normal desplazamiento (espacio suficiente para el desplazamiento).","NA","0",null,null,null,"Resultado:"]
[null,null,null,"El carro o transpaleta permite la visibilidad y movimientos normales del trabajador.","NA","0",null,null,{"$f":"F18","v":0},{"$f":"IF(F18>=1,\"No es Aceptable\",\"Aceptable\")","v":"Aceptable"}]
[null,null,null,"El centro de gravedad de la carga es estable.","NA","0",null,null,null,"Por lo que usted:"]
[null,null,"Característica del carro o transpaleta","La carro o transpaleta permite su agarre sin riesgo de cortes, compresión o quemaduras.","NA","0",null,null,null,{"$f":"IF(J7=\"Aceptable\",\"Ha Terminado el Proceso de Identificación para esta Tarea\",\"Debe Aplicar Tabla 6\")","v":"Ha Terminado el Proceso de Identificación para esta Tarea"},{"$f":"F18","v":0}]
[null,null,null,"Presencia de ruedas grandes o pequeñas en buen estado.","NA","0"]
[null,null,null,"Presencia de ruedas grandes o pequeñas adecuadas al tipo de carro, peso de la carga y vías de desplazamiento.","NA","0",null,null,null,{"$f":"IF(J7=\"Aceptable\",\"Si terminó de responder toda la Tabla 5 Presione Aquí para  regresar a Tabla 1 Información General del Puesto de Trabajo donde podrá continuar con la siguiente Tarea\",\"\")","v":"Si terminó de responder toda la Tabla 5 Presione Aquí para  regresar a Tabla 1 Información General del Puesto de Trabajo donde podrá continuar con la siguiente Tarea"},{"$f":"F18","v":0}]
[null,null,"Riesgo","Empueje y Arrastre de Carga","Si / No / NA"]
[null,null,"Magnitud de la Fuerza","Método dinamómetro (*): la fuerza inicial no supera los 10 kgs de fuerza y la fuerza de sustentación no supera los 5 kgs de fuerza.\nMétodo Escala de Borg: los trabajadores perciben leve esfuerzo físico (valor 2 o menos en escala de Borg) durante la tarea (s) de empuje y arrastre de carga (Para obtener la información debe preguntar a los trabajadores utilizando la escala de Borg (Anexo 3).","NA","0",null,null,null,null,{"$f":"F18","v":0}]
[null,null,"Duración","La(s) tarea(s) de empuje y arrastre de carga duran hasta 8 hrs. diaria.","NA","0"]
[null,null,"Altura aplicación de la Fuerza","La fuerza se realiza entre las caderas y la zona media del tronco.","NA","0",null,null,null,null,{"$f":"F18","v":0}]
[null,null,"Postura","La fuerza de empuje o arrastre es aplicada con el tronco recto (sin flexión o torsión).","NA","0"]
[null,null,"Zona de agarre","Las manos están delante del cuerpo y entre los hombros cuando se realiza la fuerza de empuje o arrastre.","NA","0"]
[null,null,null,null,null,{"$f":"F4+F5+F6+F7+F8+F9+F10+F11+F13+F14+F15+F16+F17","v":0},null,null,null,null,{"$f":"F18","v":0}]
[]
[]
[]
[]
[null,null,null,null,null,null,null,null,null,"Presione solo si al completar Tabla 5  se lo indica el Cuadro de Resultado",{"$f":"F18","v":0}]

{"sheet":"TABLA 5T4P4","index":176,"n_rows":23,"n_cols":11,"rows_kept":23,"cut":false,"hidden":false,"merged":[]}
[]
[null,null,null,"EMPUJE Y ARRASTRE DE CARGA - IDENTIFICACIÓN AVANZADA  CONDICIÓN ACEPTABLE  ",null,null,null,null,null,"Cuadro de Resultado Tabla 5"]
[null,null,"Condición","Empueje y Arrastre de Carga","Si / No / NA"]
[null,null,"Ambiente de Trabajo","La temperatura en donde se realiza la tarea es entre los 18° y 26° (grados Celsius).","NA",{"$f":"IF(E4=\"SI\",\"0\",IF(E4=\"NA\",\"0\",\"1\"))","v":"0"},null,null,null,"La Tarea:"]
[null,null,null,"El piso se encuentra en buenas condiciones (regular, compacto, seco y estable) y sin pendiente.","NA",{"$f":"IF(E5=\"SI\",\"0\",IF(E5=\"NA\",\"0\",\"1\"))","v":"0"},null,null,{"$f":"'TABLA 1 P4'!B12","v":"N°4"},{"$f":"'TABLA 1 P4'!C12","v":"NA"}]
[null,null,null,"Presencia de vías/caminos donde se permite el normal desplazamiento (espacio suficiente para el desplazamiento).","NA","0",null,null,null,"Resultado:"]
[null,null,null,"El carro o transpaleta permite la visibilidad y movimientos normales del trabajador.","NA","0",null,null,{"$f":"F18","v":0},{"$f":"IF(F18>=1,\"No es Aceptable\",\"Aceptable\")","v":"Aceptable"}]
[null,null,null,"El centro de gravedad de la carga es estable.","NA","0",null,null,null,"Por lo que usted:"]
[null,null,"Característica del carro o transpaleta","La carro o transpaleta permite su agarre sin riesgo de cortes, compresión o quemaduras.","NA","0",null,null,null,{"$f":"IF(J7=\"Aceptable\",\"Ha Terminado el Proceso de Identificación para esta Tarea\",\"Debe Aplicar Tabla 6\")","v":"Ha Terminado el Proceso de Identificación para esta Tarea"},{"$f":"F18","v":0}]
[null,null,null,"Presencia de ruedas grandes o pequeñas en buen estado.","NA","0"]
[null,null,null,"Presencia de ruedas grandes o pequeñas adecuadas al tipo de carro, peso de la carga y vías de desplazamiento.","NA","0",null,null,null,{"$f":"IF(J7=\"Aceptable\",\"Si terminó de responder toda la Tabla 5 Presione Aquí para  regresar a Tabla 1 Información General del Puesto de Trabajo donde podrá continuar con la siguiente Tarea\",\"\")","v":"Si terminó de responder toda la Tabla 5 Presione Aquí para  regresar a Tabla 1 Información General del Puesto de Trabajo donde podrá continuar con la siguiente Tarea"},{"$f":"F18","v":0}]
[null,null,"Riesgo","Empueje y Arrastre de Carga","Si / No / NA"]
[null,null,"Magnitud de la Fuerza","Método dinamómetro (*): la fuerza inicial no supera los 10 kgs de fuerza y la fuerza de sustentación no supera los 5 kgs de fuerza.\nMétodo Escala de Borg: los trabajadores perciben leve esfuerzo físico (valor 2 o menos en escala de Borg) durante la tarea (s) de empuje y arrastre de carga (Para obtener la información debe preguntar a los trabajadores utilizando la escala de Borg (Anexo 3).","NA","0",null,null,null,null,{"$f":"F18","v":0}]
[null,null,"Duración","La(s) tarea(s) de empuje y arrastre de carga duran hasta 8 hrs. diaria.","NA","0"]
[null,null,"Altura aplicación de la Fuerza","La fuerza se realiza entre las caderas y la zona media del tronco.","NA","0",null,null,null,null,{"$f":"F18","v":0}]
[null,null,"Postura","La fuerza de empuje o arrastre es aplicada con el tronco recto (sin flexión o torsión).","NA","0"]
[null,null,"Zona de agarre","Las manos están delante del cuerpo y entre los hombros cuando se realiza la fuerza de empuje o arrastre.","NA","0"]
[null,null,null,null,null,{"$f":"F4+F5+F6+F7+F8+F9+F10+F11+F13+F14+F15+F16+F17","v":0},null,null,null,null,{"$f":"F18","v":0}]
[]
[]
[]
[]
[null,null,null,null,null,null,null,null,null,"Presione solo si al completar Tabla 5  se lo indica el Cuadro de Resultado",{"$f":"F18","v":0}]

{"sheet":"TABLA 5T4P5","index":177,"n_rows":23,"n_cols":11,"rows_kept":23,"cut":false,"hidden":false,"merged":[]}
[]
[null,null,null,"EMPUJE Y ARRASTRE DE CARGA - IDENTIFICACIÓN AVANZADA  CONDICIÓN ACEPTABLE  ",null,null,null,null,null,"Cuadro de Resultado Tabla 5"]
[null,null,"Condición","Empueje y Arrastre de Carga","Si / No / NA"]
[null,null,"Ambiente de Trabajo","La temperatura en donde se realiza la tarea es entre los 18° y 26° (grados Celsius).","NA",{"$f":"IF(E4=\"SI\",\"0\",IF(E4=\"NA\",\"0\",\"1\"))","v":"0"},null,null,null,"La Tarea:"]
[null,null,null,"El piso se encuentra en buenas condiciones (regular, compacto, seco y estable) y sin pendiente.","NA",{"$f":"IF(E5=\"SI\",\"0\",IF(E5=\"NA\",\"0\",\"1\"))","v":"0"},null,null,{"$f":"'TABLA 1 P5'!B12","v":"N°4"},{"$f":"'TABLA 1 P5'!C12","v":"NA"}]
[null,null,null,"Presencia de vías/caminos donde se permite el normal desplazamiento (espacio suficiente para el desplazamiento).","NA","0",null,null,null,"Resultado:"]
[null,null,null,"El carro o transpaleta permite la visibilidad y movimientos normales del trabajador.","NA","0",null,null,{"$f":"F18","v":0},{"$f":"IF(F18>=1,\"No es Aceptable\",\"Aceptable\")","v":"Aceptable"}]
[null,null,null,"El centro de gravedad de la carga es estable.","NA","0",null,null,null,"Por lo que usted:"]
[null,null,"Característica del carro o transpaleta","La carro o transpaleta permite su agarre sin riesgo de cortes, compresión o quemaduras.","NA","0",null,null,null,{"$f":"IF(J7=\"Aceptable\",\"Ha Terminado el Proceso de Identificación para esta Tarea\",\"Debe Aplicar Tabla 6\")","v":"Ha Terminado el Proceso de Identificación para esta Tarea"},{"$f":"F18","v":0}]
[null,null,null,"Presencia de ruedas grandes o pequeñas en buen estado.","NA","0"]
[null,null,null,"Presencia de ruedas grandes o pequeñas adecuadas al tipo de carro, peso de la carga y vías de desplazamiento.","NA","0",null,null,null,{"$f":"IF(J7=\"Aceptable\",\"Si terminó de responder toda la Tabla 5 Presione Aquí para  regresar a Tabla 1 Información General del Puesto de Trabajo donde podrá continuar con la siguiente Tarea\",\"\")","v":"Si terminó de responder toda la Tabla 5 Presione Aquí para  regresar a Tabla 1 Información General del Puesto de Trabajo donde podrá continuar con la siguiente Tarea"},{"$f":"F18","v":0}]
[null,null,"Riesgo","Empueje y Arrastre de Carga","Si / No / NA"]
[null,null,"Magnitud de la Fuerza","Método dinamómetro (*): la fuerza inicial no supera los 10 kgs de fuerza y la fuerza de sustentación no supera los 5 kgs de fuerza.\nMétodo Escala de Borg: los trabajadores perciben leve esfuerzo físico (valor 2 o menos en escala de Borg) durante la tarea (s) de empuje y arrastre de carga (Para obtener la información debe preguntar a los trabajadores utilizando la escala de Borg (Anexo 3).","NA","0",null,null,null,null,{"$f":"F18","v":0}]
[null,null,"Duración","La(s) tarea(s) de empuje y arrastre de carga duran hasta 8 hrs. diaria.","NA","0"]
[null,null,"Altura aplicación de la Fuerza","La fuerza se realiza entre las caderas y la zona media del tronco.","NA","0",null,null,null,null,{"$f":"F18","v":0}]
[null,null,"Postura","La fuerza de empuje o arrastre es aplicada con el tronco recto (sin flexión o torsión).","NA","0"]
[null,null,"Zona de agarre","Las manos están delante del cuerpo y entre los hombros cuando se realiza la fuerza de empuje o arrastre.","NA","0"]
[null,null,null,null,null,{"$f":"F4+F5+F6+F7+F8+F9+F10+F11+F13+F14+F15+F16+F17","v":0},null,null,null,null,{"$f":"F18","v":0}]
[]
[]
[]
[]
[null,null,null,null,null,null,null,null,null,"Presione solo si al completar Tabla 5  se lo indica el Cuadro de Resultado",{"$f":"F18","v":0}]

{"sheet":"TABLA 5T4P6","index":178,"n_rows":23,"n_cols":11,"rows_kept":23,"cut":false,"hidden":false,"merged":[]}
[]
[null,null,null,"EMPUJE Y ARRASTRE DE CARGA - IDENTIFICACIÓN AVANZADA  CONDICIÓN ACEPTABLE  ",null,null,null,null,null,"Cuadro de Resultado Tabla 5"]
[null,null,"Condición","Empueje y Arrastre de Carga","Si / No / NA"]
[null,null,"Ambiente de Trabajo","La temperatura en donde se realiza la tarea es entre los 18° y 26° (grados Celsius).","NA",{"$f":"IF(E4=\"SI\",\"0\",IF(E4=\"NA\",\"0\",\"1\"))","v":"0"},null,null,null,"La Tarea:"]
[null,null,null,"El piso se encuentra en buenas condiciones (regular, compacto, seco y estable) y sin pendiente.","NA",{"$f":"IF(E5=\"SI\",\"0\",IF(E5=\"NA\",\"0\",\"1\"))","v":"0"},null,null,{"$f":"'TABLA 1 P6'!B12","v":"N°4"},{"$f":"'TABLA 1 P6'!C12","v":"NA"}]
[null,null,null,"Presencia de vías/caminos donde se permite el normal desplazamiento (espacio suficiente para el desplazamiento).","NA","0",null,null,null,"Resultado:"]
[null,null,null,"El carro o transpaleta permite la visibilidad y movimientos normales del trabajador.","NA","0",null,null,{"$f":"F18","v":0},{"$f":"IF(F18>=1,\"No es Aceptable\",\"Aceptable\")","v":"Aceptable"}]
[null,null,null,"El centro de gravedad de la carga es estable.","NA","0",null,null,null,"Por lo que usted:"]
[null,null,"Característica del carro o transpaleta","La carro o transpaleta permite su agarre sin riesgo de cortes, compresión o quemaduras.","NA","0",null,null,null,{"$f":"IF(J7=\"Aceptable\",\"Ha Terminado el Proceso de Identificación para esta Tarea\",\"Debe Aplicar Tabla 6\")","v":"Ha Terminado el Proceso de Identificación para esta Tarea"},{"$f":"F18","v":0}]
[null,null,null,"Presencia de ruedas grandes o pequeñas en buen estado.","NA","0"]
[null,null,null,"Presencia de ruedas grandes o pequeñas adecuadas al tipo de carro, peso de la carga y vías de desplazamiento.","NA","0",null,null,null,{"$f":"IF(J7=\"Aceptable\",\"Si terminó de responder toda la Tabla 5 Presione Aquí para  regresar a Tabla 1 Información General del Puesto de Trabajo donde podrá continuar con la siguiente Tarea\",\"\")","v":"Si terminó de responder toda la Tabla 5 Presione Aquí para  regresar a Tabla 1 Información General del Puesto de Trabajo donde podrá continuar con la siguiente Tarea"},{"$f":"F18","v":0}]
[null,null,"Riesgo","Empueje y Arrastre de Carga","Si / No / NA"]
[null,null,"Magnitud de la Fuerza","Método dinamómetro (*): la fuerza inicial no supera los 10 kgs de fuerza y la fuerza de sustentación no supera los 5 kgs de fuerza.\nMétodo Escala de Borg: los trabajadores perciben leve esfuerzo físico (valor 2 o menos en escala de Borg) durante la tarea (s) de empuje y arrastre de carga (Para obtener la información debe preguntar a los trabajadores utilizando la escala de Borg (Anexo 3).","NA","0",null,null,null,null,{"$f":"F18","v":0}]
[null,null,"Duración","La(s) tarea(s) de empuje y arrastre de carga duran hasta 8 hrs. diaria.","NA","0"]
[null,null,"Altura aplicación de la Fuerza","La fuerza se realiza entre las caderas y la zona media del tronco.","NA","0",null,null,null,null,{"$f":"F18","v":0}]
[null,null,"Postura","La fuerza de empuje o arrastre es aplicada con el tronco recto (sin flexión o torsión).","NA","0"]
[null,null,"Zona de agarre","Las manos están delante del cuerpo y entre los hombros cuando se realiza la fuerza de empuje o arrastre.","NA","0"]
[null,null,null,null,null,{"$f":"F4+F5+F6+F7+F8+F9+F10+F11+F13+F14+F15+F16+F17","v":0},null,null,null,null,{"$f":"F18","v":0}]
[]
[]
[]
[]
[null,null,null,null,null,null,null,null,null,"Presione solo si al completar Tabla 5  se lo indica el Cuadro de Resultado",{"$f":"F18","v":0}]

{"sheet":"TABLA 5T4P7","index":179,"n_rows":23,"n_cols":11,"rows_kept":23,"cut":false,"hidden":false,"merged":[]}
[]
[null,null,null,"EMPUJE Y ARRASTRE DE CARGA - IDENTIFICACIÓN AVANZADA  CONDICIÓN ACEPTABLE  ",null,null,null,null,null,"Cuadro de Resultado Tabla 5"]
[null,null,"Condición","Empueje y Arrastre de Carga","Si / No / NA"]
[null,null,"Ambiente de Trabajo","La temperatura en donde se realiza la tarea es entre los 18° y 26° (grados Celsius).","NA",{"$f":"IF(E4=\"SI\",\"0\",IF(E4=\"NA\",\"0\",\"1\"))","v":"0"},null,null,null,"La Tarea:"]
[null,null,null,"El piso se encuentra en buenas condiciones (regular, compacto, seco y estable) y sin pendiente.","NA",{"$f":"IF(E5=\"SI\",\"0\",IF(E5=\"NA\",\"0\",\"1\"))","v":"0"},null,null,{"$f":"'TABLA 1 P7'!B12","v":"N°4"},{"$f":"'TABLA 1 P7'!C12","v":"NA"}]
[null,null,null,"Presencia de vías/caminos donde se permite el normal desplazamiento (espacio suficiente para el desplazamiento).","NA","0",null,null,null,"Resultado:"]
[null,null,null,"El carro o transpaleta permite la visibilidad y movimientos normales del trabajador.","NA","0",null,null,{"$f":"F18","v":0},{"$f":"IF(F18>=1,\"No es Aceptable\",\"Aceptable\")","v":"Aceptable"}]
[null,null,null,"El centro de gravedad de la carga es estable.","NA","0",null,null,null,"Por lo que usted:"]
[null,null,"Característica del carro o transpaleta","La carro o transpaleta permite su agarre sin riesgo de cortes, compresión o quemaduras.","NA","0",null,null,null,{"$f":"IF(J7=\"Aceptable\",\"Ha Terminado el Proceso de Identificación para esta Tarea\",\"Debe Aplicar Tabla 6\")","v":"Ha Terminado el Proceso de Identificación para esta Tarea"},{"$f":"F18","v":0}]
[null,null,null,"Presencia de ruedas grandes o pequeñas en buen estado.","NA","0"]
[null,null,null,"Presencia de ruedas grandes o pequeñas adecuadas al tipo de carro, peso de la carga y vías de desplazamiento.","NA","0",null,null,null,{"$f":"IF(J7=\"Aceptable\",\"Si terminó de responder toda la Tabla 5 Presione Aquí para  regresar a Tabla 1 Información General del Puesto de Trabajo donde podrá continuar con la siguiente Tarea\",\"\")","v":"Si terminó de responder toda la Tabla 5 Presione Aquí para  regresar a Tabla 1 Información General del Puesto de Trabajo donde podrá continuar con la siguiente Tarea"},{"$f":"F18","v":0}]
[null,null,"Riesgo","Empueje y Arrastre de Carga","Si / No / NA"]
[null,null,"Magnitud de la Fuerza","Método dinamómetro (*): la fuerza inicial no supera los 10 kgs de fuerza y la fuerza de sustentación no supera los 5 kgs de fuerza.\nMétodo Escala de Borg: los trabajadores perciben leve esfuerzo físico (valor 2 o menos en escala de Borg) durante la tarea (s) de empuje y arrastre de carga (Para obtener la información debe preguntar a los trabajadores utilizando la escala de Borg (Anexo 3).","NA","0",null,null,null,null,{"$f":"F18","v":0}]
[null,null,"Duración","La(s) tarea(s) de empuje y arrastre de carga duran hasta 8 hrs. diaria.","NA","0"]
[null,null,"Altura aplicación de la Fuerza","La fuerza se realiza entre las caderas y la zona media del tronco.","NA","0",null,null,null,null,{"$f":"F18","v":0}]
[null,null,"Postura","La fuerza de empuje o arrastre es aplicada con el tronco recto (sin flexión o torsión).","NA","0"]
[null,null,"Zona de agarre","Las manos están delante del cuerpo y entre los hombros cuando se realiza la fuerza de empuje o arrastre.","NA","0"]
[null,null,null,null,null,{"$f":"F4+F5+F6+F7+F8+F9+F10+F11+F13+F14+F15+F16+F17","v":0},null,null,null,null,{"$f":"F18","v":0}]
[]
[]
[]
[]
[null,null,null,null,null,null,null,null,null,"Presione solo si al completar Tabla 5  se lo indica el Cuadro de Resultado",{"$f":"F18","v":0}]

{"sheet":"TABLA 5T4P8","index":180,"n_rows":23,"n_cols":11,"rows_kept":23,"cut":false,"hidden":false,"merged":[]}
[]
[null,null,null,"EMPUJE Y ARRASTRE DE CARGA - IDENTIFICACIÓN AVANZADA  CONDICIÓN ACEPTABLE  ",null,null,null,null,null,"Cuadro de Resultado Tabla 5"]
[null,null,"Condición","Empueje y Arrastre de Carga","Si / No / NA"]
[null,null,"Ambiente de Trabajo","La temperatura en donde se realiza la tarea es entre los 18° y 26° (grados Celsius).","NA",{"$f":"IF(E4=\"SI\",\"0\",IF(E4=\"NA\",\"0\",\"1\"))","v":"0"},null,null,null,"La Tarea:"]
[null,null,null,"El piso se encuentra en buenas condiciones (regular, compacto, seco y estable) y sin pendiente.","NA",{"$f":"IF(E5=\"SI\",\"0\",IF(E5=\"NA\",\"0\",\"1\"))","v":"0"},null,null,{"$f":"'TABLA 1 P8'!B12","v":"N°4"},{"$f":"'TABLA 1 P8'!C12","v":"NA"}]
[null,null,null,"Presencia de vías/caminos donde se permite el normal desplazamiento (espacio suficiente para el desplazamiento).","NA","0",null,null,null,"Resultado:"]
[null,null,null,"El carro o transpaleta permite la visibilidad y movimientos normales del trabajador.","NA","0",null,null,{"$f":"F18","v":0},{"$f":"IF(F18>=1,\"No es Aceptable\",\"Aceptable\")","v":"Aceptable"}]
[null,null,null,"El centro de gravedad de la carga es estable.","NA","0",null,null,null,"Por lo que usted:"]
[null,null,"Característica del carro o transpaleta","La carro o transpaleta permite su agarre sin riesgo de cortes, compresión o quemaduras.","NA","0",null,null,null,{"$f":"IF(J7=\"Aceptable\",\"Ha Terminado el Proceso de Identificación para esta Tarea\",\"Debe Aplicar Tabla 6\")","v":"Ha Terminado el Proceso de Identificación para esta Tarea"},{"$f":"F18","v":0}]
[null,null,null,"Presencia de ruedas grandes o pequeñas en buen estado.","NA","0"]
[null,null,null,"Presencia de ruedas grandes o pequeñas adecuadas al tipo de carro, peso de la carga y vías de desplazamiento.","NA","0",null,null,null,{"$f":"IF(J7=\"Aceptable\",\"Si terminó de responder toda la Tabla 5 Presione Aquí para  regresar a Tabla 1 Información General del Puesto de Trabajo donde podrá continuar con la siguiente Tarea\",\"\")","v":"Si terminó de responder toda la Tabla 5 Presione Aquí para  regresar a Tabla 1 Información General del Puesto de Trabajo donde podrá continuar con la siguiente Tarea"},{"$f":"F18","v":0}]
[null,null,"Riesgo","Empueje y Arrastre de Carga","Si / No / NA"]
[null,null,"Magnitud de la Fuerza","Método dinamómetro (*): la fuerza inicial no supera los 10 kgs de fuerza y la fuerza de sustentación no supera los 5 kgs de fuerza.\nMétodo Escala de Borg: los trabajadores perciben leve esfuerzo físico (valor 2 o menos en escala de Borg) durante la tarea (s) de empuje y arrastre de carga (Para obtener la información debe preguntar a los trabajadores utilizando la escala de Borg (Anexo 3).","NA","0",null,null,null,null,{"$f":"F18","v":0}]
[null,null,"Duración","La(s) tarea(s) de empuje y arrastre de carga duran hasta 8 hrs. diaria.","NA","0"]
[null,null,"Altura aplicación de la Fuerza","La fuerza se realiza entre las caderas y la zona media del tronco.","NA","0",null,null,null,null,{"$f":"F18","v":0}]
[null,null,"Postura","La fuerza de empuje o arrastre es aplicada con el tronco recto (sin flexión o torsión).","NA","0"]
[null,null,"Zona de agarre","Las manos están delante del cuerpo y entre los hombros cuando se realiza la fuerza de empuje o arrastre.","NA","0"]
[null,null,null,null,null,{"$f":"F4+F5+F6+F7+F8+F9+F10+F11+F13+F14+F15+F16+F17","v":0},null,null,null,null,{"$f":"F18","v":0}]
[]
[]
[]
[]
[null,null,null,null,null,null,null,null,null,"Presione solo si al completar Tabla 5  se lo indica el Cuadro de Resultado",{"$f":"F18","v":0}]

{"sheet":"TABLA 5T4P9","index":181,"n_rows":23,"n_cols":11,"rows_kept":23,"cut":false,"hidden":false,"merged":[]}
[]
[null,null,null,"EMPUJE Y ARRASTRE DE CARGA - IDENTIFICACIÓN AVANZADA  CONDICIÓN ACEPTABLE  ",null,null,null,null,null,"Cuadro de Resultado Tabla 5"]
[null,null,"Condición","Empueje y Arrastre de Carga","Si / No / NA"]
[null,null,"Ambiente de Trabajo","La temperatura en donde se realiza la tarea es entre los 18° y 26° (grados Celsius).","NA",{"$f":"IF(E4=\"SI\",\"0\",IF(E4=\"NA\",\"0\",\"1\"))","v":"0"},null,null,null,"La Tarea:"]
[null,null,null,"El piso se encuentra en buenas condiciones (regular, compacto, seco y estable) y sin pendiente.","NA",{"$f":"IF(E5=\"SI\",\"0\",IF(E5=\"NA\",\"0\",\"1\"))","v":"0"},null,null,{"$f":"'TABLA 1 P9'!B12","v":"N°4"},{"$f":"'TABLA 1 P9'!C12","v":"NA"}]
[null,null,null,"Presencia de vías/caminos donde se permite el normal desplazamiento (espacio suficiente para el desplazamiento).","NA","0",null,null,null,"Resultado:"]
[null,null,null,"El carro o transpaleta permite la visibilidad y movimientos normales del trabajador.","NA","0",null,null,{"$f":"F18","v":0},{"$f":"IF(F18>=1,\"No es Aceptable\",\"Aceptable\")","v":"Aceptable"}]
[null,null,null,"El centro de gravedad de la carga es estable.","NA","0",null,null,null,"Por lo que usted:"]
[null,null,"Característica del carro o transpaleta","La carro o transpaleta permite su agarre sin riesgo de cortes, compresión o quemaduras.","NA","0",null,null,null,{"$f":"IF(J7=\"Aceptable\",\"Ha Terminado el Proceso de Identificación para esta Tarea\",\"Debe Aplicar Tabla 6\")","v":"Ha Terminado el Proceso de Identificación para esta Tarea"},{"$f":"F18","v":0}]
[null,null,null,"Presencia de ruedas grandes o pequeñas en buen estado.","NA","0"]
[null,null,null,"Presencia de ruedas grandes o pequeñas adecuadas al tipo de carro, peso de la carga y vías de desplazamiento.","NA","0",null,null,null,{"$f":"IF(J7=\"Aceptable\",\"Si terminó de responder toda la Tabla 5 Presione Aquí para  regresar a Tabla 1 Información General del Puesto de Trabajo donde podrá continuar con la siguiente Tarea\",\"\")","v":"Si terminó de responder toda la Tabla 5 Presione Aquí para  regresar a Tabla 1 Información General del Puesto de Trabajo donde podrá continuar con la siguiente Tarea"},{"$f":"F18","v":0}]
[null,null,"Riesgo","Empueje y Arrastre de Carga","Si / No / NA"]
[null,null,"Magnitud de la Fuerza","Método dinamómetro (*): la fuerza inicial no supera los 10 kgs de fuerza y la fuerza de sustentación no supera los 5 kgs de fuerza.\nMétodo Escala de Borg: los trabajadores perciben leve esfuerzo físico (valor 2 o menos en escala de Borg) durante la tarea (s) de empuje y arrastre de carga (Para obtener la información debe preguntar a los trabajadores utilizando la escala de Borg (Anexo 3).","NA","0",null,null,null,null,{"$f":"F18","v":0}]
[null,null,"Duración","La(s) tarea(s) de empuje y arrastre de carga duran hasta 8 hrs. diaria.","NA","0"]
[null,null,"Altura aplicación de la Fuerza","La fuerza se realiza entre las caderas y la zona media del tronco.","NA","0",null,null,null,null,{"$f":"F18","v":0}]
[null,null,"Postura","La fuerza de empuje o arrastre es aplicada con el tronco recto (sin flexión o torsión).","NA","0"]
[null,null,"Zona de agarre","Las manos están delante del cuerpo y entre los hombros cuando se realiza la fuerza de empuje o arrastre.","NA","0"]
[null,null,null,null,null,{"$f":"F4+F5+F6+F7+F8+F9+F10+F11+F13+F14+F15+F16+F17","v":0},null,null,null,null,{"$f":"F18","v":0}]
[]
[]
[]
[]
[null,null,null,null,null,null,null,null,null,"Presione solo si al completar Tabla 5  se lo indica el Cuadro de Resultado",{"$f":"F18","v":0}]

{"sheet":"TABLA 5T4P10","index":182,"n_rows":23,"n_cols":11,"rows_kept":23,"cut":false,"hidden":false,"merged":[]}
[]
[null,null,null,"EMPUJE Y ARRASTRE DE CARGA - IDENTIFICACIÓN AVANZADA  CONDICIÓN ACEPTABLE  ",null,null,null,null,null,"Cuadro de Resultado Tabla 5"]
[null,null,"Condición","Empueje y Arrastre de Carga","Si / No / NA"]
[null,null,"Ambiente de Trabajo","La temperatura en donde se realiza la tarea es entre los 18° y 26° (grados Celsius).","NA",{"$f":"IF(E4=\"SI\",\"0\",IF(E4=\"NA\",\"0\",\"1\"))","v":"0"},null,null,null,"La Tarea:"]
[null,null,null,"El piso se encuentra en buenas condiciones (regular, compacto, seco y estable) y sin pendiente.","NA",{"$f":"IF(E5=\"SI\",\"0\",IF(E5=\"NA\",\"0\",\"1\"))","v":"0"},null,null,{"$f":"'TABLA 1 P10'!B12","v":"N°4"},{"$f":"'TABLA 1 P10'!C12","v":"NA"}]
[null,null,null,"Presencia de vías/caminos donde se permite el normal desplazamiento (espacio suficiente para el desplazamiento).","NA","0",null,null,null,"Resultado:"]
[null,null,null,"El carro o transpaleta permite la visibilidad y movimientos normales del trabajador.","NA","0",null,null,{"$f":"F18","v":0},{"$f":"IF(F18>=1,\"No es Aceptable\",\"Aceptable\")","v":"Aceptable"}]
[null,null,null,"El centro de gravedad de la carga es estable.","NA","0",null,null,null,"Por lo que usted:"]
[null,null,"Característica del carro o transpaleta","La carro o transpaleta permite su agarre sin riesgo de cortes, compresión o quemaduras.","NA","0",null,null,null,{"$f":"IF(J7=\"Aceptable\",\"Ha Terminado el Proceso de Identificación para esta Tarea\",\"Debe Aplicar Tabla 6\")","v":"Ha Terminado el Proceso de Identificación para esta Tarea"},{"$f":"F18","v":0}]
[null,null,null,"Presencia de ruedas grandes o pequeñas en buen estado.","NA","0"]
[null,null,null,"Presencia de ruedas grandes o pequeñas adecuadas al tipo de carro, peso de la carga y vías de desplazamiento.","NA","0",null,null,null,{"$f":"IF(J7=\"Aceptable\",\"Si terminó de responder toda la Tabla 5 Presione Aquí para  regresar a Tabla 1 Información General del Puesto de Trabajo donde podrá continuar con la siguiente Tarea\",\"\")","v":"Si terminó de responder toda la Tabla 5 Presione Aquí para  regresar a Tabla 1 Información General del Puesto de Trabajo donde podrá continuar con la siguiente Tarea"},{"$f":"F18","v":0}]
[null,null,"Riesgo","Empueje y Arrastre de Carga","Si / No / NA"]
[null,null,"Magnitud de la Fuerza","Método dinamómetro (*): la fuerza inicial no supera los 10 kgs de fuerza y la fuerza de sustentación no supera los 5 kgs de fuerza.\nMétodo Escala de Borg: los trabajadores perciben leve esfuerzo físico (valor 2 o menos en escala de Borg) durante la tarea (s) de empuje y arrastre de carga (Para obtener la información debe preguntar a los trabajadores utilizando la escala de Borg (Anexo 3).","NA","0",null,null,null,null,{"$f":"F18","v":0}]
[null,null,"Duración","La(s) tarea(s) de empuje y arrastre de carga duran hasta 8 hrs. diaria.","NA","0"]
[null,null,"Altura aplicación de la Fuerza","La fuerza se realiza entre las caderas y la zona media del tronco.","NA","0",null,null,null,null,{"$f":"F18","v":0}]
[null,null,"Postura","La fuerza de empuje o arrastre es aplicada con el tronco recto (sin flexión o torsión).","NA","0"]
[null,null,"Zona de agarre","Las manos están delante del cuerpo y entre los hombros cuando se realiza la fuerza de empuje o arrastre.","NA","0"]
[null,null,null,null,null,{"$f":"F4+F5+F6+F7+F8+F9+F10+F11+F13+F14+F15+F16+F17","v":0},null,null,null,null,{"$f":"F18","v":0}]
[]
[]
[]
[]
[null,null,null,null,null,null,null,null,null,"Presione solo si al completar Tabla 5  se lo indica el Cuadro de Resultado",{"$f":"F18","v":0}]

{"sheet":"TABLA 6T4P1","index":183,"n_rows":21,"n_cols":10,"rows_kept":21,"cut":false,"hidden":false,"merged":[]}
[]
[null,null,null,"EMPUJE Y ARRASTRE DE CARGA - IDENTIFICACIÓN AVANZADA CONDICIÓN CRÍTICA  \n",null,null,null,null,null,"Cuadro de Resultado Tabla 6"]
[null,null,"Condición","Levantamiento/descenso y transporte manual de carga","Si / No / NA"]
[null,null,"Ambiente de Trabajo","Presencia de temperatura extrema (bajo 16° o superior a los 26° grados Celsius) y sin ropa que proteja de las temperaturas extremas.","NA",{"$f":"IF(E4=\"No\",\"0\",IF(E4=\"NA\",\"0\",\"1\"))","v":"0"},null,null,null,"La Tarea:"]
[null,null,null,"Presencia de suelo resbaladizo, irregular o inestable.","NA",{"$f":"IF(E5=\"No\",\"0\",IF(E5=\"NA\",\"0\",\"1\"))","v":"0"},null,null,{"$f":"'TABLA 1 P1'!B12","v":"N°4"},{"$f":"'TABLA 1 P1'!C12","v":"NA"}]
[null,null,null,"Presencia de vías/caminos donde se restringen los movimientos.","NA","0",null,null,null,"Resultado:"]
[null,null,"Característica del carro o transpaleta","El carro o transpaleta reduce la vista del operador y/o dificulta su movimiento.","NA","0",null,null,{"$f":"F21","v":0},{"$f":"IF(F21>=1,\"Crítica\",\"No Crítica\")","v":"No Crítica"}]
[null,null,null,"La carga es inestable.","NA","0",null,null,null,"Por lo que usted:"]
[null,null,null,"El carro o transpaleta tiene condiciones peligrosas (bordes, superficies o protuberancias afiladas, etc) que pueden lesionar al trabajador.","NA","0",null,null,null,{"$f":"IF(J7=\"No Crítica\",\"Ha terminado el Proceso de Identificación para esta Tarea y deberá iniciar el proceso de Evaluación Cuantitativa del riesgo\",\"Ha terminado el Proceso de Identificación para esta Tarea y deberá aplicar medidas para reducir el riesgo\")","v":"Ha terminado el Proceso de Identificación para esta Tarea y deberá iniciar el proceso de Evaluación Cuantitativa del riesgo"}]
[null,null,null,"Presencia de ruedas grandes o pequeñas en mal estado, rotas, desgastadas o con poca mantención.","NA","0"]
[null,null,null,"Presencia de ruedas grandes o pequeñas inadecuadas al tipo de carro, peso de la carga y vías de desplazamiento.","NA","0"]
[null,null,"Horas de Trabajo","La tarea de levantamiento/descenso o transporte de carga dura más de 8 hrs.","NA","0"]
[null,null,"Riesgo","Empueje y Arrastre de Carga","Si / No / NA",null,null,null,null,"Si terminó de responder toda la Tabla 6 Presione Aquí para  regresar a Tabla 1 Información General del Puesto de Trabajo donde podrá continuar con la siguiente Tarea"]
[null,null,"Magnitud de la Fuerza","Método dinamómetro (*):\n1. Fuerza inicial es superior a 36 kgs. (Hombres) o 24 kgs.\n(Mujeres).\n2. Fuerza de sustentación es superior a 25 kgs. (Hombres)\ny 15 kgs. (Mujeres).\nMétodo Escala de Borg: los trabajadores perciben alto nivel de esfuerzo físico (valor 8 o más en escala de Borg) durante la (s) tarea (s) de empuje y arrastre de carga (Para obtener la información debe preguntar a los trabajadores utilizando la escala de Borg al final de este anexo).","NA",{"$f":"IF(E14=\"No\",\"0\",IF(E14=\"NA\",\"0\",\"1\"))","v":"0"}]
[null,null,"Dirección de la Fuerza","Durante el desplazamiento la carga requiere de un levantamiento parcial, mientras se empuja o arrastra.","NA",{"$f":"IF(E15=\"No\",\"0\",IF(E15=\"NA\",\"0\",\"1\"))","v":"0"}]
[null,null,"Esfuerzo Físico","La fuerza de empuje o arrastre es realizada con movimientos bruscos o de manera poco controlada.","NA","0"]
[null,null,"Postura","La fuerza de empuje o arrastre es aplicada con el tronco en flexión o torsión significativa.","NA","0"]
[null,null,"Zona de Agarre","Las manos no están delante del cuerpo o fuera del ancho de los hombros cuando se realiza la fuerza de empuje o arrastre.","NA","0"]
[null,null,"Altura aplicación de la Fuerza","La fuerza de empuje o arrastre es aplicada sobre los 150 cm o bajo los 60 cm.","NA","0"]
[null,null,"Duración","La(s) tarea(s) de empuje y arrastre de carga duran más de 8 hrs. diaria.","NA","0"]
[null,null,null,null,null,{"$f":"F4+F5+F6+F7+F8+F9+F10+F11+F12+F14+F15+F16+F17+F18+F19+F20","v":0}]

{"sheet":"TABLA 6T4P2","index":184,"n_rows":21,"n_cols":10,"rows_kept":21,"cut":false,"hidden":false,"merged":[]}
[]
[null,null,null,"EMPUJE Y ARRASTRE DE CARGA - IDENTIFICACIÓN AVANZADA CONDICIÓN CRÍTICA  \n",null,null,null,null,null,"Cuadro de Resultado Tabla 6"]
[null,null,"Condición","Levantamiento/descenso y transporte manual de carga","Si / No / NA"]
[null,null,"Ambiente de Trabajo","Presencia de temperatura extrema (bajo 16° o superior a los 26° grados Celsius) y sin ropa que proteja de las temperaturas extremas.","NA",{"$f":"IF(E4=\"No\",\"0\",IF(E4=\"NA\",\"0\",\"1\"))","v":"0"},null,null,null,"La Tarea:"]
[null,null,null,"Presencia de suelo resbaladizo, irregular o inestable.","NA",{"$f":"IF(E5=\"No\",\"0\",IF(E5=\"NA\",\"0\",\"1\"))","v":"0"},null,null,{"$f":"'TABLA 1 P2'!B12","v":"N°4"},{"$f":"'TABLA 1 P2'!C12","v":"NA"}]
[null,null,null,"Presencia de vías/caminos donde se restringen los movimientos.","NA","0",null,null,null,"Resultado:"]
[null,null,"Característica del carro o transpaleta","El carro o transpaleta reduce la vista del operador y/o dificulta su movimiento.","NA","0",null,null,{"$f":"F21","v":0},{"$f":"IF(F21>=1,\"Crítica\",\"No Crítica\")","v":"No Crítica"}]
[null,null,null,"La carga es inestable.","NA","0",null,null,null,"Por lo que usted:"]
[null,null,null,"El carro o transpaleta tiene condiciones peligrosas (bordes, superficies o protuberancias afiladas, etc) que pueden lesionar al trabajador.","NA","0",null,null,null,{"$f":"IF(J7=\"No Crítica\",\"Ha terminado el Proceso de Identificación para esta Tarea y deberá iniciar el proceso de Evaluación Cuantitativa del riesgo\",\"Ha terminado el Proceso de Identificación para esta Tarea y deberá aplicar medidas para reducir el riesgo\")","v":"Ha terminado el Proceso de Identificación para esta Tarea y deberá iniciar el proceso de Evaluación Cuantitativa del riesgo"}]
[null,null,null,"Presencia de ruedas grandes o pequeñas en mal estado, rotas, desgastadas o con poca mantención.","NA","0"]
[null,null,null,"Presencia de ruedas grandes o pequeñas inadecuadas al tipo de carro, peso de la carga y vías de desplazamiento.","NA","0"]
[null,null,"Horas de Trabajo","La tarea de levantamiento/descenso o transporte de carga dura más de 8 hrs.","NA","0"]
[null,null,"Riesgo","Empueje y Arrastre de Carga","Si / No / NA",null,null,null,null,"Si terminó de responder toda la Tabla 6 Presione Aquí para  regresar a Tabla 1 Información General del Puesto de Trabajo donde podrá continuar con la siguiente Tarea"]
[null,null,"Magnitud de la Fuerza","Método dinamómetro (*):\n1. Fuerza inicial es superior a 36 kgs. (Hombres) o 24 kgs.\n(Mujeres).\n2. Fuerza de sustentación es superior a 25 kgs. (Hombres)\ny 15 kgs. (Mujeres).\nMétodo Escala de Borg: los trabajadores perciben alto nivel de esfuerzo físico (valor 8 o más en escala de Borg) durante la (s) tarea (s) de empuje y arrastre de carga (Para obtener la información debe preguntar a los trabajadores utilizando la escala de Borg al final de este anexo).","NA",{"$f":"IF(E14=\"No\",\"0\",IF(E14=\"NA\",\"0\",\"1\"))","v":"0"}]
[null,null,"Dirección de la Fuerza","Durante el desplazamiento la carga requiere de un levantamiento parcial, mientras se empuja o arrastra.","NA",{"$f":"IF(E15=\"No\",\"0\",IF(E15=\"NA\",\"0\",\"1\"))","v":"0"}]
[null,null,"Esfuerzo Físico","La fuerza de empuje o arrastre es realizada con movimientos bruscos o de manera poco controlada.","NA","0"]
[null,null,"Postura","La fuerza de empuje o arrastre es aplicada con el tronco en flexión o torsión significativa.","NA","0"]
[null,null,"Zona de Agarre","Las manos no están delante del cuerpo o fuera del ancho de los hombros cuando se realiza la fuerza de empuje o arrastre.","NA","0"]
[null,null,"Altura aplicación de la Fuerza","La fuerza de empuje o arrastre es aplicada sobre los 150 cm o bajo los 60 cm.","NA","0"]
[null,null,"Duración","La(s) tarea(s) de empuje y arrastre de carga duran más de 8 hrs. diaria.","NA","0"]
[null,null,null,null,null,{"$f":"F4+F5+F6+F7+F8+F9+F10+F11+F12+F14+F15+F16+F17+F18+F19+F20","v":0}]

{"sheet":"TABLA 6T4P3","index":185,"n_rows":21,"n_cols":10,"rows_kept":21,"cut":false,"hidden":false,"merged":[]}
[]
[null,null,null,"EMPUJE Y ARRASTRE DE CARGA - IDENTIFICACIÓN AVANZADA CONDICIÓN CRÍTICA  \n",null,null,null,null,null,"Cuadro de Resultado Tabla 6"]
[null,null,"Condición","Levantamiento/descenso y transporte manual de carga","Si / No / NA"]
[null,null,"Ambiente de Trabajo","Presencia de temperatura extrema (bajo 16° o superior a los 26° grados Celsius) y sin ropa que proteja de las temperaturas extremas.","NA",{"$f":"IF(E4=\"No\",\"0\",IF(E4=\"NA\",\"0\",\"1\"))","v":"0"},null,null,null,"La Tarea:"]
[null,null,null,"Presencia de suelo resbaladizo, irregular o inestable.","NA",{"$f":"IF(E5=\"No\",\"0\",IF(E5=\"NA\",\"0\",\"1\"))","v":"0"},null,null,{"$f":"'TABLA 1 P3'!B12","v":"N°4"},{"$f":"'TABLA 1 P3'!C12","v":"NA"}]
[null,null,null,"Presencia de vías/caminos donde se restringen los movimientos.","NA","0",null,null,null,"Resultado:"]
[null,null,"Característica del carro o transpaleta","El carro o transpaleta reduce la vista del operador y/o dificulta su movimiento.","NA","0",null,null,{"$f":"F21","v":0},{"$f":"IF(F21>=1,\"Crítica\",\"No Crítica\")","v":"No Crítica"}]
[null,null,null,"La carga es inestable.","NA","0",null,null,null,"Por lo que usted:"]
[null,null,null,"El carro o transpaleta tiene condiciones peligrosas (bordes, superficies o protuberancias afiladas, etc) que pueden lesionar al trabajador.","NA","0",null,null,null,{"$f":"IF(J7=\"No Crítica\",\"Ha terminado el Proceso de Identificación para esta Tarea y deberá iniciar el proceso de Evaluación Cuantitativa del riesgo\",\"Ha terminado el Proceso de Identificación para esta Tarea y deberá aplicar medidas para reducir el riesgo\")","v":"Ha terminado el Proceso de Identificación para esta Tarea y deberá iniciar el proceso de Evaluación Cuantitativa del riesgo"}]
[null,null,null,"Presencia de ruedas grandes o pequeñas en mal estado, rotas, desgastadas o con poca mantención.","NA","0"]
[null,null,null,"Presencia de ruedas grandes o pequeñas inadecuadas al tipo de carro, peso de la carga y vías de desplazamiento.","NA","0"]
[null,null,"Horas de Trabajo","La tarea de levantamiento/descenso o transporte de carga dura más de 8 hrs.","NA","0"]
[null,null,"Riesgo","Empueje y Arrastre de Carga","Si / No / NA",null,null,null,null,"Si terminó de responder toda la Tabla 6 Presione Aquí para  regresar a Tabla 1 Información General del Puesto de Trabajo donde podrá continuar con la siguiente Tarea"]
[null,null,"Magnitud de la Fuerza","Método dinamómetro (*):\n1. Fuerza inicial es superior a 36 kgs. (Hombres) o 24 kgs.\n(Mujeres).\n2. Fuerza de sustentación es superior a 25 kgs. (Hombres)\ny 15 kgs. (Mujeres).\nMétodo Escala de Borg: los trabajadores perciben alto nivel de esfuerzo físico (valor 8 o más en escala de Borg) durante la (s) tarea (s) de empuje y arrastre de carga (Para obtener la información debe preguntar a los trabajadores utilizando la escala de Borg al final de este anexo).","NA",{"$f":"IF(E14=\"No\",\"0\",IF(E14=\"NA\",\"0\",\"1\"))","v":"0"}]
[null,null,"Dirección de la Fuerza","Durante el desplazamiento la carga requiere de un levantamiento parcial, mientras se empuja o arrastra.","NA",{"$f":"IF(E15=\"No\",\"0\",IF(E15=\"NA\",\"0\",\"1\"))","v":"0"}]
[null,null,"Esfuerzo Físico","La fuerza de empuje o arrastre es realizada con movimientos bruscos o de manera poco controlada.","NA","0"]
[null,null,"Postura","La fuerza de empuje o arrastre es aplicada con el tronco en flexión o torsión significativa.","NA","0"]
[null,null,"Zona de Agarre","Las manos no están delante del cuerpo o fuera del ancho de los hombros cuando se realiza la fuerza de empuje o arrastre.","NA","0"]
[null,null,"Altura aplicación de la Fuerza","La fuerza de empuje o arrastre es aplicada sobre los 150 cm o bajo los 60 cm.","NA","0"]
[null,null,"Duración","La(s) tarea(s) de empuje y arrastre de carga duran más de 8 hrs. diaria.","NA","0"]
[null,null,null,null,null,{"$f":"F4+F5+F6+F7+F8+F9+F10+F11+F12+F14+F15+F16+F17+F18+F19+F20","v":0}]

{"sheet":"TABLA 6T4P4","index":186,"n_rows":21,"n_cols":10,"rows_kept":21,"cut":false,"hidden":false,"merged":[]}
[]
[null,null,null,"EMPUJE Y ARRASTRE DE CARGA - IDENTIFICACIÓN AVANZADA CONDICIÓN CRÍTICA  \n",null,null,null,null,null,"Cuadro de Resultado Tabla 6"]
[null,null,"Condición","Levantamiento/descenso y transporte manual de carga","Si / No / NA"]
[null,null,"Ambiente de Trabajo","Presencia de temperatura extrema (bajo 16° o superior a los 26° grados Celsius) y sin ropa que proteja de las temperaturas extremas.","NA",{"$f":"IF(E4=\"No\",\"0\",IF(E4=\"NA\",\"0\",\"1\"))","v":"0"},null,null,null,"La Tarea:"]
[null,null,null,"Presencia de suelo resbaladizo, irregular o inestable.","NA",{"$f":"IF(E5=\"No\",\"0\",IF(E5=\"NA\",\"0\",\"1\"))","v":"0"},null,null,{"$f":"'TABLA 1 P4'!B12","v":"N°4"},{"$f":"'TABLA 1 P4'!C12","v":"NA"}]
[null,null,null,"Presencia de vías/caminos donde se restringen los movimientos.","NA","0",null,null,null,"Resultado:"]
[null,null,"Característica del carro o transpaleta","El carro o transpaleta reduce la vista del operador y/o dificulta su movimiento.","NA","0",null,null,{"$f":"F21","v":0},{"$f":"IF(F21>=1,\"Crítica\",\"No Crítica\")","v":"No Crítica"}]
[null,null,null,"La carga es inestable.","NA","0",null,null,null,"Por lo que usted:"]
[null,null,null,"El carro o transpaleta tiene condiciones peligrosas (bordes, superficies o protuberancias afiladas, etc) que pueden lesionar al trabajador.","NA","0",null,null,null,{"$f":"IF(J7=\"No Crítica\",\"Ha terminado el Proceso de Identificación para esta Tarea y deberá iniciar el proceso de Evaluación Cuantitativa del riesgo\",\"Ha terminado el Proceso de Identificación para esta Tarea y deberá aplicar medidas para reducir el riesgo\")","v":"Ha terminado el Proceso de Identificación para esta Tarea y deberá iniciar el proceso de Evaluación Cuantitativa del riesgo"}]
[null,null,null,"Presencia de ruedas grandes o pequeñas en mal estado, rotas, desgastadas o con poca mantención.","NA","0"]
[null,null,null,"Presencia de ruedas grandes o pequeñas inadecuadas al tipo de carro, peso de la carga y vías de desplazamiento.","NA","0"]
[null,null,"Horas de Trabajo","La tarea de levantamiento/descenso o transporte de carga dura más de 8 hrs.","NA","0"]
[null,null,"Riesgo","Empueje y Arrastre de Carga","Si / No / NA",null,null,null,null,"Si terminó de responder toda la Tabla 6 Presione Aquí para  regresar a Tabla 1 Información General del Puesto de Trabajo donde podrá continuar con la siguiente Tarea"]
[null,null,"Magnitud de la Fuerza","Método dinamómetro (*):\n1. Fuerza inicial es superior a 36 kgs. (Hombres) o 24 kgs.\n(Mujeres).\n2. Fuerza de sustentación es superior a 25 kgs. (Hombres)\ny 15 kgs. (Mujeres).\nMétodo Escala de Borg: los trabajadores perciben alto nivel de esfuerzo físico (valor 8 o más en escala de Borg) durante la (s) tarea (s) de empuje y arrastre de carga (Para obtener la información debe preguntar a los trabajadores utilizando la escala de Borg al final de este anexo).","NA",{"$f":"IF(E14=\"No\",\"0\",IF(E14=\"NA\",\"0\",\"1\"))","v":"0"}]
[null,null,"Dirección de la Fuerza","Durante el desplazamiento la carga requiere de un levantamiento parcial, mientras se empuja o arrastra.","NA",{"$f":"IF(E15=\"No\",\"0\",IF(E15=\"NA\",\"0\",\"1\"))","v":"0"}]
[null,null,"Esfuerzo Físico","La fuerza de empuje o arrastre es realizada con movimientos bruscos o de manera poco controlada.","NA","0"]
[null,null,"Postura","La fuerza de empuje o arrastre es aplicada con el tronco en flexión o torsión significativa.","NA","0"]
[null,null,"Zona de Agarre","Las manos no están delante del cuerpo o fuera del ancho de los hombros cuando se realiza la fuerza de empuje o arrastre.","NA","0"]
[null,null,"Altura aplicación de la Fuerza","La fuerza de empuje o arrastre es aplicada sobre los 150 cm o bajo los 60 cm.","NA","0"]
[null,null,"Duración","La(s) tarea(s) de empuje y arrastre de carga duran más de 8 hrs. diaria.","NA","0"]
[null,null,null,null,null,{"$f":"F4+F5+F6+F7+F8+F9+F10+F11+F12+F14+F15+F16+F17+F18+F19+F20","v":0}]

{"sheet":"TABLA 6T4P5","index":187,"n_rows":21,"n_cols":10,"rows_kept":21,"cut":false,"hidden":false,"merged":[]}
[]
[null,null,null,"EMPUJE Y ARRASTRE DE CARGA - IDENTIFICACIÓN AVANZADA CONDICIÓN CRÍTICA  \n",null,null,null,null,null,"Cuadro de Resultado Tabla 6"]
[null,null,"Condición","Levantamiento/descenso y transporte manual de carga","Si / No / NA"]
[null,null,"Ambiente de Trabajo","Presencia de temperatura extrema (bajo 16° o superior a los 26° grados Celsius) y sin ropa que proteja de las temperaturas extremas.","NA",{"$f":"IF(E4=\"No\",\"0\",IF(E4=\"NA\",\"0\",\"1\"))","v":"0"},null,null,null,"La Tarea:"]
[null,null,null,"Presencia de suelo resbaladizo, irregular o inestable.","NA",{"$f":"IF(E5=\"No\",\"0\",IF(E5=\"NA\",\"0\",\"1\"))","v":"0"},null,null,{"$f":"'TABLA 1 P5'!B12","v":"N°4"},{"$f":"'TABLA 1 P5'!C12","v":"NA"}]
[null,null,null,"Presencia de vías/caminos donde se restringen los movimientos.","NA","0",null,null,null,"Resultado:"]
[null,null,"Característica del carro o transpaleta","El carro o transpaleta reduce la vista del operador y/o dificulta su movimiento.","NA","0",null,null,{"$f":"F21","v":0},{"$f":"IF(F21>=1,\"Crítica\",\"No Crítica\")","v":"No Crítica"}]
[null,null,null,"La carga es inestable.","NA","0",null,null,null,"Por lo que usted:"]
[null,null,null,"El carro o transpaleta tiene condiciones peligrosas (bordes, superficies o protuberancias afiladas, etc) que pueden lesionar al trabajador.","NA","0",null,null,null,{"$f":"IF(J7=\"No Crítica\",\"Ha terminado el Proceso de Identificación para esta Tarea y deberá iniciar el proceso de Evaluación Cuantitativa del riesgo\",\"Ha terminado el Proceso de Identificación para esta Tarea y deberá aplicar medidas para reducir el riesgo\")","v":"Ha terminado el Proceso de Identificación para esta Tarea y deberá iniciar el proceso de Evaluación Cuantitativa del riesgo"}]
[null,null,null,"Presencia de ruedas grandes o pequeñas en mal estado, rotas, desgastadas o con poca mantención.","NA","0"]
[null,null,null,"Presencia de ruedas grandes o pequeñas inadecuadas al tipo de carro, peso de la carga y vías de desplazamiento.","NA","0"]
[null,null,"Horas de Trabajo","La tarea de levantamiento/descenso o transporte de carga dura más de 8 hrs.","NA","0"]
[null,null,"Riesgo","Empueje y Arrastre de Carga","Si / No / NA",null,null,null,null,"Si terminó de responder toda la Tabla 6 Presione Aquí para  regresar a Tabla 1 Información General del Puesto de Trabajo donde podrá continuar con la siguiente Tarea"]
[null,null,"Magnitud de la Fuerza","Método dinamómetro (*):\n1. Fuerza inicial es superior a 36 kgs. (Hombres) o 24 kgs.\n(Mujeres).\n2. Fuerza de sustentación es superior a 25 kgs. (Hombres)\ny 15 kgs. (Mujeres).\nMétodo Escala de Borg: los trabajadores perciben alto nivel de esfuerzo físico (valor 8 o más en escala de Borg) durante la (s) tarea (s) de empuje y arrastre de carga (Para obtener la información debe preguntar a los trabajadores utilizando la escala de Borg al final de este anexo).","NA",{"$f":"IF(E14=\"No\",\"0\",IF(E14=\"NA\",\"0\",\"1\"))","v":"0"}]
[null,null,"Dirección de la Fuerza","Durante el desplazamiento la carga requiere de un levantamiento parcial, mientras se empuja o arrastra.","NA",{"$f":"IF(E15=\"No\",\"0\",IF(E15=\"NA\",\"0\",\"1\"))","v":"0"}]
[null,null,"Esfuerzo Físico","La fuerza de empuje o arrastre es realizada con movimientos bruscos o de manera poco controlada.","NA","0"]
[null,null,"Postura","La fuerza de empuje o arrastre es aplicada con el tronco en flexión o torsión significativa.","NA","0"]
[null,null,"Zona de Agarre","Las manos no están delante del cuerpo o fuera del ancho de los hombros cuando se realiza la fuerza de empuje o arrastre.","NA","0"]
[null,null,"Altura aplicación de la Fuerza","La fuerza de empuje o arrastre es aplicada sobre los 150 cm o bajo los 60 cm.","NA","0"]
[null,null,"Duración","La(s) tarea(s) de empuje y arrastre de carga duran más de 8 hrs. diaria.","NA","0"]
[null,null,null,null,null,{"$f":"F4+F5+F6+F7+F8+F9+F10+F11+F12+F14+F15+F16+F17+F18+F19+F20","v":0}]

{"sheet":"TABLA 6T4P6","index":188,"n_rows":21,"n_cols":10,"rows_kept":21,"cut":false,"hidden":false,"merged":[]}
[]
[null,null,null,"EMPUJE Y ARRASTRE DE CARGA - IDENTIFICACIÓN AVANZADA CONDICIÓN CRÍTICA  \n",null,null,null,null,null,"Cuadro de Resultado Tabla 6"]
[null,null,"Condición","Levantamiento/descenso y transporte manual de carga","Si / No / NA"]
[null,null,"Ambiente de Trabajo","Presencia de temperatura extrema (bajo 16° o superior a los 26° grados Celsius) y sin ropa que proteja de las temperaturas extremas.","NA",{"$f":"IF(E4=\"No\",\"0\",IF(E4=\"NA\",\"0\",\"1\"))","v":"0"},null,null,null,"La Tarea:"]
[null,null,null,"Presencia de suelo resbaladizo, irregular o inestable.","NA",{"$f":"IF(E5=\"No\",\"0\",IF(E5=\"NA\",\"0\",\"1\"))","v":"0"},null,null,{"$f":"'TABLA 1 P6'!B12","v":"N°4"},{"$f":"'TABLA 1 P6'!C12","v":"NA"}]
[null,null,null,"Presencia de vías/caminos donde se restringen los movimientos.","NA","0",null,null,null,"Resultado:"]
[null,null,"Característica del carro o transpaleta","El carro o transpaleta reduce la vista del operador y/o dificulta su movimiento.","NA","0",null,null,{"$f":"F21","v":0},{"$f":"IF(F21>=1,\"Crítica\",\"No Crítica\")","v":"No Crítica"}]
[null,null,null,"La carga es inestable.","NA","0",null,null,null,"Por lo que usted:"]
[null,null,null,"El carro o transpaleta tiene condiciones peligrosas (bordes, superficies o protuberancias afiladas, etc) que pueden lesionar al trabajador.","NA","0",null,null,null,{"$f":"IF(J7=\"No Crítica\",\"Ha terminado el Proceso de Identificación para esta Tarea y deberá iniciar el proceso de Evaluación Cuantitativa del riesgo\",\"Ha terminado el Proceso de Identificación para esta Tarea y deberá aplicar medidas para reducir el riesgo\")","v":"Ha terminado el Proceso de Identificación para esta Tarea y deberá iniciar el proceso de Evaluación Cuantitativa del riesgo"}]
[null,null,null,"Presencia de ruedas grandes o pequeñas en mal estado, rotas, desgastadas o con poca mantención.","NA","0"]
[null,null,null,"Presencia de ruedas grandes o pequeñas inadecuadas al tipo de carro, peso de la carga y vías de desplazamiento.","NA","0"]
[null,null,"Horas de Trabajo","La tarea de levantamiento/descenso o transporte de carga dura más de 8 hrs.","NA","0"]
[null,null,"Riesgo","Empueje y Arrastre de Carga","Si / No / NA",null,null,null,null,"Si terminó de responder toda la Tabla 6 Presione Aquí para  regresar a Tabla 1 Información General del Puesto de Trabajo donde podrá continuar con la siguiente Tarea"]
[null,null,"Magnitud de la Fuerza","Método dinamómetro (*):\n1. Fuerza inicial es superior a 36 kgs. (Hombres) o 24 kgs.\n(Mujeres).\n2. Fuerza de sustentación es superior a 25 kgs. (Hombres)\ny 15 kgs. (Mujeres).\nMétodo Escala de Borg: los trabajadores perciben alto nivel de esfuerzo físico (valor 8 o más en escala de Borg) durante la (s) tarea (s) de empuje y arrastre de carga (Para obtener la información debe preguntar a los trabajadores utilizando la escala de Borg al final de este anexo).","NA",{"$f":"IF(E14=\"No\",\"0\",IF(E14=\"NA\",\"0\",\"1\"))","v":"0"}]
[null,null,"Dirección de la Fuerza","Durante el desplazamiento la carga requiere de un levantamiento parcial, mientras se empuja o arrastra.","NA",{"$f":"IF(E15=\"No\",\"0\",IF(E15=\"NA\",\"0\",\"1\"))","v":"0"}]
[null,null,"Esfuerzo Físico","La fuerza de empuje o arrastre es realizada con movimientos bruscos o de manera poco controlada.","NA","0"]
[null,null,"Postura","La fuerza de empuje o arrastre es aplicada con el tronco en flexión o torsión significativa.","NA","0"]
[null,null,"Zona de Agarre","Las manos no están delante del cuerpo o fuera del ancho de los hombros cuando se realiza la fuerza de empuje o arrastre.","NA","0"]
[null,null,"Altura aplicación de la Fuerza","La fuerza de empuje o arrastre es aplicada sobre los 150 cm o bajo los 60 cm.","NA","0"]
[null,null,"Duración","La(s) tarea(s) de empuje y arrastre de carga duran más de 8 hrs. diaria.","NA","0"]
[null,null,null,null,null,{"$f":"F4+F5+F6+F7+F8+F9+F10+F11+F12+F14+F15+F16+F17+F18+F19+F20","v":0}]

{"sheet":"TABLA 6T4P7","index":189,"n_rows":21,"n_cols":10,"rows_kept":21,"cut":false,"hidden":false,"merged":[]}
[]
[null,null,null,"EMPUJE Y ARRASTRE DE CARGA - IDENTIFICACIÓN AVANZADA CONDICIÓN CRÍTICA  \n",null,null,null,null,null,"Cuadro de Resultado Tabla 6"]
[null,null,"Condición","Levantamiento/descenso y transporte manual de carga","Si / No / NA"]
[null,null,"Ambiente de Trabajo","Presencia de temperatura extrema (bajo 16° o superior a los 26° grados Celsius) y sin ropa que proteja de las temperaturas extremas.","NA",{"$f":"IF(E4=\"No\",\"0\",IF(E4=\"NA\",\"0\",\"1\"))","v":"0"},null,null,null,"La Tarea:"]
[null,null,null,"Presencia de suelo resbaladizo, irregular o inestable.","NA",{"$f":"IF(E5=\"No\",\"0\",IF(E5=\"NA\",\"0\",\"1\"))","v":"0"},null,null,{"$f":"'TABLA 1 P7'!B12","v":"N°4"},{"$f":"'TABLA 1 P7'!C12","v":"NA"}]
[null,null,null,"Presencia de vías/caminos donde se restringen los movimientos.","NA","0",null,null,null,"Resultado:"]
[null,null,"Característica del carro o transpaleta","El carro o transpaleta reduce la vista del operador y/o dificulta su movimiento.","NA","0",null,null,{"$f":"F21","v":0},{"$f":"IF(F21>=1,\"Crítica\",\"No Crítica\")","v":"No Crítica"}]
[null,null,null,"La carga es inestable.","NA","0",null,null,null,"Por lo que usted:"]
[null,null,null,"El carro o transpaleta tiene condiciones peligrosas (bordes, superficies o protuberancias afiladas, etc) que pueden lesionar al trabajador.","NA","0",null,null,null,{"$f":"IF(J7=\"No Crítica\",\"Ha terminado el Proceso de Identificación para esta Tarea y deberá iniciar el proceso de Evaluación Cuantitativa del riesgo\",\"Ha terminado el Proceso de Identificación para esta Tarea y deberá aplicar medidas para reducir el riesgo\")","v":"Ha terminado el Proceso de Identificación para esta Tarea y deberá iniciar el proceso de Evaluación Cuantitativa del riesgo"}]
[null,null,null,"Presencia de ruedas grandes o pequeñas en mal estado, rotas, desgastadas o con poca mantención.","NA","0"]
[null,null,null,"Presencia de ruedas grandes o pequeñas inadecuadas al tipo de carro, peso de la carga y vías de desplazamiento.","NA","0"]
[null,null,"Horas de Trabajo","La tarea de levantamiento/descenso o transporte de carga dura más de 8 hrs.","NA","0"]
[null,null,"Riesgo","Empueje y Arrastre de Carga","Si / No / NA",null,null,null,null,"Si terminó de responder toda la Tabla 6 Presione Aquí para  regresar a Tabla 1 Información General del Puesto de Trabajo donde podrá continuar con la siguiente Tarea"]
[null,null,"Magnitud de la Fuerza","Método dinamómetro (*):\n1. Fuerza inicial es superior a 36 kgs. (Hombres) o 24 kgs.\n(Mujeres).\n2. Fuerza de sustentación es superior a 25 kgs. (Hombres)\ny 15 kgs. (Mujeres).\nMétodo Escala de Borg: los trabajadores perciben alto nivel de esfuerzo físico (valor 8 o más en escala de Borg) durante la (s) tarea (s) de empuje y arrastre de carga (Para obtener la información debe preguntar a los trabajadores utilizando la escala de Borg al final de este anexo).","NA",{"$f":"IF(E14=\"No\",\"0\",IF(E14=\"NA\",\"0\",\"1\"))","v":"0"}]
[null,null,"Dirección de la Fuerza","Durante el desplazamiento la carga requiere de un levantamiento parcial, mientras se empuja o arrastra.","NA",{"$f":"IF(E15=\"No\",\"0\",IF(E15=\"NA\",\"0\",\"1\"))","v":"0"}]
[null,null,"Esfuerzo Físico","La fuerza de empuje o arrastre es realizada con movimientos bruscos o de manera poco controlada.","NA","0"]
[null,null,"Postura","La fuerza de empuje o arrastre es aplicada con el tronco en flexión o torsión significativa.","NA","0"]
[null,null,"Zona de Agarre","Las manos no están delante del cuerpo o fuera del ancho de los hombros cuando se realiza la fuerza de empuje o arrastre.","NA","0"]
[null,null,"Altura aplicación de la Fuerza","La fuerza de empuje o arrastre es aplicada sobre los 150 cm o bajo los 60 cm.","NA","0"]
[null,null,"Duración","La(s) tarea(s) de empuje y arrastre de carga duran más de 8 hrs. diaria.","NA","0"]
[null,null,null,null,null,{"$f":"F4+F5+F6+F7+F8+F9+F10+F11+F12+F14+F15+F16+F17+F18+F19+F20","v":0}]

{"sheet":"TABLA 6T4P8","index":190,"n_rows":21,"n_cols":10,"rows_kept":21,"cut":false,"hidden":false,"merged":[]}
[]
[null,null,null,"EMPUJE Y ARRASTRE DE CARGA - IDENTIFICACIÓN AVANZADA CONDICIÓN CRÍTICA  \n",null,null,null,null,null,"Cuadro de Resultado Tabla 6"]
[null,null,"Condición","Levantamiento/descenso y transporte manual de carga","Si / No / NA"]
[null,null,"Ambiente de Trabajo","Presencia de temperatura extrema (bajo 16° o superior a los 26° grados Celsius) y sin ropa que proteja de las temperaturas extremas.","NA",{"$f":"IF(E4=\"No\",\"0\",IF(E4=\"NA\",\"0\",\"1\"))","v":"0"},null,null,null,"La Tarea:"]
[null,null,null,"Presencia de suelo resbaladizo, irregular o inestable.","NA",{"$f":"IF(E5=\"No\",\"0\",IF(E5=\"NA\",\"0\",\"1\"))","v":"0"},null,null,{"$f":"'TABLA 1 P8'!B12","v":"N°4"},{"$f":"'TABLA 1 P8'!C12","v":"NA"}]
[null,null,null,"Presencia de vías/caminos donde se restringen los movimientos.","NA","0",null,null,null,"Resultado:"]
[null,null,"Característica del carro o transpaleta","El carro o transpaleta reduce la vista del operador y/o dificulta su movimiento.","NA","0",null,null,{"$f":"F21","v":0},{"$f":"IF(F21>=1,\"Crítica\",\"No Crítica\")","v":"No Crítica"}]
[null,null,null,"La carga es inestable.","NA","0",null,null,null,"Por lo que usted:"]
[null,null,null,"El carro o transpaleta tiene condiciones peligrosas (bordes, superficies o protuberancias afiladas, etc) que pueden lesionar al trabajador.","NA","0",null,null,null,{"$f":"IF(J7=\"No Crítica\",\"Ha terminado el Proceso de Identificación para esta Tarea y deberá iniciar el proceso de Evaluación Cuantitativa del riesgo\",\"Ha terminado el Proceso de Identificación para esta Tarea y deberá aplicar medidas para reducir el riesgo\")","v":"Ha terminado el Proceso de Identificación para esta Tarea y deberá iniciar el proceso de Evaluación Cuantitativa del riesgo"}]
[null,null,null,"Presencia de ruedas grandes o pequeñas en mal estado, rotas, desgastadas o con poca mantención.","NA","0"]
[null,null,null,"Presencia de ruedas grandes o pequeñas inadecuadas al tipo de carro, peso de la carga y vías de desplazamiento.","NA","0"]
[null,null,"Horas de Trabajo","La tarea de levantamiento/descenso o transporte de carga dura más de 8 hrs.","NA","0"]
[null,null,"Riesgo","Empueje y Arrastre de Carga","Si / No / NA",null,null,null,null,"Si terminó de responder toda la Tabla 6 Presione Aquí para  regresar a Tabla 1 Información General del Puesto de Trabajo donde podrá continuar con la siguiente Tarea"]
[null,null,"Magnitud de la Fuerza","Método dinamómetro (*):\n1. Fuerza inicial es superior a 36 kgs. (Hombres) o 24 kgs.\n(Mujeres).\n2. Fuerza de sustentación es superior a 25 kgs. (Hombres)\ny 15 kgs. (Mujeres).\nMétodo Escala de Borg: los trabajadores perciben alto nivel de esfuerzo físico (valor 8 o más en escala de Borg) durante la (s) tarea (s) de empuje y arrastre de carga (Para obtener la información debe preguntar a los trabajadores utilizando la escala de Borg al final de este anexo).","NA",{"$f":"IF(E14=\"No\",\"0\",IF(E14=\"NA\",\"0\",\"1\"))","v":"0"}]
[null,null,"Dirección de la Fuerza","Durante el desplazamiento la carga requiere de un levantamiento parcial, mientras se empuja o arrastra.","NA",{"$f":"IF(E15=\"No\",\"0\",IF(E15=\"NA\",\"0\",\"1\"))","v":"0"}]
[null,null,"Esfuerzo Físico","La fuerza de empuje o arrastre es realizada con movimientos bruscos o de manera poco controlada.","NA","0"]
[null,null,"Postura","La fuerza de empuje o arrastre es aplicada con el tronco en flexión o torsión significativa.","NA","0"]
[null,null,"Zona de Agarre","Las manos no están delante del cuerpo o fuera del ancho de los hombros cuando se realiza la fuerza de empuje o arrastre.","NA","0"]
[null,null,"Altura aplicación de la Fuerza","La fuerza de empuje o arrastre es aplicada sobre los 150 cm o bajo los 60 cm.","NA","0"]
[null,null,"Duración","La(s) tarea(s) de empuje y arrastre de carga duran más de 8 hrs. diaria.","NA","0"]
[null,null,null,null,null,{"$f":"F4+F5+F6+F7+F8+F9+F10+F11+F12+F14+F15+F16+F17+F18+F19+F20","v":0}]

{"sheet":"TABLA 6T4P9","index":191,"n_rows":21,"n_cols":10,"rows_kept":21,"cut":false,"hidden":false,"merged":[]}
[]
[null,null,null,"EMPUJE Y ARRASTRE DE CARGA - IDENTIFICACIÓN AVANZADA CONDICIÓN CRÍTICA  \n",null,null,null,null,null,"Cuadro de Resultado Tabla 6"]
[null,null,"Condición","Levantamiento/descenso y transporte manual de carga","Si / No / NA"]
[null,null,"Ambiente de Trabajo","Presencia de temperatura extrema (bajo 16° o superior a los 26° grados Celsius) y sin ropa que proteja de las temperaturas extremas.","NA",{"$f":"IF(E4=\"No\",\"0\",IF(E4=\"NA\",\"0\",\"1\"))","v":"0"},null,null,null,"La Tarea:"]
[null,null,null,"Presencia de suelo resbaladizo, irregular o inestable.","NA",{"$f":"IF(E5=\"No\",\"0\",IF(E5=\"NA\",\"0\",\"1\"))","v":"0"},null,null,{"$f":"'TABLA 1 P9'!B12","v":"N°4"},{"$f":"'TABLA 1 P9'!C12","v":"NA"}]
[null,null,null,"Presencia de vías/caminos donde se restringen los movimientos.","NA","0",null,null,null,"Resultado:"]
[null,null,"Característica del carro o transpaleta","El carro o transpaleta reduce la vista del operador y/o dificulta su movimiento.","NA","0",null,null,{"$f":"F21","v":0},{"$f":"IF(F21>=1,\"Crítica\",\"No Crítica\")","v":"No Crítica"}]
[null,null,null,"La carga es inestable.","NA","0",null,null,null,"Por lo que usted:"]
[null,null,null,"El carro o transpaleta tiene condiciones peligrosas (bordes, superficies o protuberancias afiladas, etc) que pueden lesionar al trabajador.","NA","0",null,null,null,{"$f":"IF(J7=\"No Crítica\",\"Ha terminado el Proceso de Identificación para esta Tarea y deberá iniciar el proceso de Evaluación Cuantitativa del riesgo\",\"Ha terminado el Proceso de Identificación para esta Tarea y deberá aplicar medidas para reducir el riesgo\")","v":"Ha terminado el Proceso de Identificación para esta Tarea y deberá iniciar el proceso de Evaluación Cuantitativa del riesgo"}]
[null,null,null,"Presencia de ruedas grandes o pequeñas en mal estado, rotas, desgastadas o con poca mantención.","NA","0"]
[null,null,null,"Presencia de ruedas grandes o pequeñas inadecuadas al tipo de carro, peso de la carga y vías de desplazamiento.","NA","0"]
[null,null,"Horas de Trabajo","La tarea de levantamiento/descenso o transporte de carga dura más de 8 hrs.","NA","0"]
[null,null,"Riesgo","Empueje y Arrastre de Carga","Si / No / NA",null,null,null,null,"Si terminó de responder toda la Tabla 6 Presione Aquí para  regresar a Tabla 1 Información General del Puesto de Trabajo donde podrá continuar con la siguiente Tarea"]
[null,null,"Magnitud de la Fuerza","Método dinamómetro (*):\n1. Fuerza inicial es superior a 36 kgs. (Hombres) o 24 kgs.\n(Mujeres).\n2. Fuerza de sustentación es superior a 25 kgs. (Hombres)\ny 15 kgs. (Mujeres).\nMétodo Escala de Borg: los trabajadores perciben alto nivel de esfuerzo físico (valor 8 o más en escala de Borg) durante la (s) tarea (s) de empuje y arrastre de carga (Para obtener la información debe preguntar a los trabajadores utilizando la escala de Borg al final de este anexo).","NA",{"$f":"IF(E14=\"No\",\"0\",IF(E14=\"NA\",\"0\",\"1\"))","v":"0"}]
[null,null,"Dirección de la Fuerza","Durante el desplazamiento la carga requiere de un levantamiento parcial, mientras se empuja o arrastra.","NA",{"$f":"IF(E15=\"No\",\"0\",IF(E15=\"NA\",\"0\",\"1\"))","v":"0"}]
[null,null,"Esfuerzo Físico","La fuerza de empuje o arrastre es realizada con movimientos bruscos o de manera poco controlada.","NA","0"]
[null,null,"Postura","La fuerza de empuje o arrastre es aplicada con el tronco en flexión o torsión significativa.","NA","0"]
[null,null,"Zona de Agarre","Las manos no están delante del cuerpo o fuera del ancho de los hombros cuando se realiza la fuerza de empuje o arrastre.","NA","0"]
[null,null,"Altura aplicación de la Fuerza","La fuerza de empuje o arrastre es aplicada sobre los 150 cm o bajo los 60 cm.","NA","0"]
[null,null,"Duración","La(s) tarea(s) de empuje y arrastre de carga duran más de 8 hrs. diaria.","NA","0"]
[null,null,null,null,null,{"$f":"F4+F5+F6+F7+F8+F9+F10+F11+F12+F14+F15+F16+F17+F18+F19+F20","v":0}]

{"sheet":"TABLA 6T4P10","index":192,"n_rows":21,"n_cols":10,"rows_kept":21,"cut":false,"hidden":false,"merged":[]}
[]
[null,null,null,"EMPUJE Y ARRASTRE DE CARGA - IDENTIFICACIÓN AVANZADA CONDICIÓN CRÍTICA  \n",null,null,null,null,null,"Cuadro de Resultado Tabla 6"]
[null,null,"Condición","Levantamiento/descenso y transporte manual de carga","Si / No / NA"]
[null,null,"Ambiente de Trabajo","Presencia de temperatura extrema (bajo 16° o superior a los 26° grados Celsius) y sin ropa que proteja de las temperaturas extremas.","NA",{"$f":"IF(E4=\"No\",\"0\",IF(E4=\"NA\",\"0\",\"1\"))","v":"0"},null,null,null,"La Tarea:"]
[null,null,null,"Presencia de suelo resbaladizo, irregular o inestable.","NA",{"$f":"IF(E5=\"No\",\"0\",IF(E5=\"NA\",\"0\",\"1\"))","v":"0"},null,null,{"$f":"'TABLA 1 P10'!B12","v":"N°4"},{"$f":"'TABLA 1 P10'!C12","v":"NA"}]
[null,null,null,"Presencia de vías/caminos donde se restringen los movimientos.","NA","0",null,null,null,"Resultado:"]
[null,null,"Característica del carro o transpaleta","El carro o transpaleta reduce la vista del operador y/o dificulta su movimiento.","NA","0",null,null,{"$f":"F21","v":0},{"$f":"IF(F21>=1,\"Crítica\",\"No Crítica\")","v":"No Crítica"}]
[null,null,null,"La carga es inestable.","NA","0",null,null,null,"Por lo que usted:"]
[null,null,null,"El carro o transpaleta tiene condiciones peligrosas (bordes, superficies o protuberancias afiladas, etc) que pueden lesionar al trabajador.","NA","0",null,null,null,{"$f":"IF(J7=\"No Crítica\",\"Ha terminado el Proceso de Identificación para esta Tarea y deberá iniciar el proceso de Evaluación Cuantitativa del riesgo\",\"Ha terminado el Proceso de Identificación para esta Tarea y deberá aplicar medidas para reducir el riesgo\")","v":"Ha terminado el Proceso de Identificación para esta Tarea y deberá iniciar el proceso de Evaluación Cuantitativa del riesgo"}]
[null,null,null,"Presencia de ruedas grandes o pequeñas en mal estado, rotas, desgastadas o con poca mantención.","NA","0"]
[null,null,null,"Presencia de ruedas grandes o pequeñas inadecuadas al tipo de carro, peso de la carga y vías de desplazamiento.","NA","0"]
[null,null,"Horas de Trabajo","La tarea de levantamiento/descenso o transporte de carga dura más de 8 hrs.","NA","0"]
[null,null,"Riesgo","Empueje y Arrastre de Carga","Si / No / NA",null,null,null,null,"Si terminó de responder toda la Tabla 6 Presione Aquí para  regresar a Tabla 1 Información General del Puesto de Trabajo donde podrá continuar con la siguiente Tarea"]
[null,null,"Magnitud de la Fuerza","Método dinamómetro (*):\n1. Fuerza inicial es superior a 36 kgs. (Hombres) o 24 kgs.\n(Mujeres).\n2. Fuerza de sustentación es superior a 25 kgs. (Hombres)\ny 15 kgs. (Mujeres).\nMétodo Escala de Borg: los trabajadores perciben alto nivel de esfuerzo físico (valor 8 o más en escala de Borg) durante la (s) tarea (s) de empuje y arrastre de carga (Para obtener la información debe preguntar a los trabajadores utilizando la escala de Borg al final de este anexo).","NA",{"$f":"IF(E14=\"No\",\"0\",IF(E14=\"NA\",\"0\",\"1\"))","v":"0"}]
[null,null,"Dirección de la Fuerza","Durante el desplazamiento la carga requiere de un levantamiento parcial, mientras se empuja o arrastra.","NA",{"$f":"IF(E15=\"No\",\"0\",IF(E15=\"NA\",\"0\",\"1\"))","v":"0"}]
[null,null,"Esfuerzo Físico","La fuerza de empuje o arrastre es realizada con movimientos bruscos o de manera poco controlada.","NA","0"]
[null,null,"Postura","La fuerza de empuje o arrastre es aplicada con el tronco en flexión o torsión significativa.","NA","0"]
[null,null,"Zona de Agarre","Las manos no están delante del cuerpo o fuera del ancho de los hombros cuando se realiza la fuerza de empuje o arrastre.","NA","0"]
[null,null,"Altura aplicación de la Fuerza","La fuerza de empuje o arrastre es aplicada sobre los 150 cm o bajo los 60 cm.","NA","0"]
[null,null,"Duración","La(s) tarea(s) de empuje y arrastre de carga duran más de 8 hrs. diaria.","NA","0"]
[null,null,null,null,null,{"$f":"F4+F5+F6+F7+F8+F9+F10+F11+F12+F14+F15+F16+F17+F18+F19+F20","v":0}]

{"sheet":"TABLA 5T5P1","index":193,"n_rows":23,"n_cols":11,"rows_kept":23,"cut":false,"hidden":false,"merged":[]}
[]
[null,null,null,"EMPUJE Y ARRASTRE DE CARGA - IDENTIFICACIÓN AVANZADA  CONDICIÓN ACEPTABLE  ",null,null,null,null,null,"Cuadro de Resultado Tabla 5"]
[null,null,"Condición","Empueje y Arrastre de Carga","Si / No / NA"]
[null,null,"Ambiente de Trabajo","La temperatura en donde se realiza la tarea es entre los 18° y 26° (grados Celsius).","NA",{"$f":"IF(E4=\"SI\",\"0\",IF(E4=\"NA\",\"0\",\"1\"))","v":"0"},null,null,null,"La Tarea:"]
[null,null,null,"El piso se encuentra en buenas condiciones (regular, compacto, seco y estable) y sin pendiente.","NA",{"$f":"IF(E5=\"SI\",\"0\",IF(E5=\"NA\",\"0\",\"1\"))","v":"0"},null,null,{"$f":"'TABLA 1 P1'!B14","v":"N°5"},{"$f":"'TABLA 1 P1'!C14","v":"NA"}]
[null,null,null,"Presencia de vías/caminos donde se permite el normal desplazamiento (espacio suficiente para el desplazamiento).","NA","0",null,null,null,"Resultado:"]
[null,null,null,"El carro o transpaleta permite la visibilidad y movimientos normales del trabajador.","NA","0",null,null,{"$f":"F18","v":0},{"$f":"IF(F18>=1,\"No es Aceptable\",\"Aceptable\")","v":"Aceptable"}]
[null,null,null,"El centro de gravedad de la carga es estable.","NA","0",null,null,null,"Por lo que usted:"]
[null,null,"Característica del carro o transpaleta","La carro o transpaleta permite su agarre sin riesgo de cortes, compresión o quemaduras.","NA","0",null,null,null,{"$f":"IF(J7=\"Aceptable\",\"Ha Terminado el Proceso de Identificación para esta Tarea\",\"Debe Aplicar Tabla 6\")","v":"Ha Terminado el Proceso de Identificación para esta Tarea"},{"$f":"F18","v":0}]
[null,null,null,"Presencia de ruedas grandes o pequeñas en buen estado.","NA","0"]
[null,null,null,"Presencia de ruedas grandes o pequeñas adecuadas al tipo de carro, peso de la carga y vías de desplazamiento.","NA","0",null,null,null,{"$f":"IF(J7=\"Aceptable\",\"Si terminó de responder toda la Tabla 5 Presione Aquí para  regresar a Tabla 1 Información General del Puesto de Trabajo donde podrá continuar con la siguiente Tarea\",\"\")","v":"Si terminó de responder toda la Tabla 5 Presione Aquí para  regresar a Tabla 1 Información General del Puesto de Trabajo donde podrá continuar con la siguiente Tarea"},{"$f":"F18","v":0}]
[null,null,"Riesgo","Empueje y Arrastre de Carga","Si / No / NA"]
[null,null,"Magnitud de la Fuerza","Método dinamómetro (*): la fuerza inicial no supera los 10 kgs de fuerza y la fuerza de sustentación no supera los 5 kgs de fuerza.\nMétodo Escala de Borg: los trabajadores perciben leve esfuerzo físico (valor 2 o menos en escala de Borg) durante la tarea (s) de empuje y arrastre de carga (Para obtener la información debe preguntar a los trabajadores utilizando la escala de Borg (Anexo 3).","NA","0",null,null,null,null,{"$f":"F18","v":0}]
[null,null,"Duración","La(s) tarea(s) de empuje y arrastre de carga duran hasta 8 hrs. diaria.","NA","0"]
[null,null,"Altura aplicación de la Fuerza","La fuerza se realiza entre las caderas y la zona media del tronco.","NA","0",null,null,null,null,{"$f":"F18","v":0}]
[null,null,"Postura","La fuerza de empuje o arrastre es aplicada con el tronco recto (sin flexión o torsión).","NA","0"]
[null,null,"Zona de agarre","Las manos están delante del cuerpo y entre los hombros cuando se realiza la fuerza de empuje o arrastre.","NA","0"]
[null,null,null,null,null,{"$f":"F4+F5+F6+F7+F8+F9+F10+F11+F13+F14+F15+F16+F17","v":0},null,null,null,null,{"$f":"F18","v":0}]
[]
[]
[]
[]
[null,null,null,null,null,null,null,null,null,"Presione solo si al completar Tabla 5  se lo indica el Cuadro de Resultado",{"$f":"F18","v":0}]

{"sheet":"TABLA 5T5P2","index":194,"n_rows":23,"n_cols":11,"rows_kept":23,"cut":false,"hidden":false,"merged":[]}
[]
[null,null,null,"EMPUJE Y ARRASTRE DE CARGA - IDENTIFICACIÓN AVANZADA  CONDICIÓN ACEPTABLE  ",null,null,null,null,null,"Cuadro de Resultado Tabla 5"]
[null,null,"Condición","Empueje y Arrastre de Carga","Si / No / NA"]
[null,null,"Ambiente de Trabajo","La temperatura en donde se realiza la tarea es entre los 18° y 26° (grados Celsius).","NA",{"$f":"IF(E4=\"SI\",\"0\",IF(E4=\"NA\",\"0\",\"1\"))","v":"0"},null,null,null,"La Tarea:"]
[null,null,null,"El piso se encuentra en buenas condiciones (regular, compacto, seco y estable) y sin pendiente.","NA",{"$f":"IF(E5=\"SI\",\"0\",IF(E5=\"NA\",\"0\",\"1\"))","v":"0"},null,null,{"$f":"'TABLA 1 P2'!B14","v":"N°5"},{"$f":"'TABLA 1 P2'!C14","v":"NA"}]
[null,null,null,"Presencia de vías/caminos donde se permite el normal desplazamiento (espacio suficiente para el desplazamiento).","NA","0",null,null,null,"Resultado:"]
[null,null,null,"El carro o transpaleta permite la visibilidad y movimientos normales del trabajador.","NA","0",null,null,{"$f":"F18","v":0},{"$f":"IF(F18>=1,\"No es Aceptable\",\"Aceptable\")","v":"Aceptable"}]
[null,null,null,"El centro de gravedad de la carga es estable.","NA","0",null,null,null,"Por lo que usted:"]
[null,null,"Característica del carro o transpaleta","La carro o transpaleta permite su agarre sin riesgo de cortes, compresión o quemaduras.","NA","0",null,null,null,{"$f":"IF(J7=\"Aceptable\",\"Ha Terminado el Proceso de Identificación para esta Tarea\",\"Debe Aplicar Tabla 6\")","v":"Ha Terminado el Proceso de Identificación para esta Tarea"},{"$f":"F18","v":0}]
[null,null,null,"Presencia de ruedas grandes o pequeñas en buen estado.","NA","0"]
[null,null,null,"Presencia de ruedas grandes o pequeñas adecuadas al tipo de carro, peso de la carga y vías de desplazamiento.","NA","0",null,null,null,{"$f":"IF(J7=\"Aceptable\",\"Si terminó de responder toda la Tabla 5 Presione Aquí para  regresar a Tabla 1 Información General del Puesto de Trabajo donde podrá continuar con la siguiente Tarea\",\"\")","v":"Si terminó de responder toda la Tabla 5 Presione Aquí para  regresar a Tabla 1 Información General del Puesto de Trabajo donde podrá continuar con la siguiente Tarea"},{"$f":"F18","v":0}]
[null,null,"Riesgo","Empueje y Arrastre de Carga","Si / No / NA"]
[null,null,"Magnitud de la Fuerza","Método dinamómetro (*): la fuerza inicial no supera los 10 kgs de fuerza y la fuerza de sustentación no supera los 5 kgs de fuerza.\nMétodo Escala de Borg: los trabajadores perciben leve esfuerzo físico (valor 2 o menos en escala de Borg) durante la tarea (s) de empuje y arrastre de carga (Para obtener la información debe preguntar a los trabajadores utilizando la escala de Borg (Anexo 3).","NA","0",null,null,null,null,{"$f":"F18","v":0}]
[null,null,"Duración","La(s) tarea(s) de empuje y arrastre de carga duran hasta 8 hrs. diaria.","NA","0"]
[null,null,"Altura aplicación de la Fuerza","La fuerza se realiza entre las caderas y la zona media del tronco.","NA","0",null,null,null,null,{"$f":"F18","v":0}]
[null,null,"Postura","La fuerza de empuje o arrastre es aplicada con el tronco recto (sin flexión o torsión).","NA","0"]
[null,null,"Zona de agarre","Las manos están delante del cuerpo y entre los hombros cuando se realiza la fuerza de empuje o arrastre.","NA","0"]
[null,null,null,null,null,{"$f":"F4+F5+F6+F7+F8+F9+F10+F11+F13+F14+F15+F16+F17","v":0},null,null,null,null,{"$f":"F18","v":0}]
[]
[]
[]
[]
[null,null,null,null,null,null,null,null,null,"Presione solo si al completar Tabla 5  se lo indica el Cuadro de Resultado",{"$f":"F18","v":0}]

{"sheet":"TABLA 5T5P3","index":195,"n_rows":23,"n_cols":11,"rows_kept":23,"cut":false,"hidden":false,"merged":[]}
[]
[null,null,null,"EMPUJE Y ARRASTRE DE CARGA - IDENTIFICACIÓN AVANZADA  CONDICIÓN ACEPTABLE  ",null,null,null,null,null,"Cuadro de Resultado Tabla 5"]
[null,null,"Condición","Empueje y Arrastre de Carga","Si / No / NA"]
[null,null,"Ambiente de Trabajo","La temperatura en donde se realiza la tarea es entre los 18° y 26° (grados Celsius).","NA",{"$f":"IF(E4=\"SI\",\"0\",IF(E4=\"NA\",\"0\",\"1\"))","v":"0"},null,null,null,"La Tarea:"]
[null,null,null,"El piso se encuentra en buenas condiciones (regular, compacto, seco y estable) y sin pendiente.","NA",{"$f":"IF(E5=\"SI\",\"0\",IF(E5=\"NA\",\"0\",\"1\"))","v":"0"},null,null,{"$f":"'TABLA 1 P3'!B14","v":"N°5"},{"$f":"'TABLA 1 P3'!C14","v":"NA"}]
[null,null,null,"Presencia de vías/caminos donde se permite el normal desplazamiento (espacio suficiente para el desplazamiento).","NA","0",null,null,null,"Resultado:"]
[null,null,null,"El carro o transpaleta permite la visibilidad y movimientos normales del trabajador.","NA","0",null,null,{"$f":"F18","v":0},{"$f":"IF(F18>=1,\"No es Aceptable\",\"Aceptable\")","v":"Aceptable"}]
[null,null,null,"El centro de gravedad de la carga es estable.","NA","0",null,null,null,"Por lo que usted:"]
[null,null,"Característica del carro o transpaleta","La carro o transpaleta permite su agarre sin riesgo de cortes, compresión o quemaduras.","NA","0",null,null,null,{"$f":"IF(J7=\"Aceptable\",\"Ha Terminado el Proceso de Identificación para esta Tarea\",\"Debe Aplicar Tabla 6\")","v":"Ha Terminado el Proceso de Identificación para esta Tarea"},{"$f":"F18","v":0}]
[null,null,null,"Presencia de ruedas grandes o pequeñas en buen estado.","NA","0"]
[null,null,null,"Presencia de ruedas grandes o pequeñas adecuadas al tipo de carro, peso de la carga y vías de desplazamiento.","NA","0",null,null,null,{"$f":"IF(J7=\"Aceptable\",\"Si terminó de responder toda la Tabla 5 Presione Aquí para  regresar a Tabla 1 Información General del Puesto de Trabajo donde podrá continuar con la siguiente Tarea\",\"\")","v":"Si terminó de responder toda la Tabla 5 Presione Aquí para  regresar a Tabla 1 Información General del Puesto de Trabajo donde podrá continuar con la siguiente Tarea"},{"$f":"F18","v":0}]
[null,null,"Riesgo","Empueje y Arrastre de Carga","Si / No / NA"]
[null,null,"Magnitud de la Fuerza","Método dinamómetro (*): la fuerza inicial no supera los 10 kgs de fuerza y la fuerza de sustentación no supera los 5 kgs de fuerza.\nMétodo Escala de Borg: los trabajadores perciben leve esfuerzo físico (valor 2 o menos en escala de Borg) durante la tarea (s) de empuje y arrastre de carga (Para obtener la información debe preguntar a los trabajadores utilizando la escala de Borg (Anexo 3).","NA","0",null,null,null,null,{"$f":"F18","v":0}]
[null,null,"Duración","La(s) tarea(s) de empuje y arrastre de carga duran hasta 8 hrs. diaria.","NA","0"]
[null,null,"Altura aplicación de la Fuerza","La fuerza se realiza entre las caderas y la zona media del tronco.","NA","0",null,null,null,null,{"$f":"F18","v":0}]
[null,null,"Postura","La fuerza de empuje o arrastre es aplicada con el tronco recto (sin flexión o torsión).","NA","0"]
[null,null,"Zona de agarre","Las manos están delante del cuerpo y entre los hombros cuando se realiza la fuerza de empuje o arrastre.","NA","0"]
[null,null,null,null,null,{"$f":"F4+F5+F6+F7+F8+F9+F10+F11+F13+F14+F15+F16+F17","v":0},null,null,null,null,{"$f":"F18","v":0}]
[]
[]
[]
[]
[null,null,null,null,null,null,null,null,null,"Presione solo si al completar Tabla 5  se lo indica el Cuadro de Resultado",{"$f":"F18","v":0}]

{"sheet":"TABLA 5T5P4","index":196,"n_rows":23,"n_cols":11,"rows_kept":23,"cut":false,"hidden":false,"merged":[]}
[]
[null,null,null,"EMPUJE Y ARRASTRE DE CARGA - IDENTIFICACIÓN AVANZADA  CONDICIÓN ACEPTABLE  ",null,null,null,null,null,"Cuadro de Resultado Tabla 5"]
[null,null,"Condición","Empueje y Arrastre de Carga","Si / No / NA"]
[null,null,"Ambiente de Trabajo","La temperatura en donde se realiza la tarea es entre los 18° y 26° (grados Celsius).","NA",{"$f":"IF(E4=\"SI\",\"0\",IF(E4=\"NA\",\"0\",\"1\"))","v":"0"},null,null,null,"La Tarea:"]
[null,null,null,"El piso se encuentra en buenas condiciones (regular, compacto, seco y estable) y sin pendiente.","NA",{"$f":"IF(E5=\"SI\",\"0\",IF(E5=\"NA\",\"0\",\"1\"))","v":"0"},null,null,{"$f":"'TABLA 1 P4'!B14","v":"N°5"},{"$f":"'TABLA 1 P4'!C14","v":"NA"}]
[null,null,null,"Presencia de vías/caminos donde se permite el normal desplazamiento (espacio suficiente para el desplazamiento).","NA","0",null,null,null,"Resultado:"]
[null,null,null,"El carro o transpaleta permite la visibilidad y movimientos normales del trabajador.","NA","0",null,null,{"$f":"F18","v":0},{"$f":"IF(F18>=1,\"No es Aceptable\",\"Aceptable\")","v":"Aceptable"}]
[null,null,null,"El centro de gravedad de la carga es estable.","NA","0",null,null,null,"Por lo que usted:"]
[null,null,"Característica del carro o transpaleta","La carro o transpaleta permite su agarre sin riesgo de cortes, compresión o quemaduras.","NA","0",null,null,null,{"$f":"IF(J7=\"Aceptable\",\"Ha Terminado el Proceso de Identificación para esta Tarea\",\"Debe Aplicar Tabla 6\")","v":"Ha Terminado el Proceso de Identificación para esta Tarea"},{"$f":"F18","v":0}]
[null,null,null,"Presencia de ruedas grandes o pequeñas en buen estado.","NA","0"]
[null,null,null,"Presencia de ruedas grandes o pequeñas adecuadas al tipo de carro, peso de la carga y vías de desplazamiento.","NA","0",null,null,null,{"$f":"IF(J7=\"Aceptable\",\"Si terminó de responder toda la Tabla 5 Presione Aquí para  regresar a Tabla 1 Información General del Puesto de Trabajo donde podrá continuar con la siguiente Tarea\",\"\")","v":"Si terminó de responder toda la Tabla 5 Presione Aquí para  regresar a Tabla 1 Información General del Puesto de Trabajo donde podrá continuar con la siguiente Tarea"},{"$f":"F18","v":0}]
[null,null,"Riesgo","Empueje y Arrastre de Carga","Si / No / NA"]
[null,null,"Magnitud de la Fuerza","Método dinamómetro (*): la fuerza inicial no supera los 10 kgs de fuerza y la fuerza de sustentación no supera los 5 kgs de fuerza.\nMétodo Escala de Borg: los trabajadores perciben leve esfuerzo físico (valor 2 o menos en escala de Borg) durante la tarea (s) de empuje y arrastre de carga (Para obtener la información debe preguntar a los trabajadores utilizando la escala de Borg (Anexo 3).","NA","0",null,null,null,null,{"$f":"F18","v":0}]
[null,null,"Duración","La(s) tarea(s) de empuje y arrastre de carga duran hasta 8 hrs. diaria.","NA","0"]
[null,null,"Altura aplicación de la Fuerza","La fuerza se realiza entre las caderas y la zona media del tronco.","NA","0",null,null,null,null,{"$f":"F18","v":0}]
[null,null,"Postura","La fuerza de empuje o arrastre es aplicada con el tronco recto (sin flexión o torsión).","NA","0"]
[null,null,"Zona de agarre","Las manos están delante del cuerpo y entre los hombros cuando se realiza la fuerza de empuje o arrastre.","NA","0"]
[null,null,null,null,null,{"$f":"F4+F5+F6+F7+F8+F9+F10+F11+F13+F14+F15+F16+F17","v":0},null,null,null,null,{"$f":"F18","v":0}]
[]
[]
[]
[]
[null,null,null,null,null,null,null,null,null,"Presione solo si al completar Tabla 5  se lo indica el Cuadro de Resultado",{"$f":"F18","v":0}]

{"sheet":"TABLA 5T5P5","index":197,"n_rows":23,"n_cols":11,"rows_kept":23,"cut":false,"hidden":false,"merged":[]}
[]
[null,null,null,"EMPUJE Y ARRASTRE DE CARGA - IDENTIFICACIÓN AVANZADA  CONDICIÓN ACEPTABLE  ",null,null,null,null,null,"Cuadro de Resultado Tabla 5"]
[null,null,"Condición","Empueje y Arrastre de Carga","Si / No / NA"]
[null,null,"Ambiente de Trabajo","La temperatura en donde se realiza la tarea es entre los 18° y 26° (grados Celsius).","NA",{"$f":"IF(E4=\"SI\",\"0\",IF(E4=\"NA\",\"0\",\"1\"))","v":"0"},null,null,null,"La Tarea:"]
[null,null,null,"El piso se encuentra en buenas condiciones (regular, compacto, seco y estable) y sin pendiente.","NA",{"$f":"IF(E5=\"SI\",\"0\",IF(E5=\"NA\",\"0\",\"1\"))","v":"0"},null,null,{"$f":"'TABLA 1 P5'!B14","v":"N°5"},{"$f":"'TABLA 1 P5'!C14","v":"NA"}]
[null,null,null,"Presencia de vías/caminos donde se permite el normal desplazamiento (espacio suficiente para el desplazamiento).","NA","0",null,null,null,"Resultado:"]
[null,null,null,"El carro o transpaleta permite la visibilidad y movimientos normales del trabajador.","NA","0",null,null,{"$f":"F18","v":0},{"$f":"IF(F18>=1,\"No es Aceptable\",\"Aceptable\")","v":"Aceptable"}]
[null,null,null,"El centro de gravedad de la carga es estable.","NA","0",null,null,null,"Por lo que usted:"]
[null,null,"Característica del carro o transpaleta","La carro o transpaleta permite su agarre sin riesgo de cortes, compresión o quemaduras.","NA","0",null,null,null,{"$f":"IF(J7=\"Aceptable\",\"Ha Terminado el Proceso de Identificación para esta Tarea\",\"Debe Aplicar Tabla 6\")","v":"Ha Terminado el Proceso de Identificación para esta Tarea"},{"$f":"F18","v":0}]
[null,null,null,"Presencia de ruedas grandes o pequeñas en buen estado.","NA","0"]
[null,null,null,"Presencia de ruedas grandes o pequeñas adecuadas al tipo de carro, peso de la carga y vías de desplazamiento.","NA","0",null,null,null,{"$f":"IF(J7=\"Aceptable\",\"Si terminó de responder toda la Tabla 5 Presione Aquí para  regresar a Tabla 1 Información General del Puesto de Trabajo donde podrá continuar con la siguiente Tarea\",\"\")","v":"Si terminó de responder toda la Tabla 5 Presione Aquí para  regresar a Tabla 1 Información General del Puesto de Trabajo donde podrá continuar con la siguiente Tarea"},{"$f":"F18","v":0}]
[null,null,"Riesgo","Empueje y Arrastre de Carga","Si / No / NA"]
[null,null,"Magnitud de la Fuerza","Método dinamómetro (*): la fuerza inicial no supera los 10 kgs de fuerza y la fuerza de sustentación no supera los 5 kgs de fuerza.\nMétodo Escala de Borg: los trabajadores perciben leve esfuerzo físico (valor 2 o menos en escala de Borg) durante la tarea (s) de empuje y arrastre de carga (Para obtener la información debe preguntar a los trabajadores utilizando la escala de Borg (Anexo 3).","NA","0",null,null,null,null,{"$f":"F18","v":0}]
[null,null,"Duración","La(s) tarea(s) de empuje y arrastre de carga duran hasta 8 hrs. diaria.","NA","0"]
[null,null,"Altura aplicación de la Fuerza","La fuerza se realiza entre las caderas y la zona media del tronco.","NA","0",null,null,null,null,{"$f":"F18","v":0}]
[null,null,"Postura","La fuerza de empuje o arrastre es aplicada con el tronco recto (sin flexión o torsión).","NA","0"]
[null,null,"Zona de agarre","Las manos están delante del cuerpo y entre los hombros cuando se realiza la fuerza de empuje o arrastre.","NA","0"]
[null,null,null,null,null,{"$f":"F4+F5+F6+F7+F8+F9+F10+F11+F13+F14+F15+F16+F17","v":0},null,null,null,null,{"$f":"F18","v":0}]
[]
[]
[]
[]
[null,null,null,null,null,null,null,null,null,"Presione solo si al completar Tabla 5  se lo indica el Cuadro de Resultado",{"$f":"F18","v":0}]

{"sheet":"TABLA 5T5P6","index":198,"n_rows":23,"n_cols":11,"rows_kept":23,"cut":false,"hidden":false,"merged":[]}
[]
[null,null,null,"EMPUJE Y ARRASTRE DE CARGA - IDENTIFICACIÓN AVANZADA  CONDICIÓN ACEPTABLE  ",null,null,null,null,null,"Cuadro de Resultado Tabla 5"]
[null,null,"Condición","Empueje y Arrastre de Carga","Si / No / NA"]
[null,null,"Ambiente de Trabajo","La temperatura en donde se realiza la tarea es entre los 18° y 26° (grados Celsius).","NA",{"$f":"IF(E4=\"SI\",\"0\",IF(E4=\"NA\",\"0\",\"1\"))","v":"0"},null,null,null,"La Tarea:"]
[null,null,null,"El piso se encuentra en buenas condiciones (regular, compacto, seco y estable) y sin pendiente.","NA",{"$f":"IF(E5=\"SI\",\"0\",IF(E5=\"NA\",\"0\",\"1\"))","v":"0"},null,null,{"$f":"'TABLA 1 P6'!B14","v":"N°5"},{"$f":"'TABLA 1 P6'!C14","v":"NA"}]
[null,null,null,"Presencia de vías/caminos donde se permite el normal desplazamiento (espacio suficiente para el desplazamiento).","NA","0",null,null,null,"Resultado:"]
[null,null,null,"El carro o transpaleta permite la visibilidad y movimientos normales del trabajador.","NA","0",null,null,{"$f":"F18","v":0},{"$f":"IF(F18>=1,\"No es Aceptable\",\"Aceptable\")","v":"Aceptable"}]
[null,null,null,"El centro de gravedad de la carga es estable.","NA","0",null,null,null,"Por lo que usted:"]
[null,null,"Característica del carro o transpaleta","La carro o transpaleta permite su agarre sin riesgo de cortes, compresión o quemaduras.","NA","0",null,null,null,{"$f":"IF(J7=\"Aceptable\",\"Ha Terminado el Proceso de Identificación para esta Tarea\",\"Debe Aplicar Tabla 6\")","v":"Ha Terminado el Proceso de Identificación para esta Tarea"},{"$f":"F18","v":0}]
[null,null,null,"Presencia de ruedas grandes o pequeñas en buen estado.","NA","0"]
[null,null,null,"Presencia de ruedas grandes o pequeñas adecuadas al tipo de carro, peso de la carga y vías de desplazamiento.","NA","0",null,null,null,{"$f":"IF(J7=\"Aceptable\",\"Si terminó de responder toda la Tabla 5 Presione Aquí para  regresar a Tabla 1 Información General del Puesto de Trabajo donde podrá continuar con la siguiente Tarea\",\"\")","v":"Si terminó de responder toda la Tabla 5 Presione Aquí para  regresar a Tabla 1 Información General del Puesto de Trabajo donde podrá continuar con la siguiente Tarea"},{"$f":"F18","v":0}]
[null,null,"Riesgo","Empueje y Arrastre de Carga","Si / No / NA"]
[null,null,"Magnitud de la Fuerza","Método dinamómetro (*): la fuerza inicial no supera los 10 kgs de fuerza y la fuerza de sustentación no supera los 5 kgs de fuerza.\nMétodo Escala de Borg: los trabajadores perciben leve esfuerzo físico (valor 2 o menos en escala de Borg) durante la tarea (s) de empuje y arrastre de carga (Para obtener la información debe preguntar a los trabajadores utilizando la escala de Borg (Anexo 3).","NA","0",null,null,null,null,{"$f":"F18","v":0}]
[null,null,"Duración","La(s) tarea(s) de empuje y arrastre de carga duran hasta 8 hrs. diaria.","NA","0"]
[null,null,"Altura aplicación de la Fuerza","La fuerza se realiza entre las caderas y la zona media del tronco.","NA","0",null,null,null,null,{"$f":"F18","v":0}]
[null,null,"Postura","La fuerza de empuje o arrastre es aplicada con el tronco recto (sin flexión o torsión).","NA","0"]
[null,null,"Zona de agarre","Las manos están delante del cuerpo y entre los hombros cuando se realiza la fuerza de empuje o arrastre.","NA","0"]
[null,null,null,null,null,{"$f":"F4+F5+F6+F7+F8+F9+F10+F11+F13+F14+F15+F16+F17","v":0},null,null,null,null,{"$f":"F18","v":0}]
[]
[]
[]
[]
[null,null,null,null,null,null,null,null,null,"Presione solo si al completar Tabla 5  se lo indica el Cuadro de Resultado",{"$f":"F18","v":0}]

{"sheet":"TABLA 5T5P7","index":199,"n_rows":23,"n_cols":11,"rows_kept":23,"cut":false,"hidden":false,"merged":[]}
[]
[null,null,null,"EMPUJE Y ARRASTRE DE CARGA - IDENTIFICACIÓN AVANZADA  CONDICIÓN ACEPTABLE  ",null,null,null,null,null,"Cuadro de Resultado Tabla 5"]
[null,null,"Condición","Empueje y Arrastre de Carga","Si / No / NA"]
[null,null,"Ambiente de Trabajo","La temperatura en donde se realiza la tarea es entre los 18° y 26° (grados Celsius).","NA",{"$f":"IF(E4=\"SI\",\"0\",IF(E4=\"NA\",\"0\",\"1\"))","v":"0"},null,null,null,"La Tarea:"]
[null,null,null,"El piso se encuentra en buenas condiciones (regular, compacto, seco y estable) y sin pendiente.","NA",{"$f":"IF(E5=\"SI\",\"0\",IF(E5=\"NA\",\"0\",\"1\"))","v":"0"},null,null,{"$f":"'TABLA 1 P7'!B14","v":"N°5"},{"$f":"'TABLA 1 P7'!C14","v":"NA"}]
[null,null,null,"Presencia de vías/caminos donde se permite el normal desplazamiento (espacio suficiente para el desplazamiento).","NA","0",null,null,null,"Resultado:"]
[null,null,null,"El carro o transpaleta permite la visibilidad y movimientos normales del trabajador.","NA","0",null,null,{"$f":"F18","v":0},{"$f":"IF(F18>=1,\"No es Aceptable\",\"Aceptable\")","v":"Aceptable"}]
[null,null,null,"El centro de gravedad de la carga es estable.","NA","0",null,null,null,"Por lo que usted:"]
[null,null,"Característica del carro o transpaleta","La carro o transpaleta permite su agarre sin riesgo de cortes, compresión o quemaduras.","NA","0",null,null,null,{"$f":"IF(J7=\"Aceptable\",\"Ha Terminado el Proceso de Identificación para esta Tarea\",\"Debe Aplicar Tabla 6\")","v":"Ha Terminado el Proceso de Identificación para esta Tarea"},{"$f":"F18","v":0}]
[null,null,null,"Presencia de ruedas grandes o pequeñas en buen estado.","NA","0"]
[null,null,null,"Presencia de ruedas grandes o pequeñas adecuadas al tipo de carro, peso de la carga y vías de desplazamiento.","NA","0",null,null,null,{"$f":"IF(J7=\"Aceptable\",\"Si terminó de responder toda la Tabla 5 Presione Aquí para  regresar a Tabla 1 Información General del Puesto de Trabajo donde podrá continuar con la siguiente Tarea\",\"\")","v":"Si terminó de responder toda la Tabla 5 Presione Aquí para  regresar a Tabla 1 Información General del Puesto de Trabajo donde podrá continuar con la siguiente Tarea"},{"$f":"F18","v":0}]
[null,null,"Riesgo","Empueje y Arrastre de Carga","Si / No / NA"]
[null,null,"Magnitud de la Fuerza","Método dinamómetro (*): la fuerza inicial no supera los 10 kgs de fuerza y la fuerza de sustentación no supera los 5 kgs de fuerza.\nMétodo Escala de Borg: los trabajadores perciben leve esfuerzo físico (valor 2 o menos en escala de Borg) durante la tarea (s) de empuje y arrastre de carga (Para obtener la información debe preguntar a los trabajadores utilizando la escala de Borg (Anexo 3).","NA","0",null,null,null,null,{"$f":"F18","v":0}]
[null,null,"Duración","La(s) tarea(s) de empuje y arrastre de carga duran hasta 8 hrs. diaria.","NA","0"]
[null,null,"Altura aplicación de la Fuerza","La fuerza se realiza entre las caderas y la zona media del tronco.","NA","0",null,null,null,null,{"$f":"F18","v":0}]
[null,null,"Postura","La fuerza de empuje o arrastre es aplicada con el tronco recto (sin flexión o torsión).","NA","0"]
[null,null,"Zona de agarre","Las manos están delante del cuerpo y entre los hombros cuando se realiza la fuerza de empuje o arrastre.","NA","0"]
[null,null,null,null,null,{"$f":"F4+F5+F6+F7+F8+F9+F10+F11+F13+F14+F15+F16+F17","v":0},null,null,null,null,{"$f":"F18","v":0}]
[]
[]
[]
[]
[null,null,null,null,null,null,null,null,null,"Presione solo si al completar Tabla 5  se lo indica el Cuadro de Resultado",{"$f":"F18","v":0}]

{"sheet":"TABLA 5T5P8","index":200,"n_rows":23,"n_cols":11,"rows_kept":23,"cut":false,"hidden":false,"merged":[]}
[]
[null,null,null,"EMPUJE Y ARRASTRE DE CARGA - IDENTIFICACIÓN AVANZADA  CONDICIÓN ACEPTABLE  ",null,null,null,null,null,"Cuadro de Resultado Tabla 5"]
[null,null,"Condición","Empueje y Arrastre de Carga","Si / No / NA"]
[null,null,"Ambiente de Trabajo","La temperatura en donde se realiza la tarea es entre los 18° y 26° (grados Celsius).","NA",{"$f":"IF(E4=\"SI\",\"0\",IF(E4=\"NA\",\"0\",\"1\"))","v":"0"},null,null,null,"La Tarea:"]
[null,null,null,"El piso se encuentra en buenas condiciones (regular, compacto, seco y estable) y sin pendiente.","NA",{"$f":"IF(E5=\"SI\",\"0\",IF(E5=\"NA\",\"0\",\"1\"))","v":"0"},null,null,{"$f":"'TABLA 1 P8'!B14","v":"N°5"},{"$f":"'TABLA 1 P8'!C14","v":"NA"}]
[null,null,null,"Presencia de vías/caminos donde se permite el normal desplazamiento (espacio suficiente para el desplazamiento).","NA","0",null,null,null,"Resultado:"]
[null,null,null,"El carro o transpaleta permite la visibilidad y movimientos normales del trabajador.","NA","0",null,null,{"$f":"F18","v":0},{"$f":"IF(F18>=1,\"No es Aceptable\",\"Aceptable\")","v":"Aceptable"}]
[null,null,null,"El centro de gravedad de la carga es estable.","NA","0",null,null,null,"Por lo que usted:"]
[null,null,"Característica del carro o transpaleta","La carro o transpaleta permite su agarre sin riesgo de cortes, compresión o quemaduras.","NA","0",null,null,null,{"$f":"IF(J7=\"Aceptable\",\"Ha Terminado el Proceso de Identificación para esta Tarea\",\"Debe Aplicar Tabla 6\")","v":"Ha Terminado el Proceso de Identificación para esta Tarea"},{"$f":"F18","v":0}]
[null,null,null,"Presencia de ruedas grandes o pequeñas en buen estado.","NA","0"]
[null,null,null,"Presencia de ruedas grandes o pequeñas adecuadas al tipo de carro, peso de la carga y vías de desplazamiento.","NA","0",null,null,null,{"$f":"IF(J7=\"Aceptable\",\"Si terminó de responder toda la Tabla 5 Presione Aquí para  regresar a Tabla 1 Información General del Puesto de Trabajo donde podrá continuar con la siguiente Tarea\",\"\")","v":"Si terminó de responder toda la Tabla 5 Presione Aquí para  regresar a Tabla 1 Información General del Puesto de Trabajo donde podrá continuar con la siguiente Tarea"},{"$f":"F18","v":0}]
[null,null,"Riesgo","Empueje y Arrastre de Carga","Si / No / NA"]
[null,null,"Magnitud de la Fuerza","Método dinamómetro (*): la fuerza inicial no supera los 10 kgs de fuerza y la fuerza de sustentación no supera los 5 kgs de fuerza.\nMétodo Escala de Borg: los trabajadores perciben leve esfuerzo físico (valor 2 o menos en escala de Borg) durante la tarea (s) de empuje y arrastre de carga (Para obtener la información debe preguntar a los trabajadores utilizando la escala de Borg (Anexo 3).","NA","0",null,null,null,null,{"$f":"F18","v":0}]
[null,null,"Duración","La(s) tarea(s) de empuje y arrastre de carga duran hasta 8 hrs. diaria.","NA","0"]
[null,null,"Altura aplicación de la Fuerza","La fuerza se realiza entre las caderas y la zona media del tronco.","NA","0",null,null,null,null,{"$f":"F18","v":0}]
[null,null,"Postura","La fuerza de empuje o arrastre es aplicada con el tronco recto (sin flexión o torsión).","NA","0"]
[null,null,"Zona de agarre","Las manos están delante del cuerpo y entre los hombros cuando se realiza la fuerza de empuje o arrastre.","NA","0"]
[null,null,null,null,null,{"$f":"F4+F5+F6+F7+F8+F9+F10+F11+F13+F14+F15+F16+F17","v":0},null,null,null,null,{"$f":"F18","v":0}]
[]
[]
[]
[]
[null,null,null,null,null,null,null,null,null,"Presione solo si al completar Tabla 5  se lo indica el Cuadro de Resultado",{"$f":"F18","v":0}]

{"sheet":"TABLA 5T5P9","index":201,"n_rows":23,"n_cols":11,"rows_kept":23,"cut":false,"hidden":false,"merged":[]}
[]
[null,null,null,"EMPUJE Y ARRASTRE DE CARGA - IDENTIFICACIÓN AVANZADA  CONDICIÓN ACEPTABLE  ",null,null,null,null,null,"Cuadro de Resultado Tabla 5"]
[null,null,"Condición","Empueje y Arrastre de Carga","Si / No / NA"]
[null,null,"Ambiente de Trabajo","La temperatura en donde se realiza la tarea es entre los 18° y 26° (grados Celsius).","NA",{"$f":"IF(E4=\"SI\",\"0\",IF(E4=\"NA\",\"0\",\"1\"))","v":"0"},null,null,null,"La Tarea:"]
[null,null,null,"El piso se encuentra en buenas condiciones (regular, compacto, seco y estable) y sin pendiente.","NA",{"$f":"IF(E5=\"SI\",\"0\",IF(E5=\"NA\",\"0\",\"1\"))","v":"0"},null,null,{"$f":"'TABLA 1 P9'!B14","v":"N°5"},{"$f":"'TABLA 1 P9'!C14","v":"NA"}]
[null,null,null,"Presencia de vías/caminos donde se permite el normal desplazamiento (espacio suficiente para el desplazamiento).","NA","0",null,null,null,"Resultado:"]
[null,null,null,"El carro o transpaleta permite la visibilidad y movimientos normales del trabajador.","NA","0",null,null,{"$f":"F18","v":0},{"$f":"IF(F18>=1,\"No es Aceptable\",\"Aceptable\")","v":"Aceptable"}]
[null,null,null,"El centro de gravedad de la carga es estable.","NA","0",null,null,null,"Por lo que usted:"]
[null,null,"Característica del carro o transpaleta","La carro o transpaleta permite su agarre sin riesgo de cortes, compresión o quemaduras.","NA","0",null,null,null,{"$f":"IF(J7=\"Aceptable\",\"Ha Terminado el Proceso de Identificación para esta Tarea\",\"Debe Aplicar Tabla 6\")","v":"Ha Terminado el Proceso de Identificación para esta Tarea"},{"$f":"F18","v":0}]
[null,null,null,"Presencia de ruedas grandes o pequeñas en buen estado.","NA","0"]
[null,null,null,"Presencia de ruedas grandes o pequeñas adecuadas al tipo de carro, peso de la carga y vías de desplazamiento.","NA","0",null,null,null,{"$f":"IF(J7=\"Aceptable\",\"Si terminó de responder toda la Tabla 5 Presione Aquí para  regresar a Tabla 1 Información General del Puesto de Trabajo donde podrá continuar con la siguiente Tarea\",\"\")","v":"Si terminó de responder toda la Tabla 5 Presione Aquí para  regresar a Tabla 1 Información General del Puesto de Trabajo donde podrá continuar con la siguiente Tarea"},{"$f":"F18","v":0}]
[null,null,"Riesgo","Empueje y Arrastre de Carga","Si / No / NA"]
[null,null,"Magnitud de la Fuerza","Método dinamómetro (*): la fuerza inicial no supera los 10 kgs de fuerza y la fuerza de sustentación no supera los 5 kgs de fuerza.\nMétodo Escala de Borg: los trabajadores perciben leve esfuerzo físico (valor 2 o menos en escala de Borg) durante la tarea (s) de empuje y arrastre de carga (Para obtener la información debe preguntar a los trabajadores utilizando la escala de Borg (Anexo 3).","NA","0",null,null,null,null,{"$f":"F18","v":0}]
[null,null,"Duración","La(s) tarea(s) de empuje y arrastre de carga duran hasta 8 hrs. diaria.","NA","0"]
[null,null,"Altura aplicación de la Fuerza","La fuerza se realiza entre las caderas y la zona media del tronco.","NA","0",null,null,null,null,{"$f":"F18","v":0}]
[null,null,"Postura","La fuerza de empuje o arrastre es aplicada con el tronco recto (sin flexión o torsión).","NA","0"]
[null,null,"Zona de agarre","Las manos están delante del cuerpo y entre los hombros cuando se realiza la fuerza de empuje o arrastre.","NA","0"]
[null,null,null,null,null,{"$f":"F4+F5+F6+F7+F8+F9+F10+F11+F13+F14+F15+F16+F17","v":0},null,null,null,null,{"$f":"F18","v":0}]
[]
[]
[]
[]
[null,null,null,null,null,null,null,null,null,"Presione solo si al completar Tabla 5  se lo indica el Cuadro de Resultado",{"$f":"F18","v":0}]

{"sheet":"TABLA 5T5P10","index":202,"n_rows":23,"n_cols":11,"rows_kept":23,"cut":false,"hidden":false,"merged":[]}
[]
[null,null,null,"EMPUJE Y ARRASTRE DE CARGA - IDENTIFICACIÓN AVANZADA  CONDICIÓN ACEPTABLE  ",null,null,null,null,null,"Cuadro de Resultado Tabla 5"]
[null,null,"Condición","Empueje y Arrastre de Carga","Si / No / NA"]
[null,null,"Ambiente de Trabajo","La temperatura en donde se realiza la tarea es entre los 18° y 26° (grados Celsius).","NA",{"$f":"IF(E4=\"SI\",\"0\",IF(E4=\"NA\",\"0\",\"1\"))","v":"0"},null,null,null,"La Tarea:"]
[null,null,null,"El piso se encuentra en buenas condiciones (regular, compacto, seco y estable) y sin pendiente.","NA",{"$f":"IF(E5=\"SI\",\"0\",IF(E5=\"NA\",\"0\",\"1\"))","v":"0"},null,null,{"$f":"'TABLA 1 P10'!B14","v":"N°5"},{"$f":"'TABLA 1 P10'!C14","v":"NA"}]
[null,null,null,"Presencia de vías/caminos donde se permite el normal desplazamiento (espacio suficiente para el desplazamiento).","NA","0",null,null,null,"Resultado:"]
[null,null,null,"El carro o transpaleta permite la visibilidad y movimientos normales del trabajador.","NA","0",null,null,{"$f":"F18","v":0},{"$f":"IF(F18>=1,\"No es Aceptable\",\"Aceptable\")","v":"Aceptable"}]
[null,null,null,"El centro de gravedad de la carga es estable.","NA","0",null,null,null,"Por lo que usted:"]
[null,null,"Característica del carro o transpaleta","La carro o transpaleta permite su agarre sin riesgo de cortes, compresión o quemaduras.","NA","0",null,null,null,{"$f":"IF(J7=\"Aceptable\",\"Ha Terminado el Proceso de Identificación para esta Tarea\",\"Debe Aplicar Tabla 6\")","v":"Ha Terminado el Proceso de Identificación para esta Tarea"},{"$f":"F18","v":0}]
[null,null,null,"Presencia de ruedas grandes o pequeñas en buen estado.","NA","0"]
[null,null,null,"Presencia de ruedas grandes o pequeñas adecuadas al tipo de carro, peso de la carga y vías de desplazamiento.","NA","0",null,null,null,{"$f":"IF(J7=\"Aceptable\",\"Si terminó de responder toda la Tabla 5 Presione Aquí para  regresar a Tabla 1 Información General del Puesto de Trabajo donde podrá continuar con la siguiente Tarea\",\"\")","v":"Si terminó de responder toda la Tabla 5 Presione Aquí para  regresar a Tabla 1 Información General del Puesto de Trabajo donde podrá continuar con la siguiente Tarea"},{"$f":"F18","v":0}]
[null,null,"Riesgo","Empueje y Arrastre de Carga","Si / No / NA"]
[null,null,"Magnitud de la Fuerza","Método dinamómetro (*): la fuerza inicial no supera los 10 kgs de fuerza y la fuerza de sustentación no supera los 5 kgs de fuerza.\nMétodo Escala de Borg: los trabajadores perciben leve esfuerzo físico (valor 2 o menos en escala de Borg) durante la tarea (s) de empuje y arrastre de carga (Para obtener la información debe preguntar a los trabajadores utilizando la escala de Borg (Anexo 3).","NA","0",null,null,null,null,{"$f":"F18","v":0}]
[null,null,"Duración","La(s) tarea(s) de empuje y arrastre de carga duran hasta 8 hrs. diaria.","NA","0"]
[null,null,"Altura aplicación de la Fuerza","La fuerza se realiza entre las caderas y la zona media del tronco.","NA","0",null,null,null,null,{"$f":"F18","v":0}]
[null,null,"Postura","La fuerza de empuje o arrastre es aplicada con el tronco recto (sin flexión o torsión).","NA","0"]
[null,null,"Zona de agarre","Las manos están delante del cuerpo y entre los hombros cuando se realiza la fuerza de empuje o arrastre.","NA","0"]
[null,null,null,null,null,{"$f":"F4+F5+F6+F7+F8+F9+F10+F11+F13+F14+F15+F16+F17","v":0},null,null,null,null,{"$f":"F18","v":0}]
[]
[]
[]
[]
[null,null,null,null,null,null,null,null,null,"Presione solo si al completar Tabla 5  se lo indica el Cuadro de Resultado",{"$f":"F18","v":0}]

{"sheet":"TABLA 6T5P1","index":203,"n_rows":21,"n_cols":10,"rows_kept":21,"cut":false,"hidden":false,"merged":[]}
[]
[null,null,null,"EMPUJE Y ARRASTRE DE CARGA - IDENTIFICACIÓN AVANZADA CONDICIÓN CRÍTICA  \n",null,null,null,null,null,"Cuadro de Resultado Tabla 6"]
[null,null,"Condición","Levantamiento/descenso y transporte manual de carga","Si / No / NA"]
[null,null,"Ambiente de Trabajo","Presencia de temperatura extrema (bajo 16° o superior a los 26° grados Celsius) y sin ropa que proteja de las temperaturas extremas.","NA",{"$f":"IF(E4=\"No\",\"0\",IF(E4=\"NA\",\"0\",\"1\"))","v":"0"},null,null,null,"La Tarea:"]
[null,null,null,"Presencia de suelo resbaladizo, irregular o inestable.","NA",{"$f":"IF(E5=\"No\",\"0\",IF(E5=\"NA\",\"0\",\"1\"))","v":"0"},null,null,{"$f":"'TABLA 1 P1'!B14","v":"N°5"},{"$f":"'TABLA 1 P1'!C14","v":"NA"}]
[null,null,null,"Presencia de vías/caminos donde se restringen los movimientos.","NA","0",null,null,null,"Resultado:"]
[null,null,"Característica del carro o transpaleta","El carro o transpaleta reduce la vista del operador y/o dificulta su movimiento.","NA","0",null,null,{"$f":"F21","v":0},{"$f":"IF(F21>=1,\"Crítica\",\"No Crítica\")","v":"No Crítica"}]
[null,null,null,"La carga es inestable.","NA","0",null,null,null,"Por lo que usted:"]
[null,null,null,"El carro o transpaleta tiene condiciones peligrosas (bordes, superficies o protuberancias afiladas, etc) que pueden lesionar al trabajador.","NA","0",null,null,null,{"$f":"IF(J7=\"No Crítica\",\"Ha terminado el Proceso de Identificación para esta Tarea y deberá iniciar el proceso de Evaluación Cuantitativa del riesgo\",\"Ha terminado el Proceso de Identificación para esta Tarea y deberá aplicar medidas para reducir el riesgo\")","v":"Ha terminado el Proceso de Identificación para esta Tarea y deberá iniciar el proceso de Evaluación Cuantitativa del riesgo"}]
[null,null,null,"Presencia de ruedas grandes o pequeñas en mal estado, rotas, desgastadas o con poca mantención.","NA","0"]
[null,null,null,"Presencia de ruedas grandes o pequeñas inadecuadas al tipo de carro, peso de la carga y vías de desplazamiento.","NA","0"]
[null,null,"Horas de Trabajo","La tarea de levantamiento/descenso o transporte de carga dura más de 8 hrs.","NA","0"]
[null,null,"Riesgo","Empueje y Arrastre de Carga","Si / No / NA",null,null,null,null,"Si terminó de responder toda la Tabla 6 Presione Aquí para  regresar a Tabla 1 Información General del Puesto de Trabajo donde podrá continuar con la siguiente Tarea"]
[null,null,"Magnitud de la Fuerza","Método dinamómetro (*):\n1. Fuerza inicial es superior a 36 kgs. (Hombres) o 24 kgs.\n(Mujeres).\n2. Fuerza de sustentación es superior a 25 kgs. (Hombres)\ny 15 kgs. (Mujeres).\nMétodo Escala de Borg: los trabajadores perciben alto nivel de esfuerzo físico (valor 8 o más en escala de Borg) durante la (s) tarea (s) de empuje y arrastre de carga (Para obtener la información debe preguntar a los trabajadores utilizando la escala de Borg al final de este anexo).","NA",{"$f":"IF(E14=\"No\",\"0\",IF(E14=\"NA\",\"0\",\"1\"))","v":"0"}]
[null,null,"Dirección de la Fuerza","Durante el desplazamiento la carga requiere de un levantamiento parcial, mientras se empuja o arrastra.","NA",{"$f":"IF(E15=\"No\",\"0\",IF(E15=\"NA\",\"0\",\"1\"))","v":"0"}]
[null,null,"Esfuerzo Físico","La fuerza de empuje o arrastre es realizada con movimientos bruscos o de manera poco controlada.","NA","0"]
[null,null,"Postura","La fuerza de empuje o arrastre es aplicada con el tronco en flexión o torsión significativa.","NA","0"]
[null,null,"Zona de Agarre","Las manos no están delante del cuerpo o fuera del ancho de los hombros cuando se realiza la fuerza de empuje o arrastre.","NA","0"]
[null,null,"Altura aplicación de la Fuerza","La fuerza de empuje o arrastre es aplicada sobre los 150 cm o bajo los 60 cm.","NA","0"]
[null,null,"Duración","La(s) tarea(s) de empuje y arrastre de carga duran más de 8 hrs. diaria.","NA","0"]
[null,null,null,null,null,{"$f":"F4+F5+F6+F7+F8+F9+F10+F11+F12+F14+F15+F16+F17+F18+F19+F20","v":0}]

{"sheet":"TABLA 6T5P2","index":204,"n_rows":21,"n_cols":10,"rows_kept":21,"cut":false,"hidden":false,"merged":[]}
[]
[null,null,null,"EMPUJE Y ARRASTRE DE CARGA - IDENTIFICACIÓN AVANZADA CONDICIÓN CRÍTICA  \n",null,null,null,null,null,"Cuadro de Resultado Tabla 6"]
[null,null,"Condición","Levantamiento/descenso y transporte manual de carga","Si / No / NA"]
[null,null,"Ambiente de Trabajo","Presencia de temperatura extrema (bajo 16° o superior a los 26° grados Celsius) y sin ropa que proteja de las temperaturas extremas.","NA",{"$f":"IF(E4=\"No\",\"0\",IF(E4=\"NA\",\"0\",\"1\"))","v":"0"},null,null,null,"La Tarea:"]
[null,null,null,"Presencia de suelo resbaladizo, irregular o inestable.","NA",{"$f":"IF(E5=\"No\",\"0\",IF(E5=\"NA\",\"0\",\"1\"))","v":"0"},null,null,{"$f":"'TABLA 1 P2'!B14","v":"N°5"},{"$f":"'TABLA 1 P2'!C14","v":"NA"}]
[null,null,null,"Presencia de vías/caminos donde se restringen los movimientos.","NA","0",null,null,null,"Resultado:"]
[null,null,"Característica del carro o transpaleta","El carro o transpaleta reduce la vista del operador y/o dificulta su movimiento.","NA","0",null,null,{"$f":"F21","v":0},{"$f":"IF(F21>=1,\"Crítica\",\"No Crítica\")","v":"No Crítica"}]
[null,null,null,"La carga es inestable.","NA","0",null,null,null,"Por lo que usted:"]
[null,null,null,"El carro o transpaleta tiene condiciones peligrosas (bordes, superficies o protuberancias afiladas, etc) que pueden lesionar al trabajador.","NA","0",null,null,null,{"$f":"IF(J7=\"No Crítica\",\"Ha terminado el Proceso de Identificación para esta Tarea y deberá iniciar el proceso de Evaluación Cuantitativa del riesgo\",\"Ha terminado el Proceso de Identificación para esta Tarea y deberá aplicar medidas para reducir el riesgo\")","v":"Ha terminado el Proceso de Identificación para esta Tarea y deberá iniciar el proceso de Evaluación Cuantitativa del riesgo"}]
[null,null,null,"Presencia de ruedas grandes o pequeñas en mal estado, rotas, desgastadas o con poca mantención.","NA","0"]
[null,null,null,"Presencia de ruedas grandes o pequeñas inadecuadas al tipo de carro, peso de la carga y vías de desplazamiento.","NA","0"]
[null,null,"Horas de Trabajo","La tarea de levantamiento/descenso o transporte de carga dura más de 8 hrs.","NA","0"]
[null,null,"Riesgo","Empueje y Arrastre de Carga","Si / No / NA",null,null,null,null,"Si terminó de responder toda la Tabla 6 Presione Aquí para  regresar a Tabla 1 Información General del Puesto de Trabajo donde podrá continuar con la siguiente Tarea"]
[null,null,"Magnitud de la Fuerza","Método dinamómetro (*):\n1. Fuerza inicial es superior a 36 kgs. (Hombres) o 24 kgs.\n(Mujeres).\n2. Fuerza de sustentación es superior a 25 kgs. (Hombres)\ny 15 kgs. (Mujeres).\nMétodo Escala de Borg: los trabajadores perciben alto nivel de esfuerzo físico (valor 8 o más en escala de Borg) durante la (s) tarea (s) de empuje y arrastre de carga (Para obtener la información debe preguntar a los trabajadores utilizando la escala de Borg al final de este anexo).","NA",{"$f":"IF(E14=\"No\",\"0\",IF(E14=\"NA\",\"0\",\"1\"))","v":"0"}]
[null,null,"Dirección de la Fuerza","Durante el desplazamiento la carga requiere de un levantamiento parcial, mientras se empuja o arrastra.","NA",{"$f":"IF(E15=\"No\",\"0\",IF(E15=\"NA\",\"0\",\"1\"))","v":"0"}]
[null,null,"Esfuerzo Físico","La fuerza de empuje o arrastre es realizada con movimientos bruscos o de manera poco controlada.","NA","0"]
[null,null,"Postura","La fuerza de empuje o arrastre es aplicada con el tronco en flexión o torsión significativa.","NA","0"]
[null,null,"Zona de Agarre","Las manos no están delante del cuerpo o fuera del ancho de los hombros cuando se realiza la fuerza de empuje o arrastre.","NA","0"]
[null,null,"Altura aplicación de la Fuerza","La fuerza de empuje o arrastre es aplicada sobre los 150 cm o bajo los 60 cm.","NA","0"]
[null,null,"Duración","La(s) tarea(s) de empuje y arrastre de carga duran más de 8 hrs. diaria.","NA","0"]
[null,null,null,null,null,{"$f":"F4+F5+F6+F7+F8+F9+F10+F11+F12+F14+F15+F16+F17+F18+F19+F20","v":0}]

{"sheet":"TABLA 6T5P3","index":205,"n_rows":21,"n_cols":10,"rows_kept":21,"cut":false,"hidden":false,"merged":[]}
[]
[null,null,null,"EMPUJE Y ARRASTRE DE CARGA - IDENTIFICACIÓN AVANZADA CONDICIÓN CRÍTICA  \n",null,null,null,null,null,"Cuadro de Resultado Tabla 6"]
[null,null,"Condición","Levantamiento/descenso y transporte manual de carga","Si / No / NA"]
[null,null,"Ambiente de Trabajo","Presencia de temperatura extrema (bajo 16° o superior a los 26° grados Celsius) y sin ropa que proteja de las temperaturas extremas.","NA",{"$f":"IF(E4=\"No\",\"0\",IF(E4=\"NA\",\"0\",\"1\"))","v":"0"},null,null,null,"La Tarea:"]
[null,null,null,"Presencia de suelo resbaladizo, irregular o inestable.","NA",{"$f":"IF(E5=\"No\",\"0\",IF(E5=\"NA\",\"0\",\"1\"))","v":"0"},null,null,{"$f":"'TABLA 1 P3'!B14","v":"N°5"},{"$f":"'TABLA 1 P3'!C14","v":"NA"}]
[null,null,null,"Presencia de vías/caminos donde se restringen los movimientos.","NA","0",null,null,null,"Resultado:"]
[null,null,"Característica del carro o transpaleta","El carro o transpaleta reduce la vista del operador y/o dificulta su movimiento.","NA","0",null,null,{"$f":"F21","v":0},{"$f":"IF(F21>=1,\"Crítica\",\"No Crítica\")","v":"No Crítica"}]
[null,null,null,"La carga es inestable.","NA","0",null,null,null,"Por lo que usted:"]
[null,null,null,"El carro o transpaleta tiene condiciones peligrosas (bordes, superficies o protuberancias afiladas, etc) que pueden lesionar al trabajador.","NA","0",null,null,null,{"$f":"IF(J7=\"No Crítica\",\"Ha terminado el Proceso de Identificación para esta Tarea y deberá iniciar el proceso de Evaluación Cuantitativa del riesgo\",\"Ha terminado el Proceso de Identificación para esta Tarea y deberá aplicar medidas para reducir el riesgo\")","v":"Ha terminado el Proceso de Identificación para esta Tarea y deberá iniciar el proceso de Evaluación Cuantitativa del riesgo"}]
[null,null,null,"Presencia de ruedas grandes o pequeñas en mal estado, rotas, desgastadas o con poca mantención.","NA","0"]
[null,null,null,"Presencia de ruedas grandes o pequeñas inadecuadas al tipo de carro, peso de la carga y vías de desplazamiento.","NA","0"]
[null,null,"Horas de Trabajo","La tarea de levantamiento/descenso o transporte de carga dura más de 8 hrs.","NA","0"]
[null,null,"Riesgo","Empueje y Arrastre de Carga","Si / No / NA",null,null,null,null,"Si terminó de responder toda la Tabla 6 Presione Aquí para  regresar a Tabla 1 Información General del Puesto de Trabajo donde podrá continuar con la siguiente Tarea"]
[null,null,"Magnitud de la Fuerza","Método dinamómetro (*):\n1. Fuerza inicial es superior a 36 kgs. (Hombres) o 24 kgs.\n(Mujeres).\n2. Fuerza de sustentación es superior a 25 kgs. (Hombres)\ny 15 kgs. (Mujeres).\nMétodo Escala de Borg: los trabajadores perciben alto nivel de esfuerzo físico (valor 8 o más en escala de Borg) durante la (s) tarea (s) de empuje y arrastre de carga (Para obtener la información debe preguntar a los trabajadores utilizando la escala de Borg al final de este anexo).","NA",{"$f":"IF(E14=\"No\",\"0\",IF(E14=\"NA\",\"0\",\"1\"))","v":"0"}]
[null,null,"Dirección de la Fuerza","Durante el desplazamiento la carga requiere de un levantamiento parcial, mientras se empuja o arrastra.","NA",{"$f":"IF(E15=\"No\",\"0\",IF(E15=\"NA\",\"0\",\"1\"))","v":"0"}]
[null,null,"Esfuerzo Físico","La fuerza de empuje o arrastre es realizada con movimientos bruscos o de manera poco controlada.","NA","0"]
[null,null,"Postura","La fuerza de empuje o arrastre es aplicada con el tronco en flexión o torsión significativa.","NA","0"]
[null,null,"Zona de Agarre","Las manos no están delante del cuerpo o fuera del ancho de los hombros cuando se realiza la fuerza de empuje o arrastre.","NA","0"]
[null,null,"Altura aplicación de la Fuerza","La fuerza de empuje o arrastre es aplicada sobre los 150 cm o bajo los 60 cm.","NA","0"]
[null,null,"Duración","La(s) tarea(s) de empuje y arrastre de carga duran más de 8 hrs. diaria.","NA","0"]
[null,null,null,null,null,{"$f":"F4+F5+F6+F7+F8+F9+F10+F11+F12+F14+F15+F16+F17+F18+F19+F20","v":0}]

{"sheet":"TABLA 6T5P4","index":206,"n_rows":21,"n_cols":10,"rows_kept":21,"cut":false,"hidden":false,"merged":[]}
[]
[null,null,null,"EMPUJE Y ARRASTRE DE CARGA - IDENTIFICACIÓN AVANZADA CONDICIÓN CRÍTICA  \n",null,null,null,null,null,"Cuadro de Resultado Tabla 6"]
[null,null,"Condición","Levantamiento/descenso y transporte manual de carga","Si / No / NA"]
[null,null,"Ambiente de Trabajo","Presencia de temperatura extrema (bajo 16° o superior a los 26° grados Celsius) y sin ropa que proteja de las temperaturas extremas.","NA",{"$f":"IF(E4=\"No\",\"0\",IF(E4=\"NA\",\"0\",\"1\"))","v":"0"},null,null,null,"La Tarea:"]
[null,null,null,"Presencia de suelo resbaladizo, irregular o inestable.","NA",{"$f":"IF(E5=\"No\",\"0\",IF(E5=\"NA\",\"0\",\"1\"))","v":"0"},null,null,{"$f":"'TABLA 1 P4'!B14","v":"N°5"},{"$f":"'TABLA 1 P4'!C14","v":"NA"}]
[null,null,null,"Presencia de vías/caminos donde se restringen los movimientos.","NA","0",null,null,null,"Resultado:"]
[null,null,"Característica del carro o transpaleta","El carro o transpaleta reduce la vista del operador y/o dificulta su movimiento.","NA","0",null,null,{"$f":"F21","v":0},{"$f":"IF(F21>=1,\"Crítica\",\"No Crítica\")","v":"No Crítica"}]
[null,null,null,"La carga es inestable.","NA","0",null,null,null,"Por lo que usted:"]
[null,null,null,"El carro o transpaleta tiene condiciones peligrosas (bordes, superficies o protuberancias afiladas, etc) que pueden lesionar al trabajador.","NA","0",null,null,null,{"$f":"IF(J7=\"No Crítica\",\"Ha terminado el Proceso de Identificación para esta Tarea y deberá iniciar el proceso de Evaluación Cuantitativa del riesgo\",\"Ha terminado el Proceso de Identificación para esta Tarea y deberá aplicar medidas para reducir el riesgo\")","v":"Ha terminado el Proceso de Identificación para esta Tarea y deberá iniciar el proceso de Evaluación Cuantitativa del riesgo"}]
[null,null,null,"Presencia de ruedas grandes o pequeñas en mal estado, rotas, desgastadas o con poca mantención.","NA","0"]
[null,null,null,"Presencia de ruedas grandes o pequeñas inadecuadas al tipo de carro, peso de la carga y vías de desplazamiento.","NA","0"]
[null,null,"Horas de Trabajo","La tarea de levantamiento/descenso o transporte de carga dura más de 8 hrs.","NA","0"]
[null,null,"Riesgo","Empueje y Arrastre de Carga","Si / No / NA",null,null,null,null,"Si terminó de responder toda la Tabla 6 Presione Aquí para  regresar a Tabla 1 Información General del Puesto de Trabajo donde podrá continuar con la siguiente Tarea"]
[null,null,"Magnitud de la Fuerza","Método dinamómetro (*):\n1. Fuerza inicial es superior a 36 kgs. (Hombres) o 24 kgs.\n(Mujeres).\n2. Fuerza de sustentación es superior a 25 kgs. (Hombres)\ny 15 kgs. (Mujeres).\nMétodo Escala de Borg: los trabajadores perciben alto nivel de esfuerzo físico (valor 8 o más en escala de Borg) durante la (s) tarea (s) de empuje y arrastre de carga (Para obtener la información debe preguntar a los trabajadores utilizando la escala de Borg al final de este anexo).","NA",{"$f":"IF(E14=\"No\",\"0\",IF(E14=\"NA\",\"0\",\"1\"))","v":"0"}]
[null,null,"Dirección de la Fuerza","Durante el desplazamiento la carga requiere de un levantamiento parcial, mientras se empuja o arrastra.","NA",{"$f":"IF(E15=\"No\",\"0\",IF(E15=\"NA\",\"0\",\"1\"))","v":"0"}]
[null,null,"Esfuerzo Físico","La fuerza de empuje o arrastre es realizada con movimientos bruscos o de manera poco controlada.","NA","0"]
[null,null,"Postura","La fuerza de empuje o arrastre es aplicada con el tronco en flexión o torsión significativa.","NA","0"]
[null,null,"Zona de Agarre","Las manos no están delante del cuerpo o fuera del ancho de los hombros cuando se realiza la fuerza de empuje o arrastre.","NA","0"]
[null,null,"Altura aplicación de la Fuerza","La fuerza de empuje o arrastre es aplicada sobre los 150 cm o bajo los 60 cm.","NA","0"]
[null,null,"Duración","La(s) tarea(s) de empuje y arrastre de carga duran más de 8 hrs. diaria.","NA","0"]
[null,null,null,null,null,{"$f":"F4+F5+F6+F7+F8+F9+F10+F11+F12+F14+F15+F16+F17+F18+F19+F20","v":0}]

{"sheet":"TABLA 6T5P5","index":207,"n_rows":21,"n_cols":10,"rows_kept":21,"cut":false,"hidden":false,"merged":[]}
[]
[null,null,null,"EMPUJE Y ARRASTRE DE CARGA - IDENTIFICACIÓN AVANZADA CONDICIÓN CRÍTICA  \n",null,null,null,null,null,"Cuadro de Resultado Tabla 6"]
[null,null,"Condición","Levantamiento/descenso y transporte manual de carga","Si / No / NA"]
[null,null,"Ambiente de Trabajo","Presencia de temperatura extrema (bajo 16° o superior a los 26° grados Celsius) y sin ropa que proteja de las temperaturas extremas.","NA",{"$f":"IF(E4=\"No\",\"0\",IF(E4=\"NA\",\"0\",\"1\"))","v":"0"},null,null,null,"La Tarea:"]
[null,null,null,"Presencia de suelo resbaladizo, irregular o inestable.","NA",{"$f":"IF(E5=\"No\",\"0\",IF(E5=\"NA\",\"0\",\"1\"))","v":"0"},null,null,{"$f":"'TABLA 1 P5'!B14","v":"N°5"},{"$f":"'TABLA 1 P5'!C14","v":"NA"}]
[null,null,null,"Presencia de vías/caminos donde se restringen los movimientos.","NA","0",null,null,null,"Resultado:"]
[null,null,"Característica del carro o transpaleta","El carro o transpaleta reduce la vista del operador y/o dificulta su movimiento.","NA","0",null,null,{"$f":"F21","v":0},{"$f":"IF(F21>=1,\"Crítica\",\"No Crítica\")","v":"No Crítica"}]
[null,null,null,"La carga es inestable.","NA","0",null,null,null,"Por lo que usted:"]
[null,null,null,"El carro o transpaleta tiene condiciones peligrosas (bordes, superficies o protuberancias afiladas, etc) que pueden lesionar al trabajador.","NA","0",null,null,null,{"$f":"IF(J7=\"No Crítica\",\"Ha terminado el Proceso de Identificación para esta Tarea y deberá iniciar el proceso de Evaluación Cuantitativa del riesgo\",\"Ha terminado el Proceso de Identificación para esta Tarea y deberá aplicar medidas para reducir el riesgo\")","v":"Ha terminado el Proceso de Identificación para esta Tarea y deberá iniciar el proceso de Evaluación Cuantitativa del riesgo"}]
[null,null,null,"Presencia de ruedas grandes o pequeñas en mal estado, rotas, desgastadas o con poca mantención.","NA","0"]
[null,null,null,"Presencia de ruedas grandes o pequeñas inadecuadas al tipo de carro, peso de la carga y vías de desplazamiento.","NA","0"]
[null,null,"Horas de Trabajo","La tarea de levantamiento/descenso o transporte de carga dura más de 8 hrs.","NA","0"]
[null,null,"Riesgo","Empueje y Arrastre de Carga","Si / No / NA",null,null,null,null,"Si terminó de responder toda la Tabla 6 Presione Aquí para  regresar a Tabla 1 Información General del Puesto de Trabajo donde podrá continuar con la siguiente Tarea"]
[null,null,"Magnitud de la Fuerza","Método dinamómetro (*):\n1. Fuerza inicial es superior a 36 kgs. (Hombres) o 24 kgs.\n(Mujeres).\n2. Fuerza de sustentación es superior a 25 kgs. (Hombres)\ny 15 kgs. (Mujeres).\nMétodo Escala de Borg: los trabajadores perciben alto nivel de esfuerzo físico (valor 8 o más en escala de Borg) durante la (s) tarea (s) de empuje y arrastre de carga (Para obtener la información debe preguntar a los trabajadores utilizando la escala de Borg al final de este anexo).","NA",{"$f":"IF(E14=\"No\",\"0\",IF(E14=\"NA\",\"0\",\"1\"))","v":"0"}]
[null,null,"Dirección de la Fuerza","Durante el desplazamiento la carga requiere de un levantamiento parcial, mientras se empuja o arrastra.","NA",{"$f":"IF(E15=\"No\",\"0\",IF(E15=\"NA\",\"0\",\"1\"))","v":"0"}]
[null,null,"Esfuerzo Físico","La fuerza de empuje o arrastre es realizada con movimientos bruscos o de manera poco controlada.","NA","0"]
[null,null,"Postura","La fuerza de empuje o arrastre es aplicada con el tronco en flexión o torsión significativa.","NA","0"]
[null,null,"Zona de Agarre","Las manos no están delante del cuerpo o fuera del ancho de los hombros cuando se realiza la fuerza de empuje o arrastre.","NA","0"]
[null,null,"Altura aplicación de la Fuerza","La fuerza de empuje o arrastre es aplicada sobre los 150 cm o bajo los 60 cm.","NA","0"]
[null,null,"Duración","La(s) tarea(s) de empuje y arrastre de carga duran más de 8 hrs. diaria.","NA","0"]
[null,null,null,null,null,{"$f":"F4+F5+F6+F7+F8+F9+F10+F11+F12+F14+F15+F16+F17+F18+F19+F20","v":0}]

{"sheet":"TABLA 6T5P6","index":208,"n_rows":21,"n_cols":10,"rows_kept":21,"cut":false,"hidden":false,"merged":[]}
[]
[null,null,null,"EMPUJE Y ARRASTRE DE CARGA - IDENTIFICACIÓN AVANZADA CONDICIÓN CRÍTICA  \n",null,null,null,null,null,"Cuadro de Resultado Tabla 6"]
[null,null,"Condición","Levantamiento/descenso y transporte manual de carga","Si / No / NA"]
[null,null,"Ambiente de Trabajo","Presencia de temperatura extrema (bajo 16° o superior a los 26° grados Celsius) y sin ropa que proteja de las temperaturas extremas.","NA",{"$f":"IF(E4=\"No\",\"0\",IF(E4=\"NA\",\"0\",\"1\"))","v":"0"},null,null,null,"La Tarea:"]
[null,null,null,"Presencia de suelo resbaladizo, irregular o inestable.","NA",{"$f":"IF(E5=\"No\",\"0\",IF(E5=\"NA\",\"0\",\"1\"))","v":"0"},null,null,{"$f":"'TABLA 1 P6'!B14","v":"N°5"},{"$f":"'TABLA 1 P6'!C14","v":"NA"}]
[null,null,null,"Presencia de vías/caminos donde se restringen los movimientos.","NA","0",null,null,null,"Resultado:"]
[null,null,"Característica del carro o transpaleta","El carro o transpaleta reduce la vista del operador y/o dificulta su movimiento.","NA","0",null,null,{"$f":"F21","v":0},{"$f":"IF(F21>=1,\"Crítica\",\"No Crítica\")","v":"No Crítica"}]
[null,null,null,"La carga es inestable.","NA","0",null,null,null,"Por lo que usted:"]
[null,null,null,"El carro o transpaleta tiene condiciones peligrosas (bordes, superficies o protuberancias afiladas, etc) que pueden lesionar al trabajador.","NA","0",null,null,null,{"$f":"IF(J7=\"No Crítica\",\"Ha terminado el Proceso de Identificación para esta Tarea y deberá iniciar el proceso de Evaluación Cuantitativa del riesgo\",\"Ha terminado el Proceso de Identificación para esta Tarea y deberá aplicar medidas para reducir el riesgo\")","v":"Ha terminado el Proceso de Identificación para esta Tarea y deberá iniciar el proceso de Evaluación Cuantitativa del riesgo"}]
[null,null,null,"Presencia de ruedas grandes o pequeñas en mal estado, rotas, desgastadas o con poca mantención.","NA","0"]
[null,null,null,"Presencia de ruedas grandes o pequeñas inadecuadas al tipo de carro, peso de la carga y vías de desplazamiento.","NA","0"]
[null,null,"Horas de Trabajo","La tarea de levantamiento/descenso o transporte de carga dura más de 8 hrs.","NA","0"]
[null,null,"Riesgo","Empueje y Arrastre de Carga","Si / No / NA",null,null,null,null,"Si terminó de responder toda la Tabla 6 Presione Aquí para  regresar a Tabla 1 Información General del Puesto de Trabajo donde podrá continuar con la siguiente Tarea"]
[null,null,"Magnitud de la Fuerza","Método dinamómetro (*):\n1. Fuerza inicial es superior a 36 kgs. (Hombres) o 24 kgs.\n(Mujeres).\n2. Fuerza de sustentación es superior a 25 kgs. (Hombres)\ny 15 kgs. (Mujeres).\nMétodo Escala de Borg: los trabajadores perciben alto nivel de esfuerzo físico (valor 8 o más en escala de Borg) durante la (s) tarea (s) de empuje y arrastre de carga (Para obtener la información debe preguntar a los trabajadores utilizando la escala de Borg al final de este anexo).","NA",{"$f":"IF(E14=\"No\",\"0\",IF(E14=\"NA\",\"0\",\"1\"))","v":"0"}]
[null,null,"Dirección de la Fuerza","Durante el desplazamiento la carga requiere de un levantamiento parcial, mientras se empuja o arrastra.","NA",{"$f":"IF(E15=\"No\",\"0\",IF(E15=\"NA\",\"0\",\"1\"))","v":"0"}]
[null,null,"Esfuerzo Físico","La fuerza de empuje o arrastre es realizada con movimientos bruscos o de manera poco controlada.","NA","0"]
[null,null,"Postura","La fuerza de empuje o arrastre es aplicada con el tronco en flexión o torsión significativa.","NA","0"]
[null,null,"Zona de Agarre","Las manos no están delante del cuerpo o fuera del ancho de los hombros cuando se realiza la fuerza de empuje o arrastre.","NA","0"]
[null,null,"Altura aplicación de la Fuerza","La fuerza de empuje o arrastre es aplicada sobre los 150 cm o bajo los 60 cm.","NA","0"]
[null,null,"Duración","La(s) tarea(s) de empuje y arrastre de carga duran más de 8 hrs. diaria.","NA","0"]
[null,null,null,null,null,{"$f":"F4+F5+F6+F7+F8+F9+F10+F11+F12+F14+F15+F16+F17+F18+F19+F20","v":0}]

{"sheet":"TABLA 6T5P7","index":209,"n_rows":21,"n_cols":10,"rows_kept":21,"cut":false,"hidden":false,"merged":[]}
[]
[null,null,null,"EMPUJE Y ARRASTRE DE CARGA - IDENTIFICACIÓN AVANZADA CONDICIÓN CRÍTICA  \n",null,null,null,null,null,"Cuadro de Resultado Tabla 6"]
[null,null,"Condición","Levantamiento/descenso y transporte manual de carga","Si / No / NA"]
[null,null,"Ambiente de Trabajo","Presencia de temperatura extrema (bajo 16° o superior a los 26° grados Celsius) y sin ropa que proteja de las temperaturas extremas.","NA",{"$f":"IF(E4=\"No\",\"0\",IF(E4=\"NA\",\"0\",\"1\"))","v":"0"},null,null,null,"La Tarea:"]
[null,null,null,"Presencia de suelo resbaladizo, irregular o inestable.","NA",{"$f":"IF(E5=\"No\",\"0\",IF(E5=\"NA\",\"0\",\"1\"))","v":"0"},null,null,{"$f":"'TABLA 1 P7'!B14","v":"N°5"},{"$f":"'TABLA 1 P7'!C14","v":"NA"}]
[null,null,null,"Presencia de vías/caminos donde se restringen los movimientos.","NA","0",null,null,null,"Resultado:"]
[null,null,"Característica del carro o transpaleta","El carro o transpaleta reduce la vista del operador y/o dificulta su movimiento.","NA","0",null,null,{"$f":"F21","v":0},{"$f":"IF(F21>=1,\"Crítica\",\"No Crítica\")","v":"No Crítica"}]
[null,null,null,"La carga es inestable.","NA","0",null,null,null,"Por lo que usted:"]
[null,null,null,"El carro o transpaleta tiene condiciones peligrosas (bordes, superficies o protuberancias afiladas, etc) que pueden lesionar al trabajador.","NA","0",null,null,null,{"$f":"IF(J7=\"No Crítica\",\"Ha terminado el Proceso de Identificación para esta Tarea y deberá iniciar el proceso de Evaluación Cuantitativa del riesgo\",\"Ha terminado el Proceso de Identificación para esta Tarea y deberá aplicar medidas para reducir el riesgo\")","v":"Ha terminado el Proceso de Identificación para esta Tarea y deberá iniciar el proceso de Evaluación Cuantitativa del riesgo"}]
[null,null,null,"Presencia de ruedas grandes o pequeñas en mal estado, rotas, desgastadas o con poca mantención.","NA","0"]
[null,null,null,"Presencia de ruedas grandes o pequeñas inadecuadas al tipo de carro, peso de la carga y vías de desplazamiento.","NA","0"]
[null,null,"Horas de Trabajo","La tarea de levantamiento/descenso o transporte de carga dura más de 8 hrs.","NA","0"]
[null,null,"Riesgo","Empueje y Arrastre de Carga","Si / No / NA",null,null,null,null,"Si terminó de responder toda la Tabla 6 Presione Aquí para  regresar a Tabla 1 Información General del Puesto de Trabajo donde podrá continuar con la siguiente Tarea"]
[null,null,"Magnitud de la Fuerza","Método dinamómetro (*):\n1. Fuerza inicial es superior a 36 kgs. (Hombres) o 24 kgs.\n(Mujeres).\n2. Fuerza de sustentación es superior a 25 kgs. (Hombres)\ny 15 kgs. (Mujeres).\nMétodo Escala de Borg: los trabajadores perciben alto nivel de esfuerzo físico (valor 8 o más en escala de Borg) durante la (s) tarea (s) de empuje y arrastre de carga (Para obtener la información debe preguntar a los trabajadores utilizando la escala de Borg al final de este anexo).","NA",{"$f":"IF(E14=\"No\",\"0\",IF(E14=\"NA\",\"0\",\"1\"))","v":"0"}]
[null,null,"Dirección de la Fuerza","Durante el desplazamiento la carga requiere de un levantamiento parcial, mientras se empuja o arrastra.","NA",{"$f":"IF(E15=\"No\",\"0\",IF(E15=\"NA\",\"0\",\"1\"))","v":"0"}]
[null,null,"Esfuerzo Físico","La fuerza de empuje o arrastre es realizada con movimientos bruscos o de manera poco controlada.","NA","0"]
[null,null,"Postura","La fuerza de empuje o arrastre es aplicada con el tronco en flexión o torsión significativa.","NA","0"]
[null,null,"Zona de Agarre","Las manos no están delante del cuerpo o fuera del ancho de los hombros cuando se realiza la fuerza de empuje o arrastre.","NA","0"]
[null,null,"Altura aplicación de la Fuerza","La fuerza de empuje o arrastre es aplicada sobre los 150 cm o bajo los 60 cm.","NA","0"]
[null,null,"Duración","La(s) tarea(s) de empuje y arrastre de carga duran más de 8 hrs. diaria.","NA","0"]
[null,null,null,null,null,{"$f":"F4+F5+F6+F7+F8+F9+F10+F11+F12+F14+F15+F16+F17+F18+F19+F20","v":0}]

{"sheet":"TABLA 6T5P8","index":210,"n_rows":21,"n_cols":10,"rows_kept":21,"cut":false,"hidden":false,"merged":[]}
[]
[null,null,null,"EMPUJE Y ARRASTRE DE CARGA - IDENTIFICACIÓN AVANZADA CONDICIÓN CRÍTICA  \n",null,null,null,null,null,"Cuadro de Resultado Tabla 6"]
[null,null,"Condición","Levantamiento/descenso y transporte manual de carga","Si / No / NA"]
[null,null,"Ambiente de Trabajo","Presencia de temperatura extrema (bajo 16° o superior a los 26° grados Celsius) y sin ropa que proteja de las temperaturas extremas.","NA",{"$f":"IF(E4=\"No\",\"0\",IF(E4=\"NA\",\"0\",\"1\"))","v":"0"},null,null,null,"La Tarea:"]
[null,null,null,"Presencia de suelo resbaladizo, irregular o inestable.","NA",{"$f":"IF(E5=\"No\",\"0\",IF(E5=\"NA\",\"0\",\"1\"))","v":"0"},null,null,{"$f":"'TABLA 1 P8'!B14","v":"N°5"},{"$f":"'TABLA 1 P8'!C14","v":"NA"}]
[null,null,null,"Presencia de vías/caminos donde se restringen los movimientos.","NA","0",null,null,null,"Resultado:"]
[null,null,"Característica del carro o transpaleta","El carro o transpaleta reduce la vista del operador y/o dificulta su movimiento.","NA","0",null,null,{"$f":"F21","v":0},{"$f":"IF(F21>=1,\"Crítica\",\"No Crítica\")","v":"No Crítica"}]
[null,null,null,"La carga es inestable.","NA","0",null,null,null,"Por lo que usted:"]
[null,null,null,"El carro o transpaleta tiene condiciones peligrosas (bordes, superficies o protuberancias afiladas, etc) que pueden lesionar al trabajador.","NA","0",null,null,null,{"$f":"IF(J7=\"No Crítica\",\"Ha terminado el Proceso de Identificación para esta Tarea y deberá iniciar el proceso de Evaluación Cuantitativa del riesgo\",\"Ha terminado el Proceso de Identificación para esta Tarea y deberá aplicar medidas para reducir el riesgo\")","v":"Ha terminado el Proceso de Identificación para esta Tarea y deberá iniciar el proceso de Evaluación Cuantitativa del riesgo"}]
[null,null,null,"Presencia de ruedas grandes o pequeñas en mal estado, rotas, desgastadas o con poca mantención.","NA","0"]
[null,null,null,"Presencia de ruedas grandes o pequeñas inadecuadas al tipo de carro, peso de la carga y vías de desplazamiento.","NA","0"]
[null,null,"Horas de Trabajo","La tarea de levantamiento/descenso o transporte de carga dura más de 8 hrs.","NA","0"]
[null,null,"Riesgo","Empueje y Arrastre de Carga","Si / No / NA",null,null,null,null,"Si terminó de responder toda la Tabla 6 Presione Aquí para  regresar a Tabla 1 Información General del Puesto de Trabajo donde podrá continuar con la siguiente Tarea"]
[null,null,"Magnitud de la Fuerza","Método dinamómetro (*):\n1. Fuerza inicial es superior a 36 kgs. (Hombres) o 24 kgs.\n(Mujeres).\n2. Fuerza de sustentación es superior a 25 kgs. (Hombres)\ny 15 kgs. (Mujeres).\nMétodo Escala de Borg: los trabajadores perciben alto nivel de esfuerzo físico (valor 8 o más en escala de Borg) durante la (s) tarea (s) de empuje y arrastre de carga (Para obtener la información debe preguntar a los trabajadores utilizando la escala de Borg al final de este anexo).","NA",{"$f":"IF(E14=\"No\",\"0\",IF(E14=\"NA\",\"0\",\"1\"))","v":"0"}]
[null,null,"Dirección de la Fuerza","Durante el desplazamiento la carga requiere de un levantamiento parcial, mientras se empuja o arrastra.","NA",{"$f":"IF(E15=\"No\",\"0\",IF(E15=\"NA\",\"0\",\"1\"))","v":"0"}]
[null,null,"Esfuerzo Físico","La fuerza de empuje o arrastre es realizada con movimientos bruscos o de manera poco controlada.","NA","0"]
[null,null,"Postura","La fuerza de empuje o arrastre es aplicada con el tronco en flexión o torsión significativa.","NA","0"]
[null,null,"Zona de Agarre","Las manos no están delante del cuerpo o fuera del ancho de los hombros cuando se realiza la fuerza de empuje o arrastre.","NA","0"]
[null,null,"Altura aplicación de la Fuerza","La fuerza de empuje o arrastre es aplicada sobre los 150 cm o bajo los 60 cm.","NA","0"]
[null,null,"Duración","La(s) tarea(s) de empuje y arrastre de carga duran más de 8 hrs. diaria.","NA","0"]
[null,null,null,null,null,{"$f":"F4+F5+F6+F7+F8+F9+F10+F11+F12+F14+F15+F16+F17+F18+F19+F20","v":0}]

{"sheet":"TABLA 6T5P9","index":211,"n_rows":21,"n_cols":10,"rows_kept":21,"cut":false,"hidden":false,"merged":[]}
[]
[null,null,null,"EMPUJE Y ARRASTRE DE CARGA - IDENTIFICACIÓN AVANZADA CONDICIÓN CRÍTICA  \n",null,null,null,null,null,"Cuadro de Resultado Tabla 6"]
[null,null,"Condición","Levantamiento/descenso y transporte manual de carga","Si / No / NA"]
[null,null,"Ambiente de Trabajo","Presencia de temperatura extrema (bajo 16° o superior a los 26° grados Celsius) y sin ropa que proteja de las temperaturas extremas.","NA",{"$f":"IF(E4=\"No\",\"0\",IF(E4=\"NA\",\"0\",\"1\"))","v":"0"},null,null,null,"La Tarea:"]
[null,null,null,"Presencia de suelo resbaladizo, irregular o inestable.","NA",{"$f":"IF(E5=\"No\",\"0\",IF(E5=\"NA\",\"0\",\"1\"))","v":"0"},null,null,{"$f":"'TABLA 1 P9'!B14","v":"N°5"},{"$f":"'TABLA 1 P9'!C14","v":"NA"}]
[null,null,null,"Presencia de vías/caminos donde se restringen los movimientos.","NA","0",null,null,null,"Resultado:"]
[null,null,"Característica del carro o transpaleta","El carro o transpaleta reduce la vista del operador y/o dificulta su movimiento.","NA","0",null,null,{"$f":"F21","v":0},{"$f":"IF(F21>=1,\"Crítica\",\"No Crítica\")","v":"No Crítica"}]
[null,null,null,"La carga es inestable.","NA","0",null,null,null,"Por lo que usted:"]
[null,null,null,"El carro o transpaleta tiene condiciones peligrosas (bordes, superficies o protuberancias afiladas, etc) que pueden lesionar al trabajador.","NA","0",null,null,null,{"$f":"IF(J7=\"No Crítica\",\"Ha terminado el Proceso de Identificación para esta Tarea y deberá iniciar el proceso de Evaluación Cuantitativa del riesgo\",\"Ha terminado el Proceso de Identificación para esta Tarea y deberá aplicar medidas para reducir el riesgo\")","v":"Ha terminado el Proceso de Identificación para esta Tarea y deberá iniciar el proceso de Evaluación Cuantitativa del riesgo"}]
[null,null,null,"Presencia de ruedas grandes o pequeñas en mal estado, rotas, desgastadas o con poca mantención.","NA","0"]
[null,null,null,"Presencia de ruedas grandes o pequeñas inadecuadas al tipo de carro, peso de la carga y vías de desplazamiento.","NA","0"]
[null,null,"Horas de Trabajo","La tarea de levantamiento/descenso o transporte de carga dura más de 8 hrs.","NA","0"]
[null,null,"Riesgo","Empueje y Arrastre de Carga","Si / No / NA",null,null,null,null,"Si terminó de responder toda la Tabla 6 Presione Aquí para  regresar a Tabla 1 Información General del Puesto de Trabajo donde podrá continuar con la siguiente Tarea"]
[null,null,"Magnitud de la Fuerza","Método dinamómetro (*):\n1. Fuerza inicial es superior a 36 kgs. (Hombres) o 24 kgs.\n(Mujeres).\n2. Fuerza de sustentación es superior a 25 kgs. (Hombres)\ny 15 kgs. (Mujeres).\nMétodo Escala de Borg: los trabajadores perciben alto nivel de esfuerzo físico (valor 8 o más en escala de Borg) durante la (s) tarea (s) de empuje y arrastre de carga (Para obtener la información debe preguntar a los trabajadores utilizando la escala de Borg al final de este anexo).","NA",{"$f":"IF(E14=\"No\",\"0\",IF(E14=\"NA\",\"0\",\"1\"))","v":"0"}]
[null,null,"Dirección de la Fuerza","Durante el desplazamiento la carga requiere de un levantamiento parcial, mientras se empuja o arrastra.","NA",{"$f":"IF(E15=\"No\",\"0\",IF(E15=\"NA\",\"0\",\"1\"))","v":"0"}]
[null,null,"Esfuerzo Físico","La fuerza de empuje o arrastre es realizada con movimientos bruscos o de manera poco controlada.","NA","0"]
[null,null,"Postura","La fuerza de empuje o arrastre es aplicada con el tronco en flexión o torsión significativa.","NA","0"]
[null,null,"Zona de Agarre","Las manos no están delante del cuerpo o fuera del ancho de los hombros cuando se realiza la fuerza de empuje o arrastre.","NA","0"]
[null,null,"Altura aplicación de la Fuerza","La fuerza de empuje o arrastre es aplicada sobre los 150 cm o bajo los 60 cm.","NA","0"]
[null,null,"Duración","La(s) tarea(s) de empuje y arrastre de carga duran más de 8 hrs. diaria.","NA","0"]
[null,null,null,null,null,{"$f":"F4+F5+F6+F7+F8+F9+F10+F11+F12+F14+F15+F16+F17+F18+F19+F20","v":0}]

{"sheet":"TABLA 6T5P10","index":212,"n_rows":21,"n_cols":10,"rows_kept":21,"cut":false,"hidden":false,"merged":[]}
[]
[null,null,null,"EMPUJE Y ARRASTRE DE CARGA - IDENTIFICACIÓN AVANZADA CONDICIÓN CRÍTICA  \n",null,null,null,null,null,"Cuadro de Resultado Tabla 6"]
[null,null,"Condición","Levantamiento/descenso y transporte manual de carga","Si / No / NA"]
[null,null,"Ambiente de Trabajo","Presencia de temperatura extrema (bajo 16° o superior a los 26° grados Celsius) y sin ropa que proteja de las temperaturas extremas.","NA",{"$f":"IF(E4=\"No\",\"0\",IF(E4=\"NA\",\"0\",\"1\"))","v":"0"},null,null,null,"La Tarea:"]
[null,null,null,"Presencia de suelo resbaladizo, irregular o inestable.","NA",{"$f":"IF(E5=\"No\",\"0\",IF(E5=\"NA\",\"0\",\"1\"))","v":"0"},null,null,{"$f":"'TABLA 1 P10'!B14","v":"N°5"},{"$f":"'TABLA 1 P10'!C14","v":"NA"}]
[null,null,null,"Presencia de vías/caminos donde se restringen los movimientos.","NA","0",null,null,null,"Resultado:"]
[null,null,"Característica del carro o transpaleta","El carro o transpaleta reduce la vista del operador y/o dificulta su movimiento.","NA","0",null,null,{"$f":"F21","v":0},{"$f":"IF(F21>=1,\"Crítica\",\"No Crítica\")","v":"No Crítica"}]
[null,null,null,"La carga es inestable.","NA","0",null,null,null,"Por lo que usted:"]
[null,null,null,"El carro o transpaleta tiene condiciones peligrosas (bordes, superficies o protuberancias afiladas, etc) que pueden lesionar al trabajador.","NA","0",null,null,null,{"$f":"IF(J7=\"No Crítica\",\"Ha terminado el Proceso de Identificación para esta Tarea y deberá iniciar el proceso de Evaluación Cuantitativa del riesgo\",\"Ha terminado el Proceso de Identificación para esta Tarea y deberá aplicar medidas para reducir el riesgo\")","v":"Ha terminado el Proceso de Identificación para esta Tarea y deberá iniciar el proceso de Evaluación Cuantitativa del riesgo"}]
[null,null,null,"Presencia de ruedas grandes o pequeñas en mal estado, rotas, desgastadas o con poca mantención.","NA","0"]
[null,null,null,"Presencia de ruedas grandes o pequeñas inadecuadas al tipo de carro, peso de la carga y vías de desplazamiento.","NA","0"]
[null,null,"Horas de Trabajo","La tarea de levantamiento/descenso o transporte de carga dura más de 8 hrs.","NA","0"]
[null,null,"Riesgo","Empueje y Arrastre de Carga","Si / No / NA",null,null,null,null,"Si terminó de responder toda la Tabla 6 Presione Aquí para  regresar a Tabla 1 Información General del Puesto de Trabajo donde podrá continuar con la siguiente Tarea"]
[null,null,"Magnitud de la Fuerza","Método dinamómetro (*):\n1. Fuerza inicial es superior a 36 kgs. (Hombres) o 24 kgs.\n(Mujeres).\n2. Fuerza de sustentación es superior a 25 kgs. (Hombres)\ny 15 kgs. (Mujeres).\nMétodo Escala de Borg: los trabajadores perciben alto nivel de esfuerzo físico (valor 8 o más en escala de Borg) durante la (s) tarea (s) de empuje y arrastre de carga (Para obtener la información debe preguntar a los trabajadores utilizando la escala de Borg al final de este anexo).","NA",{"$f":"IF(E14=\"No\",\"0\",IF(E14=\"NA\",\"0\",\"1\"))","v":"0"}]
[null,null,"Dirección de la Fuerza","Durante el desplazamiento la carga requiere de un levantamiento parcial, mientras se empuja o arrastra.","NA",{"$f":"IF(E15=\"No\",\"0\",IF(E15=\"NA\",\"0\",\"1\"))","v":"0"}]
[null,null,"Esfuerzo Físico","La fuerza de empuje o arrastre es realizada con movimientos bruscos o de manera poco controlada.","NA","0"]
[null,null,"Postura","La fuerza de empuje o arrastre es aplicada con el tronco en flexión o torsión significativa.","NA","0"]
[null,null,"Zona de Agarre","Las manos no están delante del cuerpo o fuera del ancho de los hombros cuando se realiza la fuerza de empuje o arrastre.","NA","0"]
[null,null,"Altura aplicación de la Fuerza","La fuerza de empuje o arrastre es aplicada sobre los 150 cm o bajo los 60 cm.","NA","0"]
[null,null,"Duración","La(s) tarea(s) de empuje y arrastre de carga duran más de 8 hrs. diaria.","NA","0"]
[null,null,null,null,null,{"$f":"F4+F5+F6+F7+F8+F9+F10+F11+F12+F14+F15+F16+F17+F18+F19+F20","v":0}]

{"sheet":"TABLA 7T1P1","index":213,"n_rows":26,"n_cols":11,"rows_kept":26,"cut":false,"hidden":false,"merged":[]}
[]
[null,null,null,"MANEJO MANUAL DE PERSONAS/PACIENTES- IDENTIFICACIÓN AVANZADA  CONDICIÓN ACEPTABLE  ",null,null,null,null,null,"Cuadro de Resultado Tabla 7"]
[null,null,"Riesgo","Empueje y Arrastre de Carga","Si / No / NA"]
[null,null,null,"En promedio, por turno, el trabajador realiza 6 o menos MMP que superen los 15 kg. cada uno.","NA",{"$f":"IF(E4=\"SI\",\"0\",IF(E4=\"NA\",\"0\",\"1\"))","v":"0"},null,null,null,"La Tarea:"]
[null,null,"Aplicación de la Fuerza","Ausencia de asimetría (Ej: cuerpo rotado, torsión y/o inclinación de tronco).","NA",{"$f":"IF(E5=\"SI\",\"0\",IF(E5=\"NA\",\"0\",\"1\"))","v":"0"},null,null,{"$f":"'TABLA 1 P1'!B6","v":"N° 1"},{"$f":"'TABLA 1 P1'!C6","v":"NA"}]
[null,null,null,"El paciente es mantenido cerca del cuerpo del trabajador.","NA","0",null,null,null,"Resultado:"]
[null,null,null,"El MMP se realiza entre la altura nudillo suelo y la altura codo suelo (°).","NA","0",null,null,{"$f":"F18","v":0},{"$f":"IF(F18>=1,\"No es Aceptable\",\"Aceptable\")","v":"Aceptable"}]
[null,null,null,"Cuenta con camas regulables en altura.","NA","0",null,null,null,"Por lo que usted:"]
[null,null,"Equipamiento","Existe y se utilizan de forma correcta las ayudas mecánicas.","NA","0",null,null,null,{"$f":"IF(J7=\"Aceptable\",\"Ha Terminado el Proceso de Identificación para esta Tarea\",\"Debe Aplicar Tabla 8\")","v":"Ha Terminado el Proceso de Identificación para esta Tarea"},{"$f":"F18","v":0}]
[null,null,null,"Existen programas de mantenimiento de las ayudas mecánicas, de sillas de rueda y camillas.","NA","0"]
[null,null,"Ambiente y espacios","La iluminación permite visualizar todos los elementos en el espacio de trabajo y la temperatura son adecuadas está entre 19° y 25° grados Celsius.","NA","0",null,null,null,{"$f":"IF(J7=\"Aceptable\",\"Si terminó de responder toda la Tabla 7 Presione Aquí para  regresar a Tabla 1 Información General del Puesto de Trabajo donde podrá continuar con la siguiente Tarea\",\"\")","v":"Si terminó de responder toda la Tabla 7 Presione Aquí para  regresar a Tabla 1 Información General del Puesto de Trabajo donde podrá continuar con la siguiente Tarea"},{"$f":"F18","v":0}]
[null,null,null,"Existe suficiente espacio para moverse libremente y para utilizar las ayudas mecánicas existentes.","NA","0"]
[null,null,null,"Presencia de suelo en salas, pasillos y otros que permiten el normal desplazamiento de sillas de rueda y camillas.","NA","0",null,null,null,null,{"$f":"F18","v":0}]
[null,null,"Organización","Existe un programa institucional para la prevención del riego por MMP: evaluación de riesgo, clasificación de pacientes (según nivel de asistencia requerida, peso, etc.), monitoreo de la salud de los trabajadores, etc.","NA","0"]
[null,null,null,"Existen procedimientos escritos e informados de MMP de acuerdo con el peso y características del paciente.","NA","0",null,null,null,null,{"$f":"F18","v":0}]
[null,null,null,"La organización del trabajo permite distribuir las tareas de MMP a lo largo de la jornada e incluye periodos de descanso dentro de ella.","NA","0"]
[null,null,"Entrenamiento","Al menos un 75 % de los trabajadores del servicio/unidad recibieron capacitación teórico-práctico en MMP en los últimos 12 meses.","NA","0",null,null,null,null,{"$f":"F18","v":0}]
[null,null,null,null,null,{"$f":"F4+F5+F6+F7+F8+F9+F10+F11+F12+F13+F14+F15+F16+F17","v":0}]
[]
[]
[null,null,null,null,null,null,null,null,null,null,{"$f":"F18","v":0}]
[]
[]
[]
[]
[null,null,null,null,null,null,null,null,null,"Presione solo si al completar Tabla 7  se lo indica el Cuadro de Resultado",{"$f":"F18","v":0}]

{"sheet":"TABLA 7T1P2","index":214,"n_rows":26,"n_cols":11,"rows_kept":26,"cut":false,"hidden":false,"merged":[]}
[]
[null,null,null,"MANEJO MANUAL DE PERSONAS/PACIENTES- IDENTIFICACIÓN AVANZADA  CONDICIÓN ACEPTABLE  ",null,null,null,null,null,"Cuadro de Resultado Tabla 7"]
[null,null,"Riesgo","Empueje y Arrastre de Carga","Si / No / NA"]
[null,null,null,"En promedio, por turno, el trabajador realiza 6 o menos MMP que superen los 15 kg. cada uno.","NA",{"$f":"IF(E4=\"SI\",\"0\",IF(E4=\"NA\",\"0\",\"1\"))","v":"0"},null,null,null,"La Tarea:"]
[null,null,"Aplicación de la Fuerza","Ausencia de asimetría (Ej: cuerpo rotado, torsión y/o inclinación de tronco).","NA",{"$f":"IF(E5=\"SI\",\"0\",IF(E5=\"NA\",\"0\",\"1\"))","v":"0"},null,null,{"$f":"'TABLA 1 P2'!B6","v":"N° 1"},{"$f":"'TABLA 1 P2'!C6","v":"NA"}]
[null,null,null,"El paciente es mantenido cerca del cuerpo del trabajador.","NA","0",null,null,null,"Resultado:"]
[null,null,null,"El MMP se realiza entre la altura nudillo suelo y la altura codo suelo (°).","NA","0",null,null,{"$f":"F18","v":0},{"$f":"IF(F18>=1,\"No es Aceptable\",\"Aceptable\")","v":"Aceptable"}]
[null,null,null,"Cuenta con camas regulables en altura.","NA","0",null,null,null,"Por lo que usted:"]
[null,null,"Equipamiento","Existe y se utilizan de forma correcta las ayudas mecánicas.","NA","0",null,null,null,{"$f":"IF(J7=\"Aceptable\",\"Ha Terminado el Proceso de Identificación para esta Tarea\",\"Debe Aplicar Tabla 8\")","v":"Ha Terminado el Proceso de Identificación para esta Tarea"},{"$f":"F18","v":0}]
[null,null,null,"Existen programas de mantenimiento de las ayudas mecánicas, de sillas de rueda y camillas.","NA","0"]
[null,null,"Ambiente y espacios","La iluminación permite visualizar todos los elementos en el espacio de trabajo y la temperatura son adecuadas está entre 19° y 25° grados Celsius.","NA","0",null,null,null,{"$f":"IF(J7=\"Aceptable\",\"Si terminó de responder toda la Tabla 7 Presione Aquí para  regresar a Tabla 1 Información General del Puesto de Trabajo donde podrá continuar con la siguiente Tarea\",\"\")","v":"Si terminó de responder toda la Tabla 7 Presione Aquí para  regresar a Tabla 1 Información General del Puesto de Trabajo donde podrá continuar con la siguiente Tarea"},{"$f":"F18","v":0}]
[null,null,null,"Existe suficiente espacio para moverse libremente y para utilizar las ayudas mecánicas existentes.","NA","0"]
[null,null,null,"Presencia de suelo en salas, pasillos y otros que permiten el normal desplazamiento de sillas de rueda y camillas.","NA","0",null,null,null,null,{"$f":"F18","v":0}]
[null,null,"Organización","Existe un programa institucional para la prevención del riego por MMP: evaluación de riesgo, clasificación de pacientes (según nivel de asistencia requerida, peso, etc.), monitoreo de la salud de los trabajadores, etc.","NA","0"]
[null,null,null,"Existen procedimientos escritos e informados de MMP de acuerdo con el peso y características del paciente.","NA","0",null,null,null,null,{"$f":"F18","v":0}]
[null,null,null,"La organización del trabajo permite distribuir las tareas de MMP a lo largo de la jornada e incluye periodos de descanso dentro de ella.","NA","0"]
[null,null,"Entrenamiento","Al menos un 75 % de los trabajadores del servicio/unidad recibieron capacitación teórico-práctico en MMP en los últimos 12 meses.","NA","0",null,null,null,null,{"$f":"F18","v":0}]
[null,null,null,null,null,{"$f":"F4+F5+F6+F7+F8+F9+F10+F11+F12+F13+F14+F15+F16+F17","v":0}]
[]
[]
[null,null,null,null,null,null,null,null,null,null,{"$f":"F18","v":0}]
[]
[]
[]
[]
[null,null,null,null,null,null,null,null,null,"Presione solo si al completar Tabla 7  se lo indica el Cuadro de Resultado",{"$f":"F18","v":0}]

{"sheet":"TABLA 7T1P3","index":215,"n_rows":26,"n_cols":11,"rows_kept":26,"cut":false,"hidden":false,"merged":[]}
[]
[null,null,null,"MANEJO MANUAL DE PERSONAS/PACIENTES- IDENTIFICACIÓN AVANZADA  CONDICIÓN ACEPTABLE  ",null,null,null,null,null,"Cuadro de Resultado Tabla 7"]
[null,null,"Riesgo","Empueje y Arrastre de Carga","Si / No / NA"]
[null,null,null,"En promedio, por turno, el trabajador realiza 6 o menos MMP que superen los 15 kg. cada uno.","NA",{"$f":"IF(E4=\"SI\",\"0\",IF(E4=\"NA\",\"0\",\"1\"))","v":"0"},null,null,null,"La Tarea:"]
[null,null,"Aplicación de la Fuerza","Ausencia de asimetría (Ej: cuerpo rotado, torsión y/o inclinación de tronco).","NA",{"$f":"IF(E5=\"SI\",\"0\",IF(E5=\"NA\",\"0\",\"1\"))","v":"0"},null,null,{"$f":"'TABLA 1 P3'!B6","v":"N° 1"},{"$f":"'TABLA 1 P3'!C6","v":"NA"}]
[null,null,null,"El paciente es mantenido cerca del cuerpo del trabajador.","NA","0",null,null,null,"Resultado:"]
[null,null,null,"El MMP se realiza entre la altura nudillo suelo y la altura codo suelo (°).","NA","0",null,null,{"$f":"F18","v":0},{"$f":"IF(F18>=1,\"No es Aceptable\",\"Aceptable\")","v":"Aceptable"}]
[null,null,null,"Cuenta con camas regulables en altura.","NA","0",null,null,null,"Por lo que usted:"]
[null,null,"Equipamiento","Existe y se utilizan de forma correcta las ayudas mecánicas.","NA","0",null,null,null,{"$f":"IF(J7=\"Aceptable\",\"Ha Terminado el Proceso de Identificación para esta Tarea\",\"Debe Aplicar Tabla 8\")","v":"Ha Terminado el Proceso de Identificación para esta Tarea"},{"$f":"F18","v":0}]
[null,null,null,"Existen programas de mantenimiento de las ayudas mecánicas, de sillas de rueda y camillas.","NA","0"]
[null,null,"Ambiente y espacios","La iluminación permite visualizar todos los elementos en el espacio de trabajo y la temperatura son adecuadas está entre 19° y 25° grados Celsius.","NA","0",null,null,null,{"$f":"IF(J7=\"Aceptable\",\"Si terminó de responder toda la Tabla 7 Presione Aquí para  regresar a Tabla 1 Información General del Puesto de Trabajo donde podrá continuar con la siguiente Tarea\",\"\")","v":"Si terminó de responder toda la Tabla 7 Presione Aquí para  regresar a Tabla 1 Información General del Puesto de Trabajo donde podrá continuar con la siguiente Tarea"},{"$f":"F18","v":0}]
[null,null,null,"Existe suficiente espacio para moverse libremente y para utilizar las ayudas mecánicas existentes.","NA","0"]
[null,null,null,"Presencia de suelo en salas, pasillos y otros que permiten el normal desplazamiento de sillas de rueda y camillas.","NA","0",null,null,null,null,{"$f":"F18","v":0}]
[null,null,"Organización","Existe un programa institucional para la prevención del riego por MMP: evaluación de riesgo, clasificación de pacientes (según nivel de asistencia requerida, peso, etc.), monitoreo de la salud de los trabajadores, etc.","NA","0"]
[null,null,null,"Existen procedimientos escritos e informados de MMP de acuerdo con el peso y características del paciente.","NA","0",null,null,null,null,{"$f":"F18","v":0}]
[null,null,null,"La organización del trabajo permite distribuir las tareas de MMP a lo largo de la jornada e incluye periodos de descanso dentro de ella.","NA","0"]
[null,null,"Entrenamiento","Al menos un 75 % de los trabajadores del servicio/unidad recibieron capacitación teórico-práctico en MMP en los últimos 12 meses.","NA","0",null,null,null,null,{"$f":"F18","v":0}]
[null,null,null,null,null,{"$f":"F4+F5+F6+F7+F8+F9+F10+F11+F12+F13+F14+F15+F16+F17","v":0}]
[]
[]
[null,null,null,null,null,null,null,null,null,null,{"$f":"F18","v":0}]
[]
[]
[]
[]
[null,null,null,null,null,null,null,null,null,"Presione solo si al completar Tabla 7  se lo indica el Cuadro de Resultado",{"$f":"F18","v":0}]

{"sheet":"TABLA 7T1P4","index":216,"n_rows":26,"n_cols":11,"rows_kept":26,"cut":false,"hidden":false,"merged":[]}
[]
[null,null,null,"MANEJO MANUAL DE PERSONAS/PACIENTES- IDENTIFICACIÓN AVANZADA  CONDICIÓN ACEPTABLE  ",null,null,null,null,null,"Cuadro de Resultado Tabla 7"]
[null,null,"Riesgo","Empueje y Arrastre de Carga","Si / No / NA"]
[null,null,null,"En promedio, por turno, el trabajador realiza 6 o menos MMP que superen los 15 kg. cada uno.","NA",{"$f":"IF(E4=\"SI\",\"0\",IF(E4=\"NA\",\"0\",\"1\"))","v":"0"},null,null,null,"La Tarea:"]
[null,null,"Aplicación de la Fuerza","Ausencia de asimetría (Ej: cuerpo rotado, torsión y/o inclinación de tronco).","NA",{"$f":"IF(E5=\"SI\",\"0\",IF(E5=\"NA\",\"0\",\"1\"))","v":"0"},null,null,{"$f":"'TABLA 1 P4'!B6","v":"N° 1"},{"$f":"'TABLA 1 P4'!C6","v":"NA"}]
[null,null,null,"El paciente es mantenido cerca del cuerpo del trabajador.","NA","0",null,null,null,"Resultado:"]
[null,null,null,"El MMP se realiza entre la altura nudillo suelo y la altura codo suelo (°).","NA","0",null,null,{"$f":"F18","v":0},{"$f":"IF(F18>=1,\"No es Aceptable\",\"Aceptable\")","v":"Aceptable"}]
[null,null,null,"Cuenta con camas regulables en altura.","NA","0",null,null,null,"Por lo que usted:"]
[null,null,"Equipamiento","Existe y se utilizan de forma correcta las ayudas mecánicas.","NA","0",null,null,null,{"$f":"IF(J7=\"Aceptable\",\"Ha Terminado el Proceso de Identificación para esta Tarea\",\"Debe Aplicar Tabla 8\")","v":"Ha Terminado el Proceso de Identificación para esta Tarea"},{"$f":"F18","v":0}]
[null,null,null,"Existen programas de mantenimiento de las ayudas mecánicas, de sillas de rueda y camillas.","NA","0"]
[null,null,"Ambiente y espacios","La iluminación permite visualizar todos los elementos en el espacio de trabajo y la temperatura son adecuadas está entre 19° y 25° grados Celsius.","NA","0",null,null,null,{"$f":"IF(J7=\"Aceptable\",\"Si terminó de responder toda la Tabla 7 Presione Aquí para  regresar a Tabla 1 Información General del Puesto de Trabajo donde podrá continuar con la siguiente Tarea\",\"\")","v":"Si terminó de responder toda la Tabla 7 Presione Aquí para  regresar a Tabla 1 Información General del Puesto de Trabajo donde podrá continuar con la siguiente Tarea"},{"$f":"F18","v":0}]
[null,null,null,"Existe suficiente espacio para moverse libremente y para utilizar las ayudas mecánicas existentes.","NA","0"]
[null,null,null,"Presencia de suelo en salas, pasillos y otros que permiten el normal desplazamiento de sillas de rueda y camillas.","NA","0",null,null,null,null,{"$f":"F18","v":0}]
[null,null,"Organización","Existe un programa institucional para la prevención del riego por MMP: evaluación de riesgo, clasificación de pacientes (según nivel de asistencia requerida, peso, etc.), monitoreo de la salud de los trabajadores, etc.","NA","0"]
[null,null,null,"Existen procedimientos escritos e informados de MMP de acuerdo con el peso y características del paciente.","NA","0",null,null,null,null,{"$f":"F18","v":0}]
[null,null,null,"La organización del trabajo permite distribuir las tareas de MMP a lo largo de la jornada e incluye periodos de descanso dentro de ella.","NA","0"]
[null,null,"Entrenamiento","Al menos un 75 % de los trabajadores del servicio/unidad recibieron capacitación teórico-práctico en MMP en los últimos 12 meses.","NA","0",null,null,null,null,{"$f":"F18","v":0}]
[null,null,null,null,null,{"$f":"F4+F5+F6+F7+F8+F9+F10+F11+F12+F13+F14+F15+F16+F17","v":0}]
[]
[]
[null,null,null,null,null,null,null,null,null,null,{"$f":"F18","v":0}]
[]
[]
[]
[]
[null,null,null,null,null,null,null,null,null,"Presione solo si al completar Tabla 7  se lo indica el Cuadro de Resultado",{"$f":"F18","v":0}]

{"sheet":"TABLA 7T1P5","index":217,"n_rows":26,"n_cols":11,"rows_kept":26,"cut":false,"hidden":false,"merged":[]}
[]
[null,null,null,"MANEJO MANUAL DE PERSONAS/PACIENTES- IDENTIFICACIÓN AVANZADA  CONDICIÓN ACEPTABLE  ",null,null,null,null,null,"Cuadro de Resultado Tabla 7"]
[null,null,"Riesgo","Empueje y Arrastre de Carga","Si / No / NA"]
[null,null,null,"En promedio, por turno, el trabajador realiza 6 o menos MMP que superen los 15 kg. cada uno.","NA",{"$f":"IF(E4=\"SI\",\"0\",IF(E4=\"NA\",\"0\",\"1\"))","v":"0"},null,null,null,"La Tarea:"]
[null,null,"Aplicación de la Fuerza","Ausencia de asimetría (Ej: cuerpo rotado, torsión y/o inclinación de tronco).","NA",{"$f":"IF(E5=\"SI\",\"0\",IF(E5=\"NA\",\"0\",\"1\"))","v":"0"},null,null,{"$f":"'TABLA 1 P5'!B6","v":"N° 1"},{"$f":"'TABLA 1 P5'!C6","v":"NA"}]
[null,null,null,"El paciente es mantenido cerca del cuerpo del trabajador.","NA","0",null,null,null,"Resultado:"]
[null,null,null,"El MMP se realiza entre la altura nudillo suelo y la altura codo suelo (°).","NA","0",null,null,{"$f":"F18","v":0},{"$f":"IF(F18>=1,\"No es Aceptable\",\"Aceptable\")","v":"Aceptable"}]
[null,null,null,"Cuenta con camas regulables en altura.","NA","0",null,null,null,"Por lo que usted:"]
[null,null,"Equipamiento","Existe y se utilizan de forma correcta las ayudas mecánicas.","NA","0",null,null,null,{"$f":"IF(J7=\"Aceptable\",\"Ha Terminado el Proceso de Identificación para esta Tarea\",\"Debe Aplicar Tabla 8\")","v":"Ha Terminado el Proceso de Identificación para esta Tarea"},{"$f":"F18","v":0}]
[null,null,null,"Existen programas de mantenimiento de las ayudas mecánicas, de sillas de rueda y camillas.","NA","0"]
[null,null,"Ambiente y espacios","La iluminación permite visualizar todos los elementos en el espacio de trabajo y la temperatura son adecuadas está entre 19° y 25° grados Celsius.","NA","0",null,null,null,{"$f":"IF(J7=\"Aceptable\",\"Si terminó de responder toda la Tabla 7 Presione Aquí para  regresar a Tabla 1 Información General del Puesto de Trabajo donde podrá continuar con la siguiente Tarea\",\"\")","v":"Si terminó de responder toda la Tabla 7 Presione Aquí para  regresar a Tabla 1 Información General del Puesto de Trabajo donde podrá continuar con la siguiente Tarea"},{"$f":"F18","v":0}]
[null,null,null,"Existe suficiente espacio para moverse libremente y para utilizar las ayudas mecánicas existentes.","NA","0"]
[null,null,null,"Presencia de suelo en salas, pasillos y otros que permiten el normal desplazamiento de sillas de rueda y camillas.","NA","0",null,null,null,null,{"$f":"F18","v":0}]
[null,null,"Organización","Existe un programa institucional para la prevención del riego por MMP: evaluación de riesgo, clasificación de pacientes (según nivel de asistencia requerida, peso, etc.), monitoreo de la salud de los trabajadores, etc.","NA","0"]
[null,null,null,"Existen procedimientos escritos e informados de MMP de acuerdo con el peso y características del paciente.","NA","0",null,null,null,null,{"$f":"F18","v":0}]
[null,null,null,"La organización del trabajo permite distribuir las tareas de MMP a lo largo de la jornada e incluye periodos de descanso dentro de ella.","NA","0"]
[null,null,"Entrenamiento","Al menos un 75 % de los trabajadores del servicio/unidad recibieron capacitación teórico-práctico en MMP en los últimos 12 meses.","NA","0",null,null,null,null,{"$f":"F18","v":0}]
[null,null,null,null,null,{"$f":"F4+F5+F6+F7+F8+F9+F10+F11+F12+F13+F14+F15+F16+F17","v":0}]
[]
[]
[null,null,null,null,null,null,null,null,null,null,{"$f":"F18","v":0}]
[]
[]
[]
[]
[null,null,null,null,null,null,null,null,null,"Presione solo si al completar Tabla 7  se lo indica el Cuadro de Resultado",{"$f":"F18","v":0}]

{"sheet":"TABLA 7T1P6","index":218,"n_rows":26,"n_cols":11,"rows_kept":26,"cut":false,"hidden":false,"merged":[]}
[]
[null,null,null,"MANEJO MANUAL DE PERSONAS/PACIENTES- IDENTIFICACIÓN AVANZADA  CONDICIÓN ACEPTABLE  ",null,null,null,null,null,"Cuadro de Resultado Tabla 7"]
[null,null,"Riesgo","Empueje y Arrastre de Carga","Si / No / NA"]
[null,null,null,"En promedio, por turno, el trabajador realiza 6 o menos MMP que superen los 15 kg. cada uno.","NA",{"$f":"IF(E4=\"SI\",\"0\",IF(E4=\"NA\",\"0\",\"1\"))","v":"0"},null,null,null,"La Tarea:"]
[null,null,"Aplicación de la Fuerza","Ausencia de asimetría (Ej: cuerpo rotado, torsión y/o inclinación de tronco).","NA",{"$f":"IF(E5=\"SI\",\"0\",IF(E5=\"NA\",\"0\",\"1\"))","v":"0"},null,null,{"$f":"'TABLA 1 P6'!B6","v":"N° 1"},{"$f":"'TABLA 1 P6'!C6","v":"NA"}]
[null,null,null,"El paciente es mantenido cerca del cuerpo del trabajador.","NA","0",null,null,null,"Resultado:"]
[null,null,null,"El MMP se realiza entre la altura nudillo suelo y la altura codo suelo (°).","NA","0",null,null,{"$f":"F18","v":0},{"$f":"IF(F18>=1,\"No es Aceptable\",\"Aceptable\")","v":"Aceptable"}]
[null,null,null,"Cuenta con camas regulables en altura.","NA","0",null,null,null,"Por lo que usted:"]
[null,null,"Equipamiento","Existe y se utilizan de forma correcta las ayudas mecánicas.","NA","0",null,null,null,{"$f":"IF(J7=\"Aceptable\",\"Ha Terminado el Proceso de Identificación para esta Tarea\",\"Debe Aplicar Tabla 8\")","v":"Ha Terminado el Proceso de Identificación para esta Tarea"},{"$f":"F18","v":0}]
[null,null,null,"Existen programas de mantenimiento de las ayudas mecánicas, de sillas de rueda y camillas.","NA","0"]
[null,null,"Ambiente y espacios","La iluminación permite visualizar todos los elementos en el espacio de trabajo y la temperatura son adecuadas está entre 19° y 25° grados Celsius.","NA","0",null,null,null,{"$f":"IF(J7=\"Aceptable\",\"Si terminó de responder toda la Tabla 7 Presione Aquí para  regresar a Tabla 1 Información General del Puesto de Trabajo donde podrá continuar con la siguiente Tarea\",\"\")","v":"Si terminó de responder toda la Tabla 7 Presione Aquí para  regresar a Tabla 1 Información General del Puesto de Trabajo donde podrá continuar con la siguiente Tarea"},{"$f":"F18","v":0}]
[null,null,null,"Existe suficiente espacio para moverse libremente y para utilizar las ayudas mecánicas existentes.","NA","0"]
[null,null,null,"Presencia de suelo en salas, pasillos y otros que permiten el normal desplazamiento de sillas de rueda y camillas.","NA","0",null,null,null,null,{"$f":"F18","v":0}]
[null,null,"Organización","Existe un programa institucional para la prevención del riego por MMP: evaluación de riesgo, clasificación de pacientes (según nivel de asistencia requerida, peso, etc.), monitoreo de la salud de los trabajadores, etc.","NA","0"]
[null,null,null,"Existen procedimientos escritos e informados de MMP de acuerdo con el peso y características del paciente.","NA","0",null,null,null,null,{"$f":"F18","v":0}]
[null,null,null,"La organización del trabajo permite distribuir las tareas de MMP a lo largo de la jornada e incluye periodos de descanso dentro de ella.","NA","0"]
[null,null,"Entrenamiento","Al menos un 75 % de los trabajadores del servicio/unidad recibieron capacitación teórico-práctico en MMP en los últimos 12 meses.","NA","0",null,null,null,null,{"$f":"F18","v":0}]
[null,null,null,null,null,{"$f":"F4+F5+F6+F7+F8+F9+F10+F11+F12+F13+F14+F15+F16+F17","v":0}]
[]
[]
[null,null,null,null,null,null,null,null,null,null,{"$f":"F18","v":0}]
[]
[]
[]
[]
[null,null,null,null,null,null,null,null,null,"Presione solo si al completar Tabla 7  se lo indica el Cuadro de Resultado",{"$f":"F18","v":0}]

{"sheet":"TABLA 7T1P7","index":219,"n_rows":26,"n_cols":11,"rows_kept":26,"cut":false,"hidden":false,"merged":[]}
[]
[null,null,null,"MANEJO MANUAL DE PERSONAS/PACIENTES- IDENTIFICACIÓN AVANZADA  CONDICIÓN ACEPTABLE  ",null,null,null,null,null,"Cuadro de Resultado Tabla 7"]
[null,null,"Riesgo","Empueje y Arrastre de Carga","Si / No / NA"]
[null,null,null,"En promedio, por turno, el trabajador realiza 6 o menos MMP que superen los 15 kg. cada uno.","NA",{"$f":"IF(E4=\"SI\",\"0\",IF(E4=\"NA\",\"0\",\"1\"))","v":"0"},null,null,null,"La Tarea:"]
[null,null,"Aplicación de la Fuerza","Ausencia de asimetría (Ej: cuerpo rotado, torsión y/o inclinación de tronco).","NA",{"$f":"IF(E5=\"SI\",\"0\",IF(E5=\"NA\",\"0\",\"1\"))","v":"0"},null,null,{"$f":"'TABLA 1 P7'!B6","v":"N° 1"},{"$f":"'TABLA 1 P7'!C6","v":"NA"}]
[null,null,null,"El paciente es mantenido cerca del cuerpo del trabajador.","NA","0",null,null,null,"Resultado:"]
[null,null,null,"El MMP se realiza entre la altura nudillo suelo y la altura codo suelo (°).","NA","0",null,null,{"$f":"F18","v":0},{"$f":"IF(F18>=1,\"No es Aceptable\",\"Aceptable\")","v":"Aceptable"}]
[null,null,null,"Cuenta con camas regulables en altura.","NA","0",null,null,null,"Por lo que usted:"]
[null,null,"Equipamiento","Existe y se utilizan de forma correcta las ayudas mecánicas.","NA","0",null,null,null,{"$f":"IF(J7=\"Aceptable\",\"Ha Terminado el Proceso de Identificación para esta Tarea\",\"Debe Aplicar Tabla 8\")","v":"Ha Terminado el Proceso de Identificación para esta Tarea"},{"$f":"F18","v":0}]
[null,null,null,"Existen programas de mantenimiento de las ayudas mecánicas, de sillas de rueda y camillas.","NA","0"]
[null,null,"Ambiente y espacios","La iluminación permite visualizar todos los elementos en el espacio de trabajo y la temperatura son adecuadas está entre 19° y 25° grados Celsius.","NA","0",null,null,null,{"$f":"IF(J7=\"Aceptable\",\"Si terminó de responder toda la Tabla 7 Presione Aquí para  regresar a Tabla 1 Información General del Puesto de Trabajo donde podrá continuar con la siguiente Tarea\",\"\")","v":"Si terminó de responder toda la Tabla 7 Presione Aquí para  regresar a Tabla 1 Información General del Puesto de Trabajo donde podrá continuar con la siguiente Tarea"},{"$f":"F18","v":0}]
[null,null,null,"Existe suficiente espacio para moverse libremente y para utilizar las ayudas mecánicas existentes.","NA","0"]
[null,null,null,"Presencia de suelo en salas, pasillos y otros que permiten el normal desplazamiento de sillas de rueda y camillas.","NA","0",null,null,null,null,{"$f":"F18","v":0}]
[null,null,"Organización","Existe un programa institucional para la prevención del riego por MMP: evaluación de riesgo, clasificación de pacientes (según nivel de asistencia requerida, peso, etc.), monitoreo de la salud de los trabajadores, etc.","NA","0"]
[null,null,null,"Existen procedimientos escritos e informados de MMP de acuerdo con el peso y características del paciente.","NA","0",null,null,null,null,{"$f":"F18","v":0}]
[null,null,null,"La organización del trabajo permite distribuir las tareas de MMP a lo largo de la jornada e incluye periodos de descanso dentro de ella.","NA","0"]
[null,null,"Entrenamiento","Al menos un 75 % de los trabajadores del servicio/unidad recibieron capacitación teórico-práctico en MMP en los últimos 12 meses.","NA","0",null,null,null,null,{"$f":"F18","v":0}]
[null,null,null,null,null,{"$f":"F4+F5+F6+F7+F8+F9+F10+F11+F12+F13+F14+F15+F16+F17","v":0}]
[]
[]
[null,null,null,null,null,null,null,null,null,null,{"$f":"F18","v":0}]
[]
[]
[]
[]
[null,null,null,null,null,null,null,null,null,"Presione solo si al completar Tabla 7  se lo indica el Cuadro de Resultado",{"$f":"F18","v":0}]

{"sheet":"TABLA 7T1P8","index":220,"n_rows":26,"n_cols":11,"rows_kept":26,"cut":false,"hidden":false,"merged":[]}
[]
[null,null,null,"MANEJO MANUAL DE PERSONAS/PACIENTES- IDENTIFICACIÓN AVANZADA  CONDICIÓN ACEPTABLE  ",null,null,null,null,null,"Cuadro de Resultado Tabla 7"]
[null,null,"Riesgo","Empueje y Arrastre de Carga","Si / No / NA"]
[null,null,null,"En promedio, por turno, el trabajador realiza 6 o menos MMP que superen los 15 kg. cada uno.","NA",{"$f":"IF(E4=\"SI\",\"0\",IF(E4=\"NA\",\"0\",\"1\"))","v":"0"},null,null,null,"La Tarea:"]
[null,null,"Aplicación de la Fuerza","Ausencia de asimetría (Ej: cuerpo rotado, torsión y/o inclinación de tronco).","NA",{"$f":"IF(E5=\"SI\",\"0\",IF(E5=\"NA\",\"0\",\"1\"))","v":"0"},null,null,{"$f":"'TABLA 1 P8'!B6","v":"N° 1"},{"$f":"'TABLA 1 P8'!C6","v":"NA"}]
[null,null,null,"El paciente es mantenido cerca del cuerpo del trabajador.","NA","0",null,null,null,"Resultado:"]
[null,null,null,"El MMP se realiza entre la altura nudillo suelo y la altura codo suelo (°).","NA","0",null,null,{"$f":"F18","v":0},{"$f":"IF(F18>=1,\"No es Aceptable\",\"Aceptable\")","v":"Aceptable"}]
[null,null,null,"Cuenta con camas regulables en altura.","NA","0",null,null,null,"Por lo que usted:"]
[null,null,"Equipamiento","Existe y se utilizan de forma correcta las ayudas mecánicas.","NA","0",null,null,null,{"$f":"IF(J7=\"Aceptable\",\"Ha Terminado el Proceso de Identificación para esta Tarea\",\"Debe Aplicar Tabla 8\")","v":"Ha Terminado el Proceso de Identificación para esta Tarea"},{"$f":"F18","v":0}]
[null,null,null,"Existen programas de mantenimiento de las ayudas mecánicas, de sillas de rueda y camillas.","NA","0"]
[null,null,"Ambiente y espacios","La iluminación permite visualizar todos los elementos en el espacio de trabajo y la temperatura son adecuadas está entre 19° y 25° grados Celsius.","NA","0",null,null,null,{"$f":"IF(J7=\"Aceptable\",\"Si terminó de responder toda la Tabla 7 Presione Aquí para  regresar a Tabla 1 Información General del Puesto de Trabajo donde podrá continuar con la siguiente Tarea\",\"\")","v":"Si terminó de responder toda la Tabla 7 Presione Aquí para  regresar a Tabla 1 Información General del Puesto de Trabajo donde podrá continuar con la siguiente Tarea"},{"$f":"F18","v":0}]
[null,null,null,"Existe suficiente espacio para moverse libremente y para utilizar las ayudas mecánicas existentes.","NA","0"]
[null,null,null,"Presencia de suelo en salas, pasillos y otros que permiten el normal desplazamiento de sillas de rueda y camillas.","NA","0",null,null,null,null,{"$f":"F18","v":0}]
[null,null,"Organización","Existe un programa institucional para la prevención del riego por MMP: evaluación de riesgo, clasificación de pacientes (según nivel de asistencia requerida, peso, etc.), monitoreo de la salud de los trabajadores, etc.","NA","0"]
[null,null,null,"Existen procedimientos escritos e informados de MMP de acuerdo con el peso y características del paciente.","NA","0",null,null,null,null,{"$f":"F18","v":0}]
[null,null,null,"La organización del trabajo permite distribuir las tareas de MMP a lo largo de la jornada e incluye periodos de descanso dentro de ella.","NA","0"]
[null,null,"Entrenamiento","Al menos un 75 % de los trabajadores del servicio/unidad recibieron capacitación teórico-práctico en MMP en los últimos 12 meses.","NA","0",null,null,null,null,{"$f":"F18","v":0}]
[null,null,null,null,null,{"$f":"F4+F5+F6+F7+F8+F9+F10+F11+F12+F13+F14+F15+F16+F17","v":0}]
[]
[]
[null,null,null,null,null,null,null,null,null,null,{"$f":"F18","v":0}]
[]
[]
[]
[]
[null,null,null,null,null,null,null,null,null,"Presione solo si al completar Tabla 7  se lo indica el Cuadro de Resultado",{"$f":"F18","v":0}]

{"sheet":"TABLA 7T1P9","index":221,"n_rows":26,"n_cols":11,"rows_kept":26,"cut":false,"hidden":false,"merged":[]}
[]
[null,null,null,"MANEJO MANUAL DE PERSONAS/PACIENTES- IDENTIFICACIÓN AVANZADA  CONDICIÓN ACEPTABLE  ",null,null,null,null,null,"Cuadro de Resultado Tabla 7"]
[null,null,"Riesgo","Empueje y Arrastre de Carga","Si / No / NA"]
[null,null,null,"En promedio, por turno, el trabajador realiza 6 o menos MMP que superen los 15 kg. cada uno.","NA",{"$f":"IF(E4=\"SI\",\"0\",IF(E4=\"NA\",\"0\",\"1\"))","v":"0"},null,null,null,"La Tarea:"]
[null,null,"Aplicación de la Fuerza","Ausencia de asimetría (Ej: cuerpo rotado, torsión y/o inclinación de tronco).","NA",{"$f":"IF(E5=\"SI\",\"0\",IF(E5=\"NA\",\"0\",\"1\"))","v":"0"},null,null,{"$f":"'TABLA 1 P9'!B6","v":"N° 1"},{"$f":"'TABLA 1 P9'!C6","v":"NA"}]
[null,null,null,"El paciente es mantenido cerca del cuerpo del trabajador.","NA","0",null,null,null,"Resultado:"]
[null,null,null,"El MMP se realiza entre la altura nudillo suelo y la altura codo suelo (°).","NA","0",null,null,{"$f":"F18","v":0},{"$f":"IF(F18>=1,\"No es Aceptable\",\"Aceptable\")","v":"Aceptable"}]
[null,null,null,"Cuenta con camas regulables en altura.","NA","0",null,null,null,"Por lo que usted:"]
[null,null,"Equipamiento","Existe y se utilizan de forma correcta las ayudas mecánicas.","NA","0",null,null,null,{"$f":"IF(J7=\"Aceptable\",\"Ha Terminado el Proceso de Identificación para esta Tarea\",\"Debe Aplicar Tabla 8\")","v":"Ha Terminado el Proceso de Identificación para esta Tarea"},{"$f":"F18","v":0}]
[null,null,null,"Existen programas de mantenimiento de las ayudas mecánicas, de sillas de rueda y camillas.","NA","0"]
[null,null,"Ambiente y espacios","La iluminación permite visualizar todos los elementos en el espacio de trabajo y la temperatura son adecuadas está entre 19° y 25° grados Celsius.","NA","0",null,null,null,{"$f":"IF(J7=\"Aceptable\",\"Si terminó de responder toda la Tabla 7 Presione Aquí para  regresar a Tabla 1 Información General del Puesto de Trabajo donde podrá continuar con la siguiente Tarea\",\"\")","v":"Si terminó de responder toda la Tabla 7 Presione Aquí para  regresar a Tabla 1 Información General del Puesto de Trabajo donde podrá continuar con la siguiente Tarea"},{"$f":"F18","v":0}]
[null,null,null,"Existe suficiente espacio para moverse libremente y para utilizar las ayudas mecánicas existentes.","NA","0"]
[null,null,null,"Presencia de suelo en salas, pasillos y otros que permiten el normal desplazamiento de sillas de rueda y camillas.","NA","0",null,null,null,null,{"$f":"F18","v":0}]
[null,null,"Organización","Existe un programa institucional para la prevención del riego por MMP: evaluación de riesgo, clasificación de pacientes (según nivel de asistencia requerida, peso, etc.), monitoreo de la salud de los trabajadores, etc.","NA","0"]
[null,null,null,"Existen procedimientos escritos e informados de MMP de acuerdo con el peso y características del paciente.","NA","0",null,null,null,null,{"$f":"F18","v":0}]
[null,null,null,"La organización del trabajo permite distribuir las tareas de MMP a lo largo de la jornada e incluye periodos de descanso dentro de ella.","NA","0"]
[null,null,"Entrenamiento","Al menos un 75 % de los trabajadores del servicio/unidad recibieron capacitación teórico-práctico en MMP en los últimos 12 meses.","NA","0",null,null,null,null,{"$f":"F18","v":0}]
[null,null,null,null,null,{"$f":"F4+F5+F6+F7+F8+F9+F10+F11+F12+F13+F14+F15+F16+F17","v":0}]
[]
[]
[null,null,null,null,null,null,null,null,null,null,{"$f":"F18","v":0}]
[]
[]
[]
[]
[null,null,null,null,null,null,null,null,null,"Presione solo si al completar Tabla 7  se lo indica el Cuadro de Resultado",{"$f":"F18","v":0}]

{"sheet":"TABLA 7T1P10","index":222,"n_rows":26,"n_cols":11,"rows_kept":26,"cut":false,"hidden":false,"merged":[]}
[]
[null,null,null,"MANEJO MANUAL DE PERSONAS/PACIENTES- IDENTIFICACIÓN AVANZADA  CONDICIÓN ACEPTABLE  ",null,null,null,null,null,"Cuadro de Resultado Tabla 7"]
[null,null,"Riesgo","Empueje y Arrastre de Carga","Si / No / NA"]
[null,null,null,"En promedio, por turno, el trabajador realiza 6 o menos MMP que superen los 15 kg. cada uno.","NA",{"$f":"IF(E4=\"SI\",\"0\",IF(E4=\"NA\",\"0\",\"1\"))","v":"0"},null,null,null,"La Tarea:"]
[null,null,"Aplicación de la Fuerza","Ausencia de asimetría (Ej: cuerpo rotado, torsión y/o inclinación de tronco).","NA",{"$f":"IF(E5=\"SI\",\"0\",IF(E5=\"NA\",\"0\",\"1\"))","v":"0"},null,null,{"$f":"'TABLA 1 P10'!B6","v":"N° 1"},{"$f":"'TABLA 1 P10'!C6","v":"NA"}]
[null,null,null,"El paciente es mantenido cerca del cuerpo del trabajador.","NA","0",null,null,null,"Resultado:"]
[null,null,null,"El MMP se realiza entre la altura nudillo suelo y la altura codo suelo (°).","NA","0",null,null,{"$f":"F18","v":0},{"$f":"IF(F18>=1,\"No es Aceptable\",\"Aceptable\")","v":"Aceptable"}]
[null,null,null,"Cuenta con camas regulables en altura.","NA","0",null,null,null,"Por lo que usted:"]
[null,null,"Equipamiento","Existe y se utilizan de forma correcta las ayudas mecánicas.","NA","0",null,null,null,{"$f":"IF(J7=\"Aceptable\",\"Ha Terminado el Proceso de Identificación para esta Tarea\",\"Debe Aplicar Tabla 8\")","v":"Ha Terminado el Proceso de Identificación para esta Tarea"},{"$f":"F18","v":0}]
[null,null,null,"Existen programas de mantenimiento de las ayudas mecánicas, de sillas de rueda y camillas.","NA","0"]
[null,null,"Ambiente y espacios","La iluminación permite visualizar todos los elementos en el espacio de trabajo y la temperatura son adecuadas está entre 19° y 25° grados Celsius.","NA","0",null,null,null,{"$f":"IF(J7=\"Aceptable\",\"Si terminó de responder toda la Tabla 7 Presione Aquí para  regresar a Tabla 1 Información General del Puesto de Trabajo donde podrá continuar con la siguiente Tarea\",\"\")","v":"Si terminó de responder toda la Tabla 7 Presione Aquí para  regresar a Tabla 1 Información General del Puesto de Trabajo donde podrá continuar con la siguiente Tarea"},{"$f":"F18","v":0}]
[null,null,null,"Existe suficiente espacio para moverse libremente y para utilizar las ayudas mecánicas existentes.","NA","0"]
[null,null,null,"Presencia de suelo en salas, pasillos y otros que permiten el normal desplazamiento de sillas de rueda y camillas.","NA","0",null,null,null,null,{"$f":"F18","v":0}]
[null,null,"Organización","Existe un programa institucional para la prevención del riego por MMP: evaluación de riesgo, clasificación de pacientes (según nivel de asistencia requerida, peso, etc.), monitoreo de la salud de los trabajadores, etc.","NA","0"]
[null,null,null,"Existen procedimientos escritos e informados de MMP de acuerdo con el peso y características del paciente.","NA","0",null,null,null,null,{"$f":"F18","v":0}]
[null,null,null,"La organización del trabajo permite distribuir las tareas de MMP a lo largo de la jornada e incluye periodos de descanso dentro de ella.","NA","0"]
[null,null,"Entrenamiento","Al menos un 75 % de los trabajadores del servicio/unidad recibieron capacitación teórico-práctico en MMP en los últimos 12 meses.","NA","0",null,null,null,null,{"$f":"F18","v":0}]
[null,null,null,null,null,{"$f":"F4+F5+F6+F7+F8+F9+F10+F11+F12+F13+F14+F15+F16+F17","v":0}]
[]
[]
[null,null,null,null,null,null,null,null,null,null,{"$f":"F18","v":0}]
[]
[]
[]
[]
[null,null,null,null,null,null,null,null,null,"Presione solo si al completar Tabla 7  se lo indica el Cuadro de Resultado",{"$f":"F18","v":0}]

{"sheet":"TABLA 8T1P1","index":223,"n_rows":19,"n_cols":10,"rows_kept":19,"cut":false,"hidden":false,"merged":[]}
[]
[null,null,null,"TABLA 8 | MANEJO MANUAL DE PERSONAS/PACIENTES- IDENTIFICACIÓN AVANZADA CONDICIÓN CRÍTICA  ",null,null,null,null,null,"Cuadro de Resultado Tabla 8"]
[null,null,"Condición","Levantamiento/descenso y transporte manual de carga","Si / No / NA"]
[null,null,"Aplicación de la Fuerza","En promedio, por turno, el trabajador realiza 12 o más MMP que superen los 15 kgs. cada uno.","NA",{"$f":"IF(E4=\"No\",\"0\",IF(E4=\"NA\",\"0\",\"1\"))","v":"0"},null,null,null,"La Tarea:"]
[null,null,null,"El MMP se realiza bajo las rodillas o sobre la altura codo suelo","NA",{"$f":"IF(E5=\"No\",\"0\",IF(E5=\"NA\",\"0\",\"1\"))","v":"0"},null,null,{"$f":"'TABLA 1 P1'!B6","v":"N° 1"},{"$f":"'TABLA 1 P1'!C6","v":"NA"}]
[null,null,null,"La distancia horizontal entre el cuerpo y el paciente manipulado es superior a 63 cm.","NA","0",null,null,null,"Resultado:"]
[null,null,null,"Torsión extrema del tronco sin movimientos de los pies.","NA","0",null,null,{"$f":"F19","v":0},{"$f":"IF(F19>=1,\"Crítica\",\"No Crítica\")","v":"No Crítica"}]
[null,null,null,"Las camas no son regulables y tienen una altura inferior a 70 cm.","NA","0",null,null,null,"Por lo que usted:"]
[null,null,"Equipamiento","Las camas tienen ninguna o solo 2 ruedas.","NA","0",null,null,null,{"$f":"IF(J7=\"No Crítica\",\"Ha terminado el Proceso de Identificación para esta Tarea y deberá iniciar el proceso de Evaluación Cuantitativa del riesgo\",\"Ha terminado el Proceso de Identificación para esta Tarea y deberá aplicar medidas para reducir el riesgo\")","v":"Ha terminado el Proceso de Identificación para esta Tarea y deberá iniciar el proceso de Evaluación Cuantitativa del riesgo"}]
[null,null,null,"El trabajador hace todo el esfuerzo en el manejo del paciente ya que no se utiliza ningún tipo de ayudas mecánicas.","NA","0"]
[null,null,null,"No existe programa de mantenimiento de las ayudas mecánicas ni de sillas de rueda o camillas.","NA","0",null,null,null,"Si terminó de responder toda la Tabla 8 Presione Aquí para  regresar a Tabla 1 Información General del Puesto de Trabajo donde podrá continuar con la siguiente Tarea"]
[null,null,"Ambiente y espacios","La temperatura ambiente es menor a 18° o superior a 26° grados Celsius y no se cuenta con ropa que proteja de las temperaturas extremas.","NA","0"]
[null,null,null,"Existe menos de 90 cm de espacio entre la cama y la pared o entre las camas, o menos de 120 cm. al final de la cama.","NA","0"]
[null,null,null,"Presencia de suelo resbaladizo, irregular o inestable en salas o pasillos","NA",{"$f":"IF(E14=\"No\",\"0\",IF(E14=\"NA\",\"0\",\"1\"))","v":"0"}]
[null,null,null,"La organización carece de un sistema de clasificación del paciente (según nivel de asistencia, peso, etc.).","NA",{"$f":"IF(E15=\"No\",\"0\",IF(E15=\"NA\",\"0\",\"1\"))","v":"0"}]
[null,null,"Organización","La organización no cuenta con procedimientos escritos e informados de MMP de acuerdo con el peso y características del paciente.","NA","0"]
[null,null,null,"La organización del trabajo genera concentración de tareas de MMP en ciertos horarios de trabajo y no cuenta con pausas de descanso durante la jornada.","NA","0"]
[null,null,"Entrenamiento","Un 50 % o menos de los trabajadores del servicio/unidad recibieron capacitación teórico-práctico en MMP en los últimos 18 meses.","NA","0"]
[null,null,null,null,null,{"$f":"F4+F5+F6+F7+F8+F9+F10+F11+F12+F13+F14+F15+F16+F17+F18","v":0}]

{"sheet":"TABLA 8T1P2","index":224,"n_rows":19,"n_cols":10,"rows_kept":19,"cut":false,"hidden":false,"merged":[]}
[]
[null,null,null,"TABLA 8 | MANEJO MANUAL DE PERSONAS/PACIENTES- IDENTIFICACIÓN AVANZADA CONDICIÓN CRÍTICA  ",null,null,null,null,null,"Cuadro de Resultado Tabla 8"]
[null,null,"Condición","Levantamiento/descenso y transporte manual de carga","Si / No / NA"]
[null,null,"Aplicación de la Fuerza","En promedio, por turno, el trabajador realiza 12 o más MMP que superen los 15 kgs. cada uno.","NA",{"$f":"IF(E4=\"No\",\"0\",IF(E4=\"NA\",\"0\",\"1\"))","v":"0"},null,null,null,"La Tarea:"]
[null,null,null,"El MMP se realiza bajo las rodillas o sobre la altura codo suelo","NA",{"$f":"IF(E5=\"No\",\"0\",IF(E5=\"NA\",\"0\",\"1\"))","v":"0"},null,null,{"$f":"'TABLA 1 P2'!B6","v":"N° 1"},{"$f":"'TABLA 1 P2'!C6","v":"NA"}]
[null,null,null,"La distancia horizontal entre el cuerpo y el paciente manipulado es superior a 63 cm.","NA","0",null,null,null,"Resultado:"]
[null,null,null,"Torsión extrema del tronco sin movimientos de los pies.","NA","0",null,null,{"$f":"F19","v":0},{"$f":"IF(F19>=1,\"Crítica\",\"No Crítica\")","v":"No Crítica"}]
[null,null,null,"Las camas no son regulables y tienen una altura inferior a 70 cm.","NA","0",null,null,null,"Por lo que usted:"]
[null,null,"Equipamiento","Las camas tienen ninguna o solo 2 ruedas.","NA","0",null,null,null,{"$f":"IF(J7=\"No Crítica\",\"Ha terminado el Proceso de Identificación para esta Tarea y deberá iniciar el proceso de Evaluación Cuantitativa del riesgo\",\"Ha terminado el Proceso de Identificación para esta Tarea y deberá aplicar medidas para reducir el riesgo\")","v":"Ha terminado el Proceso de Identificación para esta Tarea y deberá iniciar el proceso de Evaluación Cuantitativa del riesgo"}]
[null,null,null,"El trabajador hace todo el esfuerzo en el manejo del paciente ya que no se utiliza ningún tipo de ayudas mecánicas.","NA","0"]
[null,null,null,"No existe programa de mantenimiento de las ayudas mecánicas ni de sillas de rueda o camillas.","NA","0",null,null,null,"Si terminó de responder toda la Tabla 8 Presione Aquí para  regresar a Tabla 1 Información General del Puesto de Trabajo donde podrá continuar con la siguiente Tarea"]
[null,null,"Ambiente y espacios","La temperatura ambiente es menor a 18° o superior a 26° grados Celsius y no se cuenta con ropa que proteja de las temperaturas extremas.","NA","0"]
[null,null,null,"Existe menos de 90 cm de espacio entre la cama y la pared o entre las camas, o menos de 120 cm. al final de la cama.","NA","0"]
[null,null,null,"Presencia de suelo resbaladizo, irregular o inestable en salas o pasillos","NA",{"$f":"IF(E14=\"No\",\"0\",IF(E14=\"NA\",\"0\",\"1\"))","v":"0"}]
[null,null,null,"La organización carece de un sistema de clasificación del paciente (según nivel de asistencia, peso, etc.).","NA",{"$f":"IF(E15=\"No\",\"0\",IF(E15=\"NA\",\"0\",\"1\"))","v":"0"}]
[null,null,"Organización","La organización no cuenta con procedimientos escritos e informados de MMP de acuerdo con el peso y características del paciente.","NA","0"]
[null,null,null,"La organización del trabajo genera concentración de tareas de MMP en ciertos horarios de trabajo y no cuenta con pausas de descanso durante la jornada.","NA","0"]
[null,null,"Entrenamiento","Un 50 % o menos de los trabajadores del servicio/unidad recibieron capacitación teórico-práctico en MMP en los últimos 18 meses.","NA","0"]
[null,null,null,null,null,{"$f":"F4+F5+F6+F7+F8+F9+F10+F11+F12+F13+F14+F15+F16+F17+F18","v":0}]

{"sheet":"TABLA 8T1P3","index":225,"n_rows":19,"n_cols":10,"rows_kept":19,"cut":false,"hidden":false,"merged":[]}
[]
[null,null,null,"TABLA 8 | MANEJO MANUAL DE PERSONAS/PACIENTES- IDENTIFICACIÓN AVANZADA CONDICIÓN CRÍTICA  ",null,null,null,null,null,"Cuadro de Resultado Tabla 8"]
[null,null,"Condición","Levantamiento/descenso y transporte manual de carga","Si / No / NA"]
[null,null,"Aplicación de la Fuerza","En promedio, por turno, el trabajador realiza 12 o más MMP que superen los 15 kgs. cada uno.","NA",{"$f":"IF(E4=\"No\",\"0\",IF(E4=\"NA\",\"0\",\"1\"))","v":"0"},null,null,null,"La Tarea:"]
[null,null,null,"El MMP se realiza bajo las rodillas o sobre la altura codo suelo","NA",{"$f":"IF(E5=\"No\",\"0\",IF(E5=\"NA\",\"0\",\"1\"))","v":"0"},null,null,{"$f":"'TABLA 1 P3'!B6","v":"N° 1"},{"$f":"'TABLA 1 P3'!C6","v":"NA"}]
[null,null,null,"La distancia horizontal entre el cuerpo y el paciente manipulado es superior a 63 cm.","NA","0",null,null,null,"Resultado:"]
[null,null,null,"Torsión extrema del tronco sin movimientos de los pies.","NA","0",null,null,{"$f":"F19","v":0},{"$f":"IF(F19>=1,\"Crítica\",\"No Crítica\")","v":"No Crítica"}]
[null,null,null,"Las camas no son regulables y tienen una altura inferior a 70 cm.","NA","0",null,null,null,"Por lo que usted:"]
[null,null,"Equipamiento","Las camas tienen ninguna o solo 2 ruedas.","NA","0",null,null,null,{"$f":"IF(J7=\"No Crítica\",\"Ha terminado el Proceso de Identificación para esta Tarea y deberá iniciar el proceso de Evaluación Cuantitativa del riesgo\",\"Ha terminado el Proceso de Identificación para esta Tarea y deberá aplicar medidas para reducir el riesgo\")","v":"Ha terminado el Proceso de Identificación para esta Tarea y deberá iniciar el proceso de Evaluación Cuantitativa del riesgo"}]
[null,null,null,"El trabajador hace todo el esfuerzo en el manejo del paciente ya que no se utiliza ningún tipo de ayudas mecánicas.","NA","0"]
[null,null,null,"No existe programa de mantenimiento de las ayudas mecánicas ni de sillas de rueda o camillas.","NA","0",null,null,null,"Si terminó de responder toda la Tabla 8 Presione Aquí para  regresar a Tabla 1 Información General del Puesto de Trabajo donde podrá continuar con la siguiente Tarea"]
[null,null,"Ambiente y espacios","La temperatura ambiente es menor a 18° o superior a 26° grados Celsius y no se cuenta con ropa que proteja de las temperaturas extremas.","NA","0"]
[null,null,null,"Existe menos de 90 cm de espacio entre la cama y la pared o entre las camas, o menos de 120 cm. al final de la cama.","NA","0"]
[null,null,null,"Presencia de suelo resbaladizo, irregular o inestable en salas o pasillos","NA",{"$f":"IF(E14=\"No\",\"0\",IF(E14=\"NA\",\"0\",\"1\"))","v":"0"}]
[null,null,null,"La organización carece de un sistema de clasificación del paciente (según nivel de asistencia, peso, etc.).","NA",{"$f":"IF(E15=\"No\",\"0\",IF(E15=\"NA\",\"0\",\"1\"))","v":"0"}]
[null,null,"Organización","La organización no cuenta con procedimientos escritos e informados de MMP de acuerdo con el peso y características del paciente.","NA","0"]
[null,null,null,"La organización del trabajo genera concentración de tareas de MMP en ciertos horarios de trabajo y no cuenta con pausas de descanso durante la jornada.","NA","0"]
[null,null,"Entrenamiento","Un 50 % o menos de los trabajadores del servicio/unidad recibieron capacitación teórico-práctico en MMP en los últimos 18 meses.","NA","0"]
[null,null,null,null,null,{"$f":"F4+F5+F6+F7+F8+F9+F10+F11+F12+F13+F14+F15+F16+F17+F18","v":0}]

{"sheet":"TABLA 8T1P4","index":226,"n_rows":19,"n_cols":10,"rows_kept":19,"cut":false,"hidden":false,"merged":[]}
[]
[null,null,null,"TABLA 8 | MANEJO MANUAL DE PERSONAS/PACIENTES- IDENTIFICACIÓN AVANZADA CONDICIÓN CRÍTICA  ",null,null,null,null,null,"Cuadro de Resultado Tabla 8"]
[null,null,"Condición","Levantamiento/descenso y transporte manual de carga","Si / No / NA"]
[null,null,"Aplicación de la Fuerza","En promedio, por turno, el trabajador realiza 12 o más MMP que superen los 15 kgs. cada uno.","NA",{"$f":"IF(E4=\"No\",\"0\",IF(E4=\"NA\",\"0\",\"1\"))","v":"0"},null,null,null,"La Tarea:"]
[null,null,null,"El MMP se realiza bajo las rodillas o sobre la altura codo suelo","NA",{"$f":"IF(E5=\"No\",\"0\",IF(E5=\"NA\",\"0\",\"1\"))","v":"0"},null,null,{"$f":"'TABLA 1 P4'!B6","v":"N° 1"},{"$f":"'TABLA 1 P4'!C6","v":"NA"}]
[null,null,null,"La distancia horizontal entre el cuerpo y el paciente manipulado es superior a 63 cm.","NA","0",null,null,null,"Resultado:"]
[null,null,null,"Torsión extrema del tronco sin movimientos de los pies.","NA","0",null,null,{"$f":"F19","v":0},{"$f":"IF(F19>=1,\"Crítica\",\"No Crítica\")","v":"No Crítica"}]
[null,null,null,"Las camas no son regulables y tienen una altura inferior a 70 cm.","NA","0",null,null,null,"Por lo que usted:"]
[null,null,"Equipamiento","Las camas tienen ninguna o solo 2 ruedas.","NA","0",null,null,null,{"$f":"IF(J7=\"No Crítica\",\"Ha terminado el Proceso de Identificación para esta Tarea y deberá iniciar el proceso de Evaluación Cuantitativa del riesgo\",\"Ha terminado el Proceso de Identificación para esta Tarea y deberá aplicar medidas para reducir el riesgo\")","v":"Ha terminado el Proceso de Identificación para esta Tarea y deberá iniciar el proceso de Evaluación Cuantitativa del riesgo"}]
[null,null,null,"El trabajador hace todo el esfuerzo en el manejo del paciente ya que no se utiliza ningún tipo de ayudas mecánicas.","NA","0"]
[null,null,null,"No existe programa de mantenimiento de las ayudas mecánicas ni de sillas de rueda o camillas.","NA","0",null,null,null,"Si terminó de responder toda la Tabla 8 Presione Aquí para  regresar a Tabla 1 Información General del Puesto de Trabajo donde podrá continuar con la siguiente Tarea"]
[null,null,"Ambiente y espacios","La temperatura ambiente es menor a 18° o superior a 26° grados Celsius y no se cuenta con ropa que proteja de las temperaturas extremas.","NA","0"]
[null,null,null,"Existe menos de 90 cm de espacio entre la cama y la pared o entre las camas, o menos de 120 cm. al final de la cama.","NA","0"]
[null,null,null,"Presencia de suelo resbaladizo, irregular o inestable en salas o pasillos","NA",{"$f":"IF(E14=\"No\",\"0\",IF(E14=\"NA\",\"0\",\"1\"))","v":"0"}]
[null,null,null,"La organización carece de un sistema de clasificación del paciente (según nivel de asistencia, peso, etc.).","NA",{"$f":"IF(E15=\"No\",\"0\",IF(E15=\"NA\",\"0\",\"1\"))","v":"0"}]
[null,null,"Organización","La organización no cuenta con procedimientos escritos e informados de MMP de acuerdo con el peso y características del paciente.","NA","0"]
[null,null,null,"La organización del trabajo genera concentración de tareas de MMP en ciertos horarios de trabajo y no cuenta con pausas de descanso durante la jornada.","NA","0"]
[null,null,"Entrenamiento","Un 50 % o menos de los trabajadores del servicio/unidad recibieron capacitación teórico-práctico en MMP en los últimos 18 meses.","NA","0"]
[null,null,null,null,null,{"$f":"F4+F5+F6+F7+F8+F9+F10+F11+F12+F13+F14+F15+F16+F17+F18","v":0}]

{"sheet":"TABLA 8T1P5","index":227,"n_rows":19,"n_cols":10,"rows_kept":19,"cut":false,"hidden":false,"merged":[]}
[]
[null,null,null,"TABLA 8 | MANEJO MANUAL DE PERSONAS/PACIENTES- IDENTIFICACIÓN AVANZADA CONDICIÓN CRÍTICA  ",null,null,null,null,null,"Cuadro de Resultado Tabla 8"]
[null,null,"Condición","Levantamiento/descenso y transporte manual de carga","Si / No / NA"]
[null,null,"Aplicación de la Fuerza","En promedio, por turno, el trabajador realiza 12 o más MMP que superen los 15 kgs. cada uno.","NA",{"$f":"IF(E4=\"No\",\"0\",IF(E4=\"NA\",\"0\",\"1\"))","v":"0"},null,null,null,"La Tarea:"]
[null,null,null,"El MMP se realiza bajo las rodillas o sobre la altura codo suelo","NA",{"$f":"IF(E5=\"No\",\"0\",IF(E5=\"NA\",\"0\",\"1\"))","v":"0"},null,null,{"$f":"'TABLA 1 P5'!B6","v":"N° 1"},{"$f":"'TABLA 1 P5'!C6","v":"NA"}]
[null,null,null,"La distancia horizontal entre el cuerpo y el paciente manipulado es superior a 63 cm.","NA","0",null,null,null,"Resultado:"]
[null,null,null,"Torsión extrema del tronco sin movimientos de los pies.","NA","0",null,null,{"$f":"F19","v":0},{"$f":"IF(F19>=1,\"Crítica\",\"No Crítica\")","v":"No Crítica"}]
[null,null,null,"Las camas no son regulables y tienen una altura inferior a 70 cm.","NA","0",null,null,null,"Por lo que usted:"]
[null,null,"Equipamiento","Las camas tienen ninguna o solo 2 ruedas.","NA","0",null,null,null,{"$f":"IF(J7=\"No Crítica\",\"Ha terminado el Proceso de Identificación para esta Tarea y deberá iniciar el proceso de Evaluación Cuantitativa del riesgo\",\"Ha terminado el Proceso de Identificación para esta Tarea y deberá aplicar medidas para reducir el riesgo\")","v":"Ha terminado el Proceso de Identificación para esta Tarea y deberá iniciar el proceso de Evaluación Cuantitativa del riesgo"}]
[null,null,null,"El trabajador hace todo el esfuerzo en el manejo del paciente ya que no se utiliza ningún tipo de ayudas mecánicas.","NA","0"]
[null,null,null,"No existe programa de mantenimiento de las ayudas mecánicas ni de sillas de rueda o camillas.","NA","0",null,null,null,"Si terminó de responder toda la Tabla 8 Presione Aquí para  regresar a Tabla 1 Información General del Puesto de Trabajo donde podrá continuar con la siguiente Tarea"]
[null,null,"Ambiente y espacios","La temperatura ambiente es menor a 18° o superior a 26° grados Celsius y no se cuenta con ropa que proteja de las temperaturas extremas.","NA","0"]
[null,null,null,"Existe menos de 90 cm de espacio entre la cama y la pared o entre las camas, o menos de 120 cm. al final de la cama.","NA","0"]
[null,null,null,"Presencia de suelo resbaladizo, irregular o inestable en salas o pasillos","NA",{"$f":"IF(E14=\"No\",\"0\",IF(E14=\"NA\",\"0\",\"1\"))","v":"0"}]
[null,null,null,"La organización carece de un sistema de clasificación del paciente (según nivel de asistencia, peso, etc.).","NA",{"$f":"IF(E15=\"No\",\"0\",IF(E15=\"NA\",\"0\",\"1\"))","v":"0"}]
[null,null,"Organización","La organización no cuenta con procedimientos escritos e informados de MMP de acuerdo con el peso y características del paciente.","NA","0"]
[null,null,null,"La organización del trabajo genera concentración de tareas de MMP en ciertos horarios de trabajo y no cuenta con pausas de descanso durante la jornada.","NA","0"]
[null,null,"Entrenamiento","Un 50 % o menos de los trabajadores del servicio/unidad recibieron capacitación teórico-práctico en MMP en los últimos 18 meses.","NA","0"]
[null,null,null,null,null,{"$f":"F4+F5+F6+F7+F8+F9+F10+F11+F12+F13+F14+F15+F16+F17+F18","v":0}]

{"sheet":"TABLA 8T1P6","index":228,"n_rows":19,"n_cols":10,"rows_kept":19,"cut":false,"hidden":false,"merged":[]}
[]
[null,null,null,"TABLA 8 | MANEJO MANUAL DE PERSONAS/PACIENTES- IDENTIFICACIÓN AVANZADA CONDICIÓN CRÍTICA  ",null,null,null,null,null,"Cuadro de Resultado Tabla 8"]
[null,null,"Condición","Levantamiento/descenso y transporte manual de carga","Si / No / NA"]
[null,null,"Aplicación de la Fuerza","En promedio, por turno, el trabajador realiza 12 o más MMP que superen los 15 kgs. cada uno.","NA",{"$f":"IF(E4=\"No\",\"0\",IF(E4=\"NA\",\"0\",\"1\"))","v":"0"},null,null,null,"La Tarea:"]
[null,null,null,"El MMP se realiza bajo las rodillas o sobre la altura codo suelo","NA",{"$f":"IF(E5=\"No\",\"0\",IF(E5=\"NA\",\"0\",\"1\"))","v":"0"},null,null,{"$f":"'TABLA 1 P6'!B6","v":"N° 1"},{"$f":"'TABLA 1 P6'!C6","v":"NA"}]
[null,null,null,"La distancia horizontal entre el cuerpo y el paciente manipulado es superior a 63 cm.","NA","0",null,null,null,"Resultado:"]
[null,null,null,"Torsión extrema del tronco sin movimientos de los pies.","NA","0",null,null,{"$f":"F19","v":0},{"$f":"IF(F19>=1,\"Crítica\",\"No Crítica\")","v":"No Crítica"}]
[null,null,null,"Las camas no son regulables y tienen una altura inferior a 70 cm.","NA","0",null,null,null,"Por lo que usted:"]
[null,null,"Equipamiento","Las camas tienen ninguna o solo 2 ruedas.","NA","0",null,null,null,{"$f":"IF(J7=\"No Crítica\",\"Ha terminado el Proceso de Identificación para esta Tarea y deberá iniciar el proceso de Evaluación Cuantitativa del riesgo\",\"Ha terminado el Proceso de Identificación para esta Tarea y deberá aplicar medidas para reducir el riesgo\")","v":"Ha terminado el Proceso de Identificación para esta Tarea y deberá iniciar el proceso de Evaluación Cuantitativa del riesgo"}]
[null,null,null,"El trabajador hace todo el esfuerzo en el manejo del paciente ya que no se utiliza ningún tipo de ayudas mecánicas.","NA","0"]
[null,null,null,"No existe programa de mantenimiento de las ayudas mecánicas ni de sillas de rueda o camillas.","NA","0",null,null,null,"Si terminó de responder toda la Tabla 8 Presione Aquí para  regresar a Tabla 1 Información General del Puesto de Trabajo donde podrá continuar con la siguiente Tarea"]
[null,null,"Ambiente y espacios","La temperatura ambiente es menor a 18° o superior a 26° grados Celsius y no se cuenta con ropa que proteja de las temperaturas extremas.","NA","0"]
[null,null,null,"Existe menos de 90 cm de espacio entre la cama y la pared o entre las camas, o menos de 120 cm. al final de la cama.","NA","0"]
[null,null,null,"Presencia de suelo resbaladizo, irregular o inestable en salas o pasillos","NA",{"$f":"IF(E14=\"No\",\"0\",IF(E14=\"NA\",\"0\",\"1\"))","v":"0"}]
[null,null,null,"La organización carece de un sistema de clasificación del paciente (según nivel de asistencia, peso, etc.).","NA",{"$f":"IF(E15=\"No\",\"0\",IF(E15=\"NA\",\"0\",\"1\"))","v":"0"}]
[null,null,"Organización","La organización no cuenta con procedimientos escritos e informados de MMP de acuerdo con el peso y características del paciente.","NA","0"]
[null,null,null,"La organización del trabajo genera concentración de tareas de MMP en ciertos horarios de trabajo y no cuenta con pausas de descanso durante la jornada.","NA","0"]
[null,null,"Entrenamiento","Un 50 % o menos de los trabajadores del servicio/unidad recibieron capacitación teórico-práctico en MMP en los últimos 18 meses.","NA","0"]
[null,null,null,null,null,{"$f":"F4+F5+F6+F7+F8+F9+F10+F11+F12+F13+F14+F15+F16+F17+F18","v":0}]

{"sheet":"TABLA 8T1P7","index":229,"n_rows":19,"n_cols":10,"rows_kept":19,"cut":false,"hidden":false,"merged":[]}
[]
[null,null,null,"TABLA 8 | MANEJO MANUAL DE PERSONAS/PACIENTES- IDENTIFICACIÓN AVANZADA CONDICIÓN CRÍTICA  ",null,null,null,null,null,"Cuadro de Resultado Tabla 8"]
[null,null,"Condición","Levantamiento/descenso y transporte manual de carga","Si / No / NA"]
[null,null,"Aplicación de la Fuerza","En promedio, por turno, el trabajador realiza 12 o más MMP que superen los 15 kgs. cada uno.","NA",{"$f":"IF(E4=\"No\",\"0\",IF(E4=\"NA\",\"0\",\"1\"))","v":"0"},null,null,null,"La Tarea:"]
[null,null,null,"El MMP se realiza bajo las rodillas o sobre la altura codo suelo","NA",{"$f":"IF(E5=\"No\",\"0\",IF(E5=\"NA\",\"0\",\"1\"))","v":"0"},null,null,{"$f":"'TABLA 1 P7'!B6","v":"N° 1"},{"$f":"'TABLA 1 P7'!C6","v":"NA"}]
[null,null,null,"La distancia horizontal entre el cuerpo y el paciente manipulado es superior a 63 cm.","NA","0",null,null,null,"Resultado:"]
[null,null,null,"Torsión extrema del tronco sin movimientos de los pies.","NA","0",null,null,{"$f":"F19","v":0},{"$f":"IF(F19>=1,\"Crítica\",\"No Crítica\")","v":"No Crítica"}]
[null,null,null,"Las camas no son regulables y tienen una altura inferior a 70 cm.","NA","0",null,null,null,"Por lo que usted:"]
[null,null,"Equipamiento","Las camas tienen ninguna o solo 2 ruedas.","NA","0",null,null,null,{"$f":"IF(J7=\"No Crítica\",\"Ha terminado el Proceso de Identificación para esta Tarea y deberá iniciar el proceso de Evaluación Cuantitativa del riesgo\",\"Ha terminado el Proceso de Identificación para esta Tarea y deberá aplicar medidas para reducir el riesgo\")","v":"Ha terminado el Proceso de Identificación para esta Tarea y deberá iniciar el proceso de Evaluación Cuantitativa del riesgo"}]
[null,null,null,"El trabajador hace todo el esfuerzo en el manejo del paciente ya que no se utiliza ningún tipo de ayudas mecánicas.","NA","0"]
[null,null,null,"No existe programa de mantenimiento de las ayudas mecánicas ni de sillas de rueda o camillas.","NA","0",null,null,null,"Si terminó de responder toda la Tabla 8 Presione Aquí para  regresar a Tabla 1 Información General del Puesto de Trabajo donde podrá continuar con la siguiente Tarea"]
[null,null,"Ambiente y espacios","La temperatura ambiente es menor a 18° o superior a 26° grados Celsius y no se cuenta con ropa que proteja de las temperaturas extremas.","NA","0"]
[null,null,null,"Existe menos de 90 cm de espacio entre la cama y la pared o entre las camas, o menos de 120 cm. al final de la cama.","NA","0"]
[null,null,null,"Presencia de suelo resbaladizo, irregular o inestable en salas o pasillos","NA",{"$f":"IF(E14=\"No\",\"0\",IF(E14=\"NA\",\"0\",\"1\"))","v":"0"}]
[null,null,null,"La organización carece de un sistema de clasificación del paciente (según nivel de asistencia, peso, etc.).","NA",{"$f":"IF(E15=\"No\",\"0\",IF(E15=\"NA\",\"0\",\"1\"))","v":"0"}]
[null,null,"Organización","La organización no cuenta con procedimientos escritos e informados de MMP de acuerdo con el peso y características del paciente.","NA","0"]
[null,null,null,"La organización del trabajo genera concentración de tareas de MMP en ciertos horarios de trabajo y no cuenta con pausas de descanso durante la jornada.","NA","0"]
[null,null,"Entrenamiento","Un 50 % o menos de los trabajadores del servicio/unidad recibieron capacitación teórico-práctico en MMP en los últimos 18 meses.","NA","0"]
[null,null,null,null,null,{"$f":"F4+F5+F6+F7+F8+F9+F10+F11+F12+F13+F14+F15+F16+F17+F18","v":0}]

{"sheet":"TABLA 8T1P8","index":230,"n_rows":19,"n_cols":10,"rows_kept":19,"cut":false,"hidden":false,"merged":[]}
[]
[null,null,null,"TABLA 8 | MANEJO MANUAL DE PERSONAS/PACIENTES- IDENTIFICACIÓN AVANZADA CONDICIÓN CRÍTICA  ",null,null,null,null,null,"Cuadro de Resultado Tabla 8"]
[null,null,"Condición","Levantamiento/descenso y transporte manual de carga","Si / No / NA"]
[null,null,"Aplicación de la Fuerza","En promedio, por turno, el trabajador realiza 12 o más MMP que superen los 15 kgs. cada uno.","NA",{"$f":"IF(E4=\"No\",\"0\",IF(E4=\"NA\",\"0\",\"1\"))","v":"0"},null,null,null,"La Tarea:"]
[null,null,null,"El MMP se realiza bajo las rodillas o sobre la altura codo suelo","NA",{"$f":"IF(E5=\"No\",\"0\",IF(E5=\"NA\",\"0\",\"1\"))","v":"0"},null,null,{"$f":"'TABLA 1 P8'!B6","v":"N° 1"},{"$f":"'TABLA 1 P8'!C6","v":"NA"}]
[null,null,null,"La distancia horizontal entre el cuerpo y el paciente manipulado es superior a 63 cm.","NA","0",null,null,null,"Resultado:"]
[null,null,null,"Torsión extrema del tronco sin movimientos de los pies.","NA","0",null,null,{"$f":"F19","v":0},{"$f":"IF(F19>=1,\"Crítica\",\"No Crítica\")","v":"No Crítica"}]
[null,null,null,"Las camas no son regulables y tienen una altura inferior a 70 cm.","NA","0",null,null,null,"Por lo que usted:"]
[null,null,"Equipamiento","Las camas tienen ninguna o solo 2 ruedas.","NA","0",null,null,null,{"$f":"IF(J7=\"No Crítica\",\"Ha terminado el Proceso de Identificación para esta Tarea y deberá iniciar el proceso de Evaluación Cuantitativa del riesgo\",\"Ha terminado el Proceso de Identificación para esta Tarea y deberá aplicar medidas para reducir el riesgo\")","v":"Ha terminado el Proceso de Identificación para esta Tarea y deberá iniciar el proceso de Evaluación Cuantitativa del riesgo"}]
[null,null,null,"El trabajador hace todo el esfuerzo en el manejo del paciente ya que no se utiliza ningún tipo de ayudas mecánicas.","NA","0"]
[null,null,null,"No existe programa de mantenimiento de las ayudas mecánicas ni de sillas de rueda o camillas.","NA","0",null,null,null,"Si terminó de responder toda la Tabla 8 Presione Aquí para  regresar a Tabla 1 Información General del Puesto de Trabajo donde podrá continuar con la siguiente Tarea"]
[null,null,"Ambiente y espacios","La temperatura ambiente es menor a 18° o superior a 26° grados Celsius y no se cuenta con ropa que proteja de las temperaturas extremas.","NA","0"]
[null,null,null,"Existe menos de 90 cm de espacio entre la cama y la pared o entre las camas, o menos de 120 cm. al final de la cama.","NA","0"]
[null,null,null,"Presencia de suelo resbaladizo, irregular o inestable en salas o pasillos","NA",{"$f":"IF(E14=\"No\",\"0\",IF(E14=\"NA\",\"0\",\"1\"))","v":"0"}]
[null,null,null,"La organización carece de un sistema de clasificación del paciente (según nivel de asistencia, peso, etc.).","NA",{"$f":"IF(E15=\"No\",\"0\",IF(E15=\"NA\",\"0\",\"1\"))","v":"0"}]
[null,null,"Organización","La organización no cuenta con procedimientos escritos e informados de MMP de acuerdo con el peso y características del paciente.","NA","0"]
[null,null,null,"La organización del trabajo genera concentración de tareas de MMP en ciertos horarios de trabajo y no cuenta con pausas de descanso durante la jornada.","NA","0"]
[null,null,"Entrenamiento","Un 50 % o menos de los trabajadores del servicio/unidad recibieron capacitación teórico-práctico en MMP en los últimos 18 meses.","NA","0"]
[null,null,null,null,null,{"$f":"F4+F5+F6+F7+F8+F9+F10+F11+F12+F13+F14+F15+F16+F17+F18","v":0}]

{"sheet":"TABLA 8T1P9","index":231,"n_rows":19,"n_cols":10,"rows_kept":19,"cut":false,"hidden":false,"merged":[]}
[]
[null,null,null,"TABLA 8 | MANEJO MANUAL DE PERSONAS/PACIENTES- IDENTIFICACIÓN AVANZADA CONDICIÓN CRÍTICA  ",null,null,null,null,null,"Cuadro de Resultado Tabla 8"]
[null,null,"Condición","Levantamiento/descenso y transporte manual de carga","Si / No / NA"]
[null,null,"Aplicación de la Fuerza","En promedio, por turno, el trabajador realiza 12 o más MMP que superen los 15 kgs. cada uno.","NA",{"$f":"IF(E4=\"No\",\"0\",IF(E4=\"NA\",\"0\",\"1\"))","v":"0"},null,null,null,"La Tarea:"]
[null,null,null,"El MMP se realiza bajo las rodillas o sobre la altura codo suelo","NA",{"$f":"IF(E5=\"No\",\"0\",IF(E5=\"NA\",\"0\",\"1\"))","v":"0"},null,null,{"$f":"'TABLA 1 P9'!B6","v":"N° 1"},{"$f":"'TABLA 1 P9'!C6","v":"NA"}]
[null,null,null,"La distancia horizontal entre el cuerpo y el paciente manipulado es superior a 63 cm.","NA","0",null,null,null,"Resultado:"]
[null,null,null,"Torsión extrema del tronco sin movimientos de los pies.","NA","0",null,null,{"$f":"F19","v":0},{"$f":"IF(F19>=1,\"Crítica\",\"No Crítica\")","v":"No Crítica"}]
[null,null,null,"Las camas no son regulables y tienen una altura inferior a 70 cm.","NA","0",null,null,null,"Por lo que usted:"]
[null,null,"Equipamiento","Las camas tienen ninguna o solo 2 ruedas.","NA","0",null,null,null,{"$f":"IF(J7=\"No Crítica\",\"Ha terminado el Proceso de Identificación para esta Tarea y deberá iniciar el proceso de Evaluación Cuantitativa del riesgo\",\"Ha terminado el Proceso de Identificación para esta Tarea y deberá aplicar medidas para reducir el riesgo\")","v":"Ha terminado el Proceso de Identificación para esta Tarea y deberá iniciar el proceso de Evaluación Cuantitativa del riesgo"}]
[null,null,null,"El trabajador hace todo el esfuerzo en el manejo del paciente ya que no se utiliza ningún tipo de ayudas mecánicas.","NA","0"]
[null,null,null,"No existe programa de mantenimiento de las ayudas mecánicas ni de sillas de rueda o camillas.","NA","0",null,null,null,"Si terminó de responder toda la Tabla 8 Presione Aquí para  regresar a Tabla 1 Información General del Puesto de Trabajo donde podrá continuar con la siguiente Tarea"]
[null,null,"Ambiente y espacios","La temperatura ambiente es menor a 18° o superior a 26° grados Celsius y no se cuenta con ropa que proteja de las temperaturas extremas.","NA","0"]
[null,null,null,"Existe menos de 90 cm de espacio entre la cama y la pared o entre las camas, o menos de 120 cm. al final de la cama.","NA","0"]
[null,null,null,"Presencia de suelo resbaladizo, irregular o inestable en salas o pasillos","NA",{"$f":"IF(E14=\"No\",\"0\",IF(E14=\"NA\",\"0\",\"1\"))","v":"0"}]
[null,null,null,"La organización carece de un sistema de clasificación del paciente (según nivel de asistencia, peso, etc.).","NA",{"$f":"IF(E15=\"No\",\"0\",IF(E15=\"NA\",\"0\",\"1\"))","v":"0"}]
[null,null,"Organización","La organización no cuenta con procedimientos escritos e informados de MMP de acuerdo con el peso y características del paciente.","NA","0"]
[null,null,null,"La organización del trabajo genera concentración de tareas de MMP en ciertos horarios de trabajo y no cuenta con pausas de descanso durante la jornada.","NA","0"]
[null,null,"Entrenamiento","Un 50 % o menos de los trabajadores del servicio/unidad recibieron capacitación teórico-práctico en MMP en los últimos 18 meses.","NA","0"]
[null,null,null,null,null,{"$f":"F4+F5+F6+F7+F8+F9+F10+F11+F12+F13+F14+F15+F16+F17+F18","v":0}]

{"sheet":"TABLA 8T1P10","index":232,"n_rows":19,"n_cols":10,"rows_kept":19,"cut":false,"hidden":false,"merged":[]}
[]
[null,null,null,"TABLA 8 | MANEJO MANUAL DE PERSONAS/PACIENTES- IDENTIFICACIÓN AVANZADA CONDICIÓN CRÍTICA  ",null,null,null,null,null,"Cuadro de Resultado Tabla 8"]
[null,null,"Condición","Levantamiento/descenso y transporte manual de carga","Si / No / NA"]
[null,null,"Aplicación de la Fuerza","En promedio, por turno, el trabajador realiza 12 o más MMP que superen los 15 kgs. cada uno.","NA",{"$f":"IF(E4=\"No\",\"0\",IF(E4=\"NA\",\"0\",\"1\"))","v":"0"},null,null,null,"La Tarea:"]
[null,null,null,"El MMP se realiza bajo las rodillas o sobre la altura codo suelo","NA",{"$f":"IF(E5=\"No\",\"0\",IF(E5=\"NA\",\"0\",\"1\"))","v":"0"},null,null,{"$f":"'TABLA 1 P10'!B6","v":"N° 1"},{"$f":"'TABLA 1 P10'!C6","v":"NA"}]
[null,null,null,"La distancia horizontal entre el cuerpo y el paciente manipulado es superior a 63 cm.","NA","0",null,null,null,"Resultado:"]
[null,null,null,"Torsión extrema del tronco sin movimientos de los pies.","NA","0",null,null,{"$f":"F19","v":0},{"$f":"IF(F19>=1,\"Crítica\",\"No Crítica\")","v":"No Crítica"}]
[null,null,null,"Las camas no son regulables y tienen una altura inferior a 70 cm.","NA","0",null,null,null,"Por lo que usted:"]
[null,null,"Equipamiento","Las camas tienen ninguna o solo 2 ruedas.","NA","0",null,null,null,{"$f":"IF(J7=\"No Crítica\",\"Ha terminado el Proceso de Identificación para esta Tarea y deberá iniciar el proceso de Evaluación Cuantitativa del riesgo\",\"Ha terminado el Proceso de Identificación para esta Tarea y deberá aplicar medidas para reducir el riesgo\")","v":"Ha terminado el Proceso de Identificación para esta Tarea y deberá iniciar el proceso de Evaluación Cuantitativa del riesgo"}]
[null,null,null,"El trabajador hace todo el esfuerzo en el manejo del paciente ya que no se utiliza ningún tipo de ayudas mecánicas.","NA","0"]
[null,null,null,"No existe programa de mantenimiento de las ayudas mecánicas ni de sillas de rueda o camillas.","NA","0",null,null,null,"Si terminó de responder toda la Tabla 8 Presione Aquí para  regresar a Tabla 1 Información General del Puesto de Trabajo donde podrá continuar con la siguiente Tarea"]
[null,null,"Ambiente y espacios","La temperatura ambiente es menor a 18° o superior a 26° grados Celsius y no se cuenta con ropa que proteja de las temperaturas extremas.","NA","0"]
[null,null,null,"Existe menos de 90 cm de espacio entre la cama y la pared o entre las camas, o menos de 120 cm. al final de la cama.","NA","0"]
[null,null,null,"Presencia de suelo resbaladizo, irregular o inestable en salas o pasillos","NA",{"$f":"IF(E14=\"No\",\"0\",IF(E14=\"NA\",\"0\",\"1\"))","v":"0"}]
[null,null,null,"La organización carece de un sistema de clasificación del paciente (según nivel de asistencia, peso, etc.).","NA",{"$f":"IF(E15=\"No\",\"0\",IF(E15=\"NA\",\"0\",\"1\"))","v":"0"}]
[null,null,"Organización","La organización no cuenta con procedimientos escritos e informados de MMP de acuerdo con el peso y características del paciente.","NA","0"]
[null,null,null,"La organización del trabajo genera concentración de tareas de MMP en ciertos horarios de trabajo y no cuenta con pausas de descanso durante la jornada.","NA","0"]
[null,null,"Entrenamiento","Un 50 % o menos de los trabajadores del servicio/unidad recibieron capacitación teórico-práctico en MMP en los últimos 18 meses.","NA","0"]
[null,null,null,null,null,{"$f":"F4+F5+F6+F7+F8+F9+F10+F11+F12+F13+F14+F15+F16+F17+F18","v":0}]

{"sheet":"TABLA 7T2P1","index":233,"n_rows":26,"n_cols":11,"rows_kept":26,"cut":false,"hidden":false,"merged":[]}
[]
[null,null,null,"MANEJO MANUAL DE PERSONAS/PACIENTES- IDENTIFICACIÓN AVANZADA  CONDICIÓN ACEPTABLE  ",null,null,null,null,null,"Cuadro de Resultado Tabla 7"]
[null,null,"Riesgo","Empueje y Arrastre de Carga","Si / No / NA"]
[null,null,null,"En promedio, por turno, el trabajador realiza 6 o menos MMP que superen los 15 kg. cada uno.","NA",{"$f":"IF(E4=\"SI\",\"0\",IF(E4=\"NA\",\"0\",\"1\"))","v":"0"},null,null,null,"La Tarea:"]
[null,null,"Aplicación de la Fuerza","Ausencia de asimetría (Ej: cuerpo rotado, torsión y/o inclinación de tronco).","NA",{"$f":"IF(E5=\"SI\",\"0\",IF(E5=\"NA\",\"0\",\"1\"))","v":"0"},null,null,{"$f":"'TABLA 1 P1'!B8","v":"N° 2"},{"$f":"'TABLA 1 P1'!C8","v":"NA"}]
[null,null,null,"El paciente es mantenido cerca del cuerpo del trabajador.","NA","0",null,null,null,"Resultado:"]
[null,null,null,"El MMP se realiza entre la altura nudillo suelo y la altura codo suelo (°).","NA","0",null,null,{"$f":"F18","v":0},{"$f":"IF(F18>=1,\"No es Aceptable\",\"Aceptable\")","v":"Aceptable"}]
[null,null,null,"Cuenta con camas regulables en altura.","NA","0",null,null,null,"Por lo que usted:"]
[null,null,"Equipamiento","Existe y se utilizan de forma correcta las ayudas mecánicas.","NA","0",null,null,null,{"$f":"IF(J7=\"Aceptable\",\"Ha Terminado el Proceso de Identificación para esta Tarea\",\"Debe Aplicar Tabla 8\")","v":"Ha Terminado el Proceso de Identificación para esta Tarea"},{"$f":"F18","v":0}]
[null,null,null,"Existen programas de mantenimiento de las ayudas mecánicas, de sillas de rueda y camillas.","NA","0"]
[null,null,"Ambiente y espacios","La iluminación permite visualizar todos los elementos en el espacio de trabajo y la temperatura son adecuadas está entre 19° y 25° grados Celsius.","NA","0",null,null,null,{"$f":"IF(J7=\"Aceptable\",\"Si terminó de responder toda la Tabla 7 Presione Aquí para  regresar a Tabla 1 Información General del Puesto de Trabajo donde podrá continuar con la siguiente Tarea\",\"\")","v":"Si terminó de responder toda la Tabla 7 Presione Aquí para  regresar a Tabla 1 Información General del Puesto de Trabajo donde podrá continuar con la siguiente Tarea"},{"$f":"F18","v":0}]
[null,null,null,"Existe suficiente espacio para moverse libremente y para utilizar las ayudas mecánicas existentes.","NA","0"]
[null,null,null,"Presencia de suelo en salas, pasillos y otros que permiten el normal desplazamiento de sillas de rueda y camillas.","NA","0",null,null,null,null,{"$f":"F18","v":0}]
[null,null,"Organización","Existe un programa institucional para la prevención del riego por MMP: evaluación de riesgo, clasificación de pacientes (según nivel de asistencia requerida, peso, etc.), monitoreo de la salud de los trabajadores, etc.","NA","0"]
[null,null,null,"Existen procedimientos escritos e informados de MMP de acuerdo con el peso y características del paciente.","NA","0",null,null,null,null,{"$f":"F18","v":0}]
[null,null,null,"La organización del trabajo permite distribuir las tareas de MMP a lo largo de la jornada e incluye periodos de descanso dentro de ella.","NA","0"]
[null,null,"Entrenamiento","Al menos un 75 % de los trabajadores del servicio/unidad recibieron capacitación teórico-práctico en MMP en los últimos 12 meses.","NA","0",null,null,null,null,{"$f":"F18","v":0}]
[null,null,null,null,null,{"$f":"F4+F5+F6+F7+F8+F9+F10+F11+F12+F13+F14+F15+F16+F17","v":0}]
[]
[]
[null,null,null,null,null,null,null,null,null,null,{"$f":"F18","v":0}]
[]
[]
[]
[]
[null,null,null,null,null,null,null,null,null,"Presione solo si al completar Tabla 7  se lo indica el Cuadro de Resultado",{"$f":"F18","v":0}]

{"sheet":"TABLA 7T2P2","index":234,"n_rows":26,"n_cols":11,"rows_kept":26,"cut":false,"hidden":false,"merged":[]}
[]
[null,null,null,"MANEJO MANUAL DE PERSONAS/PACIENTES- IDENTIFICACIÓN AVANZADA  CONDICIÓN ACEPTABLE  ",null,null,null,null,null,"Cuadro de Resultado Tabla 7"]
[null,null,"Riesgo","Empueje y Arrastre de Carga","Si / No / NA"]
[null,null,null,"En promedio, por turno, el trabajador realiza 6 o menos MMP que superen los 15 kg. cada uno.","NA",{"$f":"IF(E4=\"SI\",\"0\",IF(E4=\"NA\",\"0\",\"1\"))","v":"0"},null,null,null,"La Tarea:"]
[null,null,"Aplicación de la Fuerza","Ausencia de asimetría (Ej: cuerpo rotado, torsión y/o inclinación de tronco).","NA",{"$f":"IF(E5=\"SI\",\"0\",IF(E5=\"NA\",\"0\",\"1\"))","v":"0"},null,null,{"$f":"'TABLA 1 P2'!B8","v":"N° 2"},{"$f":"'TABLA 1 P2'!C8","v":"NA"}]
[null,null,null,"El paciente es mantenido cerca del cuerpo del trabajador.","NA","0",null,null,null,"Resultado:"]
[null,null,null,"El MMP se realiza entre la altura nudillo suelo y la altura codo suelo (°).","NA","0",null,null,{"$f":"F18","v":0},{"$f":"IF(F18>=1,\"No es Aceptable\",\"Aceptable\")","v":"Aceptable"}]
[null,null,null,"Cuenta con camas regulables en altura.","NA","0",null,null,null,"Por lo que usted:"]
[null,null,"Equipamiento","Existe y se utilizan de forma correcta las ayudas mecánicas.","NA","0",null,null,null,{"$f":"IF(J7=\"Aceptable\",\"Ha Terminado el Proceso de Identificación para esta Tarea\",\"Debe Aplicar Tabla 8\")","v":"Ha Terminado el Proceso de Identificación para esta Tarea"},{"$f":"F18","v":0}]
[null,null,null,"Existen programas de mantenimiento de las ayudas mecánicas, de sillas de rueda y camillas.","NA","0"]
[null,null,"Ambiente y espacios","La iluminación permite visualizar todos los elementos en el espacio de trabajo y la temperatura son adecuadas está entre 19° y 25° grados Celsius.","NA","0",null,null,null,{"$f":"IF(J7=\"Aceptable\",\"Si terminó de responder toda la Tabla 7 Presione Aquí para  regresar a Tabla 1 Información General del Puesto de Trabajo donde podrá continuar con la siguiente Tarea\",\"\")","v":"Si terminó de responder toda la Tabla 7 Presione Aquí para  regresar a Tabla 1 Información General del Puesto de Trabajo donde podrá continuar con la siguiente Tarea"},{"$f":"F18","v":0}]
[null,null,null,"Existe suficiente espacio para moverse libremente y para utilizar las ayudas mecánicas existentes.","NA","0"]
[null,null,null,"Presencia de suelo en salas, pasillos y otros que permiten el normal desplazamiento de sillas de rueda y camillas.","NA","0",null,null,null,null,{"$f":"F18","v":0}]
[null,null,"Organización","Existe un programa institucional para la prevención del riego por MMP: evaluación de riesgo, clasificación de pacientes (según nivel de asistencia requerida, peso, etc.), monitoreo de la salud de los trabajadores, etc.","NA","0"]
[null,null,null,"Existen procedimientos escritos e informados de MMP de acuerdo con el peso y características del paciente.","NA","0",null,null,null,null,{"$f":"F18","v":0}]
[null,null,null,"La organización del trabajo permite distribuir las tareas de MMP a lo largo de la jornada e incluye periodos de descanso dentro de ella.","NA","0"]
[null,null,"Entrenamiento","Al menos un 75 % de los trabajadores del servicio/unidad recibieron capacitación teórico-práctico en MMP en los últimos 12 meses.","NA","0",null,null,null,null,{"$f":"F18","v":0}]
[null,null,null,null,null,{"$f":"F4+F5+F6+F7+F8+F9+F10+F11+F12+F13+F14+F15+F16+F17","v":0}]
[]
[]
[null,null,null,null,null,null,null,null,null,null,{"$f":"F18","v":0}]
[]
[]
[]
[]
[null,null,null,null,null,null,null,null,null,"Presione solo si al completar Tabla 7  se lo indica el Cuadro de Resultado",{"$f":"F18","v":0}]

{"sheet":"TABLA 7T2P3","index":235,"n_rows":26,"n_cols":11,"rows_kept":26,"cut":false,"hidden":false,"merged":[]}
[]
[null,null,null,"MANEJO MANUAL DE PERSONAS/PACIENTES- IDENTIFICACIÓN AVANZADA  CONDICIÓN ACEPTABLE  ",null,null,null,null,null,"Cuadro de Resultado Tabla 7"]
[null,null,"Riesgo","Empueje y Arrastre de Carga","Si / No / NA"]
[null,null,null,"En promedio, por turno, el trabajador realiza 6 o menos MMP que superen los 15 kg. cada uno.","NA",{"$f":"IF(E4=\"SI\",\"0\",IF(E4=\"NA\",\"0\",\"1\"))","v":"0"},null,null,null,"La Tarea:"]
[null,null,"Aplicación de la Fuerza","Ausencia de asimetría (Ej: cuerpo rotado, torsión y/o inclinación de tronco).","NA",{"$f":"IF(E5=\"SI\",\"0\",IF(E5=\"NA\",\"0\",\"1\"))","v":"0"},null,null,{"$f":"'TABLA 1 P3'!B8","v":"N° 2"},{"$f":"'TABLA 1 P3'!C8","v":"NA"}]
[null,null,null,"El paciente es mantenido cerca del cuerpo del trabajador.","NA","0",null,null,null,"Resultado:"]
[null,null,null,"El MMP se realiza entre la altura nudillo suelo y la altura codo suelo (°).","NA","0",null,null,{"$f":"F18","v":0},{"$f":"IF(F18>=1,\"No es Aceptable\",\"Aceptable\")","v":"Aceptable"}]
[null,null,null,"Cuenta con camas regulables en altura.","NA","0",null,null,null,"Por lo que usted:"]
[null,null,"Equipamiento","Existe y se utilizan de forma correcta las ayudas mecánicas.","NA","0",null,null,null,{"$f":"IF(J7=\"Aceptable\",\"Ha Terminado el Proceso de Identificación para esta Tarea\",\"Debe Aplicar Tabla 8\")","v":"Ha Terminado el Proceso de Identificación para esta Tarea"},{"$f":"F18","v":0}]
[null,null,null,"Existen programas de mantenimiento de las ayudas mecánicas, de sillas de rueda y camillas.","NA","0"]
[null,null,"Ambiente y espacios","La iluminación permite visualizar todos los elementos en el espacio de trabajo y la temperatura son adecuadas está entre 19° y 25° grados Celsius.","NA","0",null,null,null,{"$f":"IF(J7=\"Aceptable\",\"Si terminó de responder toda la Tabla 7 Presione Aquí para  regresar a Tabla 1 Información General del Puesto de Trabajo donde podrá continuar con la siguiente Tarea\",\"\")","v":"Si terminó de responder toda la Tabla 7 Presione Aquí para  regresar a Tabla 1 Información General del Puesto de Trabajo donde podrá continuar con la siguiente Tarea"},{"$f":"F18","v":0}]
[null,null,null,"Existe suficiente espacio para moverse libremente y para utilizar las ayudas mecánicas existentes.","NA","0"]
[null,null,null,"Presencia de suelo en salas, pasillos y otros que permiten el normal desplazamiento de sillas de rueda y camillas.","NA","0",null,null,null,null,{"$f":"F18","v":0}]
[null,null,"Organización","Existe un programa institucional para la prevención del riego por MMP: evaluación de riesgo, clasificación de pacientes (según nivel de asistencia requerida, peso, etc.), monitoreo de la salud de los trabajadores, etc.","NA","0"]
[null,null,null,"Existen procedimientos escritos e informados de MMP de acuerdo con el peso y características del paciente.","NA","0",null,null,null,null,{"$f":"F18","v":0}]
[null,null,null,"La organización del trabajo permite distribuir las tareas de MMP a lo largo de la jornada e incluye periodos de descanso dentro de ella.","NA","0"]
[null,null,"Entrenamiento","Al menos un 75 % de los trabajadores del servicio/unidad recibieron capacitación teórico-práctico en MMP en los últimos 12 meses.","NA","0",null,null,null,null,{"$f":"F18","v":0}]
[null,null,null,null,null,{"$f":"F4+F5+F6+F7+F8+F9+F10+F11+F12+F13+F14+F15+F16+F17","v":0}]
[]
[]
[null,null,null,null,null,null,null,null,null,null,{"$f":"F18","v":0}]
[]
[]
[]
[]
[null,null,null,null,null,null,null,null,null,"Presione solo si al completar Tabla 7  se lo indica el Cuadro de Resultado",{"$f":"F18","v":0}]

{"sheet":"TABLA 7T2P4","index":236,"n_rows":26,"n_cols":11,"rows_kept":26,"cut":false,"hidden":false,"merged":[]}
[]
[null,null,null,"MANEJO MANUAL DE PERSONAS/PACIENTES- IDENTIFICACIÓN AVANZADA  CONDICIÓN ACEPTABLE  ",null,null,null,null,null,"Cuadro de Resultado Tabla 7"]
[null,null,"Riesgo","Empueje y Arrastre de Carga","Si / No / NA"]
[null,null,null,"En promedio, por turno, el trabajador realiza 6 o menos MMP que superen los 15 kg. cada uno.","NA",{"$f":"IF(E4=\"SI\",\"0\",IF(E4=\"NA\",\"0\",\"1\"))","v":"0"},null,null,null,"La Tarea:"]
[null,null,"Aplicación de la Fuerza","Ausencia de asimetría (Ej: cuerpo rotado, torsión y/o inclinación de tronco).","NA",{"$f":"IF(E5=\"SI\",\"0\",IF(E5=\"NA\",\"0\",\"1\"))","v":"0"},null,null,{"$f":"'TABLA 1 P4'!B8","v":"N° 2"},{"$f":"'TABLA 1 P4'!C8","v":"NA"}]
[null,null,null,"El paciente es mantenido cerca del cuerpo del trabajador.","NA","0",null,null,null,"Resultado:"]
[null,null,null,"El MMP se realiza entre la altura nudillo suelo y la altura codo suelo (°).","NA","0",null,null,{"$f":"F18","v":0},{"$f":"IF(F18>=1,\"No es Aceptable\",\"Aceptable\")","v":"Aceptable"}]
[null,null,null,"Cuenta con camas regulables en altura.","NA","0",null,null,null,"Por lo que usted:"]
[null,null,"Equipamiento","Existe y se utilizan de forma correcta las ayudas mecánicas.","NA","0",null,null,null,{"$f":"IF(J7=\"Aceptable\",\"Ha Terminado el Proceso de Identificación para esta Tarea\",\"Debe Aplicar Tabla 8\")","v":"Ha Terminado el Proceso de Identificación para esta Tarea"},{"$f":"F18","v":0}]
[null,null,null,"Existen programas de mantenimiento de las ayudas mecánicas, de sillas de rueda y camillas.","NA","0"]
[null,null,"Ambiente y espacios","La iluminación permite visualizar todos los elementos en el espacio de trabajo y la temperatura son adecuadas está entre 19° y 25° grados Celsius.","NA","0",null,null,null,{"$f":"IF(J7=\"Aceptable\",\"Si terminó de responder toda la Tabla 7 Presione Aquí para  regresar a Tabla 1 Información General del Puesto de Trabajo donde podrá continuar con la siguiente Tarea\",\"\")","v":"Si terminó de responder toda la Tabla 7 Presione Aquí para  regresar a Tabla 1 Información General del Puesto de Trabajo donde podrá continuar con la siguiente Tarea"},{"$f":"F18","v":0}]
[null,null,null,"Existe suficiente espacio para moverse libremente y para utilizar las ayudas mecánicas existentes.","NA","0"]
[null,null,null,"Presencia de suelo en salas, pasillos y otros que permiten el normal desplazamiento de sillas de rueda y camillas.","NA","0",null,null,null,null,{"$f":"F18","v":0}]
[null,null,"Organización","Existe un programa institucional para la prevención del riego por MMP: evaluación de riesgo, clasificación de pacientes (según nivel de asistencia requerida, peso, etc.), monitoreo de la salud de los trabajadores, etc.","NA","0"]
[null,null,null,"Existen procedimientos escritos e informados de MMP de acuerdo con el peso y características del paciente.","NA","0",null,null,null,null,{"$f":"F18","v":0}]
[null,null,null,"La organización del trabajo permite distribuir las tareas de MMP a lo largo de la jornada e incluye periodos de descanso dentro de ella.","NA","0"]
[null,null,"Entrenamiento","Al menos un 75 % de los trabajadores del servicio/unidad recibieron capacitación teórico-práctico en MMP en los últimos 12 meses.","NA","0",null,null,null,null,{"$f":"F18","v":0}]
[null,null,null,null,null,{"$f":"F4+F5+F6+F7+F8+F9+F10+F11+F12+F13+F14+F15+F16+F17","v":0}]
[]
[]
[null,null,null,null,null,null,null,null,null,null,{"$f":"F18","v":0}]
[]
[]
[]
[]
[null,null,null,null,null,null,null,null,null,"Presione solo si al completar Tabla 7  se lo indica el Cuadro de Resultado",{"$f":"F18","v":0}]

{"sheet":"TABLA 7T2P5","index":237,"n_rows":26,"n_cols":11,"rows_kept":26,"cut":false,"hidden":false,"merged":[]}
[]
[null,null,null,"MANEJO MANUAL DE PERSONAS/PACIENTES- IDENTIFICACIÓN AVANZADA  CONDICIÓN ACEPTABLE  ",null,null,null,null,null,"Cuadro de Resultado Tabla 7"]
[null,null,"Riesgo","Empueje y Arrastre de Carga","Si / No / NA"]
[null,null,null,"En promedio, por turno, el trabajador realiza 6 o menos MMP que superen los 15 kg. cada uno.","NA",{"$f":"IF(E4=\"SI\",\"0\",IF(E4=\"NA\",\"0\",\"1\"))","v":"0"},null,null,null,"La Tarea:"]
[null,null,"Aplicación de la Fuerza","Ausencia de asimetría (Ej: cuerpo rotado, torsión y/o inclinación de tronco).","NA",{"$f":"IF(E5=\"SI\",\"0\",IF(E5=\"NA\",\"0\",\"1\"))","v":"0"},null,null,{"$f":"'TABLA 1 P5'!B8","v":"N° 2"},{"$f":"'TABLA 1 P5'!C8","v":"NA"}]
[null,null,null,"El paciente es mantenido cerca del cuerpo del trabajador.","NA","0",null,null,null,"Resultado:"]
[null,null,null,"El MMP se realiza entre la altura nudillo suelo y la altura codo suelo (°).","NA","0",null,null,{"$f":"F18","v":0},{"$f":"IF(F18>=1,\"No es Aceptable\",\"Aceptable\")","v":"Aceptable"}]
[null,null,null,"Cuenta con camas regulables en altura.","NA","0",null,null,null,"Por lo que usted:"]
[null,null,"Equipamiento","Existe y se utilizan de forma correcta las ayudas mecánicas.","NA","0",null,null,null,{"$f":"IF(J7=\"Aceptable\",\"Ha Terminado el Proceso de Identificación para esta Tarea\",\"Debe Aplicar Tabla 8\")","v":"Ha Terminado el Proceso de Identificación para esta Tarea"},{"$f":"F18","v":0}]
[null,null,null,"Existen programas de mantenimiento de las ayudas mecánicas, de sillas de rueda y camillas.","NA","0"]
[null,null,"Ambiente y espacios","La iluminación permite visualizar todos los elementos en el espacio de trabajo y la temperatura son adecuadas está entre 19° y 25° grados Celsius.","NA","0",null,null,null,{"$f":"IF(J7=\"Aceptable\",\"Si terminó de responder toda la Tabla 7 Presione Aquí para  regresar a Tabla 1 Información General del Puesto de Trabajo donde podrá continuar con la siguiente Tarea\",\"\")","v":"Si terminó de responder toda la Tabla 7 Presione Aquí para  regresar a Tabla 1 Información General del Puesto de Trabajo donde podrá continuar con la siguiente Tarea"},{"$f":"F18","v":0}]
[null,null,null,"Existe suficiente espacio para moverse libremente y para utilizar las ayudas mecánicas existentes.","NA","0"]
[null,null,null,"Presencia de suelo en salas, pasillos y otros que permiten el normal desplazamiento de sillas de rueda y camillas.","NA","0",null,null,null,null,{"$f":"F18","v":0}]
[null,null,"Organización","Existe un programa institucional para la prevención del riego por MMP: evaluación de riesgo, clasificación de pacientes (según nivel de asistencia requerida, peso, etc.), monitoreo de la salud de los trabajadores, etc.","NA","0"]
[null,null,null,"Existen procedimientos escritos e informados de MMP de acuerdo con el peso y características del paciente.","NA","0",null,null,null,null,{"$f":"F18","v":0}]
[null,null,null,"La organización del trabajo permite distribuir las tareas de MMP a lo largo de la jornada e incluye periodos de descanso dentro de ella.","NA","0"]
[null,null,"Entrenamiento","Al menos un 75 % de los trabajadores del servicio/unidad recibieron capacitación teórico-práctico en MMP en los últimos 12 meses.","NA","0",null,null,null,null,{"$f":"F18","v":0}]
[null,null,null,null,null,{"$f":"F4+F5+F6+F7+F8+F9+F10+F11+F12+F13+F14+F15+F16+F17","v":0}]
[]
[]
[null,null,null,null,null,null,null,null,null,null,{"$f":"F18","v":0}]
[]
[]
[]
[]
[null,null,null,null,null,null,null,null,null,"Presione solo si al completar Tabla 7  se lo indica el Cuadro de Resultado",{"$f":"F18","v":0}]

{"sheet":"TABLA 7T2P6","index":238,"n_rows":26,"n_cols":11,"rows_kept":26,"cut":false,"hidden":false,"merged":[]}
[]
[null,null,null,"MANEJO MANUAL DE PERSONAS/PACIENTES- IDENTIFICACIÓN AVANZADA  CONDICIÓN ACEPTABLE  ",null,null,null,null,null,"Cuadro de Resultado Tabla 7"]
[null,null,"Riesgo","Empueje y Arrastre de Carga","Si / No / NA"]
[null,null,null,"En promedio, por turno, el trabajador realiza 6 o menos MMP que superen los 15 kg. cada uno.","NA",{"$f":"IF(E4=\"SI\",\"0\",IF(E4=\"NA\",\"0\",\"1\"))","v":"0"},null,null,null,"La Tarea:"]
[null,null,"Aplicación de la Fuerza","Ausencia de asimetría (Ej: cuerpo rotado, torsión y/o inclinación de tronco).","NA",{"$f":"IF(E5=\"SI\",\"0\",IF(E5=\"NA\",\"0\",\"1\"))","v":"0"},null,null,{"$f":"'TABLA 1 P6'!B8","v":"N° 2"},{"$f":"'TABLA 1 P6'!C8","v":"NA"}]
[null,null,null,"El paciente es mantenido cerca del cuerpo del trabajador.","NA","0",null,null,null,"Resultado:"]
[null,null,null,"El MMP se realiza entre la altura nudillo suelo y la altura codo suelo (°).","NA","0",null,null,{"$f":"F18","v":0},{"$f":"IF(F18>=1,\"No es Aceptable\",\"Aceptable\")","v":"Aceptable"}]
[null,null,null,"Cuenta con camas regulables en altura.","NA","0",null,null,null,"Por lo que usted:"]
[null,null,"Equipamiento","Existe y se utilizan de forma correcta las ayudas mecánicas.","NA","0",null,null,null,{"$f":"IF(J7=\"Aceptable\",\"Ha Terminado el Proceso de Identificación para esta Tarea\",\"Debe Aplicar Tabla 8\")","v":"Ha Terminado el Proceso de Identificación para esta Tarea"},{"$f":"F18","v":0}]
[null,null,null,"Existen programas de mantenimiento de las ayudas mecánicas, de sillas de rueda y camillas.","NA","0"]
[null,null,"Ambiente y espacios","La iluminación permite visualizar todos los elementos en el espacio de trabajo y la temperatura son adecuadas está entre 19° y 25° grados Celsius.","NA","0",null,null,null,{"$f":"IF(J7=\"Aceptable\",\"Si terminó de responder toda la Tabla 7 Presione Aquí para  regresar a Tabla 1 Información General del Puesto de Trabajo donde podrá continuar con la siguiente Tarea\",\"\")","v":"Si terminó de responder toda la Tabla 7 Presione Aquí para  regresar a Tabla 1 Información General del Puesto de Trabajo donde podrá continuar con la siguiente Tarea"},{"$f":"F18","v":0}]
[null,null,null,"Existe suficiente espacio para moverse libremente y para utilizar las ayudas mecánicas existentes.","NA","0"]
[null,null,null,"Presencia de suelo en salas, pasillos y otros que permiten el normal desplazamiento de sillas de rueda y camillas.","NA","0",null,null,null,null,{"$f":"F18","v":0}]
[null,null,"Organización","Existe un programa institucional para la prevención del riego por MMP: evaluación de riesgo, clasificación de pacientes (según nivel de asistencia requerida, peso, etc.), monitoreo de la salud de los trabajadores, etc.","NA","0"]
[null,null,null,"Existen procedimientos escritos e informados de MMP de acuerdo con el peso y características del paciente.","NA","0",null,null,null,null,{"$f":"F18","v":0}]
[null,null,null,"La organización del trabajo permite distribuir las tareas de MMP a lo largo de la jornada e incluye periodos de descanso dentro de ella.","NA","0"]
[null,null,"Entrenamiento","Al menos un 75 % de los trabajadores del servicio/unidad recibieron capacitación teórico-práctico en MMP en los últimos 12 meses.","NA","0",null,null,null,null,{"$f":"F18","v":0}]
[null,null,null,null,null,{"$f":"F4+F5+F6+F7+F8+F9+F10+F11+F12+F13+F14+F15+F16+F17","v":0}]
[]
[]
[null,null,null,null,null,null,null,null,null,null,{"$f":"F18","v":0}]
[]
[]
[]
[]
[null,null,null,null,null,null,null,null,null,"Presione solo si al completar Tabla 7  se lo indica el Cuadro de Resultado",{"$f":"F18","v":0}]

{"sheet":"TABLA 7T2P7","index":239,"n_rows":26,"n_cols":11,"rows_kept":26,"cut":false,"hidden":false,"merged":[]}
[]
[null,null,null,"MANEJO MANUAL DE PERSONAS/PACIENTES- IDENTIFICACIÓN AVANZADA  CONDICIÓN ACEPTABLE  ",null,null,null,null,null,"Cuadro de Resultado Tabla 7"]
[null,null,"Riesgo","Empueje y Arrastre de Carga","Si / No / NA"]
[null,null,null,"En promedio, por turno, el trabajador realiza 6 o menos MMP que superen los 15 kg. cada uno.","NA",{"$f":"IF(E4=\"SI\",\"0\",IF(E4=\"NA\",\"0\",\"1\"))","v":"0"},null,null,null,"La Tarea:"]
[null,null,"Aplicación de la Fuerza","Ausencia de asimetría (Ej: cuerpo rotado, torsión y/o inclinación de tronco).","NA",{"$f":"IF(E5=\"SI\",\"0\",IF(E5=\"NA\",\"0\",\"1\"))","v":"0"},null,null,{"$f":"'TABLA 1 P7'!B8","v":"N° 2"},{"$f":"'TABLA 1 P7'!C8","v":"NA"}]
[null,null,null,"El paciente es mantenido cerca del cuerpo del trabajador.","NA","0",null,null,null,"Resultado:"]
[null,null,null,"El MMP se realiza entre la altura nudillo suelo y la altura codo suelo (°).","NA","0",null,null,{"$f":"F18","v":0},{"$f":"IF(F18>=1,\"No es Aceptable\",\"Aceptable\")","v":"Aceptable"}]
[null,null,null,"Cuenta con camas regulables en altura.","NA","0",null,null,null,"Por lo que usted:"]
[null,null,"Equipamiento","Existe y se utilizan de forma correcta las ayudas mecánicas.","NA","0",null,null,null,{"$f":"IF(J7=\"Aceptable\",\"Ha Terminado el Proceso de Identificación para esta Tarea\",\"Debe Aplicar Tabla 8\")","v":"Ha Terminado el Proceso de Identificación para esta Tarea"},{"$f":"F18","v":0}]
[null,null,null,"Existen programas de mantenimiento de las ayudas mecánicas, de sillas de rueda y camillas.","NA","0"]
[null,null,"Ambiente y espacios","La iluminación permite visualizar todos los elementos en el espacio de trabajo y la temperatura son adecuadas está entre 19° y 25° grados Celsius.","NA","0",null,null,null,{"$f":"IF(J7=\"Aceptable\",\"Si terminó de responder toda la Tabla 7 Presione Aquí para  regresar a Tabla 1 Información General del Puesto de Trabajo donde podrá continuar con la siguiente Tarea\",\"\")","v":"Si terminó de responder toda la Tabla 7 Presione Aquí para  regresar a Tabla 1 Información General del Puesto de Trabajo donde podrá continuar con la siguiente Tarea"},{"$f":"F18","v":0}]
[null,null,null,"Existe suficiente espacio para moverse libremente y para utilizar las ayudas mecánicas existentes.","NA","0"]
[null,null,null,"Presencia de suelo en salas, pasillos y otros que permiten el normal desplazamiento de sillas de rueda y camillas.","NA","0",null,null,null,null,{"$f":"F18","v":0}]
[null,null,"Organización","Existe un programa institucional para la prevención del riego por MMP: evaluación de riesgo, clasificación de pacientes (según nivel de asistencia requerida, peso, etc.), monitoreo de la salud de los trabajadores, etc.","NA","0"]
[null,null,null,"Existen procedimientos escritos e informados de MMP de acuerdo con el peso y características del paciente.","NA","0",null,null,null,null,{"$f":"F18","v":0}]
[null,null,null,"La organización del trabajo permite distribuir las tareas de MMP a lo largo de la jornada e incluye periodos de descanso dentro de ella.","NA","0"]
[null,null,"Entrenamiento","Al menos un 75 % de los trabajadores del servicio/unidad recibieron capacitación teórico-práctico en MMP en los últimos 12 meses.","NA","0",null,null,null,null,{"$f":"F18","v":0}]
[null,null,null,null,null,{"$f":"F4+F5+F6+F7+F8+F9+F10+F11+F12+F13+F14+F15+F16+F17","v":0}]
[]
[]
[null,null,null,null,null,null,null,null,null,null,{"$f":"F18","v":0}]
[]
[]
[]
[]
[null,null,null,null,null,null,null,null,null,"Presione solo si al completar Tabla 7  se lo indica el Cuadro de Resultado",{"$f":"F18","v":0}]

{"sheet":"TABLA 7T2P8","index":240,"n_rows":26,"n_cols":11,"rows_kept":26,"cut":false,"hidden":false,"merged":[]}
[]
[null,null,null,"MANEJO MANUAL DE PERSONAS/PACIENTES- IDENTIFICACIÓN AVANZADA  CONDICIÓN ACEPTABLE  ",null,null,null,null,null,"Cuadro de Resultado Tabla 7"]
[null,null,"Riesgo","Empueje y Arrastre de Carga","Si / No / NA"]
[null,null,null,"En promedio, por turno, el trabajador realiza 6 o menos MMP que superen los 15 kg. cada uno.","NA",{"$f":"IF(E4=\"SI\",\"0\",IF(E4=\"NA\",\"0\",\"1\"))","v":"0"},null,null,null,"La Tarea:"]
[null,null,"Aplicación de la Fuerza","Ausencia de asimetría (Ej: cuerpo rotado, torsión y/o inclinación de tronco).","NA",{"$f":"IF(E5=\"SI\",\"0\",IF(E5=\"NA\",\"0\",\"1\"))","v":"0"},null,null,{"$f":"'TABLA 1 P8'!B8","v":"N° 2"},{"$f":"'TABLA 1 P8'!C8","v":"NA"}]
[null,null,null,"El paciente es mantenido cerca del cuerpo del trabajador.","NA","0",null,null,null,"Resultado:"]
[null,null,null,"El MMP se realiza entre la altura nudillo suelo y la altura codo suelo (°).","NA","0",null,null,{"$f":"F18","v":0},{"$f":"IF(F18>=1,\"No es Aceptable\",\"Aceptable\")","v":"Aceptable"}]
[null,null,null,"Cuenta con camas regulables en altura.","NA","0",null,null,null,"Por lo que usted:"]
[null,null,"Equipamiento","Existe y se utilizan de forma correcta las ayudas mecánicas.","NA","0",null,null,null,{"$f":"IF(J7=\"Aceptable\",\"Ha Terminado el Proceso de Identificación para esta Tarea\",\"Debe Aplicar Tabla 8\")","v":"Ha Terminado el Proceso de Identificación para esta Tarea"},{"$f":"F18","v":0}]
[null,null,null,"Existen programas de mantenimiento de las ayudas mecánicas, de sillas de rueda y camillas.","NA","0"]
[null,null,"Ambiente y espacios","La iluminación permite visualizar todos los elementos en el espacio de trabajo y la temperatura son adecuadas está entre 19° y 25° grados Celsius.","NA","0",null,null,null,{"$f":"IF(J7=\"Aceptable\",\"Si terminó de responder toda la Tabla 7 Presione Aquí para  regresar a Tabla 1 Información General del Puesto de Trabajo donde podrá continuar con la siguiente Tarea\",\"\")","v":"Si terminó de responder toda la Tabla 7 Presione Aquí para  regresar a Tabla 1 Información General del Puesto de Trabajo donde podrá continuar con la siguiente Tarea"},{"$f":"F18","v":0}]
[null,null,null,"Existe suficiente espacio para moverse libremente y para utilizar las ayudas mecánicas existentes.","NA","0"]
[null,null,null,"Presencia de suelo en salas, pasillos y otros que permiten el normal desplazamiento de sillas de rueda y camillas.","NA","0",null,null,null,null,{"$f":"F18","v":0}]
[null,null,"Organización","Existe un programa institucional para la prevención del riego por MMP: evaluación de riesgo, clasificación de pacientes (según nivel de asistencia requerida, peso, etc.), monitoreo de la salud de los trabajadores, etc.","NA","0"]
[null,null,null,"Existen procedimientos escritos e informados de MMP de acuerdo con el peso y características del paciente.","NA","0",null,null,null,null,{"$f":"F18","v":0}]
[null,null,null,"La organización del trabajo permite distribuir las tareas de MMP a lo largo de la jornada e incluye periodos de descanso dentro de ella.","NA","0"]
[null,null,"Entrenamiento","Al menos un 75 % de los trabajadores del servicio/unidad recibieron capacitación teórico-práctico en MMP en los últimos 12 meses.","NA","0",null,null,null,null,{"$f":"F18","v":0}]
[null,null,null,null,null,{"$f":"F4+F5+F6+F7+F8+F9+F10+F11+F12+F13+F14+F15+F16+F17","v":0}]
[]
[]
[null,null,null,null,null,null,null,null,null,null,{"$f":"F18","v":0}]
[]
[]
[]
[]
[null,null,null,null,null,null,null,null,null,"Presione solo si al completar Tabla 7  se lo indica el Cuadro de Resultado",{"$f":"F18","v":0}]

{"sheet":"TABLA 7T2P9","index":241,"n_rows":26,"n_cols":11,"rows_kept":26,"cut":false,"hidden":false,"merged":[]}
[]
[null,null,null,"MANEJO MANUAL DE PERSONAS/PACIENTES- IDENTIFICACIÓN AVANZADA  CONDICIÓN ACEPTABLE  ",null,null,null,null,null,"Cuadro de Resultado Tabla 7"]
[null,null,"Riesgo","Empueje y Arrastre de Carga","Si / No / NA"]
[null,null,null,"En promedio, por turno, el trabajador realiza 6 o menos MMP que superen los 15 kg. cada uno.","NA",{"$f":"IF(E4=\"SI\",\"0\",IF(E4=\"NA\",\"0\",\"1\"))","v":"0"},null,null,null,"La Tarea:"]
[null,null,"Aplicación de la Fuerza","Ausencia de asimetría (Ej: cuerpo rotado, torsión y/o inclinación de tronco).","NA",{"$f":"IF(E5=\"SI\",\"0\",IF(E5=\"NA\",\"0\",\"1\"))","v":"0"},null,null,{"$f":"'TABLA 1 P9'!B8","v":"N° 2"},{"$f":"'TABLA 1 P9'!C8","v":"NA"}]
[null,null,null,"El paciente es mantenido cerca del cuerpo del trabajador.","NA","0",null,null,null,"Resultado:"]
[null,null,null,"El MMP se realiza entre la altura nudillo suelo y la altura codo suelo (°).","NA","0",null,null,{"$f":"F18","v":0},{"$f":"IF(F18>=1,\"No es Aceptable\",\"Aceptable\")","v":"Aceptable"}]
[null,null,null,"Cuenta con camas regulables en altura.","NA","0",null,null,null,"Por lo que usted:"]
[null,null,"Equipamiento","Existe y se utilizan de forma correcta las ayudas mecánicas.","NA","0",null,null,null,{"$f":"IF(J7=\"Aceptable\",\"Ha Terminado el Proceso de Identificación para esta Tarea\",\"Debe Aplicar Tabla 8\")","v":"Ha Terminado el Proceso de Identificación para esta Tarea"},{"$f":"F18","v":0}]
[null,null,null,"Existen programas de mantenimiento de las ayudas mecánicas, de sillas de rueda y camillas.","NA","0"]
[null,null,"Ambiente y espacios","La iluminación permite visualizar todos los elementos en el espacio de trabajo y la temperatura son adecuadas está entre 19° y 25° grados Celsius.","NA","0",null,null,null,{"$f":"IF(J7=\"Aceptable\",\"Si terminó de responder toda la Tabla 7 Presione Aquí para  regresar a Tabla 1 Información General del Puesto de Trabajo donde podrá continuar con la siguiente Tarea\",\"\")","v":"Si terminó de responder toda la Tabla 7 Presione Aquí para  regresar a Tabla 1 Información General del Puesto de Trabajo donde podrá continuar con la siguiente Tarea"},{"$f":"F18","v":0}]
[null,null,null,"Existe suficiente espacio para moverse libremente y para utilizar las ayudas mecánicas existentes.","NA","0"]
[null,null,null,"Presencia de suelo en salas, pasillos y otros que permiten el normal desplazamiento de sillas de rueda y camillas.","NA","0",null,null,null,null,{"$f":"F18","v":0}]
[null,null,"Organización","Existe un programa institucional para la prevención del riego por MMP: evaluación de riesgo, clasificación de pacientes (según nivel de asistencia requerida, peso, etc.), monitoreo de la salud de los trabajadores, etc.","NA","0"]
[null,null,null,"Existen procedimientos escritos e informados de MMP de acuerdo con el peso y características del paciente.","NA","0",null,null,null,null,{"$f":"F18","v":0}]
[null,null,null,"La organización del trabajo permite distribuir las tareas de MMP a lo largo de la jornada e incluye periodos de descanso dentro de ella.","NA","0"]
[null,null,"Entrenamiento","Al menos un 75 % de los trabajadores del servicio/unidad recibieron capacitación teórico-práctico en MMP en los últimos 12 meses.","NA","0",null,null,null,null,{"$f":"F18","v":0}]
[null,null,null,null,null,{"$f":"F4+F5+F6+F7+F8+F9+F10+F11+F12+F13+F14+F15+F16+F17","v":0}]
[]
[]
[null,null,null,null,null,null,null,null,null,null,{"$f":"F18","v":0}]
[]
[]
[]
[]
[null,null,null,null,null,null,null,null,null,"Presione solo si al completar Tabla 7  se lo indica el Cuadro de Resultado",{"$f":"F18","v":0}]

{"sheet":"TABLA 7T2P10","index":242,"n_rows":26,"n_cols":11,"rows_kept":26,"cut":false,"hidden":false,"merged":[]}
[]
[null,null,null,"MANEJO MANUAL DE PERSONAS/PACIENTES- IDENTIFICACIÓN AVANZADA  CONDICIÓN ACEPTABLE  ",null,null,null,null,null,"Cuadro de Resultado Tabla 7"]
[null,null,"Riesgo","Empueje y Arrastre de Carga","Si / No / NA"]
[null,null,null,"En promedio, por turno, el trabajador realiza 6 o menos MMP que superen los 15 kg. cada uno.","NA",{"$f":"IF(E4=\"SI\",\"0\",IF(E4=\"NA\",\"0\",\"1\"))","v":"0"},null,null,null,"La Tarea:"]
[null,null,"Aplicación de la Fuerza","Ausencia de asimetría (Ej: cuerpo rotado, torsión y/o inclinación de tronco).","NA",{"$f":"IF(E5=\"SI\",\"0\",IF(E5=\"NA\",\"0\",\"1\"))","v":"0"},null,null,{"$f":"'TABLA 1 P10'!B8","v":"N° 2"},{"$f":"'TABLA 1 P10'!C8","v":"NA"}]
[null,null,null,"El paciente es mantenido cerca del cuerpo del trabajador.","NA","0",null,null,null,"Resultado:"]
[null,null,null,"El MMP se realiza entre la altura nudillo suelo y la altura codo suelo (°).","NA","0",null,null,{"$f":"F18","v":0},{"$f":"IF(F18>=1,\"No es Aceptable\",\"Aceptable\")","v":"Aceptable"}]
[null,null,null,"Cuenta con camas regulables en altura.","NA","0",null,null,null,"Por lo que usted:"]
[null,null,"Equipamiento","Existe y se utilizan de forma correcta las ayudas mecánicas.","NA","0",null,null,null,{"$f":"IF(J7=\"Aceptable\",\"Ha Terminado el Proceso de Identificación para esta Tarea\",\"Debe Aplicar Tabla 8\")","v":"Ha Terminado el Proceso de Identificación para esta Tarea"},{"$f":"F18","v":0}]
[null,null,null,"Existen programas de mantenimiento de las ayudas mecánicas, de sillas de rueda y camillas.","NA","0"]
[null,null,"Ambiente y espacios","La iluminación permite visualizar todos los elementos en el espacio de trabajo y la temperatura son adecuadas está entre 19° y 25° grados Celsius.","NA","0",null,null,null,{"$f":"IF(J7=\"Aceptable\",\"Si terminó de responder toda la Tabla 7 Presione Aquí para  regresar a Tabla 1 Información General del Puesto de Trabajo donde podrá continuar con la siguiente Tarea\",\"\")","v":"Si terminó de responder toda la Tabla 7 Presione Aquí para  regresar a Tabla 1 Información General del Puesto de Trabajo donde podrá continuar con la siguiente Tarea"},{"$f":"F18","v":0}]
[null,null,null,"Existe suficiente espacio para moverse libremente y para utilizar las ayudas mecánicas existentes.","NA","0"]
[null,null,null,"Presencia de suelo en salas, pasillos y otros que permiten el normal desplazamiento de sillas de rueda y camillas.","NA","0",null,null,null,null,{"$f":"F18","v":0}]
[null,null,"Organización","Existe un programa institucional para la prevención del riego por MMP: evaluación de riesgo, clasificación de pacientes (según nivel de asistencia requerida, peso, etc.), monitoreo de la salud de los trabajadores, etc.","NA","0"]
[null,null,null,"Existen procedimientos escritos e informados de MMP de acuerdo con el peso y características del paciente.","NA","0",null,null,null,null,{"$f":"F18","v":0}]
[null,null,null,"La organización del trabajo permite distribuir las tareas de MMP a lo largo de la jornada e incluye periodos de descanso dentro de ella.","NA","0"]
[null,null,"Entrenamiento","Al menos un 75 % de los trabajadores del servicio/unidad recibieron capacitación teórico-práctico en MMP en los últimos 12 meses.","NA","0",null,null,null,null,{"$f":"F18","v":0}]
[null,null,null,null,null,{"$f":"F4+F5+F6+F7+F8+F9+F10+F11+F12+F13+F14+F15+F16+F17","v":0}]
[]
[]
[null,null,null,null,null,null,null,null,null,null,{"$f":"F18","v":0}]
[]
[]
[]
[]
[null,null,null,null,null,null,null,null,null,"Presione solo si al completar Tabla 7  se lo indica el Cuadro de Resultado",{"$f":"F18","v":0}]

{"sheet":"TABLA 8T2P1","index":243,"n_rows":19,"n_cols":10,"rows_kept":19,"cut":false,"hidden":false,"merged":[]}
[]
[null,null,null,"TABLA 8 | MANEJO MANUAL DE PERSONAS/PACIENTES- IDENTIFICACIÓN AVANZADA CONDICIÓN CRÍTICA  ",null,null,null,null,null,"Cuadro de Resultado Tabla 8"]
[null,null,"Condición","Levantamiento/descenso y transporte manual de carga","Si / No / NA"]
[null,null,"Aplicación de la Fuerza","En promedio, por turno, el trabajador realiza 12 o más MMP que superen los 15 kgs. cada uno.","NA",{"$f":"IF(E4=\"No\",\"0\",IF(E4=\"NA\",\"0\",\"1\"))","v":"0"},null,null,null,"La Tarea:"]
[null,null,null,"El MMP se realiza bajo las rodillas o sobre la altura codo suelo","NA",{"$f":"IF(E5=\"No\",\"0\",IF(E5=\"NA\",\"0\",\"1\"))","v":"0"},null,null,{"$f":"'TABLA 1 P1'!B8","v":"N° 2"},{"$f":"'TABLA 1 P1'!C8","v":"NA"}]
[null,null,null,"La distancia horizontal entre el cuerpo y el paciente manipulado es superior a 63 cm.","NA","0",null,null,null,"Resultado:"]
[null,null,null,"Torsión extrema del tronco sin movimientos de los pies.","NA","0",null,null,{"$f":"F19","v":0},{"$f":"IF(F19>=1,\"Crítica\",\"No Crítica\")","v":"No Crítica"}]
[null,null,null,"Las camas no son regulables y tienen una altura inferior a 70 cm.","NA","0",null,null,null,"Por lo que usted:"]
[null,null,"Equipamiento","Las camas tienen ninguna o solo 2 ruedas.","NA","0",null,null,null,{"$f":"IF(J7=\"No Crítica\",\"Ha terminado el Proceso de Identificación para esta Tarea y deberá iniciar el proceso de Evaluación Cuantitativa del riesgo\",\"Ha terminado el Proceso de Identificación para esta Tarea y deberá aplicar medidas para reducir el riesgo\")","v":"Ha terminado el Proceso de Identificación para esta Tarea y deberá iniciar el proceso de Evaluación Cuantitativa del riesgo"}]
[null,null,null,"El trabajador hace todo el esfuerzo en el manejo del paciente ya que no se utiliza ningún tipo de ayudas mecánicas.","NA","0"]
[null,null,null,"No existe programa de mantenimiento de las ayudas mecánicas ni de sillas de rueda o camillas.","NA","0",null,null,null,"Si terminó de responder toda la Tabla 8 Presione Aquí para  regresar a Tabla 1 Información General del Puesto de Trabajo donde podrá continuar con la siguiente Tarea"]
[null,null,"Ambiente y espacios","La temperatura ambiente es menor a 18° o superior a 26° grados Celsius y no se cuenta con ropa que proteja de las temperaturas extremas.","NA","0"]
[null,null,null,"Existe menos de 90 cm de espacio entre la cama y la pared o entre las camas, o menos de 120 cm. al final de la cama.","NA","0"]
[null,null,null,"Presencia de suelo resbaladizo, irregular o inestable en salas o pasillos","NA",{"$f":"IF(E14=\"No\",\"0\",IF(E14=\"NA\",\"0\",\"1\"))","v":"0"}]
[null,null,null,"La organización carece de un sistema de clasificación del paciente (según nivel de asistencia, peso, etc.).","NA",{"$f":"IF(E15=\"No\",\"0\",IF(E15=\"NA\",\"0\",\"1\"))","v":"0"}]
[null,null,"Organización","La organización no cuenta con procedimientos escritos e informados de MMP de acuerdo con el peso y características del paciente.","NA","0"]
[null,null,null,"La organización del trabajo genera concentración de tareas de MMP en ciertos horarios de trabajo y no cuenta con pausas de descanso durante la jornada.","NA","0"]
[null,null,"Entrenamiento","Un 50 % o menos de los trabajadores del servicio/unidad recibieron capacitación teórico-práctico en MMP en los últimos 18 meses.","NA","0"]
[null,null,null,null,null,{"$f":"F4+F5+F6+F7+F8+F9+F10+F11+F12+F13+F14+F15+F16+F17+F18","v":0}]

{"sheet":"TABLA 8T2P2","index":244,"n_rows":19,"n_cols":10,"rows_kept":19,"cut":false,"hidden":false,"merged":[]}
[]
[null,null,null,"TABLA 8 | MANEJO MANUAL DE PERSONAS/PACIENTES- IDENTIFICACIÓN AVANZADA CONDICIÓN CRÍTICA  ",null,null,null,null,null,"Cuadro de Resultado Tabla 8"]
[null,null,"Condición","Levantamiento/descenso y transporte manual de carga","Si / No / NA"]
[null,null,"Aplicación de la Fuerza","En promedio, por turno, el trabajador realiza 12 o más MMP que superen los 15 kgs. cada uno.","NA",{"$f":"IF(E4=\"No\",\"0\",IF(E4=\"NA\",\"0\",\"1\"))","v":"0"},null,null,null,"La Tarea:"]
[null,null,null,"El MMP se realiza bajo las rodillas o sobre la altura codo suelo","NA",{"$f":"IF(E5=\"No\",\"0\",IF(E5=\"NA\",\"0\",\"1\"))","v":"0"},null,null,{"$f":"'TABLA 1 P2'!B8","v":"N° 2"},{"$f":"'TABLA 1 P2'!C8","v":"NA"}]
[null,null,null,"La distancia horizontal entre el cuerpo y el paciente manipulado es superior a 63 cm.","NA","0",null,null,null,"Resultado:"]
[null,null,null,"Torsión extrema del tronco sin movimientos de los pies.","NA","0",null,null,{"$f":"F19","v":0},{"$f":"IF(F19>=1,\"Crítica\",\"No Crítica\")","v":"No Crítica"}]
[null,null,null,"Las camas no son regulables y tienen una altura inferior a 70 cm.","NA","0",null,null,null,"Por lo que usted:"]
[null,null,"Equipamiento","Las camas tienen ninguna o solo 2 ruedas.","NA","0",null,null,null,{"$f":"IF(J7=\"No Crítica\",\"Ha terminado el Proceso de Identificación para esta Tarea y deberá iniciar el proceso de Evaluación Cuantitativa del riesgo\",\"Ha terminado el Proceso de Identificación para esta Tarea y deberá aplicar medidas para reducir el riesgo\")","v":"Ha terminado el Proceso de Identificación para esta Tarea y deberá iniciar el proceso de Evaluación Cuantitativa del riesgo"}]
[null,null,null,"El trabajador hace todo el esfuerzo en el manejo del paciente ya que no se utiliza ningún tipo de ayudas mecánicas.","NA","0"]
[null,null,null,"No existe programa de mantenimiento de las ayudas mecánicas ni de sillas de rueda o camillas.","NA","0",null,null,null,"Si terminó de responder toda la Tabla 8 Presione Aquí para  regresar a Tabla 1 Información General del Puesto de Trabajo donde podrá continuar con la siguiente Tarea"]
[null,null,"Ambiente y espacios","La temperatura ambiente es menor a 18° o superior a 26° grados Celsius y no se cuenta con ropa que proteja de las temperaturas extremas.","NA","0"]
[null,null,null,"Existe menos de 90 cm de espacio entre la cama y la pared o entre las camas, o menos de 120 cm. al final de la cama.","NA","0"]
[null,null,null,"Presencia de suelo resbaladizo, irregular o inestable en salas o pasillos","NA",{"$f":"IF(E14=\"No\",\"0\",IF(E14=\"NA\",\"0\",\"1\"))","v":"0"}]
[null,null,null,"La organización carece de un sistema de clasificación del paciente (según nivel de asistencia, peso, etc.).","NA",{"$f":"IF(E15=\"No\",\"0\",IF(E15=\"NA\",\"0\",\"1\"))","v":"0"}]
[null,null,"Organización","La organización no cuenta con procedimientos escritos e informados de MMP de acuerdo con el peso y características del paciente.","NA","0"]
[null,null,null,"La organización del trabajo genera concentración de tareas de MMP en ciertos horarios de trabajo y no cuenta con pausas de descanso durante la jornada.","NA","0"]
[null,null,"Entrenamiento","Un 50 % o menos de los trabajadores del servicio/unidad recibieron capacitación teórico-práctico en MMP en los últimos 18 meses.","NA","0"]
[null,null,null,null,null,{"$f":"F4+F5+F6+F7+F8+F9+F10+F11+F12+F13+F14+F15+F16+F17+F18","v":0}]

{"sheet":"TABLA 8T2P3","index":245,"n_rows":19,"n_cols":10,"rows_kept":19,"cut":false,"hidden":false,"merged":[]}
[]
[null,null,null,"TABLA 8 | MANEJO MANUAL DE PERSONAS/PACIENTES- IDENTIFICACIÓN AVANZADA CONDICIÓN CRÍTICA  ",null,null,null,null,null,"Cuadro de Resultado Tabla 8"]
[null,null,"Condición","Levantamiento/descenso y transporte manual de carga","Si / No / NA"]
[null,null,"Aplicación de la Fuerza","En promedio, por turno, el trabajador realiza 12 o más MMP que superen los 15 kgs. cada uno.","NA",{"$f":"IF(E4=\"No\",\"0\",IF(E4=\"NA\",\"0\",\"1\"))","v":"0"},null,null,null,"La Tarea:"]
[null,null,null,"El MMP se realiza bajo las rodillas o sobre la altura codo suelo","NA",{"$f":"IF(E5=\"No\",\"0\",IF(E5=\"NA\",\"0\",\"1\"))","v":"0"},null,null,{"$f":"'TABLA 1 P3'!B8","v":"N° 2"},{"$f":"'TABLA 1 P3'!C8","v":"NA"}]
[null,null,null,"La distancia horizontal entre el cuerpo y el paciente manipulado es superior a 63 cm.","NA","0",null,null,null,"Resultado:"]
[null,null,null,"Torsión extrema del tronco sin movimientos de los pies.","NA","0",null,null,{"$f":"F19","v":0},{"$f":"IF(F19>=1,\"Crítica\",\"No Crítica\")","v":"No Crítica"}]
[null,null,null,"Las camas no son regulables y tienen una altura inferior a 70 cm.","NA","0",null,null,null,"Por lo que usted:"]
[null,null,"Equipamiento","Las camas tienen ninguna o solo 2 ruedas.","NA","0",null,null,null,{"$f":"IF(J7=\"No Crítica\",\"Ha terminado el Proceso de Identificación para esta Tarea y deberá iniciar el proceso de Evaluación Cuantitativa del riesgo\",\"Ha terminado el Proceso de Identificación para esta Tarea y deberá aplicar medidas para reducir el riesgo\")","v":"Ha terminado el Proceso de Identificación para esta Tarea y deberá iniciar el proceso de Evaluación Cuantitativa del riesgo"}]
[null,null,null,"El trabajador hace todo el esfuerzo en el manejo del paciente ya que no se utiliza ningún tipo de ayudas mecánicas.","NA","0"]
[null,null,null,"No existe programa de mantenimiento de las ayudas mecánicas ni de sillas de rueda o camillas.","NA","0",null,null,null,"Si terminó de responder toda la Tabla 8 Presione Aquí para  regresar a Tabla 1 Información General del Puesto de Trabajo donde podrá continuar con la siguiente Tarea"]
[null,null,"Ambiente y espacios","La temperatura ambiente es menor a 18° o superior a 26° grados Celsius y no se cuenta con ropa que proteja de las temperaturas extremas.","NA","0"]
[null,null,null,"Existe menos de 90 cm de espacio entre la cama y la pared o entre las camas, o menos de 120 cm. al final de la cama.","NA","0"]
[null,null,null,"Presencia de suelo resbaladizo, irregular o inestable en salas o pasillos","NA",{"$f":"IF(E14=\"No\",\"0\",IF(E14=\"NA\",\"0\",\"1\"))","v":"0"}]
[null,null,null,"La organización carece de un sistema de clasificación del paciente (según nivel de asistencia, peso, etc.).","NA",{"$f":"IF(E15=\"No\",\"0\",IF(E15=\"NA\",\"0\",\"1\"))","v":"0"}]
[null,null,"Organización","La organización no cuenta con procedimientos escritos e informados de MMP de acuerdo con el peso y características del paciente.","NA","0"]
[null,null,null,"La organización del trabajo genera concentración de tareas de MMP en ciertos horarios de trabajo y no cuenta con pausas de descanso durante la jornada.","NA","0"]
[null,null,"Entrenamiento","Un 50 % o menos de los trabajadores del servicio/unidad recibieron capacitación teórico-práctico en MMP en los últimos 18 meses.","NA","0"]
[null,null,null,null,null,{"$f":"F4+F5+F6+F7+F8+F9+F10+F11+F12+F13+F14+F15+F16+F17+F18","v":0}]

{"sheet":"TABLA 8T2P4","index":246,"n_rows":19,"n_cols":10,"rows_kept":19,"cut":false,"hidden":false,"merged":[]}
[]
[null,null,null,"TABLA 8 | MANEJO MANUAL DE PERSONAS/PACIENTES- IDENTIFICACIÓN AVANZADA CONDICIÓN CRÍTICA  ",null,null,null,null,null,"Cuadro de Resultado Tabla 8"]
[null,null,"Condición","Levantamiento/descenso y transporte manual de carga","Si / No / NA"]
[null,null,"Aplicación de la Fuerza","En promedio, por turno, el trabajador realiza 12 o más MMP que superen los 15 kgs. cada uno.","NA",{"$f":"IF(E4=\"No\",\"0\",IF(E4=\"NA\",\"0\",\"1\"))","v":"0"},null,null,null,"La Tarea:"]
[null,null,null,"El MMP se realiza bajo las rodillas o sobre la altura codo suelo","NA",{"$f":"IF(E5=\"No\",\"0\",IF(E5=\"NA\",\"0\",\"1\"))","v":"0"},null,null,{"$f":"'TABLA 1 P4'!B8","v":"N° 2"},{"$f":"'TABLA 1 P4'!C8","v":"NA"}]
[null,null,null,"La distancia horizontal entre el cuerpo y el paciente manipulado es superior a 63 cm.","NA","0",null,null,null,"Resultado:"]
[null,null,null,"Torsión extrema del tronco sin movimientos de los pies.","NA","0",null,null,{"$f":"F19","v":0},{"$f":"IF(F19>=1,\"Crítica\",\"No Crítica\")","v":"No Crítica"}]
[null,null,null,"Las camas no son regulables y tienen una altura inferior a 70 cm.","NA","0",null,null,null,"Por lo que usted:"]
[null,null,"Equipamiento","Las camas tienen ninguna o solo 2 ruedas.","NA","0",null,null,null,{"$f":"IF(J7=\"No Crítica\",\"Ha terminado el Proceso de Identificación para esta Tarea y deberá iniciar el proceso de Evaluación Cuantitativa del riesgo\",\"Ha terminado el Proceso de Identificación para esta Tarea y deberá aplicar medidas para reducir el riesgo\")","v":"Ha terminado el Proceso de Identificación para esta Tarea y deberá iniciar el proceso de Evaluación Cuantitativa del riesgo"}]
[null,null,null,"El trabajador hace todo el esfuerzo en el manejo del paciente ya que no se utiliza ningún tipo de ayudas mecánicas.","NA","0"]
[null,null,null,"No existe programa de mantenimiento de las ayudas mecánicas ni de sillas de rueda o camillas.","NA","0",null,null,null,"Si terminó de responder toda la Tabla 8 Presione Aquí para  regresar a Tabla 1 Información General del Puesto de Trabajo donde podrá continuar con la siguiente Tarea"]
[null,null,"Ambiente y espacios","La temperatura ambiente es menor a 18° o superior a 26° grados Celsius y no se cuenta con ropa que proteja de las temperaturas extremas.","NA","0"]
[null,null,null,"Existe menos de 90 cm de espacio entre la cama y la pared o entre las camas, o menos de 120 cm. al final de la cama.","NA","0"]
[null,null,null,"Presencia de suelo resbaladizo, irregular o inestable en salas o pasillos","NA",{"$f":"IF(E14=\"No\",\"0\",IF(E14=\"NA\",\"0\",\"1\"))","v":"0"}]
[null,null,null,"La organización carece de un sistema de clasificación del paciente (según nivel de asistencia, peso, etc.).","NA",{"$f":"IF(E15=\"No\",\"0\",IF(E15=\"NA\",\"0\",\"1\"))","v":"0"}]
[null,null,"Organización","La organización no cuenta con procedimientos escritos e informados de MMP de acuerdo con el peso y características del paciente.","NA","0"]
[null,null,null,"La organización del trabajo genera concentración de tareas de MMP en ciertos horarios de trabajo y no cuenta con pausas de descanso durante la jornada.","NA","0"]
[null,null,"Entrenamiento","Un 50 % o menos de los trabajadores del servicio/unidad recibieron capacitación teórico-práctico en MMP en los últimos 18 meses.","NA","0"]
[null,null,null,null,null,{"$f":"F4+F5+F6+F7+F8+F9+F10+F11+F12+F13+F14+F15+F16+F17+F18","v":0}]

{"sheet":"TABLA 8T2P5","index":247,"n_rows":19,"n_cols":10,"rows_kept":19,"cut":false,"hidden":false,"merged":[]}
[]
[null,null,null,"TABLA 8 | MANEJO MANUAL DE PERSONAS/PACIENTES- IDENTIFICACIÓN AVANZADA CONDICIÓN CRÍTICA  ",null,null,null,null,null,"Cuadro de Resultado Tabla 8"]
[null,null,"Condición","Levantamiento/descenso y transporte manual de carga","Si / No / NA"]
[null,null,"Aplicación de la Fuerza","En promedio, por turno, el trabajador realiza 12 o más MMP que superen los 15 kgs. cada uno.","NA",{"$f":"IF(E4=\"No\",\"0\",IF(E4=\"NA\",\"0\",\"1\"))","v":"0"},null,null,null,"La Tarea:"]
[null,null,null,"El MMP se realiza bajo las rodillas o sobre la altura codo suelo","NA",{"$f":"IF(E5=\"No\",\"0\",IF(E5=\"NA\",\"0\",\"1\"))","v":"0"},null,null,{"$f":"'TABLA 1 P5'!B8","v":"N° 2"},{"$f":"'TABLA 1 P5'!C8","v":"NA"}]
[null,null,null,"La distancia horizontal entre el cuerpo y el paciente manipulado es superior a 63 cm.","NA","0",null,null,null,"Resultado:"]
[null,null,null,"Torsión extrema del tronco sin movimientos de los pies.","NA","0",null,null,{"$f":"F19","v":0},{"$f":"IF(F19>=1,\"Crítica\",\"No Crítica\")","v":"No Crítica"}]
[null,null,null,"Las camas no son regulables y tienen una altura inferior a 70 cm.","NA","0",null,null,null,"Por lo que usted:"]
[null,null,"Equipamiento","Las camas tienen ninguna o solo 2 ruedas.","NA","0",null,null,null,{"$f":"IF(J7=\"No Crítica\",\"Ha terminado el Proceso de Identificación para esta Tarea y deberá iniciar el proceso de Evaluación Cuantitativa del riesgo\",\"Ha terminado el Proceso de Identificación para esta Tarea y deberá aplicar medidas para reducir el riesgo\")","v":"Ha terminado el Proceso de Identificación para esta Tarea y deberá iniciar el proceso de Evaluación Cuantitativa del riesgo"}]
[null,null,null,"El trabajador hace todo el esfuerzo en el manejo del paciente ya que no se utiliza ningún tipo de ayudas mecánicas.","NA","0"]
[null,null,null,"No existe programa de mantenimiento de las ayudas mecánicas ni de sillas de rueda o camillas.","NA","0",null,null,null,"Si terminó de responder toda la Tabla 8 Presione Aquí para  regresar a Tabla 1 Información General del Puesto de Trabajo donde podrá continuar con la siguiente Tarea"]
[null,null,"Ambiente y espacios","La temperatura ambiente es menor a 18° o superior a 26° grados Celsius y no se cuenta con ropa que proteja de las temperaturas extremas.","NA","0"]
[null,null,null,"Existe menos de 90 cm de espacio entre la cama y la pared o entre las camas, o menos de 120 cm. al final de la cama.","NA","0"]
[null,null,null,"Presencia de suelo resbaladizo, irregular o inestable en salas o pasillos","NA",{"$f":"IF(E14=\"No\",\"0\",IF(E14=\"NA\",\"0\",\"1\"))","v":"0"}]
[null,null,null,"La organización carece de un sistema de clasificación del paciente (según nivel de asistencia, peso, etc.).","NA",{"$f":"IF(E15=\"No\",\"0\",IF(E15=\"NA\",\"0\",\"1\"))","v":"0"}]
[null,null,"Organización","La organización no cuenta con procedimientos escritos e informados de MMP de acuerdo con el peso y características del paciente.","NA","0"]
[null,null,null,"La organización del trabajo genera concentración de tareas de MMP en ciertos horarios de trabajo y no cuenta con pausas de descanso durante la jornada.","NA","0"]
[null,null,"Entrenamiento","Un 50 % o menos de los trabajadores del servicio/unidad recibieron capacitación teórico-práctico en MMP en los últimos 18 meses.","NA","0"]
[null,null,null,null,null,{"$f":"F4+F5+F6+F7+F8+F9+F10+F11+F12+F13+F14+F15+F16+F17+F18","v":0}]

{"sheet":"TABLA 8T2P6","index":248,"n_rows":19,"n_cols":10,"rows_kept":19,"cut":false,"hidden":false,"merged":[]}
[]
[null,null,null,"TABLA 8 | MANEJO MANUAL DE PERSONAS/PACIENTES- IDENTIFICACIÓN AVANZADA CONDICIÓN CRÍTICA  ",null,null,null,null,null,"Cuadro de Resultado Tabla 8"]
[null,null,"Condición","Levantamiento/descenso y transporte manual de carga","Si / No / NA"]
[null,null,"Aplicación de la Fuerza","En promedio, por turno, el trabajador realiza 12 o más MMP que superen los 15 kgs. cada uno.","NA",{"$f":"IF(E4=\"No\",\"0\",IF(E4=\"NA\",\"0\",\"1\"))","v":"0"},null,null,null,"La Tarea:"]
[null,null,null,"El MMP se realiza bajo las rodillas o sobre la altura codo suelo","NA",{"$f":"IF(E5=\"No\",\"0\",IF(E5=\"NA\",\"0\",\"1\"))","v":"0"},null,null,{"$f":"'TABLA 1 P6'!B8","v":"N° 2"},{"$f":"'TABLA 1 P6'!C8","v":"NA"}]
[null,null,null,"La distancia horizontal entre el cuerpo y el paciente manipulado es superior a 63 cm.","NA","0",null,null,null,"Resultado:"]
[null,null,null,"Torsión extrema del tronco sin movimientos de los pies.","NA","0",null,null,{"$f":"F19","v":0},{"$f":"IF(F19>=1,\"Crítica\",\"No Crítica\")","v":"No Crítica"}]
[null,null,null,"Las camas no son regulables y tienen una altura inferior a 70 cm.","NA","0",null,null,null,"Por lo que usted:"]
[null,null,"Equipamiento","Las camas tienen ninguna o solo 2 ruedas.","NA","0",null,null,null,{"$f":"IF(J7=\"No Crítica\",\"Ha terminado el Proceso de Identificación para esta Tarea y deberá iniciar el proceso de Evaluación Cuantitativa del riesgo\",\"Ha terminado el Proceso de Identificación para esta Tarea y deberá aplicar medidas para reducir el riesgo\")","v":"Ha terminado el Proceso de Identificación para esta Tarea y deberá iniciar el proceso de Evaluación Cuantitativa del riesgo"}]
[null,null,null,"El trabajador hace todo el esfuerzo en el manejo del paciente ya que no se utiliza ningún tipo de ayudas mecánicas.","NA","0"]
[null,null,null,"No existe programa de mantenimiento de las ayudas mecánicas ni de sillas de rueda o camillas.","NA","0",null,null,null,"Si terminó de responder toda la Tabla 8 Presione Aquí para  regresar a Tabla 1 Información General del Puesto de Trabajo donde podrá continuar con la siguiente Tarea"]
[null,null,"Ambiente y espacios","La temperatura ambiente es menor a 18° o superior a 26° grados Celsius y no se cuenta con ropa que proteja de las temperaturas extremas.","NA","0"]
[null,null,null,"Existe menos de 90 cm de espacio entre la cama y la pared o entre las camas, o menos de 120 cm. al final de la cama.","NA","0"]
[null,null,null,"Presencia de suelo resbaladizo, irregular o inestable en salas o pasillos","NA",{"$f":"IF(E14=\"No\",\"0\",IF(E14=\"NA\",\"0\",\"1\"))","v":"0"}]
[null,null,null,"La organización carece de un sistema de clasificación del paciente (según nivel de asistencia, peso, etc.).","NA",{"$f":"IF(E15=\"No\",\"0\",IF(E15=\"NA\",\"0\",\"1\"))","v":"0"}]
[null,null,"Organización","La organización no cuenta con procedimientos escritos e informados de MMP de acuerdo con el peso y características del paciente.","NA","0"]
[null,null,null,"La organización del trabajo genera concentración de tareas de MMP en ciertos horarios de trabajo y no cuenta con pausas de descanso durante la jornada.","NA","0"]
[null,null,"Entrenamiento","Un 50 % o menos de los trabajadores del servicio/unidad recibieron capacitación teórico-práctico en MMP en los últimos 18 meses.","NA","0"]
[null,null,null,null,null,{"$f":"F4+F5+F6+F7+F8+F9+F10+F11+F12+F13+F14+F15+F16+F17+F18","v":0}]

{"sheet":"TABLA 8T2P7","index":249,"n_rows":19,"n_cols":10,"rows_kept":19,"cut":false,"hidden":false,"merged":[]}
[]
[null,null,null,"TABLA 8 | MANEJO MANUAL DE PERSONAS/PACIENTES- IDENTIFICACIÓN AVANZADA CONDICIÓN CRÍTICA  ",null,null,null,null,null,"Cuadro de Resultado Tabla 8"]
[null,null,"Condición","Levantamiento/descenso y transporte manual de carga","Si / No / NA"]
[null,null,"Aplicación de la Fuerza","En promedio, por turno, el trabajador realiza 12 o más MMP que superen los 15 kgs. cada uno.","NA",{"$f":"IF(E4=\"No\",\"0\",IF(E4=\"NA\",\"0\",\"1\"))","v":"0"},null,null,null,"La Tarea:"]
[null,null,null,"El MMP se realiza bajo las rodillas o sobre la altura codo suelo","NA",{"$f":"IF(E5=\"No\",\"0\",IF(E5=\"NA\",\"0\",\"1\"))","v":"0"},null,null,{"$f":"'TABLA 1 P7'!B8","v":"N° 2"},{"$f":"'TABLA 1 P7'!C8","v":"NA"}]
[null,null,null,"La distancia horizontal entre el cuerpo y el paciente manipulado es superior a 63 cm.","NA","0",null,null,null,"Resultado:"]
[null,null,null,"Torsión extrema del tronco sin movimientos de los pies.","NA","0",null,null,{"$f":"F19","v":0},{"$f":"IF(F19>=1,\"Crítica\",\"No Crítica\")","v":"No Crítica"}]
[null,null,null,"Las camas no son regulables y tienen una altura inferior a 70 cm.","NA","0",null,null,null,"Por lo que usted:"]
[null,null,"Equipamiento","Las camas tienen ninguna o solo 2 ruedas.","NA","0",null,null,null,{"$f":"IF(J7=\"No Crítica\",\"Ha terminado el Proceso de Identificación para esta Tarea y deberá iniciar el proceso de Evaluación Cuantitativa del riesgo\",\"Ha terminado el Proceso de Identificación para esta Tarea y deberá aplicar medidas para reducir el riesgo\")","v":"Ha terminado el Proceso de Identificación para esta Tarea y deberá iniciar el proceso de Evaluación Cuantitativa del riesgo"}]
[null,null,null,"El trabajador hace todo el esfuerzo en el manejo del paciente ya que no se utiliza ningún tipo de ayudas mecánicas.","NA","0"]
[null,null,null,"No existe programa de mantenimiento de las ayudas mecánicas ni de sillas de rueda o camillas.","NA","0",null,null,null,"Si terminó de responder toda la Tabla 8 Presione Aquí para  regresar a Tabla 1 Información General del Puesto de Trabajo donde podrá continuar con la siguiente Tarea"]
[null,null,"Ambiente y espacios","La temperatura ambiente es menor a 18° o superior a 26° grados Celsius y no se cuenta con ropa que proteja de las temperaturas extremas.","NA","0"]
[null,null,null,"Existe menos de 90 cm de espacio entre la cama y la pared o entre las camas, o menos de 120 cm. al final de la cama.","NA","0"]
[null,null,null,"Presencia de suelo resbaladizo, irregular o inestable en salas o pasillos","NA",{"$f":"IF(E14=\"No\",\"0\",IF(E14=\"NA\",\"0\",\"1\"))","v":"0"}]
[null,null,null,"La organización carece de un sistema de clasificación del paciente (según nivel de asistencia, peso, etc.).","NA",{"$f":"IF(E15=\"No\",\"0\",IF(E15=\"NA\",\"0\",\"1\"))","v":"0"}]
[null,null,"Organización","La organización no cuenta con procedimientos escritos e informados de MMP de acuerdo con el peso y características del paciente.","NA","0"]
[null,null,null,"La organización del trabajo genera concentración de tareas de MMP en ciertos horarios de trabajo y no cuenta con pausas de descanso durante la jornada.","NA","0"]
[null,null,"Entrenamiento","Un 50 % o menos de los trabajadores del servicio/unidad recibieron capacitación teórico-práctico en MMP en los últimos 18 meses.","NA","0"]
[null,null,null,null,null,{"$f":"F4+F5+F6+F7+F8+F9+F10+F11+F12+F13+F14+F15+F16+F17+F18","v":0}]

{"sheet":"TABLA 8T2P8","index":250,"n_rows":19,"n_cols":10,"rows_kept":19,"cut":false,"hidden":false,"merged":[]}
[]
[null,null,null,"TABLA 8 | MANEJO MANUAL DE PERSONAS/PACIENTES- IDENTIFICACIÓN AVANZADA CONDICIÓN CRÍTICA  ",null,null,null,null,null,"Cuadro de Resultado Tabla 8"]
[null,null,"Condición","Levantamiento/descenso y transporte manual de carga","Si / No / NA"]
[null,null,"Aplicación de la Fuerza","En promedio, por turno, el trabajador realiza 12 o más MMP que superen los 15 kgs. cada uno.","NA",{"$f":"IF(E4=\"No\",\"0\",IF(E4=\"NA\",\"0\",\"1\"))","v":"0"},null,null,null,"La Tarea:"]
[null,null,null,"El MMP se realiza bajo las rodillas o sobre la altura codo suelo","NA",{"$f":"IF(E5=\"No\",\"0\",IF(E5=\"NA\",\"0\",\"1\"))","v":"0"},null,null,{"$f":"'TABLA 1 P8'!B8","v":"N° 2"},{"$f":"'TABLA 1 P8'!C8","v":"NA"}]
[null,null,null,"La distancia horizontal entre el cuerpo y el paciente manipulado es superior a 63 cm.","NA","0",null,null,null,"Resultado:"]
[null,null,null,"Torsión extrema del tronco sin movimientos de los pies.","NA","0",null,null,{"$f":"F19","v":0},{"$f":"IF(F19>=1,\"Crítica\",\"No Crítica\")","v":"No Crítica"}]
[null,null,null,"Las camas no son regulables y tienen una altura inferior a 70 cm.","NA","0",null,null,null,"Por lo que usted:"]
[null,null,"Equipamiento","Las camas tienen ninguna o solo 2 ruedas.","NA","0",null,null,null,{"$f":"IF(J7=\"No Crítica\",\"Ha terminado el Proceso de Identificación para esta Tarea y deberá iniciar el proceso de Evaluación Cuantitativa del riesgo\",\"Ha terminado el Proceso de Identificación para esta Tarea y deberá aplicar medidas para reducir el riesgo\")","v":"Ha terminado el Proceso de Identificación para esta Tarea y deberá iniciar el proceso de Evaluación Cuantitativa del riesgo"}]
[null,null,null,"El trabajador hace todo el esfuerzo en el manejo del paciente ya que no se utiliza ningún tipo de ayudas mecánicas.","NA","0"]
[null,null,null,"No existe programa de mantenimiento de las ayudas mecánicas ni de sillas de rueda o camillas.","NA","0",null,null,null,"Si terminó de responder toda la Tabla 8 Presione Aquí para  regresar a Tabla 1 Información General del Puesto de Trabajo donde podrá continuar con la siguiente Tarea"]
[null,null,"Ambiente y espacios","La temperatura ambiente es menor a 18° o superior a 26° grados Celsius y no se cuenta con ropa que proteja de las temperaturas extremas.","NA","0"]
[null,null,null,"Existe menos de 90 cm de espacio entre la cama y la pared o entre las camas, o menos de 120 cm. al final de la cama.","NA","0"]
[null,null,null,"Presencia de suelo resbaladizo, irregular o inestable en salas o pasillos","NA",{"$f":"IF(E14=\"No\",\"0\",IF(E14=\"NA\",\"0\",\"1\"))","v":"0"}]
[null,null,null,"La organización carece de un sistema de clasificación del paciente (según nivel de asistencia, peso, etc.).","NA",{"$f":"IF(E15=\"No\",\"0\",IF(E15=\"NA\",\"0\",\"1\"))","v":"0"}]
[null,null,"Organización","La organización no cuenta con procedimientos escritos e informados de MMP de acuerdo con el peso y características del paciente.","NA","0"]
[null,null,null,"La organización del trabajo genera concentración de tareas de MMP en ciertos horarios de trabajo y no cuenta con pausas de descanso durante la jornada.","NA","0"]
[null,null,"Entrenamiento","Un 50 % o menos de los trabajadores del servicio/unidad recibieron capacitación teórico-práctico en MMP en los últimos 18 meses.","NA","0"]
[null,null,null,null,null,{"$f":"F4+F5+F6+F7+F8+F9+F10+F11+F12+F13+F14+F15+F16+F17+F18","v":0}]

{"sheet":"TABLA 8T2P9","index":251,"n_rows":19,"n_cols":10,"rows_kept":19,"cut":false,"hidden":false,"merged":[]}
[]
[null,null,null,"TABLA 8 | MANEJO MANUAL DE PERSONAS/PACIENTES- IDENTIFICACIÓN AVANZADA CONDICIÓN CRÍTICA  ",null,null,null,null,null,"Cuadro de Resultado Tabla 8"]
[null,null,"Condición","Levantamiento/descenso y transporte manual de carga","Si / No / NA"]
[null,null,"Aplicación de la Fuerza","En promedio, por turno, el trabajador realiza 12 o más MMP que superen los 15 kgs. cada uno.","NA",{"$f":"IF(E4=\"No\",\"0\",IF(E4=\"NA\",\"0\",\"1\"))","v":"0"},null,null,null,"La Tarea:"]
[null,null,null,"El MMP se realiza bajo las rodillas o sobre la altura codo suelo","NA",{"$f":"IF(E5=\"No\",\"0\",IF(E5=\"NA\",\"0\",\"1\"))","v":"0"},null,null,{"$f":"'TABLA 1 P9'!B8","v":"N° 2"},{"$f":"'TABLA 1 P9'!C8","v":"NA"}]
[null,null,null,"La distancia horizontal entre el cuerpo y el paciente manipulado es superior a 63 cm.","NA","0",null,null,null,"Resultado:"]
[null,null,null,"Torsión extrema del tronco sin movimientos de los pies.","NA","0",null,null,{"$f":"F19","v":0},{"$f":"IF(F19>=1,\"Crítica\",\"No Crítica\")","v":"No Crítica"}]
[null,null,null,"Las camas no son regulables y tienen una altura inferior a 70 cm.","NA","0",null,null,null,"Por lo que usted:"]
[null,null,"Equipamiento","Las camas tienen ninguna o solo 2 ruedas.","NA","0",null,null,null,{"$f":"IF(J7=\"No Crítica\",\"Ha terminado el Proceso de Identificación para esta Tarea y deberá iniciar el proceso de Evaluación Cuantitativa del riesgo\",\"Ha terminado el Proceso de Identificación para esta Tarea y deberá aplicar medidas para reducir el riesgo\")","v":"Ha terminado el Proceso de Identificación para esta Tarea y deberá iniciar el proceso de Evaluación Cuantitativa del riesgo"}]
[null,null,null,"El trabajador hace todo el esfuerzo en el manejo del paciente ya que no se utiliza ningún tipo de ayudas mecánicas.","NA","0"]
[null,null,null,"No existe programa de mantenimiento de las ayudas mecánicas ni de sillas de rueda o camillas.","NA","0",null,null,null,"Si terminó de responder toda la Tabla 8 Presione Aquí para  regresar a Tabla 1 Información General del Puesto de Trabajo donde podrá continuar con la siguiente Tarea"]
[null,null,"Ambiente y espacios","La temperatura ambiente es menor a 18° o superior a 26° grados Celsius y no se cuenta con ropa que proteja de las temperaturas extremas.","NA","0"]
[null,null,null,"Existe menos de 90 cm de espacio entre la cama y la pared o entre las camas, o menos de 120 cm. al final de la cama.","NA","0"]
[null,null,null,"Presencia de suelo resbaladizo, irregular o inestable en salas o pasillos","NA",{"$f":"IF(E14=\"No\",\"0\",IF(E14=\"NA\",\"0\",\"1\"))","v":"0"}]
[null,null,null,"La organización carece de un sistema de clasificación del paciente (según nivel de asistencia, peso, etc.).","NA",{"$f":"IF(E15=\"No\",\"0\",IF(E15=\"NA\",\"0\",\"1\"))","v":"0"}]
[null,null,"Organización","La organización no cuenta con procedimientos escritos e informados de MMP de acuerdo con el peso y características del paciente.","NA","0"]
[null,null,null,"La organización del trabajo genera concentración de tareas de MMP en ciertos horarios de trabajo y no cuenta con pausas de descanso durante la jornada.","NA","0"]
[null,null,"Entrenamiento","Un 50 % o menos de los trabajadores del servicio/unidad recibieron capacitación teórico-práctico en MMP en los últimos 18 meses.","NA","0"]
[null,null,null,null,null,{"$f":"F4+F5+F6+F7+F8+F9+F10+F11+F12+F13+F14+F15+F16+F17+F18","v":0}]

{"sheet":"TABLA 8T2P10","index":252,"n_rows":19,"n_cols":10,"rows_kept":19,"cut":false,"hidden":false,"merged":[]}
[]
[null,null,null,"TABLA 8 | MANEJO MANUAL DE PERSONAS/PACIENTES- IDENTIFICACIÓN AVANZADA CONDICIÓN CRÍTICA  ",null,null,null,null,null,"Cuadro de Resultado Tabla 8"]
[null,null,"Condición","Levantamiento/descenso y transporte manual de carga","Si / No / NA"]
[null,null,"Aplicación de la Fuerza","En promedio, por turno, el trabajador realiza 12 o más MMP que superen los 15 kgs. cada uno.","NA",{"$f":"IF(E4=\"No\",\"0\",IF(E4=\"NA\",\"0\",\"1\"))","v":"0"},null,null,null,"La Tarea:"]
[null,null,null,"El MMP se realiza bajo las rodillas o sobre la altura codo suelo","NA",{"$f":"IF(E5=\"No\",\"0\",IF(E5=\"NA\",\"0\",\"1\"))","v":"0"},null,null,{"$f":"'TABLA 1 P10'!B8","v":"N° 2"},{"$f":"'TABLA 1 P10'!C8","v":"NA"}]
[null,null,null,"La distancia horizontal entre el cuerpo y el paciente manipulado es superior a 63 cm.","NA","0",null,null,null,"Resultado:"]
[null,null,null,"Torsión extrema del tronco sin movimientos de los pies.","NA","0",null,null,{"$f":"F19","v":0},{"$f":"IF(F19>=1,\"Crítica\",\"No Crítica\")","v":"No Crítica"}]
[null,null,null,"Las camas no son regulables y tienen una altura inferior a 70 cm.","NA","0",null,null,null,"Por lo que usted:"]
[null,null,"Equipamiento","Las camas tienen ninguna o solo 2 ruedas.","NA","0",null,null,null,{"$f":"IF(J7=\"No Crítica\",\"Ha terminado el Proceso de Identificación para esta Tarea y deberá iniciar el proceso de Evaluación Cuantitativa del riesgo\",\"Ha terminado el Proceso de Identificación para esta Tarea y deberá aplicar medidas para reducir el riesgo\")","v":"Ha terminado el Proceso de Identificación para esta Tarea y deberá iniciar el proceso de Evaluación Cuantitativa del riesgo"}]
[null,null,null,"El trabajador hace todo el esfuerzo en el manejo del paciente ya que no se utiliza ningún tipo de ayudas mecánicas.","NA","0"]
[null,null,null,"No existe programa de mantenimiento de las ayudas mecánicas ni de sillas de rueda o camillas.","NA","0",null,null,null,"Si terminó de responder toda la Tabla 8 Presione Aquí para  regresar a Tabla 1 Información General del Puesto de Trabajo donde podrá continuar con la siguiente Tarea"]
[null,null,"Ambiente y espacios","La temperatura ambiente es menor a 18° o superior a 26° grados Celsius y no se cuenta con ropa que proteja de las temperaturas extremas.","NA","0"]
[null,null,null,"Existe menos de 90 cm de espacio entre la cama y la pared o entre las camas, o menos de 120 cm. al final de la cama.","NA","0"]
[null,null,null,"Presencia de suelo resbaladizo, irregular o inestable en salas o pasillos","NA",{"$f":"IF(E14=\"No\",\"0\",IF(E14=\"NA\",\"0\",\"1\"))","v":"0"}]
[null,null,null,"La organización carece de un sistema de clasificación del paciente (según nivel de asistencia, peso, etc.).","NA",{"$f":"IF(E15=\"No\",\"0\",IF(E15=\"NA\",\"0\",\"1\"))","v":"0"}]
[null,null,"Organización","La organización no cuenta con procedimientos escritos e informados de MMP de acuerdo con el peso y características del paciente.","NA","0"]
[null,null,null,"La organización del trabajo genera concentración de tareas de MMP en ciertos horarios de trabajo y no cuenta con pausas de descanso durante la jornada.","NA","0"]
[null,null,"Entrenamiento","Un 50 % o menos de los trabajadores del servicio/unidad recibieron capacitación teórico-práctico en MMP en los últimos 18 meses.","NA","0"]
[null,null,null,null,null,{"$f":"F4+F5+F6+F7+F8+F9+F10+F11+F12+F13+F14+F15+F16+F17+F18","v":0}]

{"sheet":"TABLA 7T3P1","index":253,"n_rows":26,"n_cols":11,"rows_kept":26,"cut":false,"hidden":false,"merged":[]}
[]
[null,null,null,"MANEJO MANUAL DE PERSONAS/PACIENTES- IDENTIFICACIÓN AVANZADA  CONDICIÓN ACEPTABLE  ",null,null,null,null,null,"Cuadro de Resultado Tabla 7"]
[null,null,"Riesgo","Empueje y Arrastre de Carga","Si / No / NA"]
[null,null,null,"En promedio, por turno, el trabajador realiza 6 o menos MMP que superen los 15 kg. cada uno.","NA",{"$f":"IF(E4=\"SI\",\"0\",IF(E4=\"NA\",\"0\",\"1\"))","v":"0"},null,null,null,"La Tarea:"]
[null,null,"Aplicación de la Fuerza","Ausencia de asimetría (Ej: cuerpo rotado, torsión y/o inclinación de tronco).","NA",{"$f":"IF(E5=\"SI\",\"0\",IF(E5=\"NA\",\"0\",\"1\"))","v":"0"},null,null,{"$f":"'TABLA 1 P1'!B10","v":"N° 3"},{"$f":"'TABLA 1 P1'!C10","v":"NA"}]
[null,null,null,"El paciente es mantenido cerca del cuerpo del trabajador.","NA","0",null,null,null,"Resultado:"]
[null,null,null,"El MMP se realiza entre la altura nudillo suelo y la altura codo suelo (°).","NA","0",null,null,{"$f":"F18","v":0},{"$f":"IF(F18>=1,\"No es Aceptable\",\"Aceptable\")","v":"Aceptable"}]
[null,null,null,"Cuenta con camas regulables en altura.","NA","0",null,null,null,"Por lo que usted:"]
[null,null,"Equipamiento","Existe y se utilizan de forma correcta las ayudas mecánicas.","NA","0",null,null,null,{"$f":"IF(J7=\"Aceptable\",\"Ha Terminado el Proceso de Identificación para esta Tarea\",\"Debe Aplicar Tabla 8\")","v":"Ha Terminado el Proceso de Identificación para esta Tarea"},{"$f":"F18","v":0}]
[null,null,null,"Existen programas de mantenimiento de las ayudas mecánicas, de sillas de rueda y camillas.","NA","0"]
[null,null,"Ambiente y espacios","La iluminación permite visualizar todos los elementos en el espacio de trabajo y la temperatura son adecuadas está entre 19° y 25° grados Celsius.","NA","0",null,null,null,{"$f":"IF(J7=\"Aceptable\",\"Si terminó de responder toda la Tabla 7 Presione Aquí para  regresar a Tabla 1 Información General del Puesto de Trabajo donde podrá continuar con la siguiente Tarea\",\"\")","v":"Si terminó de responder toda la Tabla 7 Presione Aquí para  regresar a Tabla 1 Información General del Puesto de Trabajo donde podrá continuar con la siguiente Tarea"},{"$f":"F18","v":0}]
[null,null,null,"Existe suficiente espacio para moverse libremente y para utilizar las ayudas mecánicas existentes.","NA","0"]
[null,null,null,"Presencia de suelo en salas, pasillos y otros que permiten el normal desplazamiento de sillas de rueda y camillas.","NA","0",null,null,null,null,{"$f":"F18","v":0}]
[null,null,"Organización","Existe un programa institucional para la prevención del riego por MMP: evaluación de riesgo, clasificación de pacientes (según nivel de asistencia requerida, peso, etc.), monitoreo de la salud de los trabajadores, etc.","NA","0"]
[null,null,null,"Existen procedimientos escritos e informados de MMP de acuerdo con el peso y características del paciente.","NA","0",null,null,null,null,{"$f":"F18","v":0}]
[null,null,null,"La organización del trabajo permite distribuir las tareas de MMP a lo largo de la jornada e incluye periodos de descanso dentro de ella.","NA","0"]
[null,null,"Entrenamiento","Al menos un 75 % de los trabajadores del servicio/unidad recibieron capacitación teórico-práctico en MMP en los últimos 12 meses.","NA","0",null,null,null,null,{"$f":"F18","v":0}]
[null,null,null,null,null,{"$f":"F4+F5+F6+F7+F8+F9+F10+F11+F12+F13+F14+F15+F16+F17","v":0}]
[]
[]
[null,null,null,null,null,null,null,null,null,null,{"$f":"F18","v":0}]
[]
[]
[]
[]
[null,null,null,null,null,null,null,null,null,"Presione solo si al completar Tabla 7  se lo indica el Cuadro de Resultado",{"$f":"F18","v":0}]

{"sheet":"TABLA 7T3P2","index":254,"n_rows":26,"n_cols":11,"rows_kept":26,"cut":false,"hidden":false,"merged":[]}
[]
[null,null,null,"MANEJO MANUAL DE PERSONAS/PACIENTES- IDENTIFICACIÓN AVANZADA  CONDICIÓN ACEPTABLE  ",null,null,null,null,null,"Cuadro de Resultado Tabla 7"]
[null,null,"Riesgo","Empueje y Arrastre de Carga","Si / No / NA"]
[null,null,null,"En promedio, por turno, el trabajador realiza 6 o menos MMP que superen los 15 kg. cada uno.","NA",{"$f":"IF(E4=\"SI\",\"0\",IF(E4=\"NA\",\"0\",\"1\"))","v":"0"},null,null,null,"La Tarea:"]
[null,null,"Aplicación de la Fuerza","Ausencia de asimetría (Ej: cuerpo rotado, torsión y/o inclinación de tronco).","NA",{"$f":"IF(E5=\"SI\",\"0\",IF(E5=\"NA\",\"0\",\"1\"))","v":"0"},null,null,{"$f":"'TABLA 1 P2'!B10","v":"N° 3"},{"$f":"'TABLA 1 P2'!C10","v":"NA"}]
[null,null,null,"El paciente es mantenido cerca del cuerpo del trabajador.","NA","0",null,null,null,"Resultado:"]
[null,null,null,"El MMP se realiza entre la altura nudillo suelo y la altura codo suelo (°).","NA","0",null,null,{"$f":"F18","v":0},{"$f":"IF(F18>=1,\"No es Aceptable\",\"Aceptable\")","v":"Aceptable"}]
[null,null,null,"Cuenta con camas regulables en altura.","NA","0",null,null,null,"Por lo que usted:"]
[null,null,"Equipamiento","Existe y se utilizan de forma correcta las ayudas mecánicas.","NA","0",null,null,null,{"$f":"IF(J7=\"Aceptable\",\"Ha Terminado el Proceso de Identificación para esta Tarea\",\"Debe Aplicar Tabla 8\")","v":"Ha Terminado el Proceso de Identificación para esta Tarea"},{"$f":"F18","v":0}]
[null,null,null,"Existen programas de mantenimiento de las ayudas mecánicas, de sillas de rueda y camillas.","NA","0"]
[null,null,"Ambiente y espacios","La iluminación permite visualizar todos los elementos en el espacio de trabajo y la temperatura son adecuadas está entre 19° y 25° grados Celsius.","NA","0",null,null,null,{"$f":"IF(J7=\"Aceptable\",\"Si terminó de responder toda la Tabla 7 Presione Aquí para  regresar a Tabla 1 Información General del Puesto de Trabajo donde podrá continuar con la siguiente Tarea\",\"\")","v":"Si terminó de responder toda la Tabla 7 Presione Aquí para  regresar a Tabla 1 Información General del Puesto de Trabajo donde podrá continuar con la siguiente Tarea"},{"$f":"F18","v":0}]
[null,null,null,"Existe suficiente espacio para moverse libremente y para utilizar las ayudas mecánicas existentes.","NA","0"]
[null,null,null,"Presencia de suelo en salas, pasillos y otros que permiten el normal desplazamiento de sillas de rueda y camillas.","NA","0",null,null,null,null,{"$f":"F18","v":0}]
[null,null,"Organización","Existe un programa institucional para la prevención del riego por MMP: evaluación de riesgo, clasificación de pacientes (según nivel de asistencia requerida, peso, etc.), monitoreo de la salud de los trabajadores, etc.","NA","0"]
[null,null,null,"Existen procedimientos escritos e informados de MMP de acuerdo con el peso y características del paciente.","NA","0",null,null,null,null,{"$f":"F18","v":0}]
[null,null,null,"La organización del trabajo permite distribuir las tareas de MMP a lo largo de la jornada e incluye periodos de descanso dentro de ella.","NA","0"]
[null,null,"Entrenamiento","Al menos un 75 % de los trabajadores del servicio/unidad recibieron capacitación teórico-práctico en MMP en los últimos 12 meses.","NA","0",null,null,null,null,{"$f":"F18","v":0}]
[null,null,null,null,null,{"$f":"F4+F5+F6+F7+F8+F9+F10+F11+F12+F13+F14+F15+F16+F17","v":0}]
[]
[]
[null,null,null,null,null,null,null,null,null,null,{"$f":"F18","v":0}]
[]
[]
[]
[]
[null,null,null,null,null,null,null,null,null,"Presione solo si al completar Tabla 7  se lo indica el Cuadro de Resultado",{"$f":"F18","v":0}]

{"sheet":"TABLA 7T3P3","index":255,"n_rows":26,"n_cols":11,"rows_kept":26,"cut":false,"hidden":false,"merged":[]}
[]
[null,null,null,"MANEJO MANUAL DE PERSONAS/PACIENTES- IDENTIFICACIÓN AVANZADA  CONDICIÓN ACEPTABLE  ",null,null,null,null,null,"Cuadro de Resultado Tabla 7"]
[null,null,"Riesgo","Empueje y Arrastre de Carga","Si / No / NA"]
[null,null,null,"En promedio, por turno, el trabajador realiza 6 o menos MMP que superen los 15 kg. cada uno.","NA",{"$f":"IF(E4=\"SI\",\"0\",IF(E4=\"NA\",\"0\",\"1\"))","v":"0"},null,null,null,"La Tarea:"]
[null,null,"Aplicación de la Fuerza","Ausencia de asimetría (Ej: cuerpo rotado, torsión y/o inclinación de tronco).","NA",{"$f":"IF(E5=\"SI\",\"0\",IF(E5=\"NA\",\"0\",\"1\"))","v":"0"},null,null,{"$f":"'TABLA 1 P3'!B10","v":"N° 3"},{"$f":"'TABLA 1 P3'!C10","v":"NA"}]
[null,null,null,"El paciente es mantenido cerca del cuerpo del trabajador.","NA","0",null,null,null,"Resultado:"]
[null,null,null,"El MMP se realiza entre la altura nudillo suelo y la altura codo suelo (°).","NA","0",null,null,{"$f":"F18","v":0},{"$f":"IF(F18>=1,\"No es Aceptable\",\"Aceptable\")","v":"Aceptable"}]
[null,null,null,"Cuenta con camas regulables en altura.","NA","0",null,null,null,"Por lo que usted:"]
[null,null,"Equipamiento","Existe y se utilizan de forma correcta las ayudas mecánicas.","NA","0",null,null,null,{"$f":"IF(J7=\"Aceptable\",\"Ha Terminado el Proceso de Identificación para esta Tarea\",\"Debe Aplicar Tabla 8\")","v":"Ha Terminado el Proceso de Identificación para esta Tarea"},{"$f":"F18","v":0}]
[null,null,null,"Existen programas de mantenimiento de las ayudas mecánicas, de sillas de rueda y camillas.","NA","0"]
[null,null,"Ambiente y espacios","La iluminación permite visualizar todos los elementos en el espacio de trabajo y la temperatura son adecuadas está entre 19° y 25° grados Celsius.","NA","0",null,null,null,{"$f":"IF(J7=\"Aceptable\",\"Si terminó de responder toda la Tabla 7 Presione Aquí para  regresar a Tabla 1 Información General del Puesto de Trabajo donde podrá continuar con la siguiente Tarea\",\"\")","v":"Si terminó de responder toda la Tabla 7 Presione Aquí para  regresar a Tabla 1 Información General del Puesto de Trabajo donde podrá continuar con la siguiente Tarea"},{"$f":"F18","v":0}]
[null,null,null,"Existe suficiente espacio para moverse libremente y para utilizar las ayudas mecánicas existentes.","NA","0"]
[null,null,null,"Presencia de suelo en salas, pasillos y otros que permiten el normal desplazamiento de sillas de rueda y camillas.","NA","0",null,null,null,null,{"$f":"F18","v":0}]
[null,null,"Organización","Existe un programa institucional para la prevención del riego por MMP: evaluación de riesgo, clasificación de pacientes (según nivel de asistencia requerida, peso, etc.), monitoreo de la salud de los trabajadores, etc.","NA","0"]
[null,null,null,"Existen procedimientos escritos e informados de MMP de acuerdo con el peso y características del paciente.","NA","0",null,null,null,null,{"$f":"F18","v":0}]
[null,null,null,"La organización del trabajo permite distribuir las tareas de MMP a lo largo de la jornada e incluye periodos de descanso dentro de ella.","NA","0"]
[null,null,"Entrenamiento","Al menos un 75 % de los trabajadores del servicio/unidad recibieron capacitación teórico-práctico en MMP en los últimos 12 meses.","NA","0",null,null,null,null,{"$f":"F18","v":0}]
[null,null,null,null,null,{"$f":"F4+F5+F6+F7+F8+F9+F10+F11+F12+F13+F14+F15+F16+F17","v":0}]
[]
[]
[null,null,null,null,null,null,null,null,null,null,{"$f":"F18","v":0}]
[]
[]
[]
[]
[null,null,null,null,null,null,null,null,null,"Presione solo si al completar Tabla 7  se lo indica el Cuadro de Resultado",{"$f":"F18","v":0}]

{"sheet":"TABLA 7T3P4","index":256,"n_rows":26,"n_cols":11,"rows_kept":26,"cut":false,"hidden":false,"merged":[]}
[]
[null,null,null,"MANEJO MANUAL DE PERSONAS/PACIENTES- IDENTIFICACIÓN AVANZADA  CONDICIÓN ACEPTABLE  ",null,null,null,null,null,"Cuadro de Resultado Tabla 7"]
[null,null,"Riesgo","Empueje y Arrastre de Carga","Si / No / NA"]
[null,null,null,"En promedio, por turno, el trabajador realiza 6 o menos MMP que superen los 15 kg. cada uno.","NA",{"$f":"IF(E4=\"SI\",\"0\",IF(E4=\"NA\",\"0\",\"1\"))","v":"0"},null,null,null,"La Tarea:"]
[null,null,"Aplicación de la Fuerza","Ausencia de asimetría (Ej: cuerpo rotado, torsión y/o inclinación de tronco).","NA",{"$f":"IF(E5=\"SI\",\"0\",IF(E5=\"NA\",\"0\",\"1\"))","v":"0"},null,null,{"$f":"'TABLA 1 P4'!B10","v":"N° 3"},{"$f":"'TABLA 1 P4'!C10","v":"NA"}]
[null,null,null,"El paciente es mantenido cerca del cuerpo del trabajador.","NA","0",null,null,null,"Resultado:"]
[null,null,null,"El MMP se realiza entre la altura nudillo suelo y la altura codo suelo (°).","NA","0",null,null,{"$f":"F18","v":0},{"$f":"IF(F18>=1,\"No es Aceptable\",\"Aceptable\")","v":"Aceptable"}]
[null,null,null,"Cuenta con camas regulables en altura.","NA","0",null,null,null,"Por lo que usted:"]
[null,null,"Equipamiento","Existe y se utilizan de forma correcta las ayudas mecánicas.","NA","0",null,null,null,{"$f":"IF(J7=\"Aceptable\",\"Ha Terminado el Proceso de Identificación para esta Tarea\",\"Debe Aplicar Tabla 8\")","v":"Ha Terminado el Proceso de Identificación para esta Tarea"},{"$f":"F18","v":0}]
[null,null,null,"Existen programas de mantenimiento de las ayudas mecánicas, de sillas de rueda y camillas.","NA","0"]
[null,null,"Ambiente y espacios","La iluminación permite visualizar todos los elementos en el espacio de trabajo y la temperatura son adecuadas está entre 19° y 25° grados Celsius.","NA","0",null,null,null,{"$f":"IF(J7=\"Aceptable\",\"Si terminó de responder toda la Tabla 7 Presione Aquí para  regresar a Tabla 1 Información General del Puesto de Trabajo donde podrá continuar con la siguiente Tarea\",\"\")","v":"Si terminó de responder toda la Tabla 7 Presione Aquí para  regresar a Tabla 1 Información General del Puesto de Trabajo donde podrá continuar con la siguiente Tarea"},{"$f":"F18","v":0}]
[null,null,null,"Existe suficiente espacio para moverse libremente y para utilizar las ayudas mecánicas existentes.","NA","0"]
[null,null,null,"Presencia de suelo en salas, pasillos y otros que permiten el normal desplazamiento de sillas de rueda y camillas.","NA","0",null,null,null,null,{"$f":"F18","v":0}]
[null,null,"Organización","Existe un programa institucional para la prevención del riego por MMP: evaluación de riesgo, clasificación de pacientes (según nivel de asistencia requerida, peso, etc.), monitoreo de la salud de los trabajadores, etc.","NA","0"]
[null,null,null,"Existen procedimientos escritos e informados de MMP de acuerdo con el peso y características del paciente.","NA","0",null,null,null,null,{"$f":"F18","v":0}]
[null,null,null,"La organización del trabajo permite distribuir las tareas de MMP a lo largo de la jornada e incluye periodos de descanso dentro de ella.","NA","0"]
[null,null,"Entrenamiento","Al menos un 75 % de los trabajadores del servicio/unidad recibieron capacitación teórico-práctico en MMP en los últimos 12 meses.","NA","0",null,null,null,null,{"$f":"F18","v":0}]
[null,null,null,null,null,{"$f":"F4+F5+F6+F7+F8+F9+F10+F11+F12+F13+F14+F15+F16+F17","v":0}]
[]
[]
[null,null,null,null,null,null,null,null,null,null,{"$f":"F18","v":0}]
[]
[]
[]
[]
[null,null,null,null,null,null,null,null,null,"Presione solo si al completar Tabla 7  se lo indica el Cuadro de Resultado",{"$f":"F18","v":0}]

{"sheet":"TABLA 7T3P5","index":257,"n_rows":26,"n_cols":11,"rows_kept":26,"cut":false,"hidden":false,"merged":[]}
[]
[null,null,null,"MANEJO MANUAL DE PERSONAS/PACIENTES- IDENTIFICACIÓN AVANZADA  CONDICIÓN ACEPTABLE  ",null,null,null,null,null,"Cuadro de Resultado Tabla 7"]
[null,null,"Riesgo","Empueje y Arrastre de Carga","Si / No / NA"]
[null,null,null,"En promedio, por turno, el trabajador realiza 6 o menos MMP que superen los 15 kg. cada uno.","NA",{"$f":"IF(E4=\"SI\",\"0\",IF(E4=\"NA\",\"0\",\"1\"))","v":"0"},null,null,null,"La Tarea:"]
[null,null,"Aplicación de la Fuerza","Ausencia de asimetría (Ej: cuerpo rotado, torsión y/o inclinación de tronco).","NA",{"$f":"IF(E5=\"SI\",\"0\",IF(E5=\"NA\",\"0\",\"1\"))","v":"0"},null,null,{"$f":"'TABLA 1 P5'!B10","v":"N° 3"},{"$f":"'TABLA 1 P5'!C10","v":"NA"}]
[null,null,null,"El paciente es mantenido cerca del cuerpo del trabajador.","NA","0",null,null,null,"Resultado:"]
[null,null,null,"El MMP se realiza entre la altura nudillo suelo y la altura codo suelo (°).","NA","0",null,null,{"$f":"F18","v":0},{"$f":"IF(F18>=1,\"No es Aceptable\",\"Aceptable\")","v":"Aceptable"}]
[null,null,null,"Cuenta con camas regulables en altura.","NA","0",null,null,null,"Por lo que usted:"]
[null,null,"Equipamiento","Existe y se utilizan de forma correcta las ayudas mecánicas.","NA","0",null,null,null,{"$f":"IF(J7=\"Aceptable\",\"Ha Terminado el Proceso de Identificación para esta Tarea\",\"Debe Aplicar Tabla 8\")","v":"Ha Terminado el Proceso de Identificación para esta Tarea"},{"$f":"F18","v":0}]
[null,null,null,"Existen programas de mantenimiento de las ayudas mecánicas, de sillas de rueda y camillas.","NA","0"]
[null,null,"Ambiente y espacios","La iluminación permite visualizar todos los elementos en el espacio de trabajo y la temperatura son adecuadas está entre 19° y 25° grados Celsius.","NA","0",null,null,null,{"$f":"IF(J7=\"Aceptable\",\"Si terminó de responder toda la Tabla 7 Presione Aquí para  regresar a Tabla 1 Información General del Puesto de Trabajo donde podrá continuar con la siguiente Tarea\",\"\")","v":"Si terminó de responder toda la Tabla 7 Presione Aquí para  regresar a Tabla 1 Información General del Puesto de Trabajo donde podrá continuar con la siguiente Tarea"},{"$f":"F18","v":0}]
[null,null,null,"Existe suficiente espacio para moverse libremente y para utilizar las ayudas mecánicas existentes.","NA","0"]
[null,null,null,"Presencia de suelo en salas, pasillos y otros que permiten el normal desplazamiento de sillas de rueda y camillas.","NA","0",null,null,null,null,{"$f":"F18","v":0}]
[null,null,"Organización","Existe un programa institucional para la prevención del riego por MMP: evaluación de riesgo, clasificación de pacientes (según nivel de asistencia requerida, peso, etc.), monitoreo de la salud de los trabajadores, etc.","NA","0"]
[null,null,null,"Existen procedimientos escritos e informados de MMP de acuerdo con el peso y características del paciente.","NA","0",null,null,null,null,{"$f":"F18","v":0}]
[null,null,null,"La organización del trabajo permite distribuir las tareas de MMP a lo largo de la jornada e incluye periodos de descanso dentro de ella.","NA","0"]
[null,null,"Entrenamiento","Al menos un 75 % de los trabajadores del servicio/unidad recibieron capacitación teórico-práctico en MMP en los últimos 12 meses.","NA","0",null,null,null,null,{"$f":"F18","v":0}]
[null,null,null,null,null,{"$f":"F4+F5+F6+F7+F8+F9+F10+F11+F12+F13+F14+F15+F16+F17","v":0}]
[]
[]
[null,null,null,null,null,null,null,null,null,null,{"$f":"F18","v":0}]
[]
[]
[]
[]
[null,null,null,null,null,null,null,null,null,"Presione solo si al completar Tabla 7  se lo indica el Cuadro de Resultado",{"$f":"F18","v":0}]

{"sheet":"TABLA 7T3P6","index":258,"n_rows":26,"n_cols":11,"rows_kept":26,"cut":false,"hidden":false,"merged":[]}
[]
[null,null,null,"MANEJO MANUAL DE PERSONAS/PACIENTES- IDENTIFICACIÓN AVANZADA  CONDICIÓN ACEPTABLE  ",null,null,null,null,null,"Cuadro de Resultado Tabla 7"]
[null,null,"Riesgo","Empueje y Arrastre de Carga","Si / No / NA"]
[null,null,null,"En promedio, por turno, el trabajador realiza 6 o menos MMP que superen los 15 kg. cada uno.","NA",{"$f":"IF(E4=\"SI\",\"0\",IF(E4=\"NA\",\"0\",\"1\"))","v":"0"},null,null,null,"La Tarea:"]
[null,null,"Aplicación de la Fuerza","Ausencia de asimetría (Ej: cuerpo rotado, torsión y/o inclinación de tronco).","NA",{"$f":"IF(E5=\"SI\",\"0\",IF(E5=\"NA\",\"0\",\"1\"))","v":"0"},null,null,{"$f":"'TABLA 1 P6'!B10","v":"N° 3"},{"$f":"'TABLA 1 P6'!C10","v":"NA"}]
[null,null,null,"El paciente es mantenido cerca del cuerpo del trabajador.","NA","0",null,null,null,"Resultado:"]
[null,null,null,"El MMP se realiza entre la altura nudillo suelo y la altura codo suelo (°).","NA","0",null,null,{"$f":"F18","v":0},{"$f":"IF(F18>=1,\"No es Aceptable\",\"Aceptable\")","v":"Aceptable"}]
[null,null,null,"Cuenta con camas regulables en altura.","NA","0",null,null,null,"Por lo que usted:"]
[null,null,"Equipamiento","Existe y se utilizan de forma correcta las ayudas mecánicas.","NA","0",null,null,null,{"$f":"IF(J7=\"Aceptable\",\"Ha Terminado el Proceso de Identificación para esta Tarea\",\"Debe Aplicar Tabla 8\")","v":"Ha Terminado el Proceso de Identificación para esta Tarea"},{"$f":"F18","v":0}]
[null,null,null,"Existen programas de mantenimiento de las ayudas mecánicas, de sillas de rueda y camillas.","NA","0"]
[null,null,"Ambiente y espacios","La iluminación permite visualizar todos los elementos en el espacio de trabajo y la temperatura son adecuadas está entre 19° y 25° grados Celsius.","NA","0",null,null,null,{"$f":"IF(J7=\"Aceptable\",\"Si terminó de responder toda la Tabla 7 Presione Aquí para  regresar a Tabla 1 Información General del Puesto de Trabajo donde podrá continuar con la siguiente Tarea\",\"\")","v":"Si terminó de responder toda la Tabla 7 Presione Aquí para  regresar a Tabla 1 Información General del Puesto de Trabajo donde podrá continuar con la siguiente Tarea"},{"$f":"F18","v":0}]
[null,null,null,"Existe suficiente espacio para moverse libremente y para utilizar las ayudas mecánicas existentes.","NA","0"]
[null,null,null,"Presencia de suelo en salas, pasillos y otros que permiten el normal desplazamiento de sillas de rueda y camillas.","NA","0",null,null,null,null,{"$f":"F18","v":0}]
[null,null,"Organización","Existe un programa institucional para la prevención del riego por MMP: evaluación de riesgo, clasificación de pacientes (según nivel de asistencia requerida, peso, etc.), monitoreo de la salud de los trabajadores, etc.","NA","0"]
[null,null,null,"Existen procedimientos escritos e informados de MMP de acuerdo con el peso y características del paciente.","NA","0",null,null,null,null,{"$f":"F18","v":0}]
[null,null,null,"La organización del trabajo permite distribuir las tareas de MMP a lo largo de la jornada e incluye periodos de descanso dentro de ella.","NA","0"]
[null,null,"Entrenamiento","Al menos un 75 % de los trabajadores del servicio/unidad recibieron capacitación teórico-práctico en MMP en los últimos 12 meses.","NA","0",null,null,null,null,{"$f":"F18","v":0}]
[null,null,null,null,null,{"$f":"F4+F5+F6+F7+F8+F9+F10+F11+F12+F13+F14+F15+F16+F17","v":0}]
[]
[]
[null,null,null,null,null,null,null,null,null,null,{"$f":"F18","v":0}]
[]
[]
[]
[]
[null,null,null,null,null,null,null,null,null,"Presione solo si al completar Tabla 7  se lo indica el Cuadro de Resultado",{"$f":"F18","v":0}]

{"sheet":"TABLA 7T3P7","index":259,"n_rows":26,"n_cols":11,"rows_kept":26,"cut":false,"hidden":false,"merged":[]}
[]
[null,null,null,"MANEJO MANUAL DE PERSONAS/PACIENTES- IDENTIFICACIÓN AVANZADA  CONDICIÓN ACEPTABLE  ",null,null,null,null,null,"Cuadro de Resultado Tabla 7"]
[null,null,"Riesgo","Empueje y Arrastre de Carga","Si / No / NA"]
[null,null,null,"En promedio, por turno, el trabajador realiza 6 o menos MMP que superen los 15 kg. cada uno.","NA",{"$f":"IF(E4=\"SI\",\"0\",IF(E4=\"NA\",\"0\",\"1\"))","v":"0"},null,null,null,"La Tarea:"]
[null,null,"Aplicación de la Fuerza","Ausencia de asimetría (Ej: cuerpo rotado, torsión y/o inclinación de tronco).","NA",{"$f":"IF(E5=\"SI\",\"0\",IF(E5=\"NA\",\"0\",\"1\"))","v":"0"},null,null,{"$f":"'TABLA 1 P7'!B10","v":"N° 3"},{"$f":"'TABLA 1 P7'!C10","v":"NA"}]
[null,null,null,"El paciente es mantenido cerca del cuerpo del trabajador.","NA","0",null,null,null,"Resultado:"]
[null,null,null,"El MMP se realiza entre la altura nudillo suelo y la altura codo suelo (°).","NA","0",null,null,{"$f":"F18","v":0},{"$f":"IF(F18>=1,\"No es Aceptable\",\"Aceptable\")","v":"Aceptable"}]
[null,null,null,"Cuenta con camas regulables en altura.","NA","0",null,null,null,"Por lo que usted:"]
[null,null,"Equipamiento","Existe y se utilizan de forma correcta las ayudas mecánicas.","NA","0",null,null,null,{"$f":"IF(J7=\"Aceptable\",\"Ha Terminado el Proceso de Identificación para esta Tarea\",\"Debe Aplicar Tabla 8\")","v":"Ha Terminado el Proceso de Identificación para esta Tarea"},{"$f":"F18","v":0}]
[null,null,null,"Existen programas de mantenimiento de las ayudas mecánicas, de sillas de rueda y camillas.","NA","0"]
[null,null,"Ambiente y espacios","La iluminación permite visualizar todos los elementos en el espacio de trabajo y la temperatura son adecuadas está entre 19° y 25° grados Celsius.","NA","0",null,null,null,{"$f":"IF(J7=\"Aceptable\",\"Si terminó de responder toda la Tabla 7 Presione Aquí para  regresar a Tabla 1 Información General del Puesto de Trabajo donde podrá continuar con la siguiente Tarea\",\"\")","v":"Si terminó de responder toda la Tabla 7 Presione Aquí para  regresar a Tabla 1 Información General del Puesto de Trabajo donde podrá continuar con la siguiente Tarea"},{"$f":"F18","v":0}]
[null,null,null,"Existe suficiente espacio para moverse libremente y para utilizar las ayudas mecánicas existentes.","NA","0"]
[null,null,null,"Presencia de suelo en salas, pasillos y otros que permiten el normal desplazamiento de sillas de rueda y camillas.","NA","0",null,null,null,null,{"$f":"F18","v":0}]
[null,null,"Organización","Existe un programa institucional para la prevención del riego por MMP: evaluación de riesgo, clasificación de pacientes (según nivel de asistencia requerida, peso, etc.), monitoreo de la salud de los trabajadores, etc.","NA","0"]
[null,null,null,"Existen procedimientos escritos e informados de MMP de acuerdo con el peso y características del paciente.","NA","0",null,null,null,null,{"$f":"F18","v":0}]
[null,null,null,"La organización del trabajo permite distribuir las tareas de MMP a lo largo de la jornada e incluye periodos de descanso dentro de ella.","NA","0"]
[null,null,"Entrenamiento","Al menos un 75 % de los trabajadores del servicio/unidad recibieron capacitación teórico-práctico en MMP en los últimos 12 meses.","NA","0",null,null,null,null,{"$f":"F18","v":0}]
[null,null,null,null,null,{"$f":"F4+F5+F6+F7+F8+F9+F10+F11+F12+F13+F14+F15+F16+F17","v":0}]
[]
[]
[null,null,null,null,null,null,null,null,null,null,{"$f":"F18","v":0}]
[]
[]
[]
[]
[null,null,null,null,null,null,null,null,null,"Presione solo si al completar Tabla 7  se lo indica el Cuadro de Resultado",{"$f":"F18","v":0}]

{"sheet":"TABLA 7T3P8","index":260,"n_rows":26,"n_cols":11,"rows_kept":26,"cut":false,"hidden":false,"merged":[]}
[]
[null,null,null,"MANEJO MANUAL DE PERSONAS/PACIENTES- IDENTIFICACIÓN AVANZADA  CONDICIÓN ACEPTABLE  ",null,null,null,null,null,"Cuadro de Resultado Tabla 7"]
[null,null,"Riesgo","Empueje y Arrastre de Carga","Si / No / NA"]
[null,null,null,"En promedio, por turno, el trabajador realiza 6 o menos MMP que superen los 15 kg. cada uno.","NA",{"$f":"IF(E4=\"SI\",\"0\",IF(E4=\"NA\",\"0\",\"1\"))","v":"0"},null,null,null,"La Tarea:"]
[null,null,"Aplicación de la Fuerza","Ausencia de asimetría (Ej: cuerpo rotado, torsión y/o inclinación de tronco).","NA",{"$f":"IF(E5=\"SI\",\"0\",IF(E5=\"NA\",\"0\",\"1\"))","v":"0"},null,null,{"$f":"'TABLA 1 P8'!B10","v":"N° 3"},{"$f":"'TABLA 1 P8'!C10","v":"NA"}]
[null,null,null,"El paciente es mantenido cerca del cuerpo del trabajador.","NA","0",null,null,null,"Resultado:"]
[null,null,null,"El MMP se realiza entre la altura nudillo suelo y la altura codo suelo (°).","NA","0",null,null,{"$f":"F18","v":0},{"$f":"IF(F18>=1,\"No es Aceptable\",\"Aceptable\")","v":"Aceptable"}]
[null,null,null,"Cuenta con camas regulables en altura.","NA","0",null,null,null,"Por lo que usted:"]
[null,null,"Equipamiento","Existe y se utilizan de forma correcta las ayudas mecánicas.","NA","0",null,null,null,{"$f":"IF(J7=\"Aceptable\",\"Ha Terminado el Proceso de Identificación para esta Tarea\",\"Debe Aplicar Tabla 8\")","v":"Ha Terminado el Proceso de Identificación para esta Tarea"},{"$f":"F18","v":0}]
[null,null,null,"Existen programas de mantenimiento de las ayudas mecánicas, de sillas de rueda y camillas.","NA","0"]
[null,null,"Ambiente y espacios","La iluminación permite visualizar todos los elementos en el espacio de trabajo y la temperatura son adecuadas está entre 19° y 25° grados Celsius.","NA","0",null,null,null,{"$f":"IF(J7=\"Aceptable\",\"Si terminó de responder toda la Tabla 7 Presione Aquí para  regresar a Tabla 1 Información General del Puesto de Trabajo donde podrá continuar con la siguiente Tarea\",\"\")","v":"Si terminó de responder toda la Tabla 7 Presione Aquí para  regresar a Tabla 1 Información General del Puesto de Trabajo donde podrá continuar con la siguiente Tarea"},{"$f":"F18","v":0}]
[null,null,null,"Existe suficiente espacio para moverse libremente y para utilizar las ayudas mecánicas existentes.","NA","0"]
[null,null,null,"Presencia de suelo en salas, pasillos y otros que permiten el normal desplazamiento de sillas de rueda y camillas.","NA","0",null,null,null,null,{"$f":"F18","v":0}]
[null,null,"Organización","Existe un programa institucional para la prevención del riego por MMP: evaluación de riesgo, clasificación de pacientes (según nivel de asistencia requerida, peso, etc.), monitoreo de la salud de los trabajadores, etc.","NA","0"]
[null,null,null,"Existen procedimientos escritos e informados de MMP de acuerdo con el peso y características del paciente.","NA","0",null,null,null,null,{"$f":"F18","v":0}]
[null,null,null,"La organización del trabajo permite distribuir las tareas de MMP a lo largo de la jornada e incluye periodos de descanso dentro de ella.","NA","0"]
[null,null,"Entrenamiento","Al menos un 75 % de los trabajadores del servicio/unidad recibieron capacitación teórico-práctico en MMP en los últimos 12 meses.","NA","0",null,null,null,null,{"$f":"F18","v":0}]
[null,null,null,null,null,{"$f":"F4+F5+F6+F7+F8+F9+F10+F11+F12+F13+F14+F15+F16+F17","v":0}]
[]
[]
[null,null,null,null,null,null,null,null,null,null,{"$f":"F18","v":0}]
[]
[]
[]
[]
[null,null,null,null,null,null,null,null,null,"Presione solo si al completar Tabla 7  se lo indica el Cuadro de Resultado",{"$f":"F18","v":0}]

{"sheet":"TABLA 7T3P9","index":261,"n_rows":26,"n_cols":11,"rows_kept":26,"cut":false,"hidden":false,"merged":[]}
[]
[null,null,null,"MANEJO MANUAL DE PERSONAS/PACIENTES- IDENTIFICACIÓN AVANZADA  CONDICIÓN ACEPTABLE  ",null,null,null,null,null,"Cuadro de Resultado Tabla 7"]
[null,null,"Riesgo","Empueje y Arrastre de Carga","Si / No / NA"]
[null,null,null,"En promedio, por turno, el trabajador realiza 6 o menos MMP que superen los 15 kg. cada uno.","NA",{"$f":"IF(E4=\"SI\",\"0\",IF(E4=\"NA\",\"0\",\"1\"))","v":"0"},null,null,null,"La Tarea:"]
[null,null,"Aplicación de la Fuerza","Ausencia de asimetría (Ej: cuerpo rotado, torsión y/o inclinación de tronco).","NA",{"$f":"IF(E5=\"SI\",\"0\",IF(E5=\"NA\",\"0\",\"1\"))","v":"0"},null,null,{"$f":"'TABLA 1 P9'!B10","v":"N° 3"},{"$f":"'TABLA 1 P9'!C10","v":"NA"}]
[null,null,null,"El paciente es mantenido cerca del cuerpo del trabajador.","NA","0",null,null,null,"Resultado:"]
[null,null,null,"El MMP se realiza entre la altura nudillo suelo y la altura codo suelo (°).","NA","0",null,null,{"$f":"F18","v":0},{"$f":"IF(F18>=1,\"No es Aceptable\",\"Aceptable\")","v":"Aceptable"}]
[null,null,null,"Cuenta con camas regulables en altura.","NA","0",null,null,null,"Por lo que usted:"]
[null,null,"Equipamiento","Existe y se utilizan de forma correcta las ayudas mecánicas.","NA","0",null,null,null,{"$f":"IF(J7=\"Aceptable\",\"Ha Terminado el Proceso de Identificación para esta Tarea\",\"Debe Aplicar Tabla 8\")","v":"Ha Terminado el Proceso de Identificación para esta Tarea"},{"$f":"F18","v":0}]
[null,null,null,"Existen programas de mantenimiento de las ayudas mecánicas, de sillas de rueda y camillas.","NA","0"]
[null,null,"Ambiente y espacios","La iluminación permite visualizar todos los elementos en el espacio de trabajo y la temperatura son adecuadas está entre 19° y 25° grados Celsius.","NA","0",null,null,null,{"$f":"IF(J7=\"Aceptable\",\"Si terminó de responder toda la Tabla 7 Presione Aquí para  regresar a Tabla 1 Información General del Puesto de Trabajo donde podrá continuar con la siguiente Tarea\",\"\")","v":"Si terminó de responder toda la Tabla 7 Presione Aquí para  regresar a Tabla 1 Información General del Puesto de Trabajo donde podrá continuar con la siguiente Tarea"},{"$f":"F18","v":0}]
[null,null,null,"Existe suficiente espacio para moverse libremente y para utilizar las ayudas mecánicas existentes.","NA","0"]
[null,null,null,"Presencia de suelo en salas, pasillos y otros que permiten el normal desplazamiento de sillas de rueda y camillas.","NA","0",null,null,null,null,{"$f":"F18","v":0}]
[null,null,"Organización","Existe un programa institucional para la prevención del riego por MMP: evaluación de riesgo, clasificación de pacientes (según nivel de asistencia requerida, peso, etc.), monitoreo de la salud de los trabajadores, etc.","NA","0"]
[null,null,null,"Existen procedimientos escritos e informados de MMP de acuerdo con el peso y características del paciente.","NA","0",null,null,null,null,{"$f":"F18","v":0}]
[null,null,null,"La organización del trabajo permite distribuir las tareas de MMP a lo largo de la jornada e incluye periodos de descanso dentro de ella.","NA","0"]
[null,null,"Entrenamiento","Al menos un 75 % de los trabajadores del servicio/unidad recibieron capacitación teórico-práctico en MMP en los últimos 12 meses.","NA","0",null,null,null,null,{"$f":"F18","v":0}]
[null,null,null,null,null,{"$f":"F4+F5+F6+F7+F8+F9+F10+F11+F12+F13+F14+F15+F16+F17","v":0}]
[]
[]
[null,null,null,null,null,null,null,null,null,null,{"$f":"F18","v":0}]
[]
[]
[]
[]
[null,null,null,null,null,null,null,null,null,"Presione solo si al completar Tabla 7  se lo indica el Cuadro de Resultado",{"$f":"F18","v":0}]

{"sheet":"TABLA 7T3P10","index":262,"n_rows":26,"n_cols":11,"rows_kept":26,"cut":false,"hidden":false,"merged":[]}
[]
[null,null,null,"MANEJO MANUAL DE PERSONAS/PACIENTES- IDENTIFICACIÓN AVANZADA  CONDICIÓN ACEPTABLE  ",null,null,null,null,null,"Cuadro de Resultado Tabla 7"]
[null,null,"Riesgo","Empueje y Arrastre de Carga","Si / No / NA"]
[null,null,null,"En promedio, por turno, el trabajador realiza 6 o menos MMP que superen los 15 kg. cada uno.","NA",{"$f":"IF(E4=\"SI\",\"0\",IF(E4=\"NA\",\"0\",\"1\"))","v":"0"},null,null,null,"La Tarea:"]
[null,null,"Aplicación de la Fuerza","Ausencia de asimetría (Ej: cuerpo rotado, torsión y/o inclinación de tronco).","NA",{"$f":"IF(E5=\"SI\",\"0\",IF(E5=\"NA\",\"0\",\"1\"))","v":"0"},null,null,{"$f":"'TABLA 1 P10'!B10","v":"N° 3"},{"$f":"'TABLA 1 P10'!C10","v":"NA"}]
[null,null,null,"El paciente es mantenido cerca del cuerpo del trabajador.","NA","0",null,null,null,"Resultado:"]
[null,null,null,"El MMP se realiza entre la altura nudillo suelo y la altura codo suelo (°).","NA","0",null,null,{"$f":"F18","v":0},{"$f":"IF(F18>=1,\"No es Aceptable\",\"Aceptable\")","v":"Aceptable"}]
[null,null,null,"Cuenta con camas regulables en altura.","NA","0",null,null,null,"Por lo que usted:"]
[null,null,"Equipamiento","Existe y se utilizan de forma correcta las ayudas mecánicas.","NA","0",null,null,null,{"$f":"IF(J7=\"Aceptable\",\"Ha Terminado el Proceso de Identificación para esta Tarea\",\"Debe Aplicar Tabla 8\")","v":"Ha Terminado el Proceso de Identificación para esta Tarea"},{"$f":"F18","v":0}]
[null,null,null,"Existen programas de mantenimiento de las ayudas mecánicas, de sillas de rueda y camillas.","NA","0"]
[null,null,"Ambiente y espacios","La iluminación permite visualizar todos los elementos en el espacio de trabajo y la temperatura son adecuadas está entre 19° y 25° grados Celsius.","NA","0",null,null,null,{"$f":"IF(J7=\"Aceptable\",\"Si terminó de responder toda la Tabla 7 Presione Aquí para  regresar a Tabla 1 Información General del Puesto de Trabajo donde podrá continuar con la siguiente Tarea\",\"\")","v":"Si terminó de responder toda la Tabla 7 Presione Aquí para  regresar a Tabla 1 Información General del Puesto de Trabajo donde podrá continuar con la siguiente Tarea"},{"$f":"F18","v":0}]
[null,null,null,"Existe suficiente espacio para moverse libremente y para utilizar las ayudas mecánicas existentes.","NA","0"]
[null,null,null,"Presencia de suelo en salas, pasillos y otros que permiten el normal desplazamiento de sillas de rueda y camillas.","NA","0",null,null,null,null,{"$f":"F18","v":0}]
[null,null,"Organización","Existe un programa institucional para la prevención del riego por MMP: evaluación de riesgo, clasificación de pacientes (según nivel de asistencia requerida, peso, etc.), monitoreo de la salud de los trabajadores, etc.","NA","0"]
[null,null,null,"Existen procedimientos escritos e informados de MMP de acuerdo con el peso y características del paciente.","NA","0",null,null,null,null,{"$f":"F18","v":0}]
[null,null,null,"La organización del trabajo permite distribuir las tareas de MMP a lo largo de la jornada e incluye periodos de descanso dentro de ella.","NA","0"]
[null,null,"Entrenamiento","Al menos un 75 % de los trabajadores del servicio/unidad recibieron capacitación teórico-práctico en MMP en los últimos 12 meses.","NA","0",null,null,null,null,{"$f":"F18","v":0}]
[null,null,null,null,null,{"$f":"F4+F5+F6+F7+F8+F9+F10+F11+F12+F13+F14+F15+F16+F17","v":0}]
[]
[]
[null,null,null,null,null,null,null,null,null,null,{"$f":"F18","v":0}]
[]
[]
[]
[]
[null,null,null,null,null,null,null,null,null,"Presione solo si al completar Tabla 7  se lo indica el Cuadro de Resultado",{"$f":"F18","v":0}]

{"sheet":"TABLA 8T3P1","index":263,"n_rows":19,"n_cols":10,"rows_kept":19,"cut":false,"hidden":false,"merged":[]}
[]
[null,null,null,"TABLA 8 | MANEJO MANUAL DE PERSONAS/PACIENTES- IDENTIFICACIÓN AVANZADA CONDICIÓN CRÍTICA  ",null,null,null,null,null,"Cuadro de Resultado Tabla 8"]
[null,null,"Condición","Levantamiento/descenso y transporte manual de carga","Si / No / NA"]
[null,null,"Aplicación de la Fuerza","En promedio, por turno, el trabajador realiza 12 o más MMP que superen los 15 kgs. cada uno.","NA",{"$f":"IF(E4=\"No\",\"0\",IF(E4=\"NA\",\"0\",\"1\"))","v":"0"},null,null,null,"La Tarea:"]
[null,null,null,"El MMP se realiza bajo las rodillas o sobre la altura codo suelo","NA",{"$f":"IF(E5=\"No\",\"0\",IF(E5=\"NA\",\"0\",\"1\"))","v":"0"},null,null,{"$f":"'TABLA 1 P1'!B10","v":"N° 3"},{"$f":"'TABLA 1 P1'!C10","v":"NA"}]
[null,null,null,"La distancia horizontal entre el cuerpo y el paciente manipulado es superior a 63 cm.","NA","0",null,null,null,"Resultado:"]
[null,null,null,"Torsión extrema del tronco sin movimientos de los pies.","NA","0",null,null,{"$f":"F19","v":0},{"$f":"IF(F19>=1,\"Crítica\",\"No Crítica\")","v":"No Crítica"}]
[null,null,null,"Las camas no son regulables y tienen una altura inferior a 70 cm.","NA","0",null,null,null,"Por lo que usted:"]
[null,null,"Equipamiento","Las camas tienen ninguna o solo 2 ruedas.","NA","0",null,null,null,{"$f":"IF(J7=\"No Crítica\",\"Ha terminado el Proceso de Identificación para esta Tarea y deberá iniciar el proceso de Evaluación Cuantitativa del riesgo\",\"Ha terminado el Proceso de Identificación para esta Tarea y deberá aplicar medidas para reducir el riesgo\")","v":"Ha terminado el Proceso de Identificación para esta Tarea y deberá iniciar el proceso de Evaluación Cuantitativa del riesgo"}]
[null,null,null,"El trabajador hace todo el esfuerzo en el manejo del paciente ya que no se utiliza ningún tipo de ayudas mecánicas.","NA","0"]
[null,null,null,"No existe programa de mantenimiento de las ayudas mecánicas ni de sillas de rueda o camillas.","NA","0",null,null,null,"Si terminó de responder toda la Tabla 8 Presione Aquí para  regresar a Tabla 1 Información General del Puesto de Trabajo donde podrá continuar con la siguiente Tarea"]
[null,null,"Ambiente y espacios","La temperatura ambiente es menor a 18° o superior a 26° grados Celsius y no se cuenta con ropa que proteja de las temperaturas extremas.","NA","0"]
[null,null,null,"Existe menos de 90 cm de espacio entre la cama y la pared o entre las camas, o menos de 120 cm. al final de la cama.","NA","0"]
[null,null,null,"Presencia de suelo resbaladizo, irregular o inestable en salas o pasillos","NA",{"$f":"IF(E14=\"No\",\"0\",IF(E14=\"NA\",\"0\",\"1\"))","v":"0"}]
[null,null,null,"La organización carece de un sistema de clasificación del paciente (según nivel de asistencia, peso, etc.).","NA",{"$f":"IF(E15=\"No\",\"0\",IF(E15=\"NA\",\"0\",\"1\"))","v":"0"}]
[null,null,"Organización","La organización no cuenta con procedimientos escritos e informados de MMP de acuerdo con el peso y características del paciente.","NA","0"]
[null,null,null,"La organización del trabajo genera concentración de tareas de MMP en ciertos horarios de trabajo y no cuenta con pausas de descanso durante la jornada.","NA","0"]
[null,null,"Entrenamiento","Un 50 % o menos de los trabajadores del servicio/unidad recibieron capacitación teórico-práctico en MMP en los últimos 18 meses.","NA","0"]
[null,null,null,null,null,{"$f":"F4+F5+F6+F7+F8+F9+F10+F11+F12+F13+F14+F15+F16+F17+F18","v":0}]

{"sheet":"TABLA 8T3P2","index":264,"n_rows":19,"n_cols":10,"rows_kept":19,"cut":false,"hidden":false,"merged":[]}
[]
[null,null,null,"TABLA 8 | MANEJO MANUAL DE PERSONAS/PACIENTES- IDENTIFICACIÓN AVANZADA CONDICIÓN CRÍTICA  ",null,null,null,null,null,"Cuadro de Resultado Tabla 8"]
[null,null,"Condición","Levantamiento/descenso y transporte manual de carga","Si / No / NA"]
[null,null,"Aplicación de la Fuerza","En promedio, por turno, el trabajador realiza 12 o más MMP que superen los 15 kgs. cada uno.","NA",{"$f":"IF(E4=\"No\",\"0\",IF(E4=\"NA\",\"0\",\"1\"))","v":"0"},null,null,null,"La Tarea:"]
[null,null,null,"El MMP se realiza bajo las rodillas o sobre la altura codo suelo","NA",{"$f":"IF(E5=\"No\",\"0\",IF(E5=\"NA\",\"0\",\"1\"))","v":"0"},null,null,{"$f":"'TABLA 1 P2'!B10","v":"N° 3"},{"$f":"'TABLA 1 P2'!C10","v":"NA"}]
[null,null,null,"La distancia horizontal entre el cuerpo y el paciente manipulado es superior a 63 cm.","NA","0",null,null,null,"Resultado:"]
[null,null,null,"Torsión extrema del tronco sin movimientos de los pies.","NA","0",null,null,{"$f":"F19","v":0},{"$f":"IF(F19>=1,\"Crítica\",\"No Crítica\")","v":"No Crítica"}]
[null,null,null,"Las camas no son regulables y tienen una altura inferior a 70 cm.","NA","0",null,null,null,"Por lo que usted:"]
[null,null,"Equipamiento","Las camas tienen ninguna o solo 2 ruedas.","NA","0",null,null,null,{"$f":"IF(J7=\"No Crítica\",\"Ha terminado el Proceso de Identificación para esta Tarea y deberá iniciar el proceso de Evaluación Cuantitativa del riesgo\",\"Ha terminado el Proceso de Identificación para esta Tarea y deberá aplicar medidas para reducir el riesgo\")","v":"Ha terminado el Proceso de Identificación para esta Tarea y deberá iniciar el proceso de Evaluación Cuantitativa del riesgo"}]
[null,null,null,"El trabajador hace todo el esfuerzo en el manejo del paciente ya que no se utiliza ningún tipo de ayudas mecánicas.","NA","0"]
[null,null,null,"No existe programa de mantenimiento de las ayudas mecánicas ni de sillas de rueda o camillas.","NA","0",null,null,null,"Si terminó de responder toda la Tabla 8 Presione Aquí para  regresar a Tabla 1 Información General del Puesto de Trabajo donde podrá continuar con la siguiente Tarea"]
[null,null,"Ambiente y espacios","La temperatura ambiente es menor a 18° o superior a 26° grados Celsius y no se cuenta con ropa que proteja de las temperaturas extremas.","NA","0"]
[null,null,null,"Existe menos de 90 cm de espacio entre la cama y la pared o entre las camas, o menos de 120 cm. al final de la cama.","NA","0"]
[null,null,null,"Presencia de suelo resbaladizo, irregular o inestable en salas o pasillos","NA",{"$f":"IF(E14=\"No\",\"0\",IF(E14=\"NA\",\"0\",\"1\"))","v":"0"}]
[null,null,null,"La organización carece de un sistema de clasificación del paciente (según nivel de asistencia, peso, etc.).","NA",{"$f":"IF(E15=\"No\",\"0\",IF(E15=\"NA\",\"0\",\"1\"))","v":"0"}]
[null,null,"Organización","La organización no cuenta con procedimientos escritos e informados de MMP de acuerdo con el peso y características del paciente.","NA","0"]
[null,null,null,"La organización del trabajo genera concentración de tareas de MMP en ciertos horarios de trabajo y no cuenta con pausas de descanso durante la jornada.","NA","0"]
[null,null,"Entrenamiento","Un 50 % o menos de los trabajadores del servicio/unidad recibieron capacitación teórico-práctico en MMP en los últimos 18 meses.","NA","0"]
[null,null,null,null,null,{"$f":"F4+F5+F6+F7+F8+F9+F10+F11+F12+F13+F14+F15+F16+F17+F18","v":0}]

{"sheet":"TABLA 8T3P3","index":265,"n_rows":19,"n_cols":10,"rows_kept":19,"cut":false,"hidden":false,"merged":[]}
[]
[null,null,null,"TABLA 8 | MANEJO MANUAL DE PERSONAS/PACIENTES- IDENTIFICACIÓN AVANZADA CONDICIÓN CRÍTICA  ",null,null,null,null,null,"Cuadro de Resultado Tabla 8"]
[null,null,"Condición","Levantamiento/descenso y transporte manual de carga","Si / No / NA"]
[null,null,"Aplicación de la Fuerza","En promedio, por turno, el trabajador realiza 12 o más MMP que superen los 15 kgs. cada uno.","NA",{"$f":"IF(E4=\"No\",\"0\",IF(E4=\"NA\",\"0\",\"1\"))","v":"0"},null,null,null,"La Tarea:"]
[null,null,null,"El MMP se realiza bajo las rodillas o sobre la altura codo suelo","NA",{"$f":"IF(E5=\"No\",\"0\",IF(E5=\"NA\",\"0\",\"1\"))","v":"0"},null,null,{"$f":"'TABLA 1 P3'!B10","v":"N° 3"},{"$f":"'TABLA 1 P3'!C10","v":"NA"}]
[null,null,null,"La distancia horizontal entre el cuerpo y el paciente manipulado es superior a 63 cm.","NA","0",null,null,null,"Resultado:"]
[null,null,null,"Torsión extrema del tronco sin movimientos de los pies.","NA","0",null,null,{"$f":"F19","v":0},{"$f":"IF(F19>=1,\"Crítica\",\"No Crítica\")","v":"No Crítica"}]
[null,null,null,"Las camas no son regulables y tienen una altura inferior a 70 cm.","NA","0",null,null,null,"Por lo que usted:"]
[null,null,"Equipamiento","Las camas tienen ninguna o solo 2 ruedas.","NA","0",null,null,null,{"$f":"IF(J7=\"No Crítica\",\"Ha terminado el Proceso de Identificación para esta Tarea y deberá iniciar el proceso de Evaluación Cuantitativa del riesgo\",\"Ha terminado el Proceso de Identificación para esta Tarea y deberá aplicar medidas para reducir el riesgo\")","v":"Ha terminado el Proceso de Identificación para esta Tarea y deberá iniciar el proceso de Evaluación Cuantitativa del riesgo"}]
[null,null,null,"El trabajador hace todo el esfuerzo en el manejo del paciente ya que no se utiliza ningún tipo de ayudas mecánicas.","NA","0"]
[null,null,null,"No existe programa de mantenimiento de las ayudas mecánicas ni de sillas de rueda o camillas.","NA","0",null,null,null,"Si terminó de responder toda la Tabla 8 Presione Aquí para  regresar a Tabla 1 Información General del Puesto de Trabajo donde podrá continuar con la siguiente Tarea"]
[null,null,"Ambiente y espacios","La temperatura ambiente es menor a 18° o superior a 26° grados Celsius y no se cuenta con ropa que proteja de las temperaturas extremas.","NA","0"]
[null,null,null,"Existe menos de 90 cm de espacio entre la cama y la pared o entre las camas, o menos de 120 cm. al final de la cama.","NA","0"]
[null,null,null,"Presencia de suelo resbaladizo, irregular o inestable en salas o pasillos","NA",{"$f":"IF(E14=\"No\",\"0\",IF(E14=\"NA\",\"0\",\"1\"))","v":"0"}]
[null,null,null,"La organización carece de un sistema de clasificación del paciente (según nivel de asistencia, peso, etc.).","NA",{"$f":"IF(E15=\"No\",\"0\",IF(E15=\"NA\",\"0\",\"1\"))","v":"0"}]
[null,null,"Organización","La organización no cuenta con procedimientos escritos e informados de MMP de acuerdo con el peso y características del paciente.","NA","0"]
[null,null,null,"La organización del trabajo genera concentración de tareas de MMP en ciertos horarios de trabajo y no cuenta con pausas de descanso durante la jornada.","NA","0"]
[null,null,"Entrenamiento","Un 50 % o menos de los trabajadores del servicio/unidad recibieron capacitación teórico-práctico en MMP en los últimos 18 meses.","NA","0"]
[null,null,null,null,null,{"$f":"F4+F5+F6+F7+F8+F9+F10+F11+F12+F13+F14+F15+F16+F17+F18","v":0}]

{"sheet":"TABLA 8T3P4","index":266,"n_rows":19,"n_cols":10,"rows_kept":19,"cut":false,"hidden":false,"merged":[]}
[]
[null,null,null,"TABLA 8 | MANEJO MANUAL DE PERSONAS/PACIENTES- IDENTIFICACIÓN AVANZADA CONDICIÓN CRÍTICA  ",null,null,null,null,null,"Cuadro de Resultado Tabla 8"]
[null,null,"Condición","Levantamiento/descenso y transporte manual de carga","Si / No / NA"]
[null,null,"Aplicación de la Fuerza","En promedio, por turno, el trabajador realiza 12 o más MMP que superen los 15 kgs. cada uno.","NA",{"$f":"IF(E4=\"No\",\"0\",IF(E4=\"NA\",\"0\",\"1\"))","v":"0"},null,null,null,"La Tarea:"]
[null,null,null,"El MMP se realiza bajo las rodillas o sobre la altura codo suelo","NA",{"$f":"IF(E5=\"No\",\"0\",IF(E5=\"NA\",\"0\",\"1\"))","v":"0"},null,null,{"$f":"'TABLA 1 P4'!B10","v":"N° 3"},{"$f":"'TABLA 1 P4'!C10","v":"NA"}]
[null,null,null,"La distancia horizontal entre el cuerpo y el paciente manipulado es superior a 63 cm.","NA","0",null,null,null,"Resultado:"]
[null,null,null,"Torsión extrema del tronco sin movimientos de los pies.","NA","0",null,null,{"$f":"F19","v":0},{"$f":"IF(F19>=1,\"Crítica\",\"No Crítica\")","v":"No Crítica"}]
[null,null,null,"Las camas no son regulables y tienen una altura inferior a 70 cm.","NA","0",null,null,null,"Por lo que usted:"]
[null,null,"Equipamiento","Las camas tienen ninguna o solo 2 ruedas.","NA","0",null,null,null,{"$f":"IF(J7=\"No Crítica\",\"Ha terminado el Proceso de Identificación para esta Tarea y deberá iniciar el proceso de Evaluación Cuantitativa del riesgo\",\"Ha terminado el Proceso de Identificación para esta Tarea y deberá aplicar medidas para reducir el riesgo\")","v":"Ha terminado el Proceso de Identificación para esta Tarea y deberá iniciar el proceso de Evaluación Cuantitativa del riesgo"}]
[null,null,null,"El trabajador hace todo el esfuerzo en el manejo del paciente ya que no se utiliza ningún tipo de ayudas mecánicas.","NA","0"]
[null,null,null,"No existe programa de mantenimiento de las ayudas mecánicas ni de sillas de rueda o camillas.","NA","0",null,null,null,"Si terminó de responder toda la Tabla 8 Presione Aquí para  regresar a Tabla 1 Información General del Puesto de Trabajo donde podrá continuar con la siguiente Tarea"]
[null,null,"Ambiente y espacios","La temperatura ambiente es menor a 18° o superior a 26° grados Celsius y no se cuenta con ropa que proteja de las temperaturas extremas.","NA","0"]
[null,null,null,"Existe menos de 90 cm de espacio entre la cama y la pared o entre las camas, o menos de 120 cm. al final de la cama.","NA","0"]
[null,null,null,"Presencia de suelo resbaladizo, irregular o inestable en salas o pasillos","NA",{"$f":"IF(E14=\"No\",\"0\",IF(E14=\"NA\",\"0\",\"1\"))","v":"0"}]
[null,null,null,"La organización carece de un sistema de clasificación del paciente (según nivel de asistencia, peso, etc.).","NA",{"$f":"IF(E15=\"No\",\"0\",IF(E15=\"NA\",\"0\",\"1\"))","v":"0"}]
[null,null,"Organización","La organización no cuenta con procedimientos escritos e informados de MMP de acuerdo con el peso y características del paciente.","NA","0"]
[null,null,null,"La organización del trabajo genera concentración de tareas de MMP en ciertos horarios de trabajo y no cuenta con pausas de descanso durante la jornada.","NA","0"]
[null,null,"Entrenamiento","Un 50 % o menos de los trabajadores del servicio/unidad recibieron capacitación teórico-práctico en MMP en los últimos 18 meses.","NA","0"]
[null,null,null,null,null,{"$f":"F4+F5+F6+F7+F8+F9+F10+F11+F12+F13+F14+F15+F16+F17+F18","v":0}]

{"sheet":"TABLA 8T3P5","index":267,"n_rows":19,"n_cols":10,"rows_kept":19,"cut":false,"hidden":false,"merged":[]}
[]
[null,null,null,"TABLA 8 | MANEJO MANUAL DE PERSONAS/PACIENTES- IDENTIFICACIÓN AVANZADA CONDICIÓN CRÍTICA  ",null,null,null,null,null,"Cuadro de Resultado Tabla 8"]
[null,null,"Condición","Levantamiento/descenso y transporte manual de carga","Si / No / NA"]
[null,null,"Aplicación de la Fuerza","En promedio, por turno, el trabajador realiza 12 o más MMP que superen los 15 kgs. cada uno.","NA",{"$f":"IF(E4=\"No\",\"0\",IF(E4=\"NA\",\"0\",\"1\"))","v":"0"},null,null,null,"La Tarea:"]
[null,null,null,"El MMP se realiza bajo las rodillas o sobre la altura codo suelo","NA",{"$f":"IF(E5=\"No\",\"0\",IF(E5=\"NA\",\"0\",\"1\"))","v":"0"},null,null,{"$f":"'TABLA 1 P5'!B10","v":"N° 3"},{"$f":"'TABLA 1 P5'!C10","v":"NA"}]
[null,null,null,"La distancia horizontal entre el cuerpo y el paciente manipulado es superior a 63 cm.","NA","0",null,null,null,"Resultado:"]
[null,null,null,"Torsión extrema del tronco sin movimientos de los pies.","NA","0",null,null,{"$f":"F19","v":0},{"$f":"IF(F19>=1,\"Crítica\",\"No Crítica\")","v":"No Crítica"}]
[null,null,null,"Las camas no son regulables y tienen una altura inferior a 70 cm.","NA","0",null,null,null,"Por lo que usted:"]
[null,null,"Equipamiento","Las camas tienen ninguna o solo 2 ruedas.","NA","0",null,null,null,{"$f":"IF(J7=\"No Crítica\",\"Ha terminado el Proceso de Identificación para esta Tarea y deberá iniciar el proceso de Evaluación Cuantitativa del riesgo\",\"Ha terminado el Proceso de Identificación para esta Tarea y deberá aplicar medidas para reducir el riesgo\")","v":"Ha terminado el Proceso de Identificación para esta Tarea y deberá iniciar el proceso de Evaluación Cuantitativa del riesgo"}]
[null,null,null,"El trabajador hace todo el esfuerzo en el manejo del paciente ya que no se utiliza ningún tipo de ayudas mecánicas.","NA","0"]
[null,null,null,"No existe programa de mantenimiento de las ayudas mecánicas ni de sillas de rueda o camillas.","NA","0",null,null,null,"Si terminó de responder toda la Tabla 8 Presione Aquí para  regresar a Tabla 1 Información General del Puesto de Trabajo donde podrá continuar con la siguiente Tarea"]
[null,null,"Ambiente y espacios","La temperatura ambiente es menor a 18° o superior a 26° grados Celsius y no se cuenta con ropa que proteja de las temperaturas extremas.","NA","0"]
[null,null,null,"Existe menos de 90 cm de espacio entre la cama y la pared o entre las camas, o menos de 120 cm. al final de la cama.","NA","0"]
[null,null,null,"Presencia de suelo resbaladizo, irregular o inestable en salas o pasillos","NA",{"$f":"IF(E14=\"No\",\"0\",IF(E14=\"NA\",\"0\",\"1\"))","v":"0"}]
[null,null,null,"La organización carece de un sistema de clasificación del paciente (según nivel de asistencia, peso, etc.).","NA",{"$f":"IF(E15=\"No\",\"0\",IF(E15=\"NA\",\"0\",\"1\"))","v":"0"}]
[null,null,"Organización","La organización no cuenta con procedimientos escritos e informados de MMP de acuerdo con el peso y características del paciente.","NA","0"]
[null,null,null,"La organización del trabajo genera concentración de tareas de MMP en ciertos horarios de trabajo y no cuenta con pausas de descanso durante la jornada.","NA","0"]
[null,null,"Entrenamiento","Un 50 % o menos de los trabajadores del servicio/unidad recibieron capacitación teórico-práctico en MMP en los últimos 18 meses.","NA","0"]
[null,null,null,null,null,{"$f":"F4+F5+F6+F7+F8+F9+F10+F11+F12+F13+F14+F15+F16+F17+F18","v":0}]

{"sheet":"TABLA 8T3P6","index":268,"n_rows":19,"n_cols":10,"rows_kept":19,"cut":false,"hidden":false,"merged":[]}
[]
[null,null,null,"TABLA 8 | MANEJO MANUAL DE PERSONAS/PACIENTES- IDENTIFICACIÓN AVANZADA CONDICIÓN CRÍTICA  ",null,null,null,null,null,"Cuadro de Resultado Tabla 8"]
[null,null,"Condición","Levantamiento/descenso y transporte manual de carga","Si / No / NA"]
[null,null,"Aplicación de la Fuerza","En promedio, por turno, el trabajador realiza 12 o más MMP que superen los 15 kgs. cada uno.","NA",{"$f":"IF(E4=\"No\",\"0\",IF(E4=\"NA\",\"0\",\"1\"))","v":"0"},null,null,null,"La Tarea:"]
[null,null,null,"El MMP se realiza bajo las rodillas o sobre la altura codo suelo","NA",{"$f":"IF(E5=\"No\",\"0\",IF(E5=\"NA\",\"0\",\"1\"))","v":"0"},null,null,{"$f":"'TABLA 1 P6'!B10","v":"N° 3"},{"$f":"'TABLA 1 P6'!C10","v":"NA"}]
[null,null,null,"La distancia horizontal entre el cuerpo y el paciente manipulado es superior a 63 cm.","NA","0",null,null,null,"Resultado:"]
[null,null,null,"Torsión extrema del tronco sin movimientos de los pies.","NA","0",null,null,{"$f":"F19","v":0},{"$f":"IF(F19>=1,\"Crítica\",\"No Crítica\")","v":"No Crítica"}]
[null,null,null,"Las camas no son regulables y tienen una altura inferior a 70 cm.","NA","0",null,null,null,"Por lo que usted:"]
[null,null,"Equipamiento","Las camas tienen ninguna o solo 2 ruedas.","NA","0",null,null,null,{"$f":"IF(J7=\"No Crítica\",\"Ha terminado el Proceso de Identificación para esta Tarea y deberá iniciar el proceso de Evaluación Cuantitativa del riesgo\",\"Ha terminado el Proceso de Identificación para esta Tarea y deberá aplicar medidas para reducir el riesgo\")","v":"Ha terminado el Proceso de Identificación para esta Tarea y deberá iniciar el proceso de Evaluación Cuantitativa del riesgo"}]
[null,null,null,"El trabajador hace todo el esfuerzo en el manejo del paciente ya que no se utiliza ningún tipo de ayudas mecánicas.","NA","0"]
[null,null,null,"No existe programa de mantenimiento de las ayudas mecánicas ni de sillas de rueda o camillas.","NA","0",null,null,null,"Si terminó de responder toda la Tabla 8 Presione Aquí para  regresar a Tabla 1 Información General del Puesto de Trabajo donde podrá continuar con la siguiente Tarea"]
[null,null,"Ambiente y espacios","La temperatura ambiente es menor a 18° o superior a 26° grados Celsius y no se cuenta con ropa que proteja de las temperaturas extremas.","NA","0"]
[null,null,null,"Existe menos de 90 cm de espacio entre la cama y la pared o entre las camas, o menos de 120 cm. al final de la cama.","NA","0"]
[null,null,null,"Presencia de suelo resbaladizo, irregular o inestable en salas o pasillos","NA",{"$f":"IF(E14=\"No\",\"0\",IF(E14=\"NA\",\"0\",\"1\"))","v":"0"}]
[null,null,null,"La organización carece de un sistema de clasificación del paciente (según nivel de asistencia, peso, etc.).","NA",{"$f":"IF(E15=\"No\",\"0\",IF(E15=\"NA\",\"0\",\"1\"))","v":"0"}]
[null,null,"Organización","La organización no cuenta con procedimientos escritos e informados de MMP de acuerdo con el peso y características del paciente.","NA","0"]
[null,null,null,"La organización del trabajo genera concentración de tareas de MMP en ciertos horarios de trabajo y no cuenta con pausas de descanso durante la jornada.","NA","0"]
[null,null,"Entrenamiento","Un 50 % o menos de los trabajadores del servicio/unidad recibieron capacitación teórico-práctico en MMP en los últimos 18 meses.","NA","0"]
[null,null,null,null,null,{"$f":"F4+F5+F6+F7+F8+F9+F10+F11+F12+F13+F14+F15+F16+F17+F18","v":0}]

{"sheet":"TABLA 8T3P7","index":269,"n_rows":19,"n_cols":10,"rows_kept":19,"cut":false,"hidden":false,"merged":[]}
[]
[null,null,null,"TABLA 8 | MANEJO MANUAL DE PERSONAS/PACIENTES- IDENTIFICACIÓN AVANZADA CONDICIÓN CRÍTICA  ",null,null,null,null,null,"Cuadro de Resultado Tabla 8"]
[null,null,"Condición","Levantamiento/descenso y transporte manual de carga","Si / No / NA"]
[null,null,"Aplicación de la Fuerza","En promedio, por turno, el trabajador realiza 12 o más MMP que superen los 15 kgs. cada uno.","NA",{"$f":"IF(E4=\"No\",\"0\",IF(E4=\"NA\",\"0\",\"1\"))","v":"0"},null,null,null,"La Tarea:"]
[null,null,null,"El MMP se realiza bajo las rodillas o sobre la altura codo suelo","NA",{"$f":"IF(E5=\"No\",\"0\",IF(E5=\"NA\",\"0\",\"1\"))","v":"0"},null,null,{"$f":"'TABLA 1 P7'!B10","v":"N° 3"},{"$f":"'TABLA 1 P7'!C10","v":"NA"}]
[null,null,null,"La distancia horizontal entre el cuerpo y el paciente manipulado es superior a 63 cm.","NA","0",null,null,null,"Resultado:"]
[null,null,null,"Torsión extrema del tronco sin movimientos de los pies.","NA","0",null,null,{"$f":"F19","v":0},{"$f":"IF(F19>=1,\"Crítica\",\"No Crítica\")","v":"No Crítica"}]
[null,null,null,"Las camas no son regulables y tienen una altura inferior a 70 cm.","NA","0",null,null,null,"Por lo que usted:"]
[null,null,"Equipamiento","Las camas tienen ninguna o solo 2 ruedas.","NA","0",null,null,null,{"$f":"IF(J7=\"No Crítica\",\"Ha terminado el Proceso de Identificación para esta Tarea y deberá iniciar el proceso de Evaluación Cuantitativa del riesgo\",\"Ha terminado el Proceso de Identificación para esta Tarea y deberá aplicar medidas para reducir el riesgo\")","v":"Ha terminado el Proceso de Identificación para esta Tarea y deberá iniciar el proceso de Evaluación Cuantitativa del riesgo"}]
[null,null,null,"El trabajador hace todo el esfuerzo en el manejo del paciente ya que no se utiliza ningún tipo de ayudas mecánicas.","NA","0"]
[null,null,null,"No existe programa de mantenimiento de las ayudas mecánicas ni de sillas de rueda o camillas.","NA","0",null,null,null,"Si terminó de responder toda la Tabla 8 Presione Aquí para  regresar a Tabla 1 Información General del Puesto de Trabajo donde podrá continuar con la siguiente Tarea"]
[null,null,"Ambiente y espacios","La temperatura ambiente es menor a 18° o superior a 26° grados Celsius y no se cuenta con ropa que proteja de las temperaturas extremas.","NA","0"]
[null,null,null,"Existe menos de 90 cm de espacio entre la cama y la pared o entre las camas, o menos de 120 cm. al final de la cama.","NA","0"]
[null,null,null,"Presencia de suelo resbaladizo, irregular o inestable en salas o pasillos","NA",{"$f":"IF(E14=\"No\",\"0\",IF(E14=\"NA\",\"0\",\"1\"))","v":"0"}]
[null,null,null,"La organización carece de un sistema de clasificación del paciente (según nivel de asistencia, peso, etc.).","NA",{"$f":"IF(E15=\"No\",\"0\",IF(E15=\"NA\",\"0\",\"1\"))","v":"0"}]
[null,null,"Organización","La organización no cuenta con procedimientos escritos e informados de MMP de acuerdo con el peso y características del paciente.","NA","0"]
[null,null,null,"La organización del trabajo genera concentración de tareas de MMP en ciertos horarios de trabajo y no cuenta con pausas de descanso durante la jornada.","NA","0"]
[null,null,"Entrenamiento","Un 50 % o menos de los trabajadores del servicio/unidad recibieron capacitación teórico-práctico en MMP en los últimos 18 meses.","NA","0"]
[null,null,null,null,null,{"$f":"F4+F5+F6+F7+F8+F9+F10+F11+F12+F13+F14+F15+F16+F17+F18","v":0}]

{"sheet":"TABLA 8T3P8","index":270,"n_rows":19,"n_cols":10,"rows_kept":19,"cut":false,"hidden":false,"merged":[]}
[]
[null,null,null,"TABLA 8 | MANEJO MANUAL DE PERSONAS/PACIENTES- IDENTIFICACIÓN AVANZADA CONDICIÓN CRÍTICA  ",null,null,null,null,null,"Cuadro de Resultado Tabla 8"]
[null,null,"Condición","Levantamiento/descenso y transporte manual de carga","Si / No / NA"]
[null,null,"Aplicación de la Fuerza","En promedio, por turno, el trabajador realiza 12 o más MMP que superen los 15 kgs. cada uno.","NA",{"$f":"IF(E4=\"No\",\"0\",IF(E4=\"NA\",\"0\",\"1\"))","v":"0"},null,null,null,"La Tarea:"]
[null,null,null,"El MMP se realiza bajo las rodillas o sobre la altura codo suelo","NA",{"$f":"IF(E5=\"No\",\"0\",IF(E5=\"NA\",\"0\",\"1\"))","v":"0"},null,null,{"$f":"'TABLA 1 P8'!B10","v":"N° 3"},{"$f":"'TABLA 1 P8'!C10","v":"NA"}]
[null,null,null,"La distancia horizontal entre el cuerpo y el paciente manipulado es superior a 63 cm.","NA","0",null,null,null,"Resultado:"]
[null,null,null,"Torsión extrema del tronco sin movimientos de los pies.","NA","0",null,null,{"$f":"F19","v":0},{"$f":"IF(F19>=1,\"Crítica\",\"No Crítica\")","v":"No Crítica"}]
[null,null,null,"Las camas no son regulables y tienen una altura inferior a 70 cm.","NA","0",null,null,null,"Por lo que usted:"]
[null,null,"Equipamiento","Las camas tienen ninguna o solo 2 ruedas.","NA","0",null,null,null,{"$f":"IF(J7=\"No Crítica\",\"Ha terminado el Proceso de Identificación para esta Tarea y deberá iniciar el proceso de Evaluación Cuantitativa del riesgo\",\"Ha terminado el Proceso de Identificación para esta Tarea y deberá aplicar medidas para reducir el riesgo\")","v":"Ha terminado el Proceso de Identificación para esta Tarea y deberá iniciar el proceso de Evaluación Cuantitativa del riesgo"}]
[null,null,null,"El trabajador hace todo el esfuerzo en el manejo del paciente ya que no se utiliza ningún tipo de ayudas mecánicas.","NA","0"]
[null,null,null,"No existe programa de mantenimiento de las ayudas mecánicas ni de sillas de rueda o camillas.","NA","0",null,null,null,"Si terminó de responder toda la Tabla 8 Presione Aquí para  regresar a Tabla 1 Información General del Puesto de Trabajo donde podrá continuar con la siguiente Tarea"]
[null,null,"Ambiente y espacios","La temperatura ambiente es menor a 18° o superior a 26° grados Celsius y no se cuenta con ropa que proteja de las temperaturas extremas.","NA","0"]
[null,null,null,"Existe menos de 90 cm de espacio entre la cama y la pared o entre las camas, o menos de 120 cm. al final de la cama.","NA","0"]
[null,null,null,"Presencia de suelo resbaladizo, irregular o inestable en salas o pasillos","NA",{"$f":"IF(E14=\"No\",\"0\",IF(E14=\"NA\",\"0\",\"1\"))","v":"0"}]
[null,null,null,"La organización carece de un sistema de clasificación del paciente (según nivel de asistencia, peso, etc.).","NA",{"$f":"IF(E15=\"No\",\"0\",IF(E15=\"NA\",\"0\",\"1\"))","v":"0"}]
[null,null,"Organización","La organización no cuenta con procedimientos escritos e informados de MMP de acuerdo con el peso y características del paciente.","NA","0"]
[null,null,null,"La organización del trabajo genera concentración de tareas de MMP en ciertos horarios de trabajo y no cuenta con pausas de descanso durante la jornada.","NA","0"]
[null,null,"Entrenamiento","Un 50 % o menos de los trabajadores del servicio/unidad recibieron capacitación teórico-práctico en MMP en los últimos 18 meses.","NA","0"]
[null,null,null,null,null,{"$f":"F4+F5+F6+F7+F8+F9+F10+F11+F12+F13+F14+F15+F16+F17+F18","v":0}]

{"sheet":"TABLA 8T3P9","index":271,"n_rows":19,"n_cols":10,"rows_kept":19,"cut":false,"hidden":false,"merged":[]}
[]
[null,null,null,"TABLA 8 | MANEJO MANUAL DE PERSONAS/PACIENTES- IDENTIFICACIÓN AVANZADA CONDICIÓN CRÍTICA  ",null,null,null,null,null,"Cuadro de Resultado Tabla 8"]
[null,null,"Condición","Levantamiento/descenso y transporte manual de carga","Si / No / NA"]
[null,null,"Aplicación de la Fuerza","En promedio, por turno, el trabajador realiza 12 o más MMP que superen los 15 kgs. cada uno.","NA",{"$f":"IF(E4=\"No\",\"0\",IF(E4=\"NA\",\"0\",\"1\"))","v":"0"},null,null,null,"La Tarea:"]
[null,null,null,"El MMP se realiza bajo las rodillas o sobre la altura codo suelo","NA",{"$f":"IF(E5=\"No\",\"0\",IF(E5=\"NA\",\"0\",\"1\"))","v":"0"},null,null,{"$f":"'TABLA 1 P9'!B10","v":"N° 3"},{"$f":"'TABLA 1 P9'!C10","v":"NA"}]
[null,null,null,"La distancia horizontal entre el cuerpo y el paciente manipulado es superior a 63 cm.","NA","0",null,null,null,"Resultado:"]
[null,null,null,"Torsión extrema del tronco sin movimientos de los pies.","NA","0",null,null,{"$f":"F19","v":0},{"$f":"IF(F19>=1,\"Crítica\",\"No Crítica\")","v":"No Crítica"}]
[null,null,null,"Las camas no son regulables y tienen una altura inferior a 70 cm.","NA","0",null,null,null,"Por lo que usted:"]
[null,null,"Equipamiento","Las camas tienen ninguna o solo 2 ruedas.","NA","0",null,null,null,{"$f":"IF(J7=\"No Crítica\",\"Ha terminado el Proceso de Identificación para esta Tarea y deberá iniciar el proceso de Evaluación Cuantitativa del riesgo\",\"Ha terminado el Proceso de Identificación para esta Tarea y deberá aplicar medidas para reducir el riesgo\")","v":"Ha terminado el Proceso de Identificación para esta Tarea y deberá iniciar el proceso de Evaluación Cuantitativa del riesgo"}]
[null,null,null,"El trabajador hace todo el esfuerzo en el manejo del paciente ya que no se utiliza ningún tipo de ayudas mecánicas.","NA","0"]
[null,null,null,"No existe programa de mantenimiento de las ayudas mecánicas ni de sillas de rueda o camillas.","NA","0",null,null,null,"Si terminó de responder toda la Tabla 8 Presione Aquí para  regresar a Tabla 1 Información General del Puesto de Trabajo donde podrá continuar con la siguiente Tarea"]
[null,null,"Ambiente y espacios","La temperatura ambiente es menor a 18° o superior a 26° grados Celsius y no se cuenta con ropa que proteja de las temperaturas extremas.","NA","0"]
[null,null,null,"Existe menos de 90 cm de espacio entre la cama y la pared o entre las camas, o menos de 120 cm. al final de la cama.","NA","0"]
[null,null,null,"Presencia de suelo resbaladizo, irregular o inestable en salas o pasillos","NA",{"$f":"IF(E14=\"No\",\"0\",IF(E14=\"NA\",\"0\",\"1\"))","v":"0"}]
[null,null,null,"La organización carece de un sistema de clasificación del paciente (según nivel de asistencia, peso, etc.).","NA",{"$f":"IF(E15=\"No\",\"0\",IF(E15=\"NA\",\"0\",\"1\"))","v":"0"}]
[null,null,"Organización","La organización no cuenta con procedimientos escritos e informados de MMP de acuerdo con el peso y características del paciente.","NA","0"]
[null,null,null,"La organización del trabajo genera concentración de tareas de MMP en ciertos horarios de trabajo y no cuenta con pausas de descanso durante la jornada.","NA","0"]
[null,null,"Entrenamiento","Un 50 % o menos de los trabajadores del servicio/unidad recibieron capacitación teórico-práctico en MMP en los últimos 18 meses.","NA","0"]
[null,null,null,null,null,{"$f":"F4+F5+F6+F7+F8+F9+F10+F11+F12+F13+F14+F15+F16+F17+F18","v":0}]

{"sheet":"TABLA 8T3P10","index":272,"n_rows":19,"n_cols":10,"rows_kept":19,"cut":false,"hidden":false,"merged":[]}
[]
[null,null,null,"TABLA 8 | MANEJO MANUAL DE PERSONAS/PACIENTES- IDENTIFICACIÓN AVANZADA CONDICIÓN CRÍTICA  ",null,null,null,null,null,"Cuadro de Resultado Tabla 8"]
[null,null,"Condición","Levantamiento/descenso y transporte manual de carga","Si / No / NA"]
[null,null,"Aplicación de la Fuerza","En promedio, por turno, el trabajador realiza 12 o más MMP que superen los 15 kgs. cada uno.","NA",{"$f":"IF(E4=\"No\",\"0\",IF(E4=\"NA\",\"0\",\"1\"))","v":"0"},null,null,null,"La Tarea:"]
[null,null,null,"El MMP se realiza bajo las rodillas o sobre la altura codo suelo","NA",{"$f":"IF(E5=\"No\",\"0\",IF(E5=\"NA\",\"0\",\"1\"))","v":"0"},null,null,{"$f":"'TABLA 1 P10'!B10","v":"N° 3"},{"$f":"'TABLA 1 P10'!C10","v":"NA"}]
[null,null,null,"La distancia horizontal entre el cuerpo y el paciente manipulado es superior a 63 cm.","NA","0",null,null,null,"Resultado:"]
[null,null,null,"Torsión extrema del tronco sin movimientos de los pies.","NA","0",null,null,{"$f":"F19","v":0},{"$f":"IF(F19>=1,\"Crítica\",\"No Crítica\")","v":"No Crítica"}]
[null,null,null,"Las camas no son regulables y tienen una altura inferior a 70 cm.","NA","0",null,null,null,"Por lo que usted:"]
[null,null,"Equipamiento","Las camas tienen ninguna o solo 2 ruedas.","NA","0",null,null,null,{"$f":"IF(J7=\"No Crítica\",\"Ha terminado el Proceso de Identificación para esta Tarea y deberá iniciar el proceso de Evaluación Cuantitativa del riesgo\",\"Ha terminado el Proceso de Identificación para esta Tarea y deberá aplicar medidas para reducir el riesgo\")","v":"Ha terminado el Proceso de Identificación para esta Tarea y deberá iniciar el proceso de Evaluación Cuantitativa del riesgo"}]
[null,null,null,"El trabajador hace todo el esfuerzo en el manejo del paciente ya que no se utiliza ningún tipo de ayudas mecánicas.","NA","0"]
[null,null,null,"No existe programa de mantenimiento de las ayudas mecánicas ni de sillas de rueda o camillas.","NA","0",null,null,null,"Si terminó de responder toda la Tabla 8 Presione Aquí para  regresar a Tabla 1 Información General del Puesto de Trabajo donde podrá continuar con la siguiente Tarea"]
[null,null,"Ambiente y espacios","La temperatura ambiente es menor a 18° o superior a 26° grados Celsius y no se cuenta con ropa que proteja de las temperaturas extremas.","NA","0"]
[null,null,null,"Existe menos de 90 cm de espacio entre la cama y la pared o entre las camas, o menos de 120 cm. al final de la cama.","NA","0"]
[null,null,null,"Presencia de suelo resbaladizo, irregular o inestable en salas o pasillos","NA",{"$f":"IF(E14=\"No\",\"0\",IF(E14=\"NA\",\"0\",\"1\"))","v":"0"}]
[null,null,null,"La organización carece de un sistema de clasificación del paciente (según nivel de asistencia, peso, etc.).","NA",{"$f":"IF(E15=\"No\",\"0\",IF(E15=\"NA\",\"0\",\"1\"))","v":"0"}]
[null,null,"Organización","La organización no cuenta con procedimientos escritos e informados de MMP de acuerdo con el peso y características del paciente.","NA","0"]
[null,null,null,"La organización del trabajo genera concentración de tareas de MMP en ciertos horarios de trabajo y no cuenta con pausas de descanso durante la jornada.","NA","0"]
[null,null,"Entrenamiento","Un 50 % o menos de los trabajadores del servicio/unidad recibieron capacitación teórico-práctico en MMP en los últimos 18 meses.","NA","0"]
[null,null,null,null,null,{"$f":"F4+F5+F6+F7+F8+F9+F10+F11+F12+F13+F14+F15+F16+F17+F18","v":0}]

{"sheet":"TABLA 7T4P1","index":273,"n_rows":26,"n_cols":11,"rows_kept":26,"cut":false,"hidden":false,"merged":[]}
[]
[null,null,null,"MANEJO MANUAL DE PERSONAS/PACIENTES- IDENTIFICACIÓN AVANZADA  CONDICIÓN ACEPTABLE  ",null,null,null,null,null,"Cuadro de Resultado Tabla 7"]
[null,null,"Riesgo","Empueje y Arrastre de Carga","Si / No / NA"]
[null,null,null,"En promedio, por turno, el trabajador realiza 6 o menos MMP que superen los 15 kg. cada uno.","NA",{"$f":"IF(E4=\"SI\",\"0\",IF(E4=\"NA\",\"0\",\"1\"))","v":"0"},null,null,null,"La Tarea:"]
[null,null,"Aplicación de la Fuerza","Ausencia de asimetría (Ej: cuerpo rotado, torsión y/o inclinación de tronco).","NA",{"$f":"IF(E5=\"SI\",\"0\",IF(E5=\"NA\",\"0\",\"1\"))","v":"0"},null,null,{"$f":"'TABLA 1 P1'!B12","v":"N°4"},{"$f":"'TABLA 1 P1'!C12","v":"NA"}]
[null,null,null,"El paciente es mantenido cerca del cuerpo del trabajador.","NA","0",null,null,null,"Resultado:"]
[null,null,null,"El MMP se realiza entre la altura nudillo suelo y la altura codo suelo (°).","NA","0",null,null,{"$f":"F18","v":0},{"$f":"IF(F18>=1,\"No es Aceptable\",\"Aceptable\")","v":"Aceptable"}]
[null,null,null,"Cuenta con camas regulables en altura.","NA","0",null,null,null,"Por lo que usted:"]
[null,null,"Equipamiento","Existe y se utilizan de forma correcta las ayudas mecánicas.","NA","0",null,null,null,{"$f":"IF(J7=\"Aceptable\",\"Ha Terminado el Proceso de Identificación para esta Tarea\",\"Debe Aplicar Tabla 8\")","v":"Ha Terminado el Proceso de Identificación para esta Tarea"},{"$f":"F18","v":0}]
[null,null,null,"Existen programas de mantenimiento de las ayudas mecánicas, de sillas de rueda y camillas.","NA","0"]
[null,null,"Ambiente y espacios","La iluminación permite visualizar todos los elementos en el espacio de trabajo y la temperatura son adecuadas está entre 19° y 25° grados Celsius.","NA","0",null,null,null,{"$f":"IF(J7=\"Aceptable\",\"Si terminó de responder toda la Tabla 7 Presione Aquí para  regresar a Tabla 1 Información General del Puesto de Trabajo donde podrá continuar con la siguiente Tarea\",\"\")","v":"Si terminó de responder toda la Tabla 7 Presione Aquí para  regresar a Tabla 1 Información General del Puesto de Trabajo donde podrá continuar con la siguiente Tarea"},{"$f":"F18","v":0}]
[null,null,null,"Existe suficiente espacio para moverse libremente y para utilizar las ayudas mecánicas existentes.","NA","0"]
[null,null,null,"Presencia de suelo en salas, pasillos y otros que permiten el normal desplazamiento de sillas de rueda y camillas.","NA","0",null,null,null,null,{"$f":"F18","v":0}]
[null,null,"Organización","Existe un programa institucional para la prevención del riego por MMP: evaluación de riesgo, clasificación de pacientes (según nivel de asistencia requerida, peso, etc.), monitoreo de la salud de los trabajadores, etc.","NA","0"]
[null,null,null,"Existen procedimientos escritos e informados de MMP de acuerdo con el peso y características del paciente.","NA","0",null,null,null,null,{"$f":"F18","v":0}]
[null,null,null,"La organización del trabajo permite distribuir las tareas de MMP a lo largo de la jornada e incluye periodos de descanso dentro de ella.","NA","0"]
[null,null,"Entrenamiento","Al menos un 75 % de los trabajadores del servicio/unidad recibieron capacitación teórico-práctico en MMP en los últimos 12 meses.","NA","0",null,null,null,null,{"$f":"F18","v":0}]
[null,null,null,null,null,{"$f":"F4+F5+F6+F7+F8+F9+F10+F11+F12+F13+F14+F15+F16+F17","v":0}]
[]
[]
[null,null,null,null,null,null,null,null,null,null,{"$f":"F18","v":0}]
[]
[]
[]
[]
[null,null,null,null,null,null,null,null,null,"Presione solo si al completar Tabla 7  se lo indica el Cuadro de Resultado",{"$f":"F18","v":0}]

{"sheet":"TABLA 7T4P2","index":274,"n_rows":26,"n_cols":11,"rows_kept":26,"cut":false,"hidden":false,"merged":[]}
[]
[null,null,null,"MANEJO MANUAL DE PERSONAS/PACIENTES- IDENTIFICACIÓN AVANZADA  CONDICIÓN ACEPTABLE  ",null,null,null,null,null,"Cuadro de Resultado Tabla 7"]
[null,null,"Riesgo","Empueje y Arrastre de Carga","Si / No / NA"]
[null,null,null,"En promedio, por turno, el trabajador realiza 6 o menos MMP que superen los 15 kg. cada uno.","NA",{"$f":"IF(E4=\"SI\",\"0\",IF(E4=\"NA\",\"0\",\"1\"))","v":"0"},null,null,null,"La Tarea:"]
[null,null,"Aplicación de la Fuerza","Ausencia de asimetría (Ej: cuerpo rotado, torsión y/o inclinación de tronco).","NA",{"$f":"IF(E5=\"SI\",\"0\",IF(E5=\"NA\",\"0\",\"1\"))","v":"0"},null,null,{"$f":"'TABLA 1 P2'!B12","v":"N°4"},{"$f":"'TABLA 1 P2'!C12","v":"NA"}]
[null,null,null,"El paciente es mantenido cerca del cuerpo del trabajador.","NA","0",null,null,null,"Resultado:"]
[null,null,null,"El MMP se realiza entre la altura nudillo suelo y la altura codo suelo (°).","NA","0",null,null,{"$f":"F18","v":0},{"$f":"IF(F18>=1,\"No es Aceptable\",\"Aceptable\")","v":"Aceptable"}]
[null,null,null,"Cuenta con camas regulables en altura.","NA","0",null,null,null,"Por lo que usted:"]
[null,null,"Equipamiento","Existe y se utilizan de forma correcta las ayudas mecánicas.","NA","0",null,null,null,{"$f":"IF(J7=\"Aceptable\",\"Ha Terminado el Proceso de Identificación para esta Tarea\",\"Debe Aplicar Tabla 8\")","v":"Ha Terminado el Proceso de Identificación para esta Tarea"},{"$f":"F18","v":0}]
[null,null,null,"Existen programas de mantenimiento de las ayudas mecánicas, de sillas de rueda y camillas.","NA","0"]
[null,null,"Ambiente y espacios","La iluminación permite visualizar todos los elementos en el espacio de trabajo y la temperatura son adecuadas está entre 19° y 25° grados Celsius.","NA","0",null,null,null,{"$f":"IF(J7=\"Aceptable\",\"Si terminó de responder toda la Tabla 7 Presione Aquí para  regresar a Tabla 1 Información General del Puesto de Trabajo donde podrá continuar con la siguiente Tarea\",\"\")","v":"Si terminó de responder toda la Tabla 7 Presione Aquí para  regresar a Tabla 1 Información General del Puesto de Trabajo donde podrá continuar con la siguiente Tarea"},{"$f":"F18","v":0}]
[null,null,null,"Existe suficiente espacio para moverse libremente y para utilizar las ayudas mecánicas existentes.","NA","0"]
[null,null,null,"Presencia de suelo en salas, pasillos y otros que permiten el normal desplazamiento de sillas de rueda y camillas.","NA","0",null,null,null,null,{"$f":"F18","v":0}]
[null,null,"Organización","Existe un programa institucional para la prevención del riego por MMP: evaluación de riesgo, clasificación de pacientes (según nivel de asistencia requerida, peso, etc.), monitoreo de la salud de los trabajadores, etc.","NA","0"]
[null,null,null,"Existen procedimientos escritos e informados de MMP de acuerdo con el peso y características del paciente.","NA","0",null,null,null,null,{"$f":"F18","v":0}]
[null,null,null,"La organización del trabajo permite distribuir las tareas de MMP a lo largo de la jornada e incluye periodos de descanso dentro de ella.","NA","0"]
[null,null,"Entrenamiento","Al menos un 75 % de los trabajadores del servicio/unidad recibieron capacitación teórico-práctico en MMP en los últimos 12 meses.","NA","0",null,null,null,null,{"$f":"F18","v":0}]
[null,null,null,null,null,{"$f":"F4+F5+F6+F7+F8+F9+F10+F11+F12+F13+F14+F15+F16+F17","v":0}]
[]
[]
[null,null,null,null,null,null,null,null,null,null,{"$f":"F18","v":0}]
[]
[]
[]
[]
[null,null,null,null,null,null,null,null,null,"Presione solo si al completar Tabla 7  se lo indica el Cuadro de Resultado",{"$f":"F18","v":0}]

{"sheet":"TABLA 7T4P3","index":275,"n_rows":26,"n_cols":11,"rows_kept":26,"cut":false,"hidden":false,"merged":[]}
[]
[null,null,null,"MANEJO MANUAL DE PERSONAS/PACIENTES- IDENTIFICACIÓN AVANZADA  CONDICIÓN ACEPTABLE  ",null,null,null,null,null,"Cuadro de Resultado Tabla 7"]
[null,null,"Riesgo","Empueje y Arrastre de Carga","Si / No / NA"]
[null,null,null,"En promedio, por turno, el trabajador realiza 6 o menos MMP que superen los 15 kg. cada uno.","NA",{"$f":"IF(E4=\"SI\",\"0\",IF(E4=\"NA\",\"0\",\"1\"))","v":"0"},null,null,null,"La Tarea:"]
[null,null,"Aplicación de la Fuerza","Ausencia de asimetría (Ej: cuerpo rotado, torsión y/o inclinación de tronco).","NA",{"$f":"IF(E5=\"SI\",\"0\",IF(E5=\"NA\",\"0\",\"1\"))","v":"0"},null,null,{"$f":"'TABLA 1 P3'!B12","v":"N°4"},{"$f":"'TABLA 1 P3'!C12","v":"NA"}]
[null,null,null,"El paciente es mantenido cerca del cuerpo del trabajador.","NA","0",null,null,null,"Resultado:"]
[null,null,null,"El MMP se realiza entre la altura nudillo suelo y la altura codo suelo (°).","NA","0",null,null,{"$f":"F18","v":0},{"$f":"IF(F18>=1,\"No es Aceptable\",\"Aceptable\")","v":"Aceptable"}]
[null,null,null,"Cuenta con camas regulables en altura.","NA","0",null,null,null,"Por lo que usted:"]
[null,null,"Equipamiento","Existe y se utilizan de forma correcta las ayudas mecánicas.","NA","0",null,null,null,{"$f":"IF(J7=\"Aceptable\",\"Ha Terminado el Proceso de Identificación para esta Tarea\",\"Debe Aplicar Tabla 8\")","v":"Ha Terminado el Proceso de Identificación para esta Tarea"},{"$f":"F18","v":0}]
[null,null,null,"Existen programas de mantenimiento de las ayudas mecánicas, de sillas de rueda y camillas.","NA","0"]
[null,null,"Ambiente y espacios","La iluminación permite visualizar todos los elementos en el espacio de trabajo y la temperatura son adecuadas está entre 19° y 25° grados Celsius.","NA","0",null,null,null,{"$f":"IF(J7=\"Aceptable\",\"Si terminó de responder toda la Tabla 7 Presione Aquí para  regresar a Tabla 1 Información General del Puesto de Trabajo donde podrá continuar con la siguiente Tarea\",\"\")","v":"Si terminó de responder toda la Tabla 7 Presione Aquí para  regresar a Tabla 1 Información General del Puesto de Trabajo donde podrá continuar con la siguiente Tarea"},{"$f":"F18","v":0}]
[null,null,null,"Existe suficiente espacio para moverse libremente y para utilizar las ayudas mecánicas existentes.","NA","0"]
[null,null,null,"Presencia de suelo en salas, pasillos y otros que permiten el normal desplazamiento de sillas de rueda y camillas.","NA","0",null,null,null,null,{"$f":"F18","v":0}]
[null,null,"Organización","Existe un programa institucional para la prevención del riego por MMP: evaluación de riesgo, clasificación de pacientes (según nivel de asistencia requerida, peso, etc.), monitoreo de la salud de los trabajadores, etc.","NA","0"]
[null,null,null,"Existen procedimientos escritos e informados de MMP de acuerdo con el peso y características del paciente.","NA","0",null,null,null,null,{"$f":"F18","v":0}]
[null,null,null,"La organización del trabajo permite distribuir las tareas de MMP a lo largo de la jornada e incluye periodos de descanso dentro de ella.","NA","0"]
[null,null,"Entrenamiento","Al menos un 75 % de los trabajadores del servicio/unidad recibieron capacitación teórico-práctico en MMP en los últimos 12 meses.","NA","0",null,null,null,null,{"$f":"F18","v":0}]
[null,null,null,null,null,{"$f":"F4+F5+F6+F7+F8+F9+F10+F11+F12+F13+F14+F15+F16+F17","v":0}]
[]
[]
[null,null,null,null,null,null,null,null,null,null,{"$f":"F18","v":0}]
[]
[]
[]
[]
[null,null,null,null,null,null,null,null,null,"Presione solo si al completar Tabla 7  se lo indica el Cuadro de Resultado",{"$f":"F18","v":0}]

{"sheet":"TABLA 7T4P4","index":276,"n_rows":26,"n_cols":11,"rows_kept":26,"cut":false,"hidden":false,"merged":[]}
[]
[null,null,null,"MANEJO MANUAL DE PERSONAS/PACIENTES- IDENTIFICACIÓN AVANZADA  CONDICIÓN ACEPTABLE  ",null,null,null,null,null,"Cuadro de Resultado Tabla 7"]
[null,null,"Riesgo","Empueje y Arrastre de Carga","Si / No / NA"]
[null,null,null,"En promedio, por turno, el trabajador realiza 6 o menos MMP que superen los 15 kg. cada uno.","NA",{"$f":"IF(E4=\"SI\",\"0\",IF(E4=\"NA\",\"0\",\"1\"))","v":"0"},null,null,null,"La Tarea:"]
[null,null,"Aplicación de la Fuerza","Ausencia de asimetría (Ej: cuerpo rotado, torsión y/o inclinación de tronco).","NA",{"$f":"IF(E5=\"SI\",\"0\",IF(E5=\"NA\",\"0\",\"1\"))","v":"0"},null,null,{"$f":"'TABLA 1 P4'!B12","v":"N°4"},{"$f":"'TABLA 1 P4'!C12","v":"NA"}]
[null,null,null,"El paciente es mantenido cerca del cuerpo del trabajador.","NA","0",null,null,null,"Resultado:"]
[null,null,null,"El MMP se realiza entre la altura nudillo suelo y la altura codo suelo (°).","NA","0",null,null,{"$f":"F18","v":0},{"$f":"IF(F18>=1,\"No es Aceptable\",\"Aceptable\")","v":"Aceptable"}]
[null,null,null,"Cuenta con camas regulables en altura.","NA","0",null,null,null,"Por lo que usted:"]
[null,null,"Equipamiento","Existe y se utilizan de forma correcta las ayudas mecánicas.","NA","0",null,null,null,{"$f":"IF(J7=\"Aceptable\",\"Ha Terminado el Proceso de Identificación para esta Tarea\",\"Debe Aplicar Tabla 8\")","v":"Ha Terminado el Proceso de Identificación para esta Tarea"},{"$f":"F18","v":0}]
[null,null,null,"Existen programas de mantenimiento de las ayudas mecánicas, de sillas de rueda y camillas.","NA","0"]
[null,null,"Ambiente y espacios","La iluminación permite visualizar todos los elementos en el espacio de trabajo y la temperatura son adecuadas está entre 19° y 25° grados Celsius.","NA","0",null,null,null,{"$f":"IF(J7=\"Aceptable\",\"Si terminó de responder toda la Tabla 7 Presione Aquí para  regresar a Tabla 1 Información General del Puesto de Trabajo donde podrá continuar con la siguiente Tarea\",\"\")","v":"Si terminó de responder toda la Tabla 7 Presione Aquí para  regresar a Tabla 1 Información General del Puesto de Trabajo donde podrá continuar con la siguiente Tarea"},{"$f":"F18","v":0}]
[null,null,null,"Existe suficiente espacio para moverse libremente y para utilizar las ayudas mecánicas existentes.","NA","0"]
[null,null,null,"Presencia de suelo en salas, pasillos y otros que permiten el normal desplazamiento de sillas de rueda y camillas.","NA","0",null,null,null,null,{"$f":"F18","v":0}]
[null,null,"Organización","Existe un programa institucional para la prevención del riego por MMP: evaluación de riesgo, clasificación de pacientes (según nivel de asistencia requerida, peso, etc.), monitoreo de la salud de los trabajadores, etc.","NA","0"]
[null,null,null,"Existen procedimientos escritos e informados de MMP de acuerdo con el peso y características del paciente.","NA","0",null,null,null,null,{"$f":"F18","v":0}]
[null,null,null,"La organización del trabajo permite distribuir las tareas de MMP a lo largo de la jornada e incluye periodos de descanso dentro de ella.","NA","0"]
[null,null,"Entrenamiento","Al menos un 75 % de los trabajadores del servicio/unidad recibieron capacitación teórico-práctico en MMP en los últimos 12 meses.","NA","0",null,null,null,null,{"$f":"F18","v":0}]
[null,null,null,null,null,{"$f":"F4+F5+F6+F7+F8+F9+F10+F11+F12+F13+F14+F15+F16+F17","v":0}]
[]
[]
[null,null,null,null,null,null,null,null,null,null,{"$f":"F18","v":0}]
[]
[]
[]
[]
[null,null,null,null,null,null,null,null,null,"Presione solo si al completar Tabla 7  se lo indica el Cuadro de Resultado",{"$f":"F18","v":0}]

{"sheet":"TABLA 7T4P5","index":277,"n_rows":26,"n_cols":11,"rows_kept":26,"cut":false,"hidden":false,"merged":[]}
[]
[null,null,null,"MANEJO MANUAL DE PERSONAS/PACIENTES- IDENTIFICACIÓN AVANZADA  CONDICIÓN ACEPTABLE  ",null,null,null,null,null,"Cuadro de Resultado Tabla 7"]
[null,null,"Riesgo","Empueje y Arrastre de Carga","Si / No / NA"]
[null,null,null,"En promedio, por turno, el trabajador realiza 6 o menos MMP que superen los 15 kg. cada uno.","NA",{"$f":"IF(E4=\"SI\",\"0\",IF(E4=\"NA\",\"0\",\"1\"))","v":"0"},null,null,null,"La Tarea:"]
[null,null,"Aplicación de la Fuerza","Ausencia de asimetría (Ej: cuerpo rotado, torsión y/o inclinación de tronco).","NA",{"$f":"IF(E5=\"SI\",\"0\",IF(E5=\"NA\",\"0\",\"1\"))","v":"0"},null,null,{"$f":"'TABLA 1 P5'!B12","v":"N°4"},{"$f":"'TABLA 1 P5'!C12","v":"NA"}]
[null,null,null,"El paciente es mantenido cerca del cuerpo del trabajador.","NA","0",null,null,null,"Resultado:"]
[null,null,null,"El MMP se realiza entre la altura nudillo suelo y la altura codo suelo (°).","NA","0",null,null,{"$f":"F18","v":0},{"$f":"IF(F18>=1,\"No es Aceptable\",\"Aceptable\")","v":"Aceptable"}]
[null,null,null,"Cuenta con camas regulables en altura.","NA","0",null,null,null,"Por lo que usted:"]
[null,null,"Equipamiento","Existe y se utilizan de forma correcta las ayudas mecánicas.","NA","0",null,null,null,{"$f":"IF(J7=\"Aceptable\",\"Ha Terminado el Proceso de Identificación para esta Tarea\",\"Debe Aplicar Tabla 8\")","v":"Ha Terminado el Proceso de Identificación para esta Tarea"},{"$f":"F18","v":0}]
[null,null,null,"Existen programas de mantenimiento de las ayudas mecánicas, de sillas de rueda y camillas.","NA","0"]
[null,null,"Ambiente y espacios","La iluminación permite visualizar todos los elementos en el espacio de trabajo y la temperatura son adecuadas está entre 19° y 25° grados Celsius.","NA","0",null,null,null,{"$f":"IF(J7=\"Aceptable\",\"Si terminó de responder toda la Tabla 7 Presione Aquí para  regresar a Tabla 1 Información General del Puesto de Trabajo donde podrá continuar con la siguiente Tarea\",\"\")","v":"Si terminó de responder toda la Tabla 7 Presione Aquí para  regresar a Tabla 1 Información General del Puesto de Trabajo donde podrá continuar con la siguiente Tarea"},{"$f":"F18","v":0}]
[null,null,null,"Existe suficiente espacio para moverse libremente y para utilizar las ayudas mecánicas existentes.","NA","0"]
[null,null,null,"Presencia de suelo en salas, pasillos y otros que permiten el normal desplazamiento de sillas de rueda y camillas.","NA","0",null,null,null,null,{"$f":"F18","v":0}]
[null,null,"Organización","Existe un programa institucional para la prevención del riego por MMP: evaluación de riesgo, clasificación de pacientes (según nivel de asistencia requerida, peso, etc.), monitoreo de la salud de los trabajadores, etc.","NA","0"]
[null,null,null,"Existen procedimientos escritos e informados de MMP de acuerdo con el peso y características del paciente.","NA","0",null,null,null,null,{"$f":"F18","v":0}]
[null,null,null,"La organización del trabajo permite distribuir las tareas de MMP a lo largo de la jornada e incluye periodos de descanso dentro de ella.","NA","0"]
[null,null,"Entrenamiento","Al menos un 75 % de los trabajadores del servicio/unidad recibieron capacitación teórico-práctico en MMP en los últimos 12 meses.","NA","0",null,null,null,null,{"$f":"F18","v":0}]
[null,null,null,null,null,{"$f":"F4+F5+F6+F7+F8+F9+F10+F11+F12+F13+F14+F15+F16+F17","v":0}]
[]
[]
[null,null,null,null,null,null,null,null,null,null,{"$f":"F18","v":0}]
[]
[]
[]
[]
[null,null,null,null,null,null,null,null,null,"Presione solo si al completar Tabla 7  se lo indica el Cuadro de Resultado",{"$f":"F18","v":0}]

{"sheet":"TABLA 7T4P6","index":278,"n_rows":26,"n_cols":11,"rows_kept":26,"cut":false,"hidden":false,"merged":[]}
[]
[null,null,null,"MANEJO MANUAL DE PERSONAS/PACIENTES- IDENTIFICACIÓN AVANZADA  CONDICIÓN ACEPTABLE  ",null,null,null,null,null,"Cuadro de Resultado Tabla 7"]
[null,null,"Riesgo","Empueje y Arrastre de Carga","Si / No / NA"]
[null,null,null,"En promedio, por turno, el trabajador realiza 6 o menos MMP que superen los 15 kg. cada uno.","NA",{"$f":"IF(E4=\"SI\",\"0\",IF(E4=\"NA\",\"0\",\"1\"))","v":"0"},null,null,null,"La Tarea:"]
[null,null,"Aplicación de la Fuerza","Ausencia de asimetría (Ej: cuerpo rotado, torsión y/o inclinación de tronco).","NA",{"$f":"IF(E5=\"SI\",\"0\",IF(E5=\"NA\",\"0\",\"1\"))","v":"0"},null,null,{"$f":"'TABLA 1 P6'!B12","v":"N°4"},{"$f":"'TABLA 1 P6'!C12","v":"NA"}]
[null,null,null,"El paciente es mantenido cerca del cuerpo del trabajador.","NA","0",null,null,null,"Resultado:"]
[null,null,null,"El MMP se realiza entre la altura nudillo suelo y la altura codo suelo (°).","NA","0",null,null,{"$f":"F18","v":0},{"$f":"IF(F18>=1,\"No es Aceptable\",\"Aceptable\")","v":"Aceptable"}]
[null,null,null,"Cuenta con camas regulables en altura.","NA","0",null,null,null,"Por lo que usted:"]
[null,null,"Equipamiento","Existe y se utilizan de forma correcta las ayudas mecánicas.","NA","0",null,null,null,{"$f":"IF(J7=\"Aceptable\",\"Ha Terminado el Proceso de Identificación para esta Tarea\",\"Debe Aplicar Tabla 8\")","v":"Ha Terminado el Proceso de Identificación para esta Tarea"},{"$f":"F18","v":0}]
[null,null,null,"Existen programas de mantenimiento de las ayudas mecánicas, de sillas de rueda y camillas.","NA","0"]
[null,null,"Ambiente y espacios","La iluminación permite visualizar todos los elementos en el espacio de trabajo y la temperatura son adecuadas está entre 19° y 25° grados Celsius.","NA","0",null,null,null,{"$f":"IF(J7=\"Aceptable\",\"Si terminó de responder toda la Tabla 7 Presione Aquí para  regresar a Tabla 1 Información General del Puesto de Trabajo donde podrá continuar con la siguiente Tarea\",\"\")","v":"Si terminó de responder toda la Tabla 7 Presione Aquí para  regresar a Tabla 1 Información General del Puesto de Trabajo donde podrá continuar con la siguiente Tarea"},{"$f":"F18","v":0}]
[null,null,null,"Existe suficiente espacio para moverse libremente y para utilizar las ayudas mecánicas existentes.","NA","0"]
[null,null,null,"Presencia de suelo en salas, pasillos y otros que permiten el normal desplazamiento de sillas de rueda y camillas.","NA","0",null,null,null,null,{"$f":"F18","v":0}]
[null,null,"Organización","Existe un programa institucional para la prevención del riego por MMP: evaluación de riesgo, clasificación de pacientes (según nivel de asistencia requerida, peso, etc.), monitoreo de la salud de los trabajadores, etc.","NA","0"]
[null,null,null,"Existen procedimientos escritos e informados de MMP de acuerdo con el peso y características del paciente.","NA","0",null,null,null,null,{"$f":"F18","v":0}]
[null,null,null,"La organización del trabajo permite distribuir las tareas de MMP a lo largo de la jornada e incluye periodos de descanso dentro de ella.","NA","0"]
[null,null,"Entrenamiento","Al menos un 75 % de los trabajadores del servicio/unidad recibieron capacitación teórico-práctico en MMP en los últimos 12 meses.","NA","0",null,null,null,null,{"$f":"F18","v":0}]
[null,null,null,null,null,{"$f":"F4+F5+F6+F7+F8+F9+F10+F11+F12+F13+F14+F15+F16+F17","v":0}]
[]
[]
[null,null,null,null,null,null,null,null,null,null,{"$f":"F18","v":0}]
[]
[]
[]
[]
[null,null,null,null,null,null,null,null,null,"Presione solo si al completar Tabla 7  se lo indica el Cuadro de Resultado",{"$f":"F18","v":0}]

{"sheet":"TABLA 7T4P7","index":279,"n_rows":26,"n_cols":11,"rows_kept":26,"cut":false,"hidden":false,"merged":[]}
[]
[null,null,null,"MANEJO MANUAL DE PERSONAS/PACIENTES- IDENTIFICACIÓN AVANZADA  CONDICIÓN ACEPTABLE  ",null,null,null,null,null,"Cuadro de Resultado Tabla 7"]
[null,null,"Riesgo","Empueje y Arrastre de Carga","Si / No / NA"]
[null,null,null,"En promedio, por turno, el trabajador realiza 6 o menos MMP que superen los 15 kg. cada uno.","NA",{"$f":"IF(E4=\"SI\",\"0\",IF(E4=\"NA\",\"0\",\"1\"))","v":"0"},null,null,null,"La Tarea:"]
[null,null,"Aplicación de la Fuerza","Ausencia de asimetría (Ej: cuerpo rotado, torsión y/o inclinación de tronco).","NA",{"$f":"IF(E5=\"SI\",\"0\",IF(E5=\"NA\",\"0\",\"1\"))","v":"0"},null,null,{"$f":"'TABLA 1 P7'!B12","v":"N°4"},{"$f":"'TABLA 1 P7'!C12","v":"NA"}]
[null,null,null,"El paciente es mantenido cerca del cuerpo del trabajador.","NA","0",null,null,null,"Resultado:"]
[null,null,null,"El MMP se realiza entre la altura nudillo suelo y la altura codo suelo (°).","NA","0",null,null,{"$f":"F18","v":0},{"$f":"IF(F18>=1,\"No es Aceptable\",\"Aceptable\")","v":"Aceptable"}]
[null,null,null,"Cuenta con camas regulables en altura.","NA","0",null,null,null,"Por lo que usted:"]
[null,null,"Equipamiento","Existe y se utilizan de forma correcta las ayudas mecánicas.","NA","0",null,null,null,{"$f":"IF(J7=\"Aceptable\",\"Ha Terminado el Proceso de Identificación para esta Tarea\",\"Debe Aplicar Tabla 8\")","v":"Ha Terminado el Proceso de Identificación para esta Tarea"},{"$f":"F18","v":0}]
[null,null,null,"Existen programas de mantenimiento de las ayudas mecánicas, de sillas de rueda y camillas.","NA","0"]
[null,null,"Ambiente y espacios","La iluminación permite visualizar todos los elementos en el espacio de trabajo y la temperatura son adecuadas está entre 19° y 25° grados Celsius.","NA","0",null,null,null,{"$f":"IF(J7=\"Aceptable\",\"Si terminó de responder toda la Tabla 7 Presione Aquí para  regresar a Tabla 1 Información General del Puesto de Trabajo donde podrá continuar con la siguiente Tarea\",\"\")","v":"Si terminó de responder toda la Tabla 7 Presione Aquí para  regresar a Tabla 1 Información General del Puesto de Trabajo donde podrá continuar con la siguiente Tarea"},{"$f":"F18","v":0}]
[null,null,null,"Existe suficiente espacio para moverse libremente y para utilizar las ayudas mecánicas existentes.","NA","0"]
[null,null,null,"Presencia de suelo en salas, pasillos y otros que permiten el normal desplazamiento de sillas de rueda y camillas.","NA","0",null,null,null,null,{"$f":"F18","v":0}]
[null,null,"Organización","Existe un programa institucional para la prevención del riego por MMP: evaluación de riesgo, clasificación de pacientes (según nivel de asistencia requerida, peso, etc.), monitoreo de la salud de los trabajadores, etc.","NA","0"]
[null,null,null,"Existen procedimientos escritos e informados de MMP de acuerdo con el peso y características del paciente.","NA","0",null,null,null,null,{"$f":"F18","v":0}]
[null,null,null,"La organización del trabajo permite distribuir las tareas de MMP a lo largo de la jornada e incluye periodos de descanso dentro de ella.","NA","0"]
[null,null,"Entrenamiento","Al menos un 75 % de los trabajadores del servicio/unidad recibieron capacitación teórico-práctico en MMP en los últimos 12 meses.","NA","0",null,null,null,null,{"$f":"F18","v":0}]
[null,null,null,null,null,{"$f":"F4+F5+F6+F7+F8+F9+F10+F11+F12+F13+F14+F15+F16+F17","v":0}]
[]
[]
[null,null,null,null,null,null,null,null,null,null,{"$f":"F18","v":0}]
[]
[]
[]
[]
[null,null,null,null,null,null,null,null,null,"Presione solo si al completar Tabla 7  se lo indica el Cuadro de Resultado",{"$f":"F18","v":0}]

{"sheet":"TABLA 7T4P8","index":280,"n_rows":26,"n_cols":11,"rows_kept":26,"cut":false,"hidden":false,"merged":[]}
[]
[null,null,null,"MANEJO MANUAL DE PERSONAS/PACIENTES- IDENTIFICACIÓN AVANZADA  CONDICIÓN ACEPTABLE  ",null,null,null,null,null,"Cuadro de Resultado Tabla 7"]
[null,null,"Riesgo","Empueje y Arrastre de Carga","Si / No / NA"]
[null,null,null,"En promedio, por turno, el trabajador realiza 6 o menos MMP que superen los 15 kg. cada uno.","NA",{"$f":"IF(E4=\"SI\",\"0\",IF(E4=\"NA\",\"0\",\"1\"))","v":"0"},null,null,null,"La Tarea:"]
[null,null,"Aplicación de la Fuerza","Ausencia de asimetría (Ej: cuerpo rotado, torsión y/o inclinación de tronco).","NA",{"$f":"IF(E5=\"SI\",\"0\",IF(E5=\"NA\",\"0\",\"1\"))","v":"0"},null,null,{"$f":"'TABLA 1 P8'!B12","v":"N°4"},{"$f":"'TABLA 1 P8'!C12","v":"NA"}]
[null,null,null,"El paciente es mantenido cerca del cuerpo del trabajador.","NA","0",null,null,null,"Resultado:"]
[null,null,null,"El MMP se realiza entre la altura nudillo suelo y la altura codo suelo (°).","NA","0",null,null,{"$f":"F18","v":0},{"$f":"IF(F18>=1,\"No es Aceptable\",\"Aceptable\")","v":"Aceptable"}]
[null,null,null,"Cuenta con camas regulables en altura.","NA","0",null,null,null,"Por lo que usted:"]
[null,null,"Equipamiento","Existe y se utilizan de forma correcta las ayudas mecánicas.","NA","0",null,null,null,{"$f":"IF(J7=\"Aceptable\",\"Ha Terminado el Proceso de Identificación para esta Tarea\",\"Debe Aplicar Tabla 8\")","v":"Ha Terminado el Proceso de Identificación para esta Tarea"},{"$f":"F18","v":0}]
[null,null,null,"Existen programas de mantenimiento de las ayudas mecánicas, de sillas de rueda y camillas.","NA","0"]
[null,null,"Ambiente y espacios","La iluminación permite visualizar todos los elementos en el espacio de trabajo y la temperatura son adecuadas está entre 19° y 25° grados Celsius.","NA","0",null,null,null,{"$f":"IF(J7=\"Aceptable\",\"Si terminó de responder toda la Tabla 7 Presione Aquí para  regresar a Tabla 1 Información General del Puesto de Trabajo donde podrá continuar con la siguiente Tarea\",\"\")","v":"Si terminó de responder toda la Tabla 7 Presione Aquí para  regresar a Tabla 1 Información General del Puesto de Trabajo donde podrá continuar con la siguiente Tarea"},{"$f":"F18","v":0}]
[null,null,null,"Existe suficiente espacio para moverse libremente y para utilizar las ayudas mecánicas existentes.","NA","0"]
[null,null,null,"Presencia de suelo en salas, pasillos y otros que permiten el normal desplazamiento de sillas de rueda y camillas.","NA","0",null,null,null,null,{"$f":"F18","v":0}]
[null,null,"Organización","Existe un programa institucional para la prevención del riego por MMP: evaluación de riesgo, clasificación de pacientes (según nivel de asistencia requerida, peso, etc.), monitoreo de la salud de los trabajadores, etc.","NA","0"]
[null,null,null,"Existen procedimientos escritos e informados de MMP de acuerdo con el peso y características del paciente.","NA","0",null,null,null,null,{"$f":"F18","v":0}]
[null,null,null,"La organización del trabajo permite distribuir las tareas de MMP a lo largo de la jornada e incluye periodos de descanso dentro de ella.","NA","0"]
[null,null,"Entrenamiento","Al menos un 75 % de los trabajadores del servicio/unidad recibieron capacitación teórico-práctico en MMP en los últimos 12 meses.","NA","0",null,null,null,null,{"$f":"F18","v":0}]
[null,null,null,null,null,{"$f":"F4+F5+F6+F7+F8+F9+F10+F11+F12+F13+F14+F15+F16+F17","v":0}]
[]
[]
[null,null,null,null,null,null,null,null,null,null,{"$f":"F18","v":0}]
[]
[]
[]
[]
[null,null,null,null,null,null,null,null,null,"Presione solo si al completar Tabla 7  se lo indica el Cuadro de Resultado",{"$f":"F18","v":0}]

{"sheet":"TABLA 7T4P9","index":281,"n_rows":26,"n_cols":11,"rows_kept":26,"cut":false,"hidden":false,"merged":[]}
[]
[null,null,null,"MANEJO MANUAL DE PERSONAS/PACIENTES- IDENTIFICACIÓN AVANZADA  CONDICIÓN ACEPTABLE  ",null,null,null,null,null,"Cuadro de Resultado Tabla 7"]
[null,null,"Riesgo","Empueje y Arrastre de Carga","Si / No / NA"]
[null,null,null,"En promedio, por turno, el trabajador realiza 6 o menos MMP que superen los 15 kg. cada uno.","NA",{"$f":"IF(E4=\"SI\",\"0\",IF(E4=\"NA\",\"0\",\"1\"))","v":"0"},null,null,null,"La Tarea:"]
[null,null,"Aplicación de la Fuerza","Ausencia de asimetría (Ej: cuerpo rotado, torsión y/o inclinación de tronco).","NA",{"$f":"IF(E5=\"SI\",\"0\",IF(E5=\"NA\",\"0\",\"1\"))","v":"0"},null,null,{"$f":"'TABLA 1 P9'!B12","v":"N°4"},{"$f":"'TABLA 1 P9'!C12","v":"NA"}]
[null,null,null,"El paciente es mantenido cerca del cuerpo del trabajador.","NA","0",null,null,null,"Resultado:"]
[null,null,null,"El MMP se realiza entre la altura nudillo suelo y la altura codo suelo (°).","NA","0",null,null,{"$f":"F18","v":0},{"$f":"IF(F18>=1,\"No es Aceptable\",\"Aceptable\")","v":"Aceptable"}]
[null,null,null,"Cuenta con camas regulables en altura.","NA","0",null,null,null,"Por lo que usted:"]
[null,null,"Equipamiento","Existe y se utilizan de forma correcta las ayudas mecánicas.","NA","0",null,null,null,{"$f":"IF(J7=\"Aceptable\",\"Ha Terminado el Proceso de Identificación para esta Tarea\",\"Debe Aplicar Tabla 8\")","v":"Ha Terminado el Proceso de Identificación para esta Tarea"},{"$f":"F18","v":0}]
[null,null,null,"Existen programas de mantenimiento de las ayudas mecánicas, de sillas de rueda y camillas.","NA","0"]
[null,null,"Ambiente y espacios","La iluminación permite visualizar todos los elementos en el espacio de trabajo y la temperatura son adecuadas está entre 19° y 25° grados Celsius.","NA","0",null,null,null,{"$f":"IF(J7=\"Aceptable\",\"Si terminó de responder toda la Tabla 7 Presione Aquí para  regresar a Tabla 1 Información General del Puesto de Trabajo donde podrá continuar con la siguiente Tarea\",\"\")","v":"Si terminó de responder toda la Tabla 7 Presione Aquí para  regresar a Tabla 1 Información General del Puesto de Trabajo donde podrá continuar con la siguiente Tarea"},{"$f":"F18","v":0}]
[null,null,null,"Existe suficiente espacio para moverse libremente y para utilizar las ayudas mecánicas existentes.","NA","0"]
[null,null,null,"Presencia de suelo en salas, pasillos y otros que permiten el normal desplazamiento de sillas de rueda y camillas.","NA","0",null,null,null,null,{"$f":"F18","v":0}]
[null,null,"Organización","Existe un programa institucional para la prevención del riego por MMP: evaluación de riesgo, clasificación de pacientes (según nivel de asistencia requerida, peso, etc.), monitoreo de la salud de los trabajadores, etc.","NA","0"]
[null,null,null,"Existen procedimientos escritos e informados de MMP de acuerdo con el peso y características del paciente.","NA","0",null,null,null,null,{"$f":"F18","v":0}]
[null,null,null,"La organización del trabajo permite distribuir las tareas de MMP a lo largo de la jornada e incluye periodos de descanso dentro de ella.","NA","0"]
[null,null,"Entrenamiento","Al menos un 75 % de los trabajadores del servicio/unidad recibieron capacitación teórico-práctico en MMP en los últimos 12 meses.","NA","0",null,null,null,null,{"$f":"F18","v":0}]
[null,null,null,null,null,{"$f":"F4+F5+F6+F7+F8+F9+F10+F11+F12+F13+F14+F15+F16+F17","v":0}]
[]
[]
[null,null,null,null,null,null,null,null,null,null,{"$f":"F18","v":0}]
[]
[]
[]
[]
[null,null,null,null,null,null,null,null,null,"Presione solo si al completar Tabla 7  se lo indica el Cuadro de Resultado",{"$f":"F18","v":0}]

{"sheet":"TABLA 7T4P10","index":282,"n_rows":26,"n_cols":11,"rows_kept":26,"cut":false,"hidden":false,"merged":[]}
[]
[null,null,null,"MANEJO MANUAL DE PERSONAS/PACIENTES- IDENTIFICACIÓN AVANZADA  CONDICIÓN ACEPTABLE  ",null,null,null,null,null,"Cuadro de Resultado Tabla 7"]
[null,null,"Riesgo","Empueje y Arrastre de Carga","Si / No / NA"]
[null,null,null,"En promedio, por turno, el trabajador realiza 6 o menos MMP que superen los 15 kg. cada uno.","NA",{"$f":"IF(E4=\"SI\",\"0\",IF(E4=\"NA\",\"0\",\"1\"))","v":"0"},null,null,null,"La Tarea:"]
[null,null,"Aplicación de la Fuerza","Ausencia de asimetría (Ej: cuerpo rotado, torsión y/o inclinación de tronco).","NA",{"$f":"IF(E5=\"SI\",\"0\",IF(E5=\"NA\",\"0\",\"1\"))","v":"0"},null,null,{"$f":"'TABLA 1 P10'!B12","v":"N°4"},{"$f":"'TABLA 1 P10'!C12","v":"NA"}]
[null,null,null,"El paciente es mantenido cerca del cuerpo del trabajador.","NA","0",null,null,null,"Resultado:"]
[null,null,null,"El MMP se realiza entre la altura nudillo suelo y la altura codo suelo (°).","NA","0",null,null,{"$f":"F18","v":0},{"$f":"IF(F18>=1,\"No es Aceptable\",\"Aceptable\")","v":"Aceptable"}]
[null,null,null,"Cuenta con camas regulables en altura.","NA","0",null,null,null,"Por lo que usted:"]
[null,null,"Equipamiento","Existe y se utilizan de forma correcta las ayudas mecánicas.","NA","0",null,null,null,{"$f":"IF(J7=\"Aceptable\",\"Ha Terminado el Proceso de Identificación para esta Tarea\",\"Debe Aplicar Tabla 8\")","v":"Ha Terminado el Proceso de Identificación para esta Tarea"},{"$f":"F18","v":0}]
[null,null,null,"Existen programas de mantenimiento de las ayudas mecánicas, de sillas de rueda y camillas.","NA","0"]
[null,null,"Ambiente y espacios","La iluminación permite visualizar todos los elementos en el espacio de trabajo y la temperatura son adecuadas está entre 19° y 25° grados Celsius.","NA","0",null,null,null,{"$f":"IF(J7=\"Aceptable\",\"Si terminó de responder toda la Tabla 7 Presione Aquí para  regresar a Tabla 1 Información General del Puesto de Trabajo donde podrá continuar con la siguiente Tarea\",\"\")","v":"Si terminó de responder toda la Tabla 7 Presione Aquí para  regresar a Tabla 1 Información General del Puesto de Trabajo donde podrá continuar con la siguiente Tarea"},{"$f":"F18","v":0}]
[null,null,null,"Existe suficiente espacio para moverse libremente y para utilizar las ayudas mecánicas existentes.","NA","0"]
[null,null,null,"Presencia de suelo en salas, pasillos y otros que permiten el normal desplazamiento de sillas de rueda y camillas.","NA","0",null,null,null,null,{"$f":"F18","v":0}]
[null,null,"Organización","Existe un programa institucional para la prevención del riego por MMP: evaluación de riesgo, clasificación de pacientes (según nivel de asistencia requerida, peso, etc.), monitoreo de la salud de los trabajadores, etc.","NA","0"]
[null,null,null,"Existen procedimientos escritos e informados de MMP de acuerdo con el peso y características del paciente.","NA","0",null,null,null,null,{"$f":"F18","v":0}]
[null,null,null,"La organización del trabajo permite distribuir las tareas de MMP a lo largo de la jornada e incluye periodos de descanso dentro de ella.","NA","0"]
[null,null,"Entrenamiento","Al menos un 75 % de los trabajadores del servicio/unidad recibieron capacitación teórico-práctico en MMP en los últimos 12 meses.","NA","0",null,null,null,null,{"$f":"F18","v":0}]
[null,null,null,null,null,{"$f":"F4+F5+F6+F7+F8+F9+F10+F11+F12+F13+F14+F15+F16+F17","v":0}]
[]
[]
[null,null,null,null,null,null,null,null,null,null,{"$f":"F18","v":0}]
[]
[]
[]
[]
[null,null,null,null,null,null,null,null,null,"Presione solo si al completar Tabla 7  se lo indica el Cuadro de Resultado",{"$f":"F18","v":0}]

{"sheet":"TABLA 8T4P1","index":283,"n_rows":19,"n_cols":10,"rows_kept":19,"cut":false,"hidden":false,"merged":[]}
[]
[null,null,null,"TABLA 8 | MANEJO MANUAL DE PERSONAS/PACIENTES- IDENTIFICACIÓN AVANZADA CONDICIÓN CRÍTICA  ",null,null,null,null,null,"Cuadro de Resultado Tabla 8"]
[null,null,"Condición","Levantamiento/descenso y transporte manual de carga","Si / No / NA"]
[null,null,"Aplicación de la Fuerza","En promedio, por turno, el trabajador realiza 12 o más MMP que superen los 15 kgs. cada uno.","NA",{"$f":"IF(E4=\"No\",\"0\",IF(E4=\"NA\",\"0\",\"1\"))","v":"0"},null,null,null,"La Tarea:"]
[null,null,null,"El MMP se realiza bajo las rodillas o sobre la altura codo suelo","NA",{"$f":"IF(E5=\"No\",\"0\",IF(E5=\"NA\",\"0\",\"1\"))","v":"0"},null,null,{"$f":"'TABLA 1 P1'!B12","v":"N°4"},{"$f":"'TABLA 1 P1'!C12","v":"NA"}]
[null,null,null,"La distancia horizontal entre el cuerpo y el paciente manipulado es superior a 63 cm.","NA","0",null,null,null,"Resultado:"]
[null,null,null,"Torsión extrema del tronco sin movimientos de los pies.","NA","0",null,null,{"$f":"F19","v":0},{"$f":"IF(F19>=1,\"Crítica\",\"No Crítica\")","v":"No Crítica"}]
[null,null,null,"Las camas no son regulables y tienen una altura inferior a 70 cm.","NA","0",null,null,null,"Por lo que usted:"]
[null,null,"Equipamiento","Las camas tienen ninguna o solo 2 ruedas.","NA","0",null,null,null,{"$f":"IF(J7=\"No Crítica\",\"Ha terminado el Proceso de Identificación para esta Tarea y deberá iniciar el proceso de Evaluación Cuantitativa del riesgo\",\"Ha terminado el Proceso de Identificación para esta Tarea y deberá aplicar medidas para reducir el riesgo\")","v":"Ha terminado el Proceso de Identificación para esta Tarea y deberá iniciar el proceso de Evaluación Cuantitativa del riesgo"}]
[null,null,null,"El trabajador hace todo el esfuerzo en el manejo del paciente ya que no se utiliza ningún tipo de ayudas mecánicas.","NA","0"]
[null,null,null,"No existe programa de mantenimiento de las ayudas mecánicas ni de sillas de rueda o camillas.","NA","0",null,null,null,"Si terminó de responder toda la Tabla 8 Presione Aquí para  regresar a Tabla 1 Información General del Puesto de Trabajo donde podrá continuar con la siguiente Tarea"]
[null,null,"Ambiente y espacios","La temperatura ambiente es menor a 18° o superior a 26° grados Celsius y no se cuenta con ropa que proteja de las temperaturas extremas.","NA","0"]
[null,null,null,"Existe menos de 90 cm de espacio entre la cama y la pared o entre las camas, o menos de 120 cm. al final de la cama.","NA","0"]
[null,null,null,"Presencia de suelo resbaladizo, irregular o inestable en salas o pasillos","NA",{"$f":"IF(E14=\"No\",\"0\",IF(E14=\"NA\",\"0\",\"1\"))","v":"0"}]
[null,null,null,"La organización carece de un sistema de clasificación del paciente (según nivel de asistencia, peso, etc.).","NA",{"$f":"IF(E15=\"No\",\"0\",IF(E15=\"NA\",\"0\",\"1\"))","v":"0"}]
[null,null,"Organización","La organización no cuenta con procedimientos escritos e informados de MMP de acuerdo con el peso y características del paciente.","NA","0"]
[null,null,null,"La organización del trabajo genera concentración de tareas de MMP en ciertos horarios de trabajo y no cuenta con pausas de descanso durante la jornada.","NA","0"]
[null,null,"Entrenamiento","Un 50 % o menos de los trabajadores del servicio/unidad recibieron capacitación teórico-práctico en MMP en los últimos 18 meses.","NA","0"]
[null,null,null,null,null,{"$f":"F4+F5+F6+F7+F8+F9+F10+F11+F12+F13+F14+F15+F16+F17+F18","v":0}]

{"sheet":"TABLA 8T4P2","index":284,"n_rows":19,"n_cols":10,"rows_kept":19,"cut":false,"hidden":false,"merged":[]}
[]
[null,null,null,"TABLA 8 | MANEJO MANUAL DE PERSONAS/PACIENTES- IDENTIFICACIÓN AVANZADA CONDICIÓN CRÍTICA  ",null,null,null,null,null,"Cuadro de Resultado Tabla 8"]
[null,null,"Condición","Levantamiento/descenso y transporte manual de carga","Si / No / NA"]
[null,null,"Aplicación de la Fuerza","En promedio, por turno, el trabajador realiza 12 o más MMP que superen los 15 kgs. cada uno.","NA",{"$f":"IF(E4=\"No\",\"0\",IF(E4=\"NA\",\"0\",\"1\"))","v":"0"},null,null,null,"La Tarea:"]
[null,null,null,"El MMP se realiza bajo las rodillas o sobre la altura codo suelo","NA",{"$f":"IF(E5=\"No\",\"0\",IF(E5=\"NA\",\"0\",\"1\"))","v":"0"},null,null,{"$f":"'TABLA 1 P2'!B12","v":"N°4"},{"$f":"'TABLA 1 P2'!C12","v":"NA"}]
[null,null,null,"La distancia horizontal entre el cuerpo y el paciente manipulado es superior a 63 cm.","NA","0",null,null,null,"Resultado:"]
[null,null,null,"Torsión extrema del tronco sin movimientos de los pies.","NA","0",null,null,{"$f":"F19","v":0},{"$f":"IF(F19>=1,\"Crítica\",\"No Crítica\")","v":"No Crítica"}]
[null,null,null,"Las camas no son regulables y tienen una altura inferior a 70 cm.","NA","0",null,null,null,"Por lo que usted:"]
[null,null,"Equipamiento","Las camas tienen ninguna o solo 2 ruedas.","NA","0",null,null,null,{"$f":"IF(J7=\"No Crítica\",\"Ha terminado el Proceso de Identificación para esta Tarea y deberá iniciar el proceso de Evaluación Cuantitativa del riesgo\",\"Ha terminado el Proceso de Identificación para esta Tarea y deberá aplicar medidas para reducir el riesgo\")","v":"Ha terminado el Proceso de Identificación para esta Tarea y deberá iniciar el proceso de Evaluación Cuantitativa del riesgo"}]
[null,null,null,"El trabajador hace todo el esfuerzo en el manejo del paciente ya que no se utiliza ningún tipo de ayudas mecánicas.","NA","0"]
[null,null,null,"No existe programa de mantenimiento de las ayudas mecánicas ni de sillas de rueda o camillas.","NA","0",null,null,null,"Si terminó de responder toda la Tabla 8 Presione Aquí para  regresar a Tabla 1 Información General del Puesto de Trabajo donde podrá continuar con la siguiente Tarea"]
[null,null,"Ambiente y espacios","La temperatura ambiente es menor a 18° o superior a 26° grados Celsius y no se cuenta con ropa que proteja de las temperaturas extremas.","NA","0"]
[null,null,null,"Existe menos de 90 cm de espacio entre la cama y la pared o entre las camas, o menos de 120 cm. al final de la cama.","NA","0"]
[null,null,null,"Presencia de suelo resbaladizo, irregular o inestable en salas o pasillos","NA",{"$f":"IF(E14=\"No\",\"0\",IF(E14=\"NA\",\"0\",\"1\"))","v":"0"}]
[null,null,null,"La organización carece de un sistema de clasificación del paciente (según nivel de asistencia, peso, etc.).","NA",{"$f":"IF(E15=\"No\",\"0\",IF(E15=\"NA\",\"0\",\"1\"))","v":"0"}]
[null,null,"Organización","La organización no cuenta con procedimientos escritos e informados de MMP de acuerdo con el peso y características del paciente.","NA","0"]
[null,null,null,"La organización del trabajo genera concentración de tareas de MMP en ciertos horarios de trabajo y no cuenta con pausas de descanso durante la jornada.","NA","0"]
[null,null,"Entrenamiento","Un 50 % o menos de los trabajadores del servicio/unidad recibieron capacitación teórico-práctico en MMP en los últimos 18 meses.","NA","0"]
[null,null,null,null,null,{"$f":"F4+F5+F6+F7+F8+F9+F10+F11+F12+F13+F14+F15+F16+F17+F18","v":0}]

{"sheet":"TABLA 8T4P3","index":285,"n_rows":19,"n_cols":10,"rows_kept":19,"cut":false,"hidden":false,"merged":[]}
[]
[null,null,null,"TABLA 8 | MANEJO MANUAL DE PERSONAS/PACIENTES- IDENTIFICACIÓN AVANZADA CONDICIÓN CRÍTICA  ",null,null,null,null,null,"Cuadro de Resultado Tabla 8"]
[null,null,"Condición","Levantamiento/descenso y transporte manual de carga","Si / No / NA"]
[null,null,"Aplicación de la Fuerza","En promedio, por turno, el trabajador realiza 12 o más MMP que superen los 15 kgs. cada uno.","NA",{"$f":"IF(E4=\"No\",\"0\",IF(E4=\"NA\",\"0\",\"1\"))","v":"0"},null,null,null,"La Tarea:"]
[null,null,null,"El MMP se realiza bajo las rodillas o sobre la altura codo suelo","NA",{"$f":"IF(E5=\"No\",\"0\",IF(E5=\"NA\",\"0\",\"1\"))","v":"0"},null,null,{"$f":"'TABLA 1 P3'!B12","v":"N°4"},{"$f":"'TABLA 1 P3'!C12","v":"NA"}]
[null,null,null,"La distancia horizontal entre el cuerpo y el paciente manipulado es superior a 63 cm.","NA","0",null,null,null,"Resultado:"]
[null,null,null,"Torsión extrema del tronco sin movimientos de los pies.","NA","0",null,null,{"$f":"F19","v":0},{"$f":"IF(F19>=1,\"Crítica\",\"No Crítica\")","v":"No Crítica"}]
[null,null,null,"Las camas no son regulables y tienen una altura inferior a 70 cm.","NA","0",null,null,null,"Por lo que usted:"]
[null,null,"Equipamiento","Las camas tienen ninguna o solo 2 ruedas.","NA","0",null,null,null,{"$f":"IF(J7=\"No Crítica\",\"Ha terminado el Proceso de Identificación para esta Tarea y deberá iniciar el proceso de Evaluación Cuantitativa del riesgo\",\"Ha terminado el Proceso de Identificación para esta Tarea y deberá aplicar medidas para reducir el riesgo\")","v":"Ha terminado el Proceso de Identificación para esta Tarea y deberá iniciar el proceso de Evaluación Cuantitativa del riesgo"}]
[null,null,null,"El trabajador hace todo el esfuerzo en el manejo del paciente ya que no se utiliza ningún tipo de ayudas mecánicas.","NA","0"]
[null,null,null,"No existe programa de mantenimiento de las ayudas mecánicas ni de sillas de rueda o camillas.","NA","0",null,null,null,"Si terminó de responder toda la Tabla 8 Presione Aquí para  regresar a Tabla 1 Información General del Puesto de Trabajo donde podrá continuar con la siguiente Tarea"]
[null,null,"Ambiente y espacios","La temperatura ambiente es menor a 18° o superior a 26° grados Celsius y no se cuenta con ropa que proteja de las temperaturas extremas.","NA","0"]
[null,null,null,"Existe menos de 90 cm de espacio entre la cama y la pared o entre las camas, o menos de 120 cm. al final de la cama.","NA","0"]
[null,null,null,"Presencia de suelo resbaladizo, irregular o inestable en salas o pasillos","NA",{"$f":"IF(E14=\"No\",\"0\",IF(E14=\"NA\",\"0\",\"1\"))","v":"0"}]
[null,null,null,"La organización carece de un sistema de clasificación del paciente (según nivel de asistencia, peso, etc.).","NA",{"$f":"IF(E15=\"No\",\"0\",IF(E15=\"NA\",\"0\",\"1\"))","v":"0"}]
[null,null,"Organización","La organización no cuenta con procedimientos escritos e informados de MMP de acuerdo con el peso y características del paciente.","NA","0"]
[null,null,null,"La organización del trabajo genera concentración de tareas de MMP en ciertos horarios de trabajo y no cuenta con pausas de descanso durante la jornada.","NA","0"]
[null,null,"Entrenamiento","Un 50 % o menos de los trabajadores del servicio/unidad recibieron capacitación teórico-práctico en MMP en los últimos 18 meses.","NA","0"]
[null,null,null,null,null,{"$f":"F4+F5+F6+F7+F8+F9+F10+F11+F12+F13+F14+F15+F16+F17+F18","v":0}]

{"sheet":"TABLA 8T4P4","index":286,"n_rows":19,"n_cols":10,"rows_kept":19,"cut":false,"hidden":false,"merged":[]}
[]
[null,null,null,"TABLA 8 | MANEJO MANUAL DE PERSONAS/PACIENTES- IDENTIFICACIÓN AVANZADA CONDICIÓN CRÍTICA  ",null,null,null,null,null,"Cuadro de Resultado Tabla 8"]
[null,null,"Condición","Levantamiento/descenso y transporte manual de carga","Si / No / NA"]
[null,null,"Aplicación de la Fuerza","En promedio, por turno, el trabajador realiza 12 o más MMP que superen los 15 kgs. cada uno.","NA",{"$f":"IF(E4=\"No\",\"0\",IF(E4=\"NA\",\"0\",\"1\"))","v":"0"},null,null,null,"La Tarea:"]
[null,null,null,"El MMP se realiza bajo las rodillas o sobre la altura codo suelo","NA",{"$f":"IF(E5=\"No\",\"0\",IF(E5=\"NA\",\"0\",\"1\"))","v":"0"},null,null,{"$f":"'TABLA 1 P4'!B12","v":"N°4"},{"$f":"'TABLA 1 P4'!C12","v":"NA"}]
[null,null,null,"La distancia horizontal entre el cuerpo y el paciente manipulado es superior a 63 cm.","NA","0",null,null,null,"Resultado:"]
[null,null,null,"Torsión extrema del tronco sin movimientos de los pies.","NA","0",null,null,{"$f":"F19","v":0},{"$f":"IF(F19>=1,\"Crítica\",\"No Crítica\")","v":"No Crítica"}]
[null,null,null,"Las camas no son regulables y tienen una altura inferior a 70 cm.","NA","0",null,null,null,"Por lo que usted:"]
[null,null,"Equipamiento","Las camas tienen ninguna o solo 2 ruedas.","NA","0",null,null,null,{"$f":"IF(J7=\"No Crítica\",\"Ha terminado el Proceso de Identificación para esta Tarea y deberá iniciar el proceso de Evaluación Cuantitativa del riesgo\",\"Ha terminado el Proceso de Identificación para esta Tarea y deberá aplicar medidas para reducir el riesgo\")","v":"Ha terminado el Proceso de Identificación para esta Tarea y deberá iniciar el proceso de Evaluación Cuantitativa del riesgo"}]
[null,null,null,"El trabajador hace todo el esfuerzo en el manejo del paciente ya que no se utiliza ningún tipo de ayudas mecánicas.","NA","0"]
[null,null,null,"No existe programa de mantenimiento de las ayudas mecánicas ni de sillas de rueda o camillas.","NA","0",null,null,null,"Si terminó de responder toda la Tabla 8 Presione Aquí para  regresar a Tabla 1 Información General del Puesto de Trabajo donde podrá continuar con la siguiente Tarea"]
[null,null,"Ambiente y espacios","La temperatura ambiente es menor a 18° o superior a 26° grados Celsius y no se cuenta con ropa que proteja de las temperaturas extremas.","NA","0"]
[null,null,null,"Existe menos de 90 cm de espacio entre la cama y la pared o entre las camas, o menos de 120 cm. al final de la cama.","NA","0"]
[null,null,null,"Presencia de suelo resbaladizo, irregular o inestable en salas o pasillos","NA",{"$f":"IF(E14=\"No\",\"0\",IF(E14=\"NA\",\"0\",\"1\"))","v":"0"}]
[null,null,null,"La organización carece de un sistema de clasificación del paciente (según nivel de asistencia, peso, etc.).","NA",{"$f":"IF(E15=\"No\",\"0\",IF(E15=\"NA\",\"0\",\"1\"))","v":"0"}]
[null,null,"Organización","La organización no cuenta con procedimientos escritos e informados de MMP de acuerdo con el peso y características del paciente.","NA","0"]
[null,null,null,"La organización del trabajo genera concentración de tareas de MMP en ciertos horarios de trabajo y no cuenta con pausas de descanso durante la jornada.","NA","0"]
[null,null,"Entrenamiento","Un 50 % o menos de los trabajadores del servicio/unidad recibieron capacitación teórico-práctico en MMP en los últimos 18 meses.","NA","0"]
[null,null,null,null,null,{"$f":"F4+F5+F6+F7+F8+F9+F10+F11+F12+F13+F14+F15+F16+F17+F18","v":0}]

{"sheet":"TABLA 8T4P5","index":287,"n_rows":19,"n_cols":10,"rows_kept":19,"cut":false,"hidden":false,"merged":[]}
[]
[null,null,null,"TABLA 8 | MANEJO MANUAL DE PERSONAS/PACIENTES- IDENTIFICACIÓN AVANZADA CONDICIÓN CRÍTICA  ",null,null,null,null,null,"Cuadro de Resultado Tabla 8"]
[null,null,"Condición","Levantamiento/descenso y transporte manual de carga","Si / No / NA"]
[null,null,"Aplicación de la Fuerza","En promedio, por turno, el trabajador realiza 12 o más MMP que superen los 15 kgs. cada uno.","NA",{"$f":"IF(E4=\"No\",\"0\",IF(E4=\"NA\",\"0\",\"1\"))","v":"0"},null,null,null,"La Tarea:"]
[null,null,null,"El MMP se realiza bajo las rodillas o sobre la altura codo suelo","NA",{"$f":"IF(E5=\"No\",\"0\",IF(E5=\"NA\",\"0\",\"1\"))","v":"0"},null,null,{"$f":"'TABLA 1 P5'!B12","v":"N°4"},{"$f":"'TABLA 1 P5'!C12","v":"NA"}]
[null,null,null,"La distancia horizontal entre el cuerpo y el paciente manipulado es superior a 63 cm.","NA","0",null,null,null,"Resultado:"]
[null,null,null,"Torsión extrema del tronco sin movimientos de los pies.","NA","0",null,null,{"$f":"F19","v":0},{"$f":"IF(F19>=1,\"Crítica\",\"No Crítica\")","v":"No Crítica"}]
[null,null,null,"Las camas no son regulables y tienen una altura inferior a 70 cm.","NA","0",null,null,null,"Por lo que usted:"]
[null,null,"Equipamiento","Las camas tienen ninguna o solo 2 ruedas.","NA","0",null,null,null,{"$f":"IF(J7=\"No Crítica\",\"Ha terminado el Proceso de Identificación para esta Tarea y deberá iniciar el proceso de Evaluación Cuantitativa del riesgo\",\"Ha terminado el Proceso de Identificación para esta Tarea y deberá aplicar medidas para reducir el riesgo\")","v":"Ha terminado el Proceso de Identificación para esta Tarea y deberá iniciar el proceso de Evaluación Cuantitativa del riesgo"}]
[null,null,null,"El trabajador hace todo el esfuerzo en el manejo del paciente ya que no se utiliza ningún tipo de ayudas mecánicas.","NA","0"]
[null,null,null,"No existe programa de mantenimiento de las ayudas mecánicas ni de sillas de rueda o camillas.","NA","0",null,null,null,"Si terminó de responder toda la Tabla 8 Presione Aquí para  regresar a Tabla 1 Información General del Puesto de Trabajo donde podrá continuar con la siguiente Tarea"]
[null,null,"Ambiente y espacios","La temperatura ambiente es menor a 18° o superior a 26° grados Celsius y no se cuenta con ropa que proteja de las temperaturas extremas.","NA","0"]
[null,null,null,"Existe menos de 90 cm de espacio entre la cama y la pared o entre las camas, o menos de 120 cm. al final de la cama.","NA","0"]
[null,null,null,"Presencia de suelo resbaladizo, irregular o inestable en salas o pasillos","NA",{"$f":"IF(E14=\"No\",\"0\",IF(E14=\"NA\",\"0\",\"1\"))","v":"0"}]
[null,null,null,"La organización carece de un sistema de clasificación del paciente (según nivel de asistencia, peso, etc.).","NA",{"$f":"IF(E15=\"No\",\"0\",IF(E15=\"NA\",\"0\",\"1\"))","v":"0"}]
[null,null,"Organización","La organización no cuenta con procedimientos escritos e informados de MMP de acuerdo con el peso y características del paciente.","NA","0"]
[null,null,null,"La organización del trabajo genera concentración de tareas de MMP en ciertos horarios de trabajo y no cuenta con pausas de descanso durante la jornada.","NA","0"]
[null,null,"Entrenamiento","Un 50 % o menos de los trabajadores del servicio/unidad recibieron capacitación teórico-práctico en MMP en los últimos 18 meses.","NA","0"]
[null,null,null,null,null,{"$f":"F4+F5+F6+F7+F8+F9+F10+F11+F12+F13+F14+F15+F16+F17+F18","v":0}]

{"sheet":"TABLA 8T4P6","index":288,"n_rows":19,"n_cols":10,"rows_kept":19,"cut":false,"hidden":false,"merged":[]}
[]
[null,null,null,"TABLA 8 | MANEJO MANUAL DE PERSONAS/PACIENTES- IDENTIFICACIÓN AVANZADA CONDICIÓN CRÍTICA  ",null,null,null,null,null,"Cuadro de Resultado Tabla 8"]
[null,null,"Condición","Levantamiento/descenso y transporte manual de carga","Si / No / NA"]
[null,null,"Aplicación de la Fuerza","En promedio, por turno, el trabajador realiza 12 o más MMP que superen los 15 kgs. cada uno.","NA",{"$f":"IF(E4=\"No\",\"0\",IF(E4=\"NA\",\"0\",\"1\"))","v":"0"},null,null,null,"La Tarea:"]
[null,null,null,"El MMP se realiza bajo las rodillas o sobre la altura codo suelo","NA",{"$f":"IF(E5=\"No\",\"0\",IF(E5=\"NA\",\"0\",\"1\"))","v":"0"},null,null,{"$f":"'TABLA 1 P6'!B12","v":"N°4"},{"$f":"'TABLA 1 P6'!C12","v":"NA"}]
[null,null,null,"La distancia horizontal entre el cuerpo y el paciente manipulado es superior a 63 cm.","NA","0",null,null,null,"Resultado:"]
[null,null,null,"Torsión extrema del tronco sin movimientos de los pies.","NA","0",null,null,{"$f":"F19","v":0},{"$f":"IF(F19>=1,\"Crítica\",\"No Crítica\")","v":"No Crítica"}]
[null,null,null,"Las camas no son regulables y tienen una altura inferior a 70 cm.","NA","0",null,null,null,"Por lo que usted:"]
[null,null,"Equipamiento","Las camas tienen ninguna o solo 2 ruedas.","NA","0",null,null,null,{"$f":"IF(J7=\"No Crítica\",\"Ha terminado el Proceso de Identificación para esta Tarea y deberá iniciar el proceso de Evaluación Cuantitativa del riesgo\",\"Ha terminado el Proceso de Identificación para esta Tarea y deberá aplicar medidas para reducir el riesgo\")","v":"Ha terminado el Proceso de Identificación para esta Tarea y deberá iniciar el proceso de Evaluación Cuantitativa del riesgo"}]
[null,null,null,"El trabajador hace todo el esfuerzo en el manejo del paciente ya que no se utiliza ningún tipo de ayudas mecánicas.","NA","0"]
[null,null,null,"No existe programa de mantenimiento de las ayudas mecánicas ni de sillas de rueda o camillas.","NA","0",null,null,null,"Si terminó de responder toda la Tabla 8 Presione Aquí para  regresar a Tabla 1 Información General del Puesto de Trabajo donde podrá continuar con la siguiente Tarea"]
[null,null,"Ambiente y espacios","La temperatura ambiente es menor a 18° o superior a 26° grados Celsius y no se cuenta con ropa que proteja de las temperaturas extremas.","NA","0"]
[null,null,null,"Existe menos de 90 cm de espacio entre la cama y la pared o entre las camas, o menos de 120 cm. al final de la cama.","NA","0"]
[null,null,null,"Presencia de suelo resbaladizo, irregular o inestable en salas o pasillos","NA",{"$f":"IF(E14=\"No\",\"0\",IF(E14=\"NA\",\"0\",\"1\"))","v":"0"}]
[null,null,null,"La organización carece de un sistema de clasificación del paciente (según nivel de asistencia, peso, etc.).","NA",{"$f":"IF(E15=\"No\",\"0\",IF(E15=\"NA\",\"0\",\"1\"))","v":"0"}]
[null,null,"Organización","La organización no cuenta con procedimientos escritos e informados de MMP de acuerdo con el peso y características del paciente.","NA","0"]
[null,null,null,"La organización del trabajo genera concentración de tareas de MMP en ciertos horarios de trabajo y no cuenta con pausas de descanso durante la jornada.","NA","0"]
[null,null,"Entrenamiento","Un 50 % o menos de los trabajadores del servicio/unidad recibieron capacitación teórico-práctico en MMP en los últimos 18 meses.","NA","0"]
[null,null,null,null,null,{"$f":"F4+F5+F6+F7+F8+F9+F10+F11+F12+F13+F14+F15+F16+F17+F18","v":0}]

{"sheet":"TABLA 8T4P7","index":289,"n_rows":19,"n_cols":10,"rows_kept":19,"cut":false,"hidden":false,"merged":[]}
[]
[null,null,null,"TABLA 8 | MANEJO MANUAL DE PERSONAS/PACIENTES- IDENTIFICACIÓN AVANZADA CONDICIÓN CRÍTICA  ",null,null,null,null,null,"Cuadro de Resultado Tabla 8"]
[null,null,"Condición","Levantamiento/descenso y transporte manual de carga","Si / No / NA"]
[null,null,"Aplicación de la Fuerza","En promedio, por turno, el trabajador realiza 12 o más MMP que superen los 15 kgs. cada uno.","NA",{"$f":"IF(E4=\"No\",\"0\",IF(E4=\"NA\",\"0\",\"1\"))","v":"0"},null,null,null,"La Tarea:"]
[null,null,null,"El MMP se realiza bajo las rodillas o sobre la altura codo suelo","NA",{"$f":"IF(E5=\"No\",\"0\",IF(E5=\"NA\",\"0\",\"1\"))","v":"0"},null,null,{"$f":"'TABLA 1 P7'!B12","v":"N°4"},{"$f":"'TABLA 1 P7'!C12","v":"NA"}]
[null,null,null,"La distancia horizontal entre el cuerpo y el paciente manipulado es superior a 63 cm.","NA","0",null,null,null,"Resultado:"]
[null,null,null,"Torsión extrema del tronco sin movimientos de los pies.","NA","0",null,null,{"$f":"F19","v":0},{"$f":"IF(F19>=1,\"Crítica\",\"No Crítica\")","v":"No Crítica"}]
[null,null,null,"Las camas no son regulables y tienen una altura inferior a 70 cm.","NA","0",null,null,null,"Por lo que usted:"]
[null,null,"Equipamiento","Las camas tienen ninguna o solo 2 ruedas.","NA","0",null,null,null,{"$f":"IF(J7=\"No Crítica\",\"Ha terminado el Proceso de Identificación para esta Tarea y deberá iniciar el proceso de Evaluación Cuantitativa del riesgo\",\"Ha terminado el Proceso de Identificación para esta Tarea y deberá aplicar medidas para reducir el riesgo\")","v":"Ha terminado el Proceso de Identificación para esta Tarea y deberá iniciar el proceso de Evaluación Cuantitativa del riesgo"}]
[null,null,null,"El trabajador hace todo el esfuerzo en el manejo del paciente ya que no se utiliza ningún tipo de ayudas mecánicas.","NA","0"]
[null,null,null,"No existe programa de mantenimiento de las ayudas mecánicas ni de sillas de rueda o camillas.","NA","0",null,null,null,"Si terminó de responder toda la Tabla 8 Presione Aquí para  regresar a Tabla 1 Información General del Puesto de Trabajo donde podrá continuar con la siguiente Tarea"]
[null,null,"Ambiente y espacios","La temperatura ambiente es menor a 18° o superior a 26° grados Celsius y no se cuenta con ropa que proteja de las temperaturas extremas.","NA","0"]
[null,null,null,"Existe menos de 90 cm de espacio entre la cama y la pared o entre las camas, o menos de 120 cm. al final de la cama.","NA","0"]
[null,null,null,"Presencia de suelo resbaladizo, irregular o inestable en salas o pasillos","NA",{"$f":"IF(E14=\"No\",\"0\",IF(E14=\"NA\",\"0\",\"1\"))","v":"0"}]
[null,null,null,"La organización carece de un sistema de clasificación del paciente (según nivel de asistencia, peso, etc.).","NA",{"$f":"IF(E15=\"No\",\"0\",IF(E15=\"NA\",\"0\",\"1\"))","v":"0"}]
[null,null,"Organización","La organización no cuenta con procedimientos escritos e informados de MMP de acuerdo con el peso y características del paciente.","NA","0"]
[null,null,null,"La organización del trabajo genera concentración de tareas de MMP en ciertos horarios de trabajo y no cuenta con pausas de descanso durante la jornada.","NA","0"]
[null,null,"Entrenamiento","Un 50 % o menos de los trabajadores del servicio/unidad recibieron capacitación teórico-práctico en MMP en los últimos 18 meses.","NA","0"]
[null,null,null,null,null,{"$f":"F4+F5+F6+F7+F8+F9+F10+F11+F12+F13+F14+F15+F16+F17+F18","v":0}]

{"sheet":"TABLA 8T4P8","index":290,"n_rows":19,"n_cols":10,"rows_kept":19,"cut":false,"hidden":false,"merged":[]}
[]
[null,null,null,"TABLA 8 | MANEJO MANUAL DE PERSONAS/PACIENTES- IDENTIFICACIÓN AVANZADA CONDICIÓN CRÍTICA  ",null,null,null,null,null,"Cuadro de Resultado Tabla 8"]
[null,null,"Condición","Levantamiento/descenso y transporte manual de carga","Si / No / NA"]
[null,null,"Aplicación de la Fuerza","En promedio, por turno, el trabajador realiza 12 o más MMP que superen los 15 kgs. cada uno.","NA",{"$f":"IF(E4=\"No\",\"0\",IF(E4=\"NA\",\"0\",\"1\"))","v":"0"},null,null,null,"La Tarea:"]
[null,null,null,"El MMP se realiza bajo las rodillas o sobre la altura codo suelo","NA",{"$f":"IF(E5=\"No\",\"0\",IF(E5=\"NA\",\"0\",\"1\"))","v":"0"},null,null,{"$f":"'TABLA 1 P8'!B12","v":"N°4"},{"$f":"'TABLA 1 P8'!C12","v":"NA"}]
[null,null,null,"La distancia horizontal entre el cuerpo y el paciente manipulado es superior a 63 cm.","NA","0",null,null,null,"Resultado:"]
[null,null,null,"Torsión extrema del tronco sin movimientos de los pies.","NA","0",null,null,{"$f":"F19","v":0},{"$f":"IF(F19>=1,\"Crítica\",\"No Crítica\")","v":"No Crítica"}]
[null,null,null,"Las camas no son regulables y tienen una altura inferior a 70 cm.","NA","0",null,null,null,"Por lo que usted:"]
[null,null,"Equipamiento","Las camas tienen ninguna o solo 2 ruedas.","NA","0",null,null,null,{"$f":"IF(J7=\"No Crítica\",\"Ha terminado el Proceso de Identificación para esta Tarea y deberá iniciar el proceso de Evaluación Cuantitativa del riesgo\",\"Ha terminado el Proceso de Identificación para esta Tarea y deberá aplicar medidas para reducir el riesgo\")","v":"Ha terminado el Proceso de Identificación para esta Tarea y deberá iniciar el proceso de Evaluación Cuantitativa del riesgo"}]
[null,null,null,"El trabajador hace todo el esfuerzo en el manejo del paciente ya que no se utiliza ningún tipo de ayudas mecánicas.","NA","0"]
[null,null,null,"No existe programa de mantenimiento de las ayudas mecánicas ni de sillas de rueda o camillas.","NA","0",null,null,null,"Si terminó de responder toda la Tabla 8 Presione Aquí para  regresar a Tabla 1 Información General del Puesto de Trabajo donde podrá continuar con la siguiente Tarea"]
[null,null,"Ambiente y espacios","La temperatura ambiente es menor a 18° o superior a 26° grados Celsius y no se cuenta con ropa que proteja de las temperaturas extremas.","NA","0"]
[null,null,null,"Existe menos de 90 cm de espacio entre la cama y la pared o entre las camas, o menos de 120 cm. al final de la cama.","NA","0"]
[null,null,null,"Presencia de suelo resbaladizo, irregular o inestable en salas o pasillos","NA",{"$f":"IF(E14=\"No\",\"0\",IF(E14=\"NA\",\"0\",\"1\"))","v":"0"}]
[null,null,null,"La organización carece de un sistema de clasificación del paciente (según nivel de asistencia, peso, etc.).","NA",{"$f":"IF(E15=\"No\",\"0\",IF(E15=\"NA\",\"0\",\"1\"))","v":"0"}]
[null,null,"Organización","La organización no cuenta con procedimientos escritos e informados de MMP de acuerdo con el peso y características del paciente.","NA","0"]
[null,null,null,"La organización del trabajo genera concentración de tareas de MMP en ciertos horarios de trabajo y no cuenta con pausas de descanso durante la jornada.","NA","0"]
[null,null,"Entrenamiento","Un 50 % o menos de los trabajadores del servicio/unidad recibieron capacitación teórico-práctico en MMP en los últimos 18 meses.","NA","0"]
[null,null,null,null,null,{"$f":"F4+F5+F6+F7+F8+F9+F10+F11+F12+F13+F14+F15+F16+F17+F18","v":0}]

{"sheet":"TABLA 8T4P9","index":291,"n_rows":19,"n_cols":10,"rows_kept":19,"cut":false,"hidden":false,"merged":[]}
[]
[null,null,null,"TABLA 8 | MANEJO MANUAL DE PERSONAS/PACIENTES- IDENTIFICACIÓN AVANZADA CONDICIÓN CRÍTICA  ",null,null,null,null,null,"Cuadro de Resultado Tabla 8"]
[null,null,"Condición","Levantamiento/descenso y transporte manual de carga","Si / No / NA"]
[null,null,"Aplicación de la Fuerza","En promedio, por turno, el trabajador realiza 12 o más MMP que superen los 15 kgs. cada uno.","NA",{"$f":"IF(E4=\"No\",\"0\",IF(E4=\"NA\",\"0\",\"1\"))","v":"0"},null,null,null,"La Tarea:"]
[null,null,null,"El MMP se realiza bajo las rodillas o sobre la altura codo suelo","NA",{"$f":"IF(E5=\"No\",\"0\",IF(E5=\"NA\",\"0\",\"1\"))","v":"0"},null,null,{"$f":"'TABLA 1 P9'!B12","v":"N°4"},{"$f":"'TABLA 1 P9'!C12","v":"NA"}]
[null,null,null,"La distancia horizontal entre el cuerpo y el paciente manipulado es superior a 63 cm.","NA","0",null,null,null,"Resultado:"]
[null,null,null,"Torsión extrema del tronco sin movimientos de los pies.","NA","0",null,null,{"$f":"F19","v":0},{"$f":"IF(F19>=1,\"Crítica\",\"No Crítica\")","v":"No Crítica"}]
[null,null,null,"Las camas no son regulables y tienen una altura inferior a 70 cm.","NA","0",null,null,null,"Por lo que usted:"]
[null,null,"Equipamiento","Las camas tienen ninguna o solo 2 ruedas.","NA","0",null,null,null,{"$f":"IF(J7=\"No Crítica\",\"Ha terminado el Proceso de Identificación para esta Tarea y deberá iniciar el proceso de Evaluación Cuantitativa del riesgo\",\"Ha terminado el Proceso de Identificación para esta Tarea y deberá aplicar medidas para reducir el riesgo\")","v":"Ha terminado el Proceso de Identificación para esta Tarea y deberá iniciar el proceso de Evaluación Cuantitativa del riesgo"}]
[null,null,null,"El trabajador hace todo el esfuerzo en el manejo del paciente ya que no se utiliza ningún tipo de ayudas mecánicas.","NA","0"]
[null,null,null,"No existe programa de mantenimiento de las ayudas mecánicas ni de sillas de rueda o camillas.","NA","0",null,null,null,"Si terminó de responder toda la Tabla 8 Presione Aquí para  regresar a Tabla 1 Información General del Puesto de Trabajo donde podrá continuar con la siguiente Tarea"]
[null,null,"Ambiente y espacios","La temperatura ambiente es menor a 18° o superior a 26° grados Celsius y no se cuenta con ropa que proteja de las temperaturas extremas.","NA","0"]
[null,null,null,"Existe menos de 90 cm de espacio entre la cama y la pared o entre las camas, o menos de 120 cm. al final de la cama.","NA","0"]
[null,null,null,"Presencia de suelo resbaladizo, irregular o inestable en salas o pasillos","NA",{"$f":"IF(E14=\"No\",\"0\",IF(E14=\"NA\",\"0\",\"1\"))","v":"0"}]
[null,null,null,"La organización carece de un sistema de clasificación del paciente (según nivel de asistencia, peso, etc.).","NA",{"$f":"IF(E15=\"No\",\"0\",IF(E15=\"NA\",\"0\",\"1\"))","v":"0"}]
[null,null,"Organización","La organización no cuenta con procedimientos escritos e informados de MMP de acuerdo con el peso y características del paciente.","NA","0"]
[null,null,null,"La organización del trabajo genera concentración de tareas de MMP en ciertos horarios de trabajo y no cuenta con pausas de descanso durante la jornada.","NA","0"]
[null,null,"Entrenamiento","Un 50 % o menos de los trabajadores del servicio/unidad recibieron capacitación teórico-práctico en MMP en los últimos 18 meses.","NA","0"]
[null,null,null,null,null,{"$f":"F4+F5+F6+F7+F8+F9+F10+F11+F12+F13+F14+F15+F16+F17+F18","v":0}]

{"sheet":"TABLA 8T4P10","index":292,"n_rows":19,"n_cols":10,"rows_kept":19,"cut":false,"hidden":false,"merged":[]}
[]
[null,null,null,"TABLA 8 | MANEJO MANUAL DE PERSONAS/PACIENTES- IDENTIFICACIÓN AVANZADA CONDICIÓN CRÍTICA  ",null,null,null,null,null,"Cuadro de Resultado Tabla 8"]
[null,null,"Condición","Levantamiento/descenso y transporte manual de carga","Si / No / NA"]
[null,null,"Aplicación de la Fuerza","En promedio, por turno, el trabajador realiza 12 o más MMP que superen los 15 kgs. cada uno.","NA",{"$f":"IF(E4=\"No\",\"0\",IF(E4=\"NA\",\"0\",\"1\"))","v":"0"},null,null,null,"La Tarea:"]
[null,null,null,"El MMP se realiza bajo las rodillas o sobre la altura codo suelo","NA",{"$f":"IF(E5=\"No\",\"0\",IF(E5=\"NA\",\"0\",\"1\"))","v":"0"},null,null,{"$f":"'TABLA 1 P10'!B12","v":"N°4"},{"$f":"'TABLA 1 P10'!C12","v":"NA"}]
[null,null,null,"La distancia horizontal entre el cuerpo y el paciente manipulado es superior a 63 cm.","NA","0",null,null,null,"Resultado:"]
[null,null,null,"Torsión extrema del tronco sin movimientos de los pies.","NA","0",null,null,{"$f":"F19","v":0},{"$f":"IF(F19>=1,\"Crítica\",\"No Crítica\")","v":"No Crítica"}]
[null,null,null,"Las camas no son regulables y tienen una altura inferior a 70 cm.","NA","0",null,null,null,"Por lo que usted:"]
[null,null,"Equipamiento","Las camas tienen ninguna o solo 2 ruedas.","NA","0",null,null,null,{"$f":"IF(J7=\"No Crítica\",\"Ha terminado el Proceso de Identificación para esta Tarea y deberá iniciar el proceso de Evaluación Cuantitativa del riesgo\",\"Ha terminado el Proceso de Identificación para esta Tarea y deberá aplicar medidas para reducir el riesgo\")","v":"Ha terminado el Proceso de Identificación para esta Tarea y deberá iniciar el proceso de Evaluación Cuantitativa del riesgo"}]
[null,null,null,"El trabajador hace todo el esfuerzo en el manejo del paciente ya que no se utiliza ningún tipo de ayudas mecánicas.","NA","0"]
[null,null,null,"No existe programa de mantenimiento de las ayudas mecánicas ni de sillas de rueda o camillas.","NA","0",null,null,null,"Si terminó de responder toda la Tabla 8 Presione Aquí para  regresar a Tabla 1 Información General del Puesto de Trabajo donde podrá continuar con la siguiente Tarea"]
[null,null,"Ambiente y espacios","La temperatura ambiente es menor a 18° o superior a 26° grados Celsius y no se cuenta con ropa que proteja de las temperaturas extremas.","NA","0"]
[null,null,null,"Existe menos de 90 cm de espacio entre la cama y la pared o entre las camas, o menos de 120 cm. al final de la cama.","NA","0"]
[null,null,null,"Presencia de suelo resbaladizo, irregular o inestable en salas o pasillos","NA",{"$f":"IF(E14=\"No\",\"0\",IF(E14=\"NA\",\"0\",\"1\"))","v":"0"}]
[null,null,null,"La organización carece de un sistema de clasificación del paciente (según nivel de asistencia, peso, etc.).","NA",{"$f":"IF(E15=\"No\",\"0\",IF(E15=\"NA\",\"0\",\"1\"))","v":"0"}]
[null,null,"Organización","La organización no cuenta con procedimientos escritos e informados de MMP de acuerdo con el peso y características del paciente.","NA","0"]
[null,null,null,"La organización del trabajo genera concentración de tareas de MMP en ciertos horarios de trabajo y no cuenta con pausas de descanso durante la jornada.","NA","0"]
[null,null,"Entrenamiento","Un 50 % o menos de los trabajadores del servicio/unidad recibieron capacitación teórico-práctico en MMP en los últimos 18 meses.","NA","0"]
[null,null,null,null,null,{"$f":"F4+F5+F6+F7+F8+F9+F10+F11+F12+F13+F14+F15+F16+F17+F18","v":0}]

{"sheet":"TABLA 7T5P1","index":293,"n_rows":26,"n_cols":11,"rows_kept":26,"cut":false,"hidden":false,"merged":[]}
[]
[null,null,null,"MANEJO MANUAL DE PERSONAS/PACIENTES- IDENTIFICACIÓN AVANZADA  CONDICIÓN ACEPTABLE  ",null,null,null,null,null,"Cuadro de Resultado Tabla 7"]
[null,null,"Riesgo","Empueje y Arrastre de Carga","Si / No / NA"]
[null,null,null,"En promedio, por turno, el trabajador realiza 6 o menos MMP que superen los 15 kg. cada uno.","NA",{"$f":"IF(E4=\"SI\",\"0\",IF(E4=\"NA\",\"0\",\"1\"))","v":"0"},null,null,null,"La Tarea:"]
[null,null,"Aplicación de la Fuerza","Ausencia de asimetría (Ej: cuerpo rotado, torsión y/o inclinación de tronco).","NA",{"$f":"IF(E5=\"SI\",\"0\",IF(E5=\"NA\",\"0\",\"1\"))","v":"0"},null,null,{"$f":"'TABLA 1 P1'!B14","v":"N°5"},{"$f":"'TABLA 1 P1'!C14","v":"NA"}]
[null,null,null,"El paciente es mantenido cerca del cuerpo del trabajador.","NA","0",null,null,null,"Resultado:"]
[null,null,null,"El MMP se realiza entre la altura nudillo suelo y la altura codo suelo (°).","NA","0",null,null,{"$f":"F18","v":0},{"$f":"IF(F18>=1,\"No es Aceptable\",\"Aceptable\")","v":"Aceptable"}]
[null,null,null,"Cuenta con camas regulables en altura.","NA","0",null,null,null,"Por lo que usted:"]
[null,null,"Equipamiento","Existe y se utilizan de forma correcta las ayudas mecánicas.","NA","0",null,null,null,{"$f":"IF(J7=\"Aceptable\",\"Ha Terminado el Proceso de Identificación para esta Tarea\",\"Debe Aplicar Tabla 8\")","v":"Ha Terminado el Proceso de Identificación para esta Tarea"},{"$f":"F18","v":0}]
[null,null,null,"Existen programas de mantenimiento de las ayudas mecánicas, de sillas de rueda y camillas.","NA","0"]
[null,null,"Ambiente y espacios","La iluminación permite visualizar todos los elementos en el espacio de trabajo y la temperatura son adecuadas está entre 19° y 25° grados Celsius.","NA","0",null,null,null,{"$f":"IF(J7=\"Aceptable\",\"Si terminó de responder toda la Tabla 7 Presione Aquí para  regresar a Tabla 1 Información General del Puesto de Trabajo donde podrá continuar con la siguiente Tarea\",\"\")","v":"Si terminó de responder toda la Tabla 7 Presione Aquí para  regresar a Tabla 1 Información General del Puesto de Trabajo donde podrá continuar con la siguiente Tarea"},{"$f":"F18","v":0}]
[null,null,null,"Existe suficiente espacio para moverse libremente y para utilizar las ayudas mecánicas existentes.","NA","0"]
[null,null,null,"Presencia de suelo en salas, pasillos y otros que permiten el normal desplazamiento de sillas de rueda y camillas.","NA","0",null,null,null,null,{"$f":"F18","v":0}]
[null,null,"Organización","Existe un programa institucional para la prevención del riego por MMP: evaluación de riesgo, clasificación de pacientes (según nivel de asistencia requerida, peso, etc.), monitoreo de la salud de los trabajadores, etc.","NA","0"]
[null,null,null,"Existen procedimientos escritos e informados de MMP de acuerdo con el peso y características del paciente.","NA","0",null,null,null,null,{"$f":"F18","v":0}]
[null,null,null,"La organización del trabajo permite distribuir las tareas de MMP a lo largo de la jornada e incluye periodos de descanso dentro de ella.","NA","0"]
[null,null,"Entrenamiento","Al menos un 75 % de los trabajadores del servicio/unidad recibieron capacitación teórico-práctico en MMP en los últimos 12 meses.","NA","0",null,null,null,null,{"$f":"F18","v":0}]
[null,null,null,null,null,{"$f":"F4+F5+F6+F7+F8+F9+F10+F11+F12+F13+F14+F15+F16+F17","v":0}]
[]
[]
[null,null,null,null,null,null,null,null,null,null,{"$f":"F18","v":0}]
[]
[]
[]
[]
[null,null,null,null,null,null,null,null,null,"Presione solo si al completar Tabla 7  se lo indica el Cuadro de Resultado",{"$f":"F18","v":0}]

{"sheet":"TABLA 7T5P2","index":294,"n_rows":26,"n_cols":11,"rows_kept":26,"cut":false,"hidden":false,"merged":[]}
[]
[null,null,null,"MANEJO MANUAL DE PERSONAS/PACIENTES- IDENTIFICACIÓN AVANZADA  CONDICIÓN ACEPTABLE  ",null,null,null,null,null,"Cuadro de Resultado Tabla 7"]
[null,null,"Riesgo","Empueje y Arrastre de Carga","Si / No / NA"]
[null,null,null,"En promedio, por turno, el trabajador realiza 6 o menos MMP que superen los 15 kg. cada uno.","NA",{"$f":"IF(E4=\"SI\",\"0\",IF(E4=\"NA\",\"0\",\"1\"))","v":"0"},null,null,null,"La Tarea:"]
[null,null,"Aplicación de la Fuerza","Ausencia de asimetría (Ej: cuerpo rotado, torsión y/o inclinación de tronco).","NA",{"$f":"IF(E5=\"SI\",\"0\",IF(E5=\"NA\",\"0\",\"1\"))","v":"0"},null,null,{"$f":"'TABLA 1 P2'!B14","v":"N°5"},{"$f":"'TABLA 1 P2'!C14","v":"NA"}]
[null,null,null,"El paciente es mantenido cerca del cuerpo del trabajador.","NA","0",null,null,null,"Resultado:"]
[null,null,null,"El MMP se realiza entre la altura nudillo suelo y la altura codo suelo (°).","NA","0",null,null,{"$f":"F18","v":0},{"$f":"IF(F18>=1,\"No es Aceptable\",\"Aceptable\")","v":"Aceptable"}]
[null,null,null,"Cuenta con camas regulables en altura.","NA","0",null,null,null,"Por lo que usted:"]
[null,null,"Equipamiento","Existe y se utilizan de forma correcta las ayudas mecánicas.","NA","0",null,null,null,{"$f":"IF(J7=\"Aceptable\",\"Ha Terminado el Proceso de Identificación para esta Tarea\",\"Debe Aplicar Tabla 8\")","v":"Ha Terminado el Proceso de Identificación para esta Tarea"},{"$f":"F18","v":0}]
[null,null,null,"Existen programas de mantenimiento de las ayudas mecánicas, de sillas de rueda y camillas.","NA","0"]
[null,null,"Ambiente y espacios","La iluminación permite visualizar todos los elementos en el espacio de trabajo y la temperatura son adecuadas está entre 19° y 25° grados Celsius.","NA","0",null,null,null,{"$f":"IF(J7=\"Aceptable\",\"Si terminó de responder toda la Tabla 7 Presione Aquí para  regresar a Tabla 1 Información General del Puesto de Trabajo donde podrá continuar con la siguiente Tarea\",\"\")","v":"Si terminó de responder toda la Tabla 7 Presione Aquí para  regresar a Tabla 1 Información General del Puesto de Trabajo donde podrá continuar con la siguiente Tarea"},{"$f":"F18","v":0}]
[null,null,null,"Existe suficiente espacio para moverse libremente y para utilizar las ayudas mecánicas existentes.","NA","0"]
[null,null,null,"Presencia de suelo en salas, pasillos y otros que permiten el normal desplazamiento de sillas de rueda y camillas.","NA","0",null,null,null,null,{"$f":"F18","v":0}]
[null,null,"Organización","Existe un programa institucional para la prevención del riego por MMP: evaluación de riesgo, clasificación de pacientes (según nivel de asistencia requerida, peso, etc.), monitoreo de la salud de los trabajadores, etc.","NA","0"]
[null,null,null,"Existen procedimientos escritos e informados de MMP de acuerdo con el peso y características del paciente.","NA","0",null,null,null,null,{"$f":"F18","v":0}]
[null,null,null,"La organización del trabajo permite distribuir las tareas de MMP a lo largo de la jornada e incluye periodos de descanso dentro de ella.","NA","0"]
[null,null,"Entrenamiento","Al menos un 75 % de los trabajadores del servicio/unidad recibieron capacitación teórico-práctico en MMP en los últimos 12 meses.","NA","0",null,null,null,null,{"$f":"F18","v":0}]
[null,null,null,null,null,{"$f":"F4+F5+F6+F7+F8+F9+F10+F11+F12+F13+F14+F15+F16+F17","v":0}]
[]
[]
[null,null,null,null,null,null,null,null,null,null,{"$f":"F18","v":0}]
[]
[]
[]
[]
[null,null,null,null,null,null,null,null,null,"Presione solo si al completar Tabla 7  se lo indica el Cuadro de Resultado",{"$f":"F18","v":0}]

{"sheet":"TABLA 7T5P3","index":295,"n_rows":26,"n_cols":11,"rows_kept":26,"cut":false,"hidden":false,"merged":[]}
[]
[null,null,null,"MANEJO MANUAL DE PERSONAS/PACIENTES- IDENTIFICACIÓN AVANZADA  CONDICIÓN ACEPTABLE  ",null,null,null,null,null,"Cuadro de Resultado Tabla 7"]
[null,null,"Riesgo","Empueje y Arrastre de Carga","Si / No / NA"]
[null,null,null,"En promedio, por turno, el trabajador realiza 6 o menos MMP que superen los 15 kg. cada uno.","NA",{"$f":"IF(E4=\"SI\",\"0\",IF(E4=\"NA\",\"0\",\"1\"))","v":"0"},null,null,null,"La Tarea:"]
[null,null,"Aplicación de la Fuerza","Ausencia de asimetría (Ej: cuerpo rotado, torsión y/o inclinación de tronco).","NA",{"$f":"IF(E5=\"SI\",\"0\",IF(E5=\"NA\",\"0\",\"1\"))","v":"0"},null,null,{"$f":"'TABLA 1 P3'!B14","v":"N°5"},{"$f":"'TABLA 1 P3'!C14","v":"NA"}]
[null,null,null,"El paciente es mantenido cerca del cuerpo del trabajador.","NA","0",null,null,null,"Resultado:"]
[null,null,null,"El MMP se realiza entre la altura nudillo suelo y la altura codo suelo (°).","NA","0",null,null,{"$f":"F18","v":0},{"$f":"IF(F18>=1,\"No es Aceptable\",\"Aceptable\")","v":"Aceptable"}]
[null,null,null,"Cuenta con camas regulables en altura.","NA","0",null,null,null,"Por lo que usted:"]
[null,null,"Equipamiento","Existe y se utilizan de forma correcta las ayudas mecánicas.","NA","0",null,null,null,{"$f":"IF(J7=\"Aceptable\",\"Ha Terminado el Proceso de Identificación para esta Tarea\",\"Debe Aplicar Tabla 8\")","v":"Ha Terminado el Proceso de Identificación para esta Tarea"},{"$f":"F18","v":0}]
[null,null,null,"Existen programas de mantenimiento de las ayudas mecánicas, de sillas de rueda y camillas.","NA","0"]
[null,null,"Ambiente y espacios","La iluminación permite visualizar todos los elementos en el espacio de trabajo y la temperatura son adecuadas está entre 19° y 25° grados Celsius.","NA","0",null,null,null,{"$f":"IF(J7=\"Aceptable\",\"Si terminó de responder toda la Tabla 7 Presione Aquí para  regresar a Tabla 1 Información General del Puesto de Trabajo donde podrá continuar con la siguiente Tarea\",\"\")","v":"Si terminó de responder toda la Tabla 7 Presione Aquí para  regresar a Tabla 1 Información General del Puesto de Trabajo donde podrá continuar con la siguiente Tarea"},{"$f":"F18","v":0}]
[null,null,null,"Existe suficiente espacio para moverse libremente y para utilizar las ayudas mecánicas existentes.","NA","0"]
[null,null,null,"Presencia de suelo en salas, pasillos y otros que permiten el normal desplazamiento de sillas de rueda y camillas.","NA","0",null,null,null,null,{"$f":"F18","v":0}]
[null,null,"Organización","Existe un programa institucional para la prevención del riego por MMP: evaluación de riesgo, clasificación de pacientes (según nivel de asistencia requerida, peso, etc.), monitoreo de la salud de los trabajadores, etc.","NA","0"]
[null,null,null,"Existen procedimientos escritos e informados de MMP de acuerdo con el peso y características del paciente.","NA","0",null,null,null,null,{"$f":"F18","v":0}]
[null,null,null,"La organización del trabajo permite distribuir las tareas de MMP a lo largo de la jornada e incluye periodos de descanso dentro de ella.","NA","0"]
[null,null,"Entrenamiento","Al menos un 75 % de los trabajadores del servicio/unidad recibieron capacitación teórico-práctico en MMP en los últimos 12 meses.","NA","0",null,null,null,null,{"$f":"F18","v":0}]
[null,null,null,null,null,{"$f":"F4+F5+F6+F7+F8+F9+F10+F11+F12+F13+F14+F15+F16+F17","v":0}]
[]
[]
[null,null,null,null,null,null,null,null,null,null,{"$f":"F18","v":0}]
[]
[]
[]
[]
[null,null,null,null,null,null,null,null,null,"Presione solo si al completar Tabla 7  se lo indica el Cuadro de Resultado",{"$f":"F18","v":0}]

{"sheet":"TABLA 7T5P4","index":296,"n_rows":26,"n_cols":11,"rows_kept":26,"cut":false,"hidden":false,"merged":[]}
[]
[null,null,null,"MANEJO MANUAL DE PERSONAS/PACIENTES- IDENTIFICACIÓN AVANZADA  CONDICIÓN ACEPTABLE  ",null,null,null,null,null,"Cuadro de Resultado Tabla 7"]
[null,null,"Riesgo","Empueje y Arrastre de Carga","Si / No / NA"]
[null,null,null,"En promedio, por turno, el trabajador realiza 6 o menos MMP que superen los 15 kg. cada uno.","NA",{"$f":"IF(E4=\"SI\",\"0\",IF(E4=\"NA\",\"0\",\"1\"))","v":"0"},null,null,null,"La Tarea:"]
[null,null,"Aplicación de la Fuerza","Ausencia de asimetría (Ej: cuerpo rotado, torsión y/o inclinación de tronco).","NA",{"$f":"IF(E5=\"SI\",\"0\",IF(E5=\"NA\",\"0\",\"1\"))","v":"0"},null,null,{"$f":"'TABLA 1 P4'!B14","v":"N°5"},{"$f":"'TABLA 1 P4'!C14","v":"NA"}]
[null,null,null,"El paciente es mantenido cerca del cuerpo del trabajador.","NA","0",null,null,null,"Resultado:"]
[null,null,null,"El MMP se realiza entre la altura nudillo suelo y la altura codo suelo (°).","NA","0",null,null,{"$f":"F18","v":0},{"$f":"IF(F18>=1,\"No es Aceptable\",\"Aceptable\")","v":"Aceptable"}]
[null,null,null,"Cuenta con camas regulables en altura.","NA","0",null,null,null,"Por lo que usted:"]
[null,null,"Equipamiento","Existe y se utilizan de forma correcta las ayudas mecánicas.","NA","0",null,null,null,{"$f":"IF(J7=\"Aceptable\",\"Ha Terminado el Proceso de Identificación para esta Tarea\",\"Debe Aplicar Tabla 8\")","v":"Ha Terminado el Proceso de Identificación para esta Tarea"},{"$f":"F18","v":0}]
[null,null,null,"Existen programas de mantenimiento de las ayudas mecánicas, de sillas de rueda y camillas.","NA","0"]
[null,null,"Ambiente y espacios","La iluminación permite visualizar todos los elementos en el espacio de trabajo y la temperatura son adecuadas está entre 19° y 25° grados Celsius.","NA","0",null,null,null,{"$f":"IF(J7=\"Aceptable\",\"Si terminó de responder toda la Tabla 7 Presione Aquí para  regresar a Tabla 1 Información General del Puesto de Trabajo donde podrá continuar con la siguiente Tarea\",\"\")","v":"Si terminó de responder toda la Tabla 7 Presione Aquí para  regresar a Tabla 1 Información General del Puesto de Trabajo donde podrá continuar con la siguiente Tarea"},{"$f":"F18","v":0}]
[null,null,null,"Existe suficiente espacio para moverse libremente y para utilizar las ayudas mecánicas existentes.","NA","0"]
[null,null,null,"Presencia de suelo en salas, pasillos y otros que permiten el normal desplazamiento de sillas de rueda y camillas.","NA","0",null,null,null,null,{"$f":"F18","v":0}]
[null,null,"Organización","Existe un programa institucional para la prevención del riego por MMP: evaluación de riesgo, clasificación de pacientes (según nivel de asistencia requerida, peso, etc.), monitoreo de la salud de los trabajadores, etc.","NA","0"]
[null,null,null,"Existen procedimientos escritos e informados de MMP de acuerdo con el peso y características del paciente.","NA","0",null,null,null,null,{"$f":"F18","v":0}]
[null,null,null,"La organización del trabajo permite distribuir las tareas de MMP a lo largo de la jornada e incluye periodos de descanso dentro de ella.","NA","0"]
[null,null,"Entrenamiento","Al menos un 75 % de los trabajadores del servicio/unidad recibieron capacitación teórico-práctico en MMP en los últimos 12 meses.","NA","0",null,null,null,null,{"$f":"F18","v":0}]
[null,null,null,null,null,{"$f":"F4+F5+F6+F7+F8+F9+F10+F11+F12+F13+F14+F15+F16+F17","v":0}]
[]
[]
[null,null,null,null,null,null,null,null,null,null,{"$f":"F18","v":0}]
[]
[]
[]
[]
[null,null,null,null,null,null,null,null,null,"Presione solo si al completar Tabla 7  se lo indica el Cuadro de Resultado",{"$f":"F18","v":0}]

{"sheet":"TABLA 7T5P5","index":297,"n_rows":26,"n_cols":11,"rows_kept":26,"cut":false,"hidden":false,"merged":[]}
[]
[null,null,null,"MANEJO MANUAL DE PERSONAS/PACIENTES- IDENTIFICACIÓN AVANZADA  CONDICIÓN ACEPTABLE  ",null,null,null,null,null,"Cuadro de Resultado Tabla 7"]
[null,null,"Riesgo","Empueje y Arrastre de Carga","Si / No / NA"]
[null,null,null,"En promedio, por turno, el trabajador realiza 6 o menos MMP que superen los 15 kg. cada uno.","NA",{"$f":"IF(E4=\"SI\",\"0\",IF(E4=\"NA\",\"0\",\"1\"))","v":"0"},null,null,null,"La Tarea:"]
[null,null,"Aplicación de la Fuerza","Ausencia de asimetría (Ej: cuerpo rotado, torsión y/o inclinación de tronco).","NA",{"$f":"IF(E5=\"SI\",\"0\",IF(E5=\"NA\",\"0\",\"1\"))","v":"0"},null,null,{"$f":"'TABLA 1 P5'!B14","v":"N°5"},{"$f":"'TABLA 1 P5'!C14","v":"NA"}]
[null,null,null,"El paciente es mantenido cerca del cuerpo del trabajador.","NA","0",null,null,null,"Resultado:"]
[null,null,null,"El MMP se realiza entre la altura nudillo suelo y la altura codo suelo (°).","NA","0",null,null,{"$f":"F18","v":0},{"$f":"IF(F18>=1,\"No es Aceptable\",\"Aceptable\")","v":"Aceptable"}]
[null,null,null,"Cuenta con camas regulables en altura.","NA","0",null,null,null,"Por lo que usted:"]
[null,null,"Equipamiento","Existe y se utilizan de forma correcta las ayudas mecánicas.","NA","0",null,null,null,{"$f":"IF(J7=\"Aceptable\",\"Ha Terminado el Proceso de Identificación para esta Tarea\",\"Debe Aplicar Tabla 8\")","v":"Ha Terminado el Proceso de Identificación para esta Tarea"},{"$f":"F18","v":0}]
[null,null,null,"Existen programas de mantenimiento de las ayudas mecánicas, de sillas de rueda y camillas.","NA","0"]
[null,null,"Ambiente y espacios","La iluminación permite visualizar todos los elementos en el espacio de trabajo y la temperatura son adecuadas está entre 19° y 25° grados Celsius.","NA","0",null,null,null,{"$f":"IF(J7=\"Aceptable\",\"Si terminó de responder toda la Tabla 7 Presione Aquí para  regresar a Tabla 1 Información General del Puesto de Trabajo donde podrá continuar con la siguiente Tarea\",\"\")","v":"Si terminó de responder toda la Tabla 7 Presione Aquí para  regresar a Tabla 1 Información General del Puesto de Trabajo donde podrá continuar con la siguiente Tarea"},{"$f":"F18","v":0}]
[null,null,null,"Existe suficiente espacio para moverse libremente y para utilizar las ayudas mecánicas existentes.","NA","0"]
[null,null,null,"Presencia de suelo en salas, pasillos y otros que permiten el normal desplazamiento de sillas de rueda y camillas.","NA","0",null,null,null,null,{"$f":"F18","v":0}]
[null,null,"Organización","Existe un programa institucional para la prevención del riego por MMP: evaluación de riesgo, clasificación de pacientes (según nivel de asistencia requerida, peso, etc.), monitoreo de la salud de los trabajadores, etc.","NA","0"]
[null,null,null,"Existen procedimientos escritos e informados de MMP de acuerdo con el peso y características del paciente.","NA","0",null,null,null,null,{"$f":"F18","v":0}]
[null,null,null,"La organización del trabajo permite distribuir las tareas de MMP a lo largo de la jornada e incluye periodos de descanso dentro de ella.","NA","0"]
[null,null,"Entrenamiento","Al menos un 75 % de los trabajadores del servicio/unidad recibieron capacitación teórico-práctico en MMP en los últimos 12 meses.","NA","0",null,null,null,null,{"$f":"F18","v":0}]
[null,null,null,null,null,{"$f":"F4+F5+F6+F7+F8+F9+F10+F11+F12+F13+F14+F15+F16+F17","v":0}]
[]
[]
[null,null,null,null,null,null,null,null,null,null,{"$f":"F18","v":0}]
[]
[]
[]
[]
[null,null,null,null,null,null,null,null,null,"Presione solo si al completar Tabla 7  se lo indica el Cuadro de Resultado",{"$f":"F18","v":0}]

{"sheet":"TABLA 7T5P6","index":298,"n_rows":26,"n_cols":11,"rows_kept":26,"cut":false,"hidden":false,"merged":[]}
[]
[null,null,null,"MANEJO MANUAL DE PERSONAS/PACIENTES- IDENTIFICACIÓN AVANZADA  CONDICIÓN ACEPTABLE  ",null,null,null,null,null,"Cuadro de Resultado Tabla 7"]
[null,null,"Riesgo","Empueje y Arrastre de Carga","Si / No / NA"]
[null,null,null,"En promedio, por turno, el trabajador realiza 6 o menos MMP que superen los 15 kg. cada uno.","NA",{"$f":"IF(E4=\"SI\",\"0\",IF(E4=\"NA\",\"0\",\"1\"))","v":"0"},null,null,null,"La Tarea:"]
[null,null,"Aplicación de la Fuerza","Ausencia de asimetría (Ej: cuerpo rotado, torsión y/o inclinación de tronco).","NA",{"$f":"IF(E5=\"SI\",\"0\",IF(E5=\"NA\",\"0\",\"1\"))","v":"0"},null,null,{"$f":"'TABLA 1 P6'!B14","v":"N°5"},{"$f":"'TABLA 1 P6'!C14","v":"NA"}]
[null,null,null,"El paciente es mantenido cerca del cuerpo del trabajador.","NA","0",null,null,null,"Resultado:"]
[null,null,null,"El MMP se realiza entre la altura nudillo suelo y la altura codo suelo (°).","NA","0",null,null,{"$f":"F18","v":0},{"$f":"IF(F18>=1,\"No es Aceptable\",\"Aceptable\")","v":"Aceptable"}]
[null,null,null,"Cuenta con camas regulables en altura.","NA","0",null,null,null,"Por lo que usted:"]
[null,null,"Equipamiento","Existe y se utilizan de forma correcta las ayudas mecánicas.","NA","0",null,null,null,{"$f":"IF(J7=\"Aceptable\",\"Ha Terminado el Proceso de Identificación para esta Tarea\",\"Debe Aplicar Tabla 8\")","v":"Ha Terminado el Proceso de Identificación para esta Tarea"},{"$f":"F18","v":0}]
[null,null,null,"Existen programas de mantenimiento de las ayudas mecánicas, de sillas de rueda y camillas.","NA","0"]
[null,null,"Ambiente y espacios","La iluminación permite visualizar todos los elementos en el espacio de trabajo y la temperatura son adecuadas está entre 19° y 25° grados Celsius.","NA","0",null,null,null,{"$f":"IF(J7=\"Aceptable\",\"Si terminó de responder toda la Tabla 7 Presione Aquí para  regresar a Tabla 1 Información General del Puesto de Trabajo donde podrá continuar con la siguiente Tarea\",\"\")","v":"Si terminó de responder toda la Tabla 7 Presione Aquí para  regresar a Tabla 1 Información General del Puesto de Trabajo donde podrá continuar con la siguiente Tarea"},{"$f":"F18","v":0}]
[null,null,null,"Existe suficiente espacio para moverse libremente y para utilizar las ayudas mecánicas existentes.","NA","0"]
[null,null,null,"Presencia de suelo en salas, pasillos y otros que permiten el normal desplazamiento de sillas de rueda y camillas.","NA","0",null,null,null,null,{"$f":"F18","v":0}]
[null,null,"Organización","Existe un programa institucional para la prevención del riego por MMP: evaluación de riesgo, clasificación de pacientes (según nivel de asistencia requerida, peso, etc.), monitoreo de la salud de los trabajadores, etc.","NA","0"]
[null,null,null,"Existen procedimientos escritos e informados de MMP de acuerdo con el peso y características del paciente.","NA","0",null,null,null,null,{"$f":"F18","v":0}]
[null,null,null,"La organización del trabajo permite distribuir las tareas de MMP a lo largo de la jornada e incluye periodos de descanso dentro de ella.","NA","0"]
[null,null,"Entrenamiento","Al menos un 75 % de los trabajadores del servicio/unidad recibieron capacitación teórico-práctico en MMP en los últimos 12 meses.","NA","0",null,null,null,null,{"$f":"F18","v":0}]
[null,null,null,null,null,{"$f":"F4+F5+F6+F7+F8+F9+F10+F11+F12+F13+F14+F15+F16+F17","v":0}]
[]
[]
[null,null,null,null,null,null,null,null,null,null,{"$f":"F18","v":0}]
[]
[]
[]
[]
[null,null,null,null,null,null,null,null,null,"Presione solo si al completar Tabla 7  se lo indica el Cuadro de Resultado",{"$f":"F18","v":0}]

{"sheet":"TABLA 7T5P7","index":299,"n_rows":26,"n_cols":11,"rows_kept":26,"cut":false,"hidden":false,"merged":[]}
[]
[null,null,null,"MANEJO MANUAL DE PERSONAS/PACIENTES- IDENTIFICACIÓN AVANZADA  CONDICIÓN ACEPTABLE  ",null,null,null,null,null,"Cuadro de Resultado Tabla 7"]
[null,null,"Riesgo","Empueje y Arrastre de Carga","Si / No / NA"]
[null,null,null,"En promedio, por turno, el trabajador realiza 6 o menos MMP que superen los 15 kg. cada uno.","NA",{"$f":"IF(E4=\"SI\",\"0\",IF(E4=\"NA\",\"0\",\"1\"))","v":"0"},null,null,null,"La Tarea:"]
[null,null,"Aplicación de la Fuerza","Ausencia de asimetría (Ej: cuerpo rotado, torsión y/o inclinación de tronco).","NA",{"$f":"IF(E5=\"SI\",\"0\",IF(E5=\"NA\",\"0\",\"1\"))","v":"0"},null,null,{"$f":"'TABLA 1 P7'!B14","v":"N°5"},{"$f":"'TABLA 1 P7'!C14","v":"NA"}]
[null,null,null,"El paciente es mantenido cerca del cuerpo del trabajador.","NA","0",null,null,null,"Resultado:"]
[null,null,null,"El MMP se realiza entre la altura nudillo suelo y la altura codo suelo (°).","NA","0",null,null,{"$f":"F18","v":0},{"$f":"IF(F18>=1,\"No es Aceptable\",\"Aceptable\")","v":"Aceptable"}]
[null,null,null,"Cuenta con camas regulables en altura.","NA","0",null,null,null,"Por lo que usted:"]
[null,null,"Equipamiento","Existe y se utilizan de forma correcta las ayudas mecánicas.","NA","0",null,null,null,{"$f":"IF(J7=\"Aceptable\",\"Ha Terminado el Proceso de Identificación para esta Tarea\",\"Debe Aplicar Tabla 8\")","v":"Ha Terminado el Proceso de Identificación para esta Tarea"},{"$f":"F18","v":0}]
[null,null,null,"Existen programas de mantenimiento de las ayudas mecánicas, de sillas de rueda y camillas.","NA","0"]
[null,null,"Ambiente y espacios","La iluminación permite visualizar todos los elementos en el espacio de trabajo y la temperatura son adecuadas está entre 19° y 25° grados Celsius.","NA","0",null,null,null,{"$f":"IF(J7=\"Aceptable\",\"Si terminó de responder toda la Tabla 7 Presione Aquí para  regresar a Tabla 1 Información General del Puesto de Trabajo donde podrá continuar con la siguiente Tarea\",\"\")","v":"Si terminó de responder toda la Tabla 7 Presione Aquí para  regresar a Tabla 1 Información General del Puesto de Trabajo donde podrá continuar con la siguiente Tarea"},{"$f":"F18","v":0}]
[null,null,null,"Existe suficiente espacio para moverse libremente y para utilizar las ayudas mecánicas existentes.","NA","0"]
[null,null,null,"Presencia de suelo en salas, pasillos y otros que permiten el normal desplazamiento de sillas de rueda y camillas.","NA","0",null,null,null,null,{"$f":"F18","v":0}]
[null,null,"Organización","Existe un programa institucional para la prevención del riego por MMP: evaluación de riesgo, clasificación de pacientes (según nivel de asistencia requerida, peso, etc.), monitoreo de la salud de los trabajadores, etc.","NA","0"]
[null,null,null,"Existen procedimientos escritos e informados de MMP de acuerdo con el peso y características del paciente.","NA","0",null,null,null,null,{"$f":"F18","v":0}]
[null,null,null,"La organización del trabajo permite distribuir las tareas de MMP a lo largo de la jornada e incluye periodos de descanso dentro de ella.","NA","0"]
[null,null,"Entrenamiento","Al menos un 75 % de los trabajadores del servicio/unidad recibieron capacitación teórico-práctico en MMP en los últimos 12 meses.","NA","0",null,null,null,null,{"$f":"F18","v":0}]
[null,null,null,null,null,{"$f":"F4+F5+F6+F7+F8+F9+F10+F11+F12+F13+F14+F15+F16+F17","v":0}]
[]
[]
[null,null,null,null,null,null,null,null,null,null,{"$f":"F18","v":0}]
[]
[]
[]
[]
[null,null,null,null,null,null,null,null,null,"Presione solo si al completar Tabla 7  se lo indica el Cuadro de Resultado",{"$f":"F18","v":0}]

{"sheet":"TABLA 7T5P8","index":300,"n_rows":26,"n_cols":11,"rows_kept":26,"cut":false,"hidden":false,"merged":[]}
[]
[null,null,null,"MANEJO MANUAL DE PERSONAS/PACIENTES- IDENTIFICACIÓN AVANZADA  CONDICIÓN ACEPTABLE  ",null,null,null,null,null,"Cuadro de Resultado Tabla 7"]
[null,null,"Riesgo","Empueje y Arrastre de Carga","Si / No / NA"]
[null,null,null,"En promedio, por turno, el trabajador realiza 6 o menos MMP que superen los 15 kg. cada uno.","NA",{"$f":"IF(E4=\"SI\",\"0\",IF(E4=\"NA\",\"0\",\"1\"))","v":"0"},null,null,null,"La Tarea:"]
[null,null,"Aplicación de la Fuerza","Ausencia de asimetría (Ej: cuerpo rotado, torsión y/o inclinación de tronco).","NA",{"$f":"IF(E5=\"SI\",\"0\",IF(E5=\"NA\",\"0\",\"1\"))","v":"0"},null,null,{"$f":"'TABLA 1 P8'!B14","v":"N°5"},{"$f":"'TABLA 1 P8'!C14","v":"NA"}]
[null,null,null,"El paciente es mantenido cerca del cuerpo del trabajador.","NA","0",null,null,null,"Resultado:"]
[null,null,null,"El MMP se realiza entre la altura nudillo suelo y la altura codo suelo (°).","NA","0",null,null,{"$f":"F18","v":0},{"$f":"IF(F18>=1,\"No es Aceptable\",\"Aceptable\")","v":"Aceptable"}]
[null,null,null,"Cuenta con camas regulables en altura.","NA","0",null,null,null,"Por lo que usted:"]
[null,null,"Equipamiento","Existe y se utilizan de forma correcta las ayudas mecánicas.","NA","0",null,null,null,{"$f":"IF(J7=\"Aceptable\",\"Ha Terminado el Proceso de Identificación para esta Tarea\",\"Debe Aplicar Tabla 8\")","v":"Ha Terminado el Proceso de Identificación para esta Tarea"},{"$f":"F18","v":0}]
[null,null,null,"Existen programas de mantenimiento de las ayudas mecánicas, de sillas de rueda y camillas.","NA","0"]
[null,null,"Ambiente y espacios","La iluminación permite visualizar todos los elementos en el espacio de trabajo y la temperatura son adecuadas está entre 19° y 25° grados Celsius.","NA","0",null,null,null,{"$f":"IF(J7=\"Aceptable\",\"Si terminó de responder toda la Tabla 7 Presione Aquí para  regresar a Tabla 1 Información General del Puesto de Trabajo donde podrá continuar con la siguiente Tarea\",\"\")","v":"Si terminó de responder toda la Tabla 7 Presione Aquí para  regresar a Tabla 1 Información General del Puesto de Trabajo donde podrá continuar con la siguiente Tarea"},{"$f":"F18","v":0}]
[null,null,null,"Existe suficiente espacio para moverse libremente y para utilizar las ayudas mecánicas existentes.","NA","0"]
[null,null,null,"Presencia de suelo en salas, pasillos y otros que permiten el normal desplazamiento de sillas de rueda y camillas.","NA","0",null,null,null,null,{"$f":"F18","v":0}]
[null,null,"Organización","Existe un programa institucional para la prevención del riego por MMP: evaluación de riesgo, clasificación de pacientes (según nivel de asistencia requerida, peso, etc.), monitoreo de la salud de los trabajadores, etc.","NA","0"]
[null,null,null,"Existen procedimientos escritos e informados de MMP de acuerdo con el peso y características del paciente.","NA","0",null,null,null,null,{"$f":"F18","v":0}]
[null,null,null,"La organización del trabajo permite distribuir las tareas de MMP a lo largo de la jornada e incluye periodos de descanso dentro de ella.","NA","0"]
[null,null,"Entrenamiento","Al menos un 75 % de los trabajadores del servicio/unidad recibieron capacitación teórico-práctico en MMP en los últimos 12 meses.","NA","0",null,null,null,null,{"$f":"F18","v":0}]
[null,null,null,null,null,{"$f":"F4+F5+F6+F7+F8+F9+F10+F11+F12+F13+F14+F15+F16+F17","v":0}]
[]
[]
[null,null,null,null,null,null,null,null,null,null,{"$f":"F18","v":0}]
[]
[]
[]
[]
[null,null,null,null,null,null,null,null,null,"Presione solo si al completar Tabla 7  se lo indica el Cuadro de Resultado",{"$f":"F18","v":0}]

{"sheet":"TABLA 7T5P9","index":301,"n_rows":26,"n_cols":11,"rows_kept":26,"cut":false,"hidden":false,"merged":[]}
[]
[null,null,null,"MANEJO MANUAL DE PERSONAS/PACIENTES- IDENTIFICACIÓN AVANZADA  CONDICIÓN ACEPTABLE  ",null,null,null,null,null,"Cuadro de Resultado Tabla 7"]
[null,null,"Riesgo","Empueje y Arrastre de Carga","Si / No / NA"]
[null,null,null,"En promedio, por turno, el trabajador realiza 6 o menos MMP que superen los 15 kg. cada uno.","NA",{"$f":"IF(E4=\"SI\",\"0\",IF(E4=\"NA\",\"0\",\"1\"))","v":"0"},null,null,null,"La Tarea:"]
[null,null,"Aplicación de la Fuerza","Ausencia de asimetría (Ej: cuerpo rotado, torsión y/o inclinación de tronco).","NA",{"$f":"IF(E5=\"SI\",\"0\",IF(E5=\"NA\",\"0\",\"1\"))","v":"0"},null,null,{"$f":"'TABLA 1 P9'!B14","v":"N°5"},{"$f":"'TABLA 1 P9'!C14","v":"NA"}]
[null,null,null,"El paciente es mantenido cerca del cuerpo del trabajador.","NA","0",null,null,null,"Resultado:"]
[null,null,null,"El MMP se realiza entre la altura nudillo suelo y la altura codo suelo (°).","NA","0",null,null,{"$f":"F18","v":0},{"$f":"IF(F18>=1,\"No es Aceptable\",\"Aceptable\")","v":"Aceptable"}]
[null,null,null,"Cuenta con camas regulables en altura.","NA","0",null,null,null,"Por lo que usted:"]
[null,null,"Equipamiento","Existe y se utilizan de forma correcta las ayudas mecánicas.","NA","0",null,null,null,{"$f":"IF(J7=\"Aceptable\",\"Ha Terminado el Proceso de Identificación para esta Tarea\",\"Debe Aplicar Tabla 8\")","v":"Ha Terminado el Proceso de Identificación para esta Tarea"},{"$f":"F18","v":0}]
[null,null,null,"Existen programas de mantenimiento de las ayudas mecánicas, de sillas de rueda y camillas.","NA","0"]
[null,null,"Ambiente y espacios","La iluminación permite visualizar todos los elementos en el espacio de trabajo y la temperatura son adecuadas está entre 19° y 25° grados Celsius.","NA","0",null,null,null,{"$f":"IF(J7=\"Aceptable\",\"Si terminó de responder toda la Tabla 7 Presione Aquí para  regresar a Tabla 1 Información General del Puesto de Trabajo donde podrá continuar con la siguiente Tarea\",\"\")","v":"Si terminó de responder toda la Tabla 7 Presione Aquí para  regresar a Tabla 1 Información General del Puesto de Trabajo donde podrá continuar con la siguiente Tarea"},{"$f":"F18","v":0}]
[null,null,null,"Existe suficiente espacio para moverse libremente y para utilizar las ayudas mecánicas existentes.","NA","0"]
[null,null,null,"Presencia de suelo en salas, pasillos y otros que permiten el normal desplazamiento de sillas de rueda y camillas.","NA","0",null,null,null,null,{"$f":"F18","v":0}]
[null,null,"Organización","Existe un programa institucional para la prevención del riego por MMP: evaluación de riesgo, clasificación de pacientes (según nivel de asistencia requerida, peso, etc.), monitoreo de la salud de los trabajadores, etc.","NA","0"]
[null,null,null,"Existen procedimientos escritos e informados de MMP de acuerdo con el peso y características del paciente.","NA","0",null,null,null,null,{"$f":"F18","v":0}]
[null,null,null,"La organización del trabajo permite distribuir las tareas de MMP a lo largo de la jornada e incluye periodos de descanso dentro de ella.","NA","0"]
[null,null,"Entrenamiento","Al menos un 75 % de los trabajadores del servicio/unidad recibieron capacitación teórico-práctico en MMP en los últimos 12 meses.","NA","0",null,null,null,null,{"$f":"F18","v":0}]
[null,null,null,null,null,{"$f":"F4+F5+F6+F7+F8+F9+F10+F11+F12+F13+F14+F15+F16+F17","v":0}]
[]
[]
[null,null,null,null,null,null,null,null,null,null,{"$f":"F18","v":0}]
[]
[]
[]
[]
[null,null,null,null,null,null,null,null,null,"Presione solo si al completar Tabla 7  se lo indica el Cuadro de Resultado",{"$f":"F18","v":0}]

{"sheet":"TABLA 7T5P10","index":302,"n_rows":26,"n_cols":11,"rows_kept":26,"cut":false,"hidden":false,"merged":[]}
[]
[null,null,null,"MANEJO MANUAL DE PERSONAS/PACIENTES- IDENTIFICACIÓN AVANZADA  CONDICIÓN ACEPTABLE  ",null,null,null,null,null,"Cuadro de Resultado Tabla 7"]
[null,null,"Riesgo","Empueje y Arrastre de Carga","Si / No / NA"]
[null,null,null,"En promedio, por turno, el trabajador realiza 6 o menos MMP que superen los 15 kg. cada uno.","NA",{"$f":"IF(E4=\"SI\",\"0\",IF(E4=\"NA\",\"0\",\"1\"))","v":"0"},null,null,null,"La Tarea:"]
[null,null,"Aplicación de la Fuerza","Ausencia de asimetría (Ej: cuerpo rotado, torsión y/o inclinación de tronco).","NA",{"$f":"IF(E5=\"SI\",\"0\",IF(E5=\"NA\",\"0\",\"1\"))","v":"0"},null,null,{"$f":"'TABLA 1 P10'!B14","v":"N°5"},{"$f":"'TABLA 1 P10'!C14","v":"NA"}]
[null,null,null,"El paciente es mantenido cerca del cuerpo del trabajador.","NA","0",null,null,null,"Resultado:"]
[null,null,null,"El MMP se realiza entre la altura nudillo suelo y la altura codo suelo (°).","NA","0",null,null,{"$f":"F18","v":0},{"$f":"IF(F18>=1,\"No es Aceptable\",\"Aceptable\")","v":"Aceptable"}]
[null,null,null,"Cuenta con camas regulables en altura.","NA","0",null,null,null,"Por lo que usted:"]
[null,null,"Equipamiento","Existe y se utilizan de forma correcta las ayudas mecánicas.","NA","0",null,null,null,{"$f":"IF(J7=\"Aceptable\",\"Ha Terminado el Proceso de Identificación para esta Tarea\",\"Debe Aplicar Tabla 8\")","v":"Ha Terminado el Proceso de Identificación para esta Tarea"},{"$f":"F18","v":0}]
[null,null,null,"Existen programas de mantenimiento de las ayudas mecánicas, de sillas de rueda y camillas.","NA","0"]
[null,null,"Ambiente y espacios","La iluminación permite visualizar todos los elementos en el espacio de trabajo y la temperatura son adecuadas está entre 19° y 25° grados Celsius.","NA","0",null,null,null,{"$f":"IF(J7=\"Aceptable\",\"Si terminó de responder toda la Tabla 7 Presione Aquí para  regresar a Tabla 1 Información General del Puesto de Trabajo donde podrá continuar con la siguiente Tarea\",\"\")","v":"Si terminó de responder toda la Tabla 7 Presione Aquí para  regresar a Tabla 1 Información General del Puesto de Trabajo donde podrá continuar con la siguiente Tarea"},{"$f":"F18","v":0}]
[null,null,null,"Existe suficiente espacio para moverse libremente y para utilizar las ayudas mecánicas existentes.","NA","0"]
[null,null,null,"Presencia de suelo en salas, pasillos y otros que permiten el normal desplazamiento de sillas de rueda y camillas.","NA","0",null,null,null,null,{"$f":"F18","v":0}]
[null,null,"Organización","Existe un programa institucional para la prevención del riego por MMP: evaluación de riesgo, clasificación de pacientes (según nivel de asistencia requerida, peso, etc.), monitoreo de la salud de los trabajadores, etc.","NA","0"]
[null,null,null,"Existen procedimientos escritos e informados de MMP de acuerdo con el peso y características del paciente.","NA","0",null,null,null,null,{"$f":"F18","v":0}]
[null,null,null,"La organización del trabajo permite distribuir las tareas de MMP a lo largo de la jornada e incluye periodos de descanso dentro de ella.","NA","0"]
[null,null,"Entrenamiento","Al menos un 75 % de los trabajadores del servicio/unidad recibieron capacitación teórico-práctico en MMP en los últimos 12 meses.","NA","0",null,null,null,null,{"$f":"F18","v":0}]
[null,null,null,null,null,{"$f":"F4+F5+F6+F7+F8+F9+F10+F11+F12+F13+F14+F15+F16+F17","v":0}]
[]
[]
[null,null,null,null,null,null,null,null,null,null,{"$f":"F18","v":0}]
[]
[]
[]
[]
[null,null,null,null,null,null,null,null,null,"Presione solo si al completar Tabla 7  se lo indica el Cuadro de Resultado",{"$f":"F18","v":0}]

{"sheet":"TABLA 8T5P1","index":303,"n_rows":19,"n_cols":10,"rows_kept":19,"cut":false,"hidden":false,"merged":[]}
[]
[null,null,null,"TABLA 8 | MANEJO MANUAL DE PERSONAS/PACIENTES- IDENTIFICACIÓN AVANZADA CONDICIÓN CRÍTICA  ",null,null,null,null,null,"Cuadro de Resultado Tabla 8"]
[null,null,"Condición","Levantamiento/descenso y transporte manual de carga","Si / No / NA"]
[null,null,"Aplicación de la Fuerza","En promedio, por turno, el trabajador realiza 12 o más MMP que superen los 15 kgs. cada uno.","NA",{"$f":"IF(E4=\"No\",\"0\",IF(E4=\"NA\",\"0\",\"1\"))","v":"0"},null,null,null,"La Tarea:"]
[null,null,null,"El MMP se realiza bajo las rodillas o sobre la altura codo suelo","NA",{"$f":"IF(E5=\"No\",\"0\",IF(E5=\"NA\",\"0\",\"1\"))","v":"0"},null,null,{"$f":"'TABLA 1 P1'!B14","v":"N°5"},{"$f":"'TABLA 1 P1'!C14","v":"NA"}]
[null,null,null,"La distancia horizontal entre el cuerpo y el paciente manipulado es superior a 63 cm.","NA","0",null,null,null,"Resultado:"]
[null,null,null,"Torsión extrema del tronco sin movimientos de los pies.","NA","0",null,null,{"$f":"F19","v":0},{"$f":"IF(F19>=1,\"Crítica\",\"No Crítica\")","v":"No Crítica"}]
[null,null,null,"Las camas no son regulables y tienen una altura inferior a 70 cm.","NA","0",null,null,null,"Por lo que usted:"]
[null,null,"Equipamiento","Las camas tienen ninguna o solo 2 ruedas.","NA","0",null,null,null,{"$f":"IF(J7=\"No Crítica\",\"Ha terminado el Proceso de Identificación para esta Tarea y deberá iniciar el proceso de Evaluación Cuantitativa del riesgo\",\"Ha terminado el Proceso de Identificación para esta Tarea y deberá aplicar medidas para reducir el riesgo\")","v":"Ha terminado el Proceso de Identificación para esta Tarea y deberá iniciar el proceso de Evaluación Cuantitativa del riesgo"}]
[null,null,null,"El trabajador hace todo el esfuerzo en el manejo del paciente ya que no se utiliza ningún tipo de ayudas mecánicas.","NA","0"]
[null,null,null,"No existe programa de mantenimiento de las ayudas mecánicas ni de sillas de rueda o camillas.","NA","0",null,null,null,"Si terminó de responder toda la Tabla 8 Presione Aquí para  regresar a Tabla 1 Información General del Puesto de Trabajo donde podrá continuar con la siguiente Tarea"]
[null,null,"Ambiente y espacios","La temperatura ambiente es menor a 18° o superior a 26° grados Celsius y no se cuenta con ropa que proteja de las temperaturas extremas.","NA","0"]
[null,null,null,"Existe menos de 90 cm de espacio entre la cama y la pared o entre las camas, o menos de 120 cm. al final de la cama.","NA","0"]
[null,null,null,"Presencia de suelo resbaladizo, irregular o inestable en salas o pasillos","NA",{"$f":"IF(E14=\"No\",\"0\",IF(E14=\"NA\",\"0\",\"1\"))","v":"0"}]
[null,null,null,"La organización carece de un sistema de clasificación del paciente (según nivel de asistencia, peso, etc.).","NA",{"$f":"IF(E15=\"No\",\"0\",IF(E15=\"NA\",\"0\",\"1\"))","v":"0"}]
[null,null,"Organización","La organización no cuenta con procedimientos escritos e informados de MMP de acuerdo con el peso y características del paciente.","NA","0"]
[null,null,null,"La organización del trabajo genera concentración de tareas de MMP en ciertos horarios de trabajo y no cuenta con pausas de descanso durante la jornada.","NA","0"]
[null,null,"Entrenamiento","Un 50 % o menos de los trabajadores del servicio/unidad recibieron capacitación teórico-práctico en MMP en los últimos 18 meses.","NA","0"]
[null,null,null,null,null,{"$f":"F4+F5+F6+F7+F8+F9+F10+F11+F12+F13+F14+F15+F16+F17+F18","v":0}]

{"sheet":"TABLA 8T5P2","index":304,"n_rows":19,"n_cols":10,"rows_kept":19,"cut":false,"hidden":false,"merged":[]}
[]
[null,null,null,"TABLA 8 | MANEJO MANUAL DE PERSONAS/PACIENTES- IDENTIFICACIÓN AVANZADA CONDICIÓN CRÍTICA  ",null,null,null,null,null,"Cuadro de Resultado Tabla 8"]
[null,null,"Condición","Levantamiento/descenso y transporte manual de carga","Si / No / NA"]
[null,null,"Aplicación de la Fuerza","En promedio, por turno, el trabajador realiza 12 o más MMP que superen los 15 kgs. cada uno.","NA",{"$f":"IF(E4=\"No\",\"0\",IF(E4=\"NA\",\"0\",\"1\"))","v":"0"},null,null,null,"La Tarea:"]
[null,null,null,"El MMP se realiza bajo las rodillas o sobre la altura codo suelo","NA",{"$f":"IF(E5=\"No\",\"0\",IF(E5=\"NA\",\"0\",\"1\"))","v":"0"},null,null,{"$f":"'TABLA 1 P2'!B14","v":"N°5"},{"$f":"'TABLA 1 P2'!C14","v":"NA"}]
[null,null,null,"La distancia horizontal entre el cuerpo y el paciente manipulado es superior a 63 cm.","NA","0",null,null,null,"Resultado:"]
[null,null,null,"Torsión extrema del tronco sin movimientos de los pies.","NA","0",null,null,{"$f":"F19","v":0},{"$f":"IF(F19>=1,\"Crítica\",\"No Crítica\")","v":"No Crítica"}]
[null,null,null,"Las camas no son regulables y tienen una altura inferior a 70 cm.","NA","0",null,null,null,"Por lo que usted:"]
[null,null,"Equipamiento","Las camas tienen ninguna o solo 2 ruedas.","NA","0",null,null,null,{"$f":"IF(J7=\"No Crítica\",\"Ha terminado el Proceso de Identificación para esta Tarea y deberá iniciar el proceso de Evaluación Cuantitativa del riesgo\",\"Ha terminado el Proceso de Identificación para esta Tarea y deberá aplicar medidas para reducir el riesgo\")","v":"Ha terminado el Proceso de Identificación para esta Tarea y deberá iniciar el proceso de Evaluación Cuantitativa del riesgo"}]
[null,null,null,"El trabajador hace todo el esfuerzo en el manejo del paciente ya que no se utiliza ningún tipo de ayudas mecánicas.","NA","0"]
[null,null,null,"No existe programa de mantenimiento de las ayudas mecánicas ni de sillas de rueda o camillas.","NA","0",null,null,null,"Si terminó de responder toda la Tabla 8 Presione Aquí para  regresar a Tabla 1 Información General del Puesto de Trabajo donde podrá continuar con la siguiente Tarea"]
[null,null,"Ambiente y espacios","La temperatura ambiente es menor a 18° o superior a 26° grados Celsius y no se cuenta con ropa que proteja de las temperaturas extremas.","NA","0"]
[null,null,null,"Existe menos de 90 cm de espacio entre la cama y la pared o entre las camas, o menos de 120 cm. al final de la cama.","NA","0"]
[null,null,null,"Presencia de suelo resbaladizo, irregular o inestable en salas o pasillos","NA",{"$f":"IF(E14=\"No\",\"0\",IF(E14=\"NA\",\"0\",\"1\"))","v":"0"}]
[null,null,null,"La organización carece de un sistema de clasificación del paciente (según nivel de asistencia, peso, etc.).","NA",{"$f":"IF(E15=\"No\",\"0\",IF(E15=\"NA\",\"0\",\"1\"))","v":"0"}]
[null,null,"Organización","La organización no cuenta con procedimientos escritos e informados de MMP de acuerdo con el peso y características del paciente.","NA","0"]
[null,null,null,"La organización del trabajo genera concentración de tareas de MMP en ciertos horarios de trabajo y no cuenta con pausas de descanso durante la jornada.","NA","0"]
[null,null,"Entrenamiento","Un 50 % o menos de los trabajadores del servicio/unidad recibieron capacitación teórico-práctico en MMP en los últimos 18 meses.","NA","0"]
[null,null,null,null,null,{"$f":"F4+F5+F6+F7+F8+F9+F10+F11+F12+F13+F14+F15+F16+F17+F18","v":0}]

{"sheet":"TABLA 8T5P3","index":305,"n_rows":19,"n_cols":10,"rows_kept":19,"cut":false,"hidden":false,"merged":[]}
[]
[null,null,null,"TABLA 8 | MANEJO MANUAL DE PERSONAS/PACIENTES- IDENTIFICACIÓN AVANZADA CONDICIÓN CRÍTICA  ",null,null,null,null,null,"Cuadro de Resultado Tabla 8"]
[null,null,"Condición","Levantamiento/descenso y transporte manual de carga","Si / No / NA"]
[null,null,"Aplicación de la Fuerza","En promedio, por turno, el trabajador realiza 12 o más MMP que superen los 15 kgs. cada uno.","NA",{"$f":"IF(E4=\"No\",\"0\",IF(E4=\"NA\",\"0\",\"1\"))","v":"0"},null,null,null,"La Tarea:"]
[null,null,null,"El MMP se realiza bajo las rodillas o sobre la altura codo suelo","NA",{"$f":"IF(E5=\"No\",\"0\",IF(E5=\"NA\",\"0\",\"1\"))","v":"0"},null,null,{"$f":"'TABLA 1 P3'!B14","v":"N°5"},{"$f":"'TABLA 1 P3'!C14","v":"NA"}]
[null,null,null,"La distancia horizontal entre el cuerpo y el paciente manipulado es superior a 63 cm.","NA","0",null,null,null,"Resultado:"]
[null,null,null,"Torsión extrema del tronco sin movimientos de los pies.","NA","0",null,null,{"$f":"F19","v":0},{"$f":"IF(F19>=1,\"Crítica\",\"No Crítica\")","v":"No Crítica"}]
[null,null,null,"Las camas no son regulables y tienen una altura inferior a 70 cm.","NA","0",null,null,null,"Por lo que usted:"]
[null,null,"Equipamiento","Las camas tienen ninguna o solo 2 ruedas.","NA","0",null,null,null,{"$f":"IF(J7=\"No Crítica\",\"Ha terminado el Proceso de Identificación para esta Tarea y deberá iniciar el proceso de Evaluación Cuantitativa del riesgo\",\"Ha terminado el Proceso de Identificación para esta Tarea y deberá aplicar medidas para reducir el riesgo\")","v":"Ha terminado el Proceso de Identificación para esta Tarea y deberá iniciar el proceso de Evaluación Cuantitativa del riesgo"}]
[null,null,null,"El trabajador hace todo el esfuerzo en el manejo del paciente ya que no se utiliza ningún tipo de ayudas mecánicas.","NA","0"]
[null,null,null,"No existe programa de mantenimiento de las ayudas mecánicas ni de sillas de rueda o camillas.","NA","0",null,null,null,"Si terminó de responder toda la Tabla 8 Presione Aquí para  regresar a Tabla 1 Información General del Puesto de Trabajo donde podrá continuar con la siguiente Tarea"]
[null,null,"Ambiente y espacios","La temperatura ambiente es menor a 18° o superior a 26° grados Celsius y no se cuenta con ropa que proteja de las temperaturas extremas.","NA","0"]
[null,null,null,"Existe menos de 90 cm de espacio entre la cama y la pared o entre las camas, o menos de 120 cm. al final de la cama.","NA","0"]
[null,null,null,"Presencia de suelo resbaladizo, irregular o inestable en salas o pasillos","NA",{"$f":"IF(E14=\"No\",\"0\",IF(E14=\"NA\",\"0\",\"1\"))","v":"0"}]
[null,null,null,"La organización carece de un sistema de clasificación del paciente (según nivel de asistencia, peso, etc.).","NA",{"$f":"IF(E15=\"No\",\"0\",IF(E15=\"NA\",\"0\",\"1\"))","v":"0"}]
[null,null,"Organización","La organización no cuenta con procedimientos escritos e informados de MMP de acuerdo con el peso y características del paciente.","NA","0"]
[null,null,null,"La organización del trabajo genera concentración de tareas de MMP en ciertos horarios de trabajo y no cuenta con pausas de descanso durante la jornada.","NA","0"]
[null,null,"Entrenamiento","Un 50 % o menos de los trabajadores del servicio/unidad recibieron capacitación teórico-práctico en MMP en los últimos 18 meses.","NA","0"]
[null,null,null,null,null,{"$f":"F4+F5+F6+F7+F8+F9+F10+F11+F12+F13+F14+F15+F16+F17+F18","v":0}]

{"sheet":"TABLA 8T5P4","index":306,"n_rows":19,"n_cols":10,"rows_kept":19,"cut":false,"hidden":false,"merged":[]}
[]
[null,null,null,"TABLA 8 | MANEJO MANUAL DE PERSONAS/PACIENTES- IDENTIFICACIÓN AVANZADA CONDICIÓN CRÍTICA  ",null,null,null,null,null,"Cuadro de Resultado Tabla 8"]
[null,null,"Condición","Levantamiento/descenso y transporte manual de carga","Si / No / NA"]
[null,null,"Aplicación de la Fuerza","En promedio, por turno, el trabajador realiza 12 o más MMP que superen los 15 kgs. cada uno.","NA",{"$f":"IF(E4=\"No\",\"0\",IF(E4=\"NA\",\"0\",\"1\"))","v":"0"},null,null,null,"La Tarea:"]
[null,null,null,"El MMP se realiza bajo las rodillas o sobre la altura codo suelo","NA",{"$f":"IF(E5=\"No\",\"0\",IF(E5=\"NA\",\"0\",\"1\"))","v":"0"},null,null,{"$f":"'TABLA 1 P4'!B14","v":"N°5"},{"$f":"'TABLA 1 P4'!C14","v":"NA"}]
[null,null,null,"La distancia horizontal entre el cuerpo y el paciente manipulado es superior a 63 cm.","NA","0",null,null,null,"Resultado:"]
[null,null,null,"Torsión extrema del tronco sin movimientos de los pies.","NA","0",null,null,{"$f":"F19","v":0},{"$f":"IF(F19>=1,\"Crítica\",\"No Crítica\")","v":"No Crítica"}]
[null,null,null,"Las camas no son regulables y tienen una altura inferior a 70 cm.","NA","0",null,null,null,"Por lo que usted:"]
[null,null,"Equipamiento","Las camas tienen ninguna o solo 2 ruedas.","NA","0",null,null,null,{"$f":"IF(J7=\"No Crítica\",\"Ha terminado el Proceso de Identificación para esta Tarea y deberá iniciar el proceso de Evaluación Cuantitativa del riesgo\",\"Ha terminado el Proceso de Identificación para esta Tarea y deberá aplicar medidas para reducir el riesgo\")","v":"Ha terminado el Proceso de Identificación para esta Tarea y deberá iniciar el proceso de Evaluación Cuantitativa del riesgo"}]
[null,null,null,"El trabajador hace todo el esfuerzo en el manejo del paciente ya que no se utiliza ningún tipo de ayudas mecánicas.","NA","0"]
[null,null,null,"No existe programa de mantenimiento de las ayudas mecánicas ni de sillas de rueda o camillas.","NA","0",null,null,null,"Si terminó de responder toda la Tabla 8 Presione Aquí para  regresar a Tabla 1 Información General del Puesto de Trabajo donde podrá continuar con la siguiente Tarea"]
[null,null,"Ambiente y espacios","La temperatura ambiente es menor a 18° o superior a 26° grados Celsius y no se cuenta con ropa que proteja de las temperaturas extremas.","NA","0"]
[null,null,null,"Existe menos de 90 cm de espacio entre la cama y la pared o entre las camas, o menos de 120 cm. al final de la cama.","NA","0"]
[null,null,null,"Presencia de suelo resbaladizo, irregular o inestable en salas o pasillos","NA",{"$f":"IF(E14=\"No\",\"0\",IF(E14=\"NA\",\"0\",\"1\"))","v":"0"}]
[null,null,null,"La organización carece de un sistema de clasificación del paciente (según nivel de asistencia, peso, etc.).","NA",{"$f":"IF(E15=\"No\",\"0\",IF(E15=\"NA\",\"0\",\"1\"))","v":"0"}]
[null,null,"Organización","La organización no cuenta con procedimientos escritos e informados de MMP de acuerdo con el peso y características del paciente.","NA","0"]
[null,null,null,"La organización del trabajo genera concentración de tareas de MMP en ciertos horarios de trabajo y no cuenta con pausas de descanso durante la jornada.","NA","0"]
[null,null,"Entrenamiento","Un 50 % o menos de los trabajadores del servicio/unidad recibieron capacitación teórico-práctico en MMP en los últimos 18 meses.","NA","0"]
[null,null,null,null,null,{"$f":"F4+F5+F6+F7+F8+F9+F10+F11+F12+F13+F14+F15+F16+F17+F18","v":0}]

{"sheet":"TABLA 8T5P5","index":307,"n_rows":19,"n_cols":10,"rows_kept":19,"cut":false,"hidden":false,"merged":[]}
[]
[null,null,null,"TABLA 8 | MANEJO MANUAL DE PERSONAS/PACIENTES- IDENTIFICACIÓN AVANZADA CONDICIÓN CRÍTICA  ",null,null,null,null,null,"Cuadro de Resultado Tabla 8"]
[null,null,"Condición","Levantamiento/descenso y transporte manual de carga","Si / No / NA"]
[null,null,"Aplicación de la Fuerza","En promedio, por turno, el trabajador realiza 12 o más MMP que superen los 15 kgs. cada uno.","NA",{"$f":"IF(E4=\"No\",\"0\",IF(E4=\"NA\",\"0\",\"1\"))","v":"0"},null,null,null,"La Tarea:"]
[null,null,null,"El MMP se realiza bajo las rodillas o sobre la altura codo suelo","NA",{"$f":"IF(E5=\"No\",\"0\",IF(E5=\"NA\",\"0\",\"1\"))","v":"0"},null,null,{"$f":"'TABLA 1 P5'!B14","v":"N°5"},{"$f":"'TABLA 1 P5'!C14","v":"NA"}]
[null,null,null,"La distancia horizontal entre el cuerpo y el paciente manipulado es superior a 63 cm.","NA","0",null,null,null,"Resultado:"]
[null,null,null,"Torsión extrema del tronco sin movimientos de los pies.","NA","0",null,null,{"$f":"F19","v":0},{"$f":"IF(F19>=1,\"Crítica\",\"No Crítica\")","v":"No Crítica"}]
[null,null,null,"Las camas no son regulables y tienen una altura inferior a 70 cm.","NA","0",null,null,null,"Por lo que usted:"]
[null,null,"Equipamiento","Las camas tienen ninguna o solo 2 ruedas.","NA","0",null,null,null,{"$f":"IF(J7=\"No Crítica\",\"Ha terminado el Proceso de Identificación para esta Tarea y deberá iniciar el proceso de Evaluación Cuantitativa del riesgo\",\"Ha terminado el Proceso de Identificación para esta Tarea y deberá aplicar medidas para reducir el riesgo\")","v":"Ha terminado el Proceso de Identificación para esta Tarea y deberá iniciar el proceso de Evaluación Cuantitativa del riesgo"}]
[null,null,null,"El trabajador hace todo el esfuerzo en el manejo del paciente ya que no se utiliza ningún tipo de ayudas mecánicas.","NA","0"]
[null,null,null,"No existe programa de mantenimiento de las ayudas mecánicas ni de sillas de rueda o camillas.","NA","0",null,null,null,"Si terminó de responder toda la Tabla 8 Presione Aquí para  regresar a Tabla 1 Información General del Puesto de Trabajo donde podrá continuar con la siguiente Tarea"]
[null,null,"Ambiente y espacios","La temperatura ambiente es menor a 18° o superior a 26° grados Celsius y no se cuenta con ropa que proteja de las temperaturas extremas.","NA","0"]
[null,null,null,"Existe menos de 90 cm de espacio entre la cama y la pared o entre las camas, o menos de 120 cm. al final de la cama.","NA","0"]
[null,null,null,"Presencia de suelo resbaladizo, irregular o inestable en salas o pasillos","NA",{"$f":"IF(E14=\"No\",\"0\",IF(E14=\"NA\",\"0\",\"1\"))","v":"0"}]
[null,null,null,"La organización carece de un sistema de clasificación del paciente (según nivel de asistencia, peso, etc.).","NA",{"$f":"IF(E15=\"No\",\"0\",IF(E15=\"NA\",\"0\",\"1\"))","v":"0"}]
[null,null,"Organización","La organización no cuenta con procedimientos escritos e informados de MMP de acuerdo con el peso y características del paciente.","NA","0"]
[null,null,null,"La organización del trabajo genera concentración de tareas de MMP en ciertos horarios de trabajo y no cuenta con pausas de descanso durante la jornada.","NA","0"]
[null,null,"Entrenamiento","Un 50 % o menos de los trabajadores del servicio/unidad recibieron capacitación teórico-práctico en MMP en los últimos 18 meses.","NA","0"]
[null,null,null,null,null,{"$f":"F4+F5+F6+F7+F8+F9+F10+F11+F12+F13+F14+F15+F16+F17+F18","v":0}]

{"sheet":"TABLA 8T5P6","index":308,"n_rows":19,"n_cols":10,"rows_kept":19,"cut":false,"hidden":false,"merged":[]}
[]
[null,null,null,"TABLA 8 | MANEJO MANUAL DE PERSONAS/PACIENTES- IDENTIFICACIÓN AVANZADA CONDICIÓN CRÍTICA  ",null,null,null,null,null,"Cuadro de Resultado Tabla 8"]
[null,null,"Condición","Levantamiento/descenso y transporte manual de carga","Si / No / NA"]
[null,null,"Aplicación de la Fuerza","En promedio, por turno, el trabajador realiza 12 o más MMP que superen los 15 kgs. cada uno.","NA",{"$f":"IF(E4=\"No\",\"0\",IF(E4=\"NA\",\"0\",\"1\"))","v":"0"},null,null,null,"La Tarea:"]
[null,null,null,"El MMP se realiza bajo las rodillas o sobre la altura codo suelo","NA",{"$f":"IF(E5=\"No\",\"0\",IF(E5=\"NA\",\"0\",\"1\"))","v":"0"},null,null,{"$f":"'TABLA 1 P6'!B14","v":"N°5"},{"$f":"'TABLA 1 P6'!C14","v":"NA"}]
[null,null,null,"La distancia horizontal entre el cuerpo y el paciente manipulado es superior a 63 cm.","NA","0",null,null,null,"Resultado:"]
[null,null,null,"Torsión extrema del tronco sin movimientos de los pies.","NA","0",null,null,{"$f":"F19","v":0},{"$f":"IF(F19>=1,\"Crítica\",\"No Crítica\")","v":"No Crítica"}]
[null,null,null,"Las camas no son regulables y tienen una altura inferior a 70 cm.","NA","0",null,null,null,"Por lo que usted:"]
[null,null,"Equipamiento","Las camas tienen ninguna o solo 2 ruedas.","NA","0",null,null,null,{"$f":"IF(J7=\"No Crítica\",\"Ha terminado el Proceso de Identificación para esta Tarea y deberá iniciar el proceso de Evaluación Cuantitativa del riesgo\",\"Ha terminado el Proceso de Identificación para esta Tarea y deberá aplicar medidas para reducir el riesgo\")","v":"Ha terminado el Proceso de Identificación para esta Tarea y deberá iniciar el proceso de Evaluación Cuantitativa del riesgo"}]
[null,null,null,"El trabajador hace todo el esfuerzo en el manejo del paciente ya que no se utiliza ningún tipo de ayudas mecánicas.","NA","0"]
[null,null,null,"No existe programa de mantenimiento de las ayudas mecánicas ni de sillas de rueda o camillas.","NA","0",null,null,null,"Si terminó de responder toda la Tabla 8 Presione Aquí para  regresar a Tabla 1 Información General del Puesto de Trabajo donde podrá continuar con la siguiente Tarea"]
[null,null,"Ambiente y espacios","La temperatura ambiente es menor a 18° o superior a 26° grados Celsius y no se cuenta con ropa que proteja de las temperaturas extremas.","NA","0"]
[null,null,null,"Existe menos de 90 cm de espacio entre la cama y la pared o entre las camas, o menos de 120 cm. al final de la cama.","NA","0"]
[null,null,null,"Presencia de suelo resbaladizo, irregular o inestable en salas o pasillos","NA",{"$f":"IF(E14=\"No\",\"0\",IF(E14=\"NA\",\"0\",\"1\"))","v":"0"}]
[null,null,null,"La organización carece de un sistema de clasificación del paciente (según nivel de asistencia, peso, etc.).","NA",{"$f":"IF(E15=\"No\",\"0\",IF(E15=\"NA\",\"0\",\"1\"))","v":"0"}]
[null,null,"Organización","La organización no cuenta con procedimientos escritos e informados de MMP de acuerdo con el peso y características del paciente.","NA","0"]
[null,null,null,"La organización del trabajo genera concentración de tareas de MMP en ciertos horarios de trabajo y no cuenta con pausas de descanso durante la jornada.","NA","0"]
[null,null,"Entrenamiento","Un 50 % o menos de los trabajadores del servicio/unidad recibieron capacitación teórico-práctico en MMP en los últimos 18 meses.","NA","0"]
[null,null,null,null,null,{"$f":"F4+F5+F6+F7+F8+F9+F10+F11+F12+F13+F14+F15+F16+F17+F18","v":0}]

{"sheet":"TABLA 8T5P7","index":309,"n_rows":19,"n_cols":10,"rows_kept":19,"cut":false,"hidden":false,"merged":[]}
[]
[null,null,null,"TABLA 8 | MANEJO MANUAL DE PERSONAS/PACIENTES- IDENTIFICACIÓN AVANZADA CONDICIÓN CRÍTICA  ",null,null,null,null,null,"Cuadro de Resultado Tabla 8"]
[null,null,"Condición","Levantamiento/descenso y transporte manual de carga","Si / No / NA"]
[null,null,"Aplicación de la Fuerza","En promedio, por turno, el trabajador realiza 12 o más MMP que superen los 15 kgs. cada uno.","NA",{"$f":"IF(E4=\"No\",\"0\",IF(E4=\"NA\",\"0\",\"1\"))","v":"0"},null,null,null,"La Tarea:"]
[null,null,null,"El MMP se realiza bajo las rodillas o sobre la altura codo suelo","NA",{"$f":"IF(E5=\"No\",\"0\",IF(E5=\"NA\",\"0\",\"1\"))","v":"0"},null,null,{"$f":"'TABLA 1 P7'!B14","v":"N°5"},{"$f":"'TABLA 1 P7'!C14","v":"NA"}]
[null,null,null,"La distancia horizontal entre el cuerpo y el paciente manipulado es superior a 63 cm.","NA","0",null,null,null,"Resultado:"]
[null,null,null,"Torsión extrema del tronco sin movimientos de los pies.","NA","0",null,null,{"$f":"F19","v":0},{"$f":"IF(F19>=1,\"Crítica\",\"No Crítica\")","v":"No Crítica"}]
[null,null,null,"Las camas no son regulables y tienen una altura inferior a 70 cm.","NA","0",null,null,null,"Por lo que usted:"]
[null,null,"Equipamiento","Las camas tienen ninguna o solo 2 ruedas.","NA","0",null,null,null,{"$f":"IF(J7=\"No Crítica\",\"Ha terminado el Proceso de Identificación para esta Tarea y deberá iniciar el proceso de Evaluación Cuantitativa del riesgo\",\"Ha terminado el Proceso de Identificación para esta Tarea y deberá aplicar medidas para reducir el riesgo\")","v":"Ha terminado el Proceso de Identificación para esta Tarea y deberá iniciar el proceso de Evaluación Cuantitativa del riesgo"}]
[null,null,null,"El trabajador hace todo el esfuerzo en el manejo del paciente ya que no se utiliza ningún tipo de ayudas mecánicas.","NA","0"]
[null,null,null,"No existe programa de mantenimiento de las ayudas mecánicas ni de sillas de rueda o camillas.","NA","0",null,null,null,"Si terminó de responder toda la Tabla 8 Presione Aquí para  regresar a Tabla 1 Información General del Puesto de Trabajo donde podrá continuar con la siguiente Tarea"]
[null,null,"Ambiente y espacios","La temperatura ambiente es menor a 18° o superior a 26° grados Celsius y no se cuenta con ropa que proteja de las temperaturas extremas.","NA","0"]
[null,null,null,"Existe menos de 90 cm de espacio entre la cama y la pared o entre las camas, o menos de 120 cm. al final de la cama.","NA","0"]
[null,null,null,"Presencia de suelo resbaladizo, irregular o inestable en salas o pasillos","NA",{"$f":"IF(E14=\"No\",\"0\",IF(E14=\"NA\",\"0\",\"1\"))","v":"0"}]
[null,null,null,"La organización carece de un sistema de clasificación del paciente (según nivel de asistencia, peso, etc.).","NA",{"$f":"IF(E15=\"No\",\"0\",IF(E15=\"NA\",\"0\",\"1\"))","v":"0"}]
[null,null,"Organización","La organización no cuenta con procedimientos escritos e informados de MMP de acuerdo con el peso y características del paciente.","NA","0"]
[null,null,null,"La organización del trabajo genera concentración de tareas de MMP en ciertos horarios de trabajo y no cuenta con pausas de descanso durante la jornada.","NA","0"]
[null,null,"Entrenamiento","Un 50 % o menos de los trabajadores del servicio/unidad recibieron capacitación teórico-práctico en MMP en los últimos 18 meses.","NA","0"]
[null,null,null,null,null,{"$f":"F4+F5+F6+F7+F8+F9+F10+F11+F12+F13+F14+F15+F16+F17+F18","v":0}]

{"sheet":"TABLA 8T5P8","index":310,"n_rows":19,"n_cols":10,"rows_kept":19,"cut":false,"hidden":false,"merged":[]}
[]
[null,null,null,"TABLA 8 | MANEJO MANUAL DE PERSONAS/PACIENTES- IDENTIFICACIÓN AVANZADA CONDICIÓN CRÍTICA  ",null,null,null,null,null,"Cuadro de Resultado Tabla 8"]
[null,null,"Condición","Levantamiento/descenso y transporte manual de carga","Si / No / NA"]
[null,null,"Aplicación de la Fuerza","En promedio, por turno, el trabajador realiza 12 o más MMP que superen los 15 kgs. cada uno.","NA",{"$f":"IF(E4=\"No\",\"0\",IF(E4=\"NA\",\"0\",\"1\"))","v":"0"},null,null,null,"La Tarea:"]
[null,null,null,"El MMP se realiza bajo las rodillas o sobre la altura codo suelo","NA",{"$f":"IF(E5=\"No\",\"0\",IF(E5=\"NA\",\"0\",\"1\"))","v":"0"},null,null,{"$f":"'TABLA 1 P8'!B14","v":"N°5"},{"$f":"'TABLA 1 P8'!C14","v":"NA"}]
[null,null,null,"La distancia horizontal entre el cuerpo y el paciente manipulado es superior a 63 cm.","NA","0",null,null,null,"Resultado:"]
[null,null,null,"Torsión extrema del tronco sin movimientos de los pies.","NA","0",null,null,{"$f":"F19","v":0},{"$f":"IF(F19>=1,\"Crítica\",\"No Crítica\")","v":"No Crítica"}]
[null,null,null,"Las camas no son regulables y tienen una altura inferior a 70 cm.","NA","0",null,null,null,"Por lo que usted:"]
[null,null,"Equipamiento","Las camas tienen ninguna o solo 2 ruedas.","NA","0",null,null,null,{"$f":"IF(J7=\"No Crítica\",\"Ha terminado el Proceso de Identificación para esta Tarea y deberá iniciar el proceso de Evaluación Cuantitativa del riesgo\",\"Ha terminado el Proceso de Identificación para esta Tarea y deberá aplicar medidas para reducir el riesgo\")","v":"Ha terminado el Proceso de Identificación para esta Tarea y deberá iniciar el proceso de Evaluación Cuantitativa del riesgo"}]
[null,null,null,"El trabajador hace todo el esfuerzo en el manejo del paciente ya que no se utiliza ningún tipo de ayudas mecánicas.","NA","0"]
[null,null,null,"No existe programa de mantenimiento de las ayudas mecánicas ni de sillas de rueda o camillas.","NA","0",null,null,null,"Si terminó de responder toda la Tabla 8 Presione Aquí para  regresar a Tabla 1 Información General del Puesto de Trabajo donde podrá continuar con la siguiente Tarea"]
[null,null,"Ambiente y espacios","La temperatura ambiente es menor a 18° o superior a 26° grados Celsius y no se cuenta con ropa que proteja de las temperaturas extremas.","NA","0"]
[null,null,null,"Existe menos de 90 cm de espacio entre la cama y la pared o entre las camas, o menos de 120 cm. al final de la cama.","NA","0"]
[null,null,null,"Presencia de suelo resbaladizo, irregular o inestable en salas o pasillos","NA",{"$f":"IF(E14=\"No\",\"0\",IF(E14=\"NA\",\"0\",\"1\"))","v":"0"}]
[null,null,null,"La organización carece de un sistema de clasificación del paciente (según nivel de asistencia, peso, etc.).","NA",{"$f":"IF(E15=\"No\",\"0\",IF(E15=\"NA\",\"0\",\"1\"))","v":"0"}]
[null,null,"Organización","La organización no cuenta con procedimientos escritos e informados de MMP de acuerdo con el peso y características del paciente.","NA","0"]
[null,null,null,"La organización del trabajo genera concentración de tareas de MMP en ciertos horarios de trabajo y no cuenta con pausas de descanso durante la jornada.","NA","0"]
[null,null,"Entrenamiento","Un 50 % o menos de los trabajadores del servicio/unidad recibieron capacitación teórico-práctico en MMP en los últimos 18 meses.","NA","0"]
[null,null,null,null,null,{"$f":"F4+F5+F6+F7+F8+F9+F10+F11+F12+F13+F14+F15+F16+F17+F18","v":0}]

{"sheet":"TABLA 8T5P9","index":311,"n_rows":19,"n_cols":10,"rows_kept":19,"cut":false,"hidden":false,"merged":[]}
[]
[null,null,null,"TABLA 8 | MANEJO MANUAL DE PERSONAS/PACIENTES- IDENTIFICACIÓN AVANZADA CONDICIÓN CRÍTICA  ",null,null,null,null,null,"Cuadro de Resultado Tabla 8"]
[null,null,"Condición","Levantamiento/descenso y transporte manual de carga","Si / No / NA"]
[null,null,"Aplicación de la Fuerza","En promedio, por turno, el trabajador realiza 12 o más MMP que superen los 15 kgs. cada uno.","NA",{"$f":"IF(E4=\"No\",\"0\",IF(E4=\"NA\",\"0\",\"1\"))","v":"0"},null,null,null,"La Tarea:"]
[null,null,null,"El MMP se realiza bajo las rodillas o sobre la altura codo suelo","NA",{"$f":"IF(E5=\"No\",\"0\",IF(E5=\"NA\",\"0\",\"1\"))","v":"0"},null,null,{"$f":"'TABLA 1 P9'!B14","v":"N°5"},{"$f":"'TABLA 1 P9'!C14","v":"NA"}]
[null,null,null,"La distancia horizontal entre el cuerpo y el paciente manipulado es superior a 63 cm.","NA","0",null,null,null,"Resultado:"]
[null,null,null,"Torsión extrema del tronco sin movimientos de los pies.","NA","0",null,null,{"$f":"F19","v":0},{"$f":"IF(F19>=1,\"Crítica\",\"No Crítica\")","v":"No Crítica"}]
[null,null,null,"Las camas no son regulables y tienen una altura inferior a 70 cm.","NA","0",null,null,null,"Por lo que usted:"]
[null,null,"Equipamiento","Las camas tienen ninguna o solo 2 ruedas.","NA","0",null,null,null,{"$f":"IF(J7=\"No Crítica\",\"Ha terminado el Proceso de Identificación para esta Tarea y deberá iniciar el proceso de Evaluación Cuantitativa del riesgo\",\"Ha terminado el Proceso de Identificación para esta Tarea y deberá aplicar medidas para reducir el riesgo\")","v":"Ha terminado el Proceso de Identificación para esta Tarea y deberá iniciar el proceso de Evaluación Cuantitativa del riesgo"}]
[null,null,null,"El trabajador hace todo el esfuerzo en el manejo del paciente ya que no se utiliza ningún tipo de ayudas mecánicas.","NA","0"]
[null,null,null,"No existe programa de mantenimiento de las ayudas mecánicas ni de sillas de rueda o camillas.","NA","0",null,null,null,"Si terminó de responder toda la Tabla 8 Presione Aquí para  regresar a Tabla 1 Información General del Puesto de Trabajo donde podrá continuar con la siguiente Tarea"]
[null,null,"Ambiente y espacios","La temperatura ambiente es menor a 18° o superior a 26° grados Celsius y no se cuenta con ropa que proteja de las temperaturas extremas.","NA","0"]
[null,null,null,"Existe menos de 90 cm de espacio entre la cama y la pared o entre las camas, o menos de 120 cm. al final de la cama.","NA","0"]
[null,null,null,"Presencia de suelo resbaladizo, irregular o inestable en salas o pasillos","NA",{"$f":"IF(E14=\"No\",\"0\",IF(E14=\"NA\",\"0\",\"1\"))","v":"0"}]
[null,null,null,"La organización carece de un sistema de clasificación del paciente (según nivel de asistencia, peso, etc.).","NA",{"$f":"IF(E15=\"No\",\"0\",IF(E15=\"NA\",\"0\",\"1\"))","v":"0"}]
[null,null,"Organización","La organización no cuenta con procedimientos escritos e informados de MMP de acuerdo con el peso y características del paciente.","NA","0"]
[null,null,null,"La organización del trabajo genera concentración de tareas de MMP en ciertos horarios de trabajo y no cuenta con pausas de descanso durante la jornada.","NA","0"]
[null,null,"Entrenamiento","Un 50 % o menos de los trabajadores del servicio/unidad recibieron capacitación teórico-práctico en MMP en los últimos 18 meses.","NA","0"]
[null,null,null,null,null,{"$f":"F4+F5+F6+F7+F8+F9+F10+F11+F12+F13+F14+F15+F16+F17+F18","v":0}]

{"sheet":"TABLA 8T5P10","index":312,"n_rows":19,"n_cols":10,"rows_kept":19,"cut":false,"hidden":false,"merged":[]}
[]
[null,null,null,"TABLA 8 | MANEJO MANUAL DE PERSONAS/PACIENTES- IDENTIFICACIÓN AVANZADA CONDICIÓN CRÍTICA  ",null,null,null,null,null,"Cuadro de Resultado Tabla 8"]
[null,null,"Condición","Levantamiento/descenso y transporte manual de carga","Si / No / NA"]
[null,null,"Aplicación de la Fuerza","En promedio, por turno, el trabajador realiza 12 o más MMP que superen los 15 kgs. cada uno.","NA",{"$f":"IF(E4=\"No\",\"0\",IF(E4=\"NA\",\"0\",\"1\"))","v":"0"},null,null,null,"La Tarea:"]
[null,null,null,"El MMP se realiza bajo las rodillas o sobre la altura codo suelo","NA",{"$f":"IF(E5=\"No\",\"0\",IF(E5=\"NA\",\"0\",\"1\"))","v":"0"},null,null,{"$f":"'TABLA 1 P10'!B14","v":"N°5"},{"$f":"'TABLA 1 P10'!C14","v":"NA"}]
[null,null,null,"La distancia horizontal entre el cuerpo y el paciente manipulado es superior a 63 cm.","NA","0",null,null,null,"Resultado:"]
[null,null,null,"Torsión extrema del tronco sin movimientos de los pies.","NA","0",null,null,{"$f":"F19","v":0},{"$f":"IF(F19>=1,\"Crítica\",\"No Crítica\")","v":"No Crítica"}]
[null,null,null,"Las camas no son regulables y tienen una altura inferior a 70 cm.","NA","0",null,null,null,"Por lo que usted:"]
[null,null,"Equipamiento","Las camas tienen ninguna o solo 2 ruedas.","NA","0",null,null,null,{"$f":"IF(J7=\"No Crítica\",\"Ha terminado el Proceso de Identificación para esta Tarea y deberá iniciar el proceso de Evaluación Cuantitativa del riesgo\",\"Ha terminado el Proceso de Identificación para esta Tarea y deberá aplicar medidas para reducir el riesgo\")","v":"Ha terminado el Proceso de Identificación para esta Tarea y deberá iniciar el proceso de Evaluación Cuantitativa del riesgo"}]
[null,null,null,"El trabajador hace todo el esfuerzo en el manejo del paciente ya que no se utiliza ningún tipo de ayudas mecánicas.","NA","0"]
[null,null,null,"No existe programa de mantenimiento de las ayudas mecánicas ni de sillas de rueda o camillas.","NA","0",null,null,null,"Si terminó de responder toda la Tabla 8 Presione Aquí para  regresar a Tabla 1 Información General del Puesto de Trabajo donde podrá continuar con la siguiente Tarea"]
[null,null,"Ambiente y espacios","La temperatura ambiente es menor a 18° o superior a 26° grados Celsius y no se cuenta con ropa que proteja de las temperaturas extremas.","NA","0"]
[null,null,null,"Existe menos de 90 cm de espacio entre la cama y la pared o entre las camas, o menos de 120 cm. al final de la cama.","NA","0"]
[null,null,null,"Presencia de suelo resbaladizo, irregular o inestable en salas o pasillos","NA",{"$f":"IF(E14=\"No\",\"0\",IF(E14=\"NA\",\"0\",\"1\"))","v":"0"}]
[null,null,null,"La organización carece de un sistema de clasificación del paciente (según nivel de asistencia, peso, etc.).","NA",{"$f":"IF(E15=\"No\",\"0\",IF(E15=\"NA\",\"0\",\"1\"))","v":"0"}]
[null,null,"Organización","La organización no cuenta con procedimientos escritos e informados de MMP de acuerdo con el peso y características del paciente.","NA","0"]
[null,null,null,"La organización del trabajo genera concentración de tareas de MMP en ciertos horarios de trabajo y no cuenta con pausas de descanso durante la jornada.","NA","0"]
[null,null,"Entrenamiento","Un 50 % o menos de los trabajadores del servicio/unidad recibieron capacitación teórico-práctico en MMP en los últimos 18 meses.","NA","0"]
[null,null,null,null,null,{"$f":"F4+F5+F6+F7+F8+F9+F10+F11+F12+F13+F14+F15+F16+F17+F18","v":0}]

{"sheet":"FICHA RESULTADOS PUESTOS","index":313,"n_rows":1304,"n_cols":3,"rows_kept":1304,"cut":false,"hidden":false,"merged":[]}
[]
[]
[]
[]
[]
[]
[]
["Razón Social",{"$f":"'Datos Empresa'!D5","v":0},"Cargo Responsable"]
["RUT Empresa",{"$f":"'Datos Empresa'!D8","v":0},{"$f":"'Datos Empresa'!D29","v":0}]
["Dirección del Centro Trabajo",{"$f":"'Datos Empresa'!D14","v":0},"Correo electrónico Responsable"]
["Región",{"$f":"'Datos Empresa'!D17","v":0},{"$f":"'Datos Empresa'!D32","v":0}]
["Comuna",{"$f":"'Datos Empresa'!D20","v":0},"Teléfono de contacto"]
["Responsable",{"$f":"'Datos Empresa'!D26","v":0},{"$f":"'Datos Empresa'!D35","v":0}]
["RUN Responsable",{"$f":"'Datos Empresa'!D23","v":0}]
[]
[]
[]
[]
[]
[]
["Puesto de Trabajo  N°  ❶",{"$f":"'Listado de Puestos de Trabajo'!D6","v":"Disponible Puesto 1"}]
["Resultado Proceso de Identificación","Acciones Proceso de Identificación","Próximo paso"]
[]
[{"$f":"IF(AND(A52=\"\",B52=\"\",C52=\"\",A68=\"\",B68=\"\",C68=\"\",A84=\"\",B84=\"\",C84=\"\",A100=\"\",B100=\"\",C100=\"\",A116=\"\",B116=\"\",C116=\"\"),\"\",\"Condición Crítica\")","v":""},{"$f":"IF(A24=\"Condición Crítica\",\"Deberán corregir la(s) condición(es) crítica(s) dentro del plazo establecido y luego volver a aplicar tablas de identificación avanzada.\",\"\")","v":""},{"$f":"IF(A24=\"Condición Crítica\",\"Tendrán un máximo de 60 días para implementar medidas de corrección. La ACHS podrá indicar un tiempo mayor o menor, el cual en ningún caso podrá exceder a los 180 días.\",\"\")","v":""}]
[{"$f":"IF(AND(A51=\"\",B51=\"\",C51=\"\",A67=\"\",B67=\"\",C67=\"\",A83=\"\",B83=\"\",C83=\"\",A99=\"\",B99=\"\",C99=\"\",A115=\"\",B115=\"\",C115=\"\"),\"\",\"Presencia de riesgo No Crítico\")","v":""},{"$f":"IF(A25=\"Presencia de riesgo No Crítico\",\"Deberán realizar evaluación cuantitativa especializada.\",\"\")","v":""},{"$f":"IF(A25=\"Presencia de riesgo No Crítico\",\"Deberán contar con la asesoría de un especialista en ergonomía y para ello contará con un plazo de 60 días considerando la verificación de la disminución del riesgo, mediante metodología especializada.\",\"\")","v":""}]
[{"$f":"IF(AND(A50=\"Ausencia de riesgo\",B50=\"Ausencia de riesgo\",C50=\"Ausencia de riesgo\",A66=\"Ausencia de riesgo\",B66=\"Ausencia de riesgo\",C66=\"Ausencia de riesgo\",A82=\"Ausencia de riesgo\",B82=\"Ausencia de riesgo\",C82=\"Ausencia de riesgo\",A98=\"Ausencia de riesgo\",B98=\"Ausencia de riesgo\",C98=\"Ausencia de riesgo\",A114=\"Ausencia de riesgo\",B114=\"Ausencia de riesgo\",C114=\"Ausencia de riesgo\"),\"Ausencia de Riesgo\",\"\")","v":"Ausencia de Riesgo"},{"$f":"IF(A26=\"Ausencia de riesgo\",\"Pueden mantener y asegurar las condiciones por un periodo de 4 años o volver a identificar solo si estas cambian.\",\"\")","v":"Pueden mantener y asegurar las condiciones por un periodo de 4 años o volver a identificar solo si estas cambian."},{"$f":"IF(A26=\"Ausencia de Riesgo\",\"No será necesario continuar con evaluación de riesgo, pero si deberá realizar revisiones periódicas,principalmente cuando existan modificaciones de tareas en el puesto de trabajo.\",\"\")","v":"No será necesario continuar con evaluación de riesgo, pero si deberá realizar revisiones periódicas,principalmente cuando existan modificaciones de tareas en el puesto de trabajo."}]
[]
[]
[]
[null,null,{"$f":"IF(A25=\"Presencia de riesgo No Crítico\",\"Nota:  No se realizará la evaluación del riesgo si solo la condición no es aceptable en las preguntas relacionadas al ambiente de trabajo. Esta excepción no aplica para Tabla 8 de Manejo manual de personas/pacientes -Identificación avanzada.\",\"\")","v":""}]
[]
[null,null,{"$f":"IF(A24=\"Condición Crítica\",\"Presencia de Condición Crítica\",\"0\")","v":"0"}]
[null,null,{"$f":"IF(A25=\"Presencia de riesgo No Crítico\",\"Presencia de Riesgo No Crítico\",\"0\")","v":"0"}]
[]
[]
[]
[]
["Detalle de Resultados Tarea N° 1:",{"$f":"'TABLA 1 P1'!C6","v":"NA"}]
["DETALLE IDENTIFICACIÓN INICIAL"]
["¿Existe levantamiento, descenso o transporte manual de un objeto de 3 kg o más?","¿Existe empuje o arrastre de un objeto utilizando 1 o 2 manos?","¿Existe manejo manual de personas/pacientes?"]
[{"$f":"'TABLA 1 P1'!Y6","v":"No"},{"$f":"'TABLA 1 P1'!AA6","v":"No"},{"$f":"'TABLA 1 P1'!AC6","v":"No"}]
["DETALLE IDENTIFICACIÓN AVANZADA"]
["Resultado TABLA 3 Condición Aceptable","Resultado TABLA 5 Condición Aceptable","Resultado TABLA 7 Condición Aceptable"]
[{"$f":"IF(AND(A41=\"No\"),\"No Aplica\",\"Aplica\")","v":"No Aplica"},{"$f":"IF(AND(B41=\"No\"),\"No Aplica\",\"Aplica\")","v":"No Aplica"},{"$f":"IF(AND(C41=\"No\"),\"No Aplica\",\"Aplica\")","v":"No Aplica"}]
[{"$f":"IF('TABLA 3T1P1'!F31>=1,\"No es Aceptable\",\"Aceptable\")","v":"Aceptable"},{"$f":"IF('TABLA 5T1P1'!F18>=1,\"No es Aceptable\",\"Aceptable\")","v":"Aceptable"},{"$f":"IF('TABLA 7T1P1'!F18>=1,\"No es Aceptable\",\"Aceptable\")","v":"Aceptable"}]
["Resultado TABLA 4 Condición Crítica","Resultado TABLA 6 Condición Crítica","Resultado TABLA 8 Condición Crítica"]
[{"$f":"IF(AND(A45=\"No es Aceptable\"),\"Aplica\",\"No Aplica\")","v":"No Aplica"},{"$f":"IF(AND(B45=\"No es Aceptable\"),\"Aplica\",\"No Aplica\")","v":"No Aplica"},{"$f":"IF(AND(C45=\"No es Aceptable\"),\"Aplica\",\"No Aplica\")","v":"No Aplica"}]
[{"$f":"IF('TABLA 4T1P1'!F31>=1,\"Crítica\",\"No Crítica\")","v":"No Crítica"},{"$f":"IF('TABLA 6T1P1'!F21>=1,\"Crítica\",\"No Crítica\")","v":"No Crítica"},{"$f":"IF('TABLA 8T1P1'!F19>=1,\"Crítica\",\"No Crítica\")","v":"No Crítica"}]
["Resultado Tabla 3 y Tabla 4 ","Resultado Tabla 5 y Tabla 6","Resultado Tabla 7 y Tabla 8"]
[{"$f":"IF(AND(A45=\"Aceptable\"),\"Ausencia de riesgo\",\"\")","v":"Ausencia de riesgo"},{"$f":"IF(AND(B45=\"Aceptable\"),\"Ausencia de riesgo\",\"\")","v":"Ausencia de riesgo"},{"$f":"IF(AND(C45=\"Aceptable\"),\"Ausencia de riesgo\",\"\")","v":"Ausencia de riesgo"}]
[{"$f":"IF(AND(A45=\"No es Aceptable\",A48=\"No Crítica\"),\"Presencia de riesgo No Crítico\",\"\")","v":""},{"$f":"IF(AND(B45=\"No es Aceptable\",B48=\"No Crítica\"),\"Presencia de riesgo No Crítico\",\"\")","v":""},{"$f":"IF(AND(C45=\"No es Aceptable\",C48=\"No Crítica\"),\"Presencia de riesgo No Crítico\",\"\")","v":""}]
[{"$f":"IF(AND(A48=\"Crítica\"),\"Condición Crítica\",\"\")","v":""},{"$f":"IF(AND(B48=\"Crítica\"),\"Condición Crítica\",\"\")","v":""},{"$f":"IF(AND(C48=\"Crítica\"),\"Condición Crítica\",\"\")","v":""}]
[]
["Detalle de Resultados Tarea N° 2:",{"$f":"'TABLA 1 P1'!C8","v":"NA"}]
["DETALLE IDENTIFICACIÓN INICIAL"]
["¿Existe levantamiento, descenso o transporte manual de un objeto de 3 kg o más?","¿Existe empuje o arrastre de un objeto utilizando 1 o 2 manos?","¿Existe manejo manual de personas/pacientes?"]
[{"$f":"'TABLA 1 P1'!Y8","v":"No"},{"$f":"'TABLA 1 P1'!AA8","v":"No"},{"$f":"'TABLA 1 P1'!AC8","v":"No"}]
["DETALLE IDENTIFICACIÓN AVANZADA"]
["Resultado TABLA 3 Condición Aceptable","Resultado TABLA 5 Condición Aceptable","Resultado TABLA 7 Condición Aceptable"]
[{"$f":"IF(AND(A57=\"No\"),\"No Aplica\",\"Aplica\")","v":"No Aplica"},{"$f":"IF(AND(B57=\"No\"),\"No Aplica\",\"Aplica\")","v":"No Aplica"},{"$f":"IF(AND(C57=\"No\"),\"No Aplica\",\"Aplica\")","v":"No Aplica"}]
[{"$f":"IF('TABLA 3T2P1'!F31>=1,\"No es Aceptable\",\"Aceptable\")","v":"Aceptable"},{"$f":"IF('TABLA 5T2P1'!F18>=1,\"No es Aceptable\",\"Aceptable\")","v":"Aceptable"},{"$f":"IF('TABLA 7T2P1'!F18>=1,\"No es Aceptable\",\"Aceptable\")","v":"Aceptable"}]
["Resultado TABLA 4 Condición Crítica","Resultado TABLA 6 Condición Crítica","Resultado TABLA 8 Condición Crítica"]
[{"$f":"IF(AND(A61=\"No es Aceptable\"),\"Aplica\",\"No Aplica\")","v":"No Aplica"},{"$f":"IF(AND(B61=\"No es Aceptable\"),\"Aplica\",\"No Aplica\")","v":"No Aplica"},{"$f":"IF(AND(C61=\"No es Aceptable\"),\"Aplica\",\"No Aplica\")","v":"No Aplica"}]
[{"$f":"IF('TABLA 4T2P1'!F31>=1,\"Crítica\",\"No Crítica\")","v":"No Crítica"},{"$f":"IF('TABLA 6T2P1'!F21>=1,\"Crítica\",\"No Crítica\")","v":"No Crítica"},{"$f":"IF('TABLA 8T2P1'!F19>=1,\"Crítica\",\"No Crítica\")","v":"No Crítica"}]
["Resultado Tabla 3 y Tabla 4 ","Resultado Tabla 5 y Tabla 6","Resultado Tabla 7 y Tabla 8"]
[{"$f":"IF(AND(A61=\"Aceptable\"),\"Ausencia de riesgo\",\"\")","v":"Ausencia de riesgo"},{"$f":"IF(AND(B61=\"Aceptable\"),\"Ausencia de riesgo\",\"\")","v":"Ausencia de riesgo"},{"$f":"IF(AND(C61=\"Aceptable\"),\"Ausencia de riesgo\",\"\")","v":"Ausencia de riesgo"}]
[{"$f":"IF(AND(A61=\"No es Aceptable\",A64=\"No Crítica\"),\"Presencia de riesgo No Crítico\",\"\")","v":""},{"$f":"IF(AND(B61=\"No es Aceptable\",B64=\"No Crítica\"),\"Presencia de riesgo No Crítico\",\"\")","v":""},{"$f":"IF(AND(C61=\"No es Aceptable\",C64=\"No Crítica\"),\"Presencia de riesgo No Crítico\",\"\")","v":""}]
[{"$f":"IF(AND(A64=\"Crítica\"),\"Condición Crítica\",\"\")","v":""},{"$f":"IF(AND(B64=\"Crítica\"),\"Condición Crítica\",\"\")","v":""},{"$f":"IF(AND(C64=\"Crítica\"),\"Condición Crítica\",\"\")","v":""}]
[]
["Detalle de Resultados Tarea N° 3:",{"$f":"'TABLA 1 P1'!C10","v":"NA"}]
["DETALLE IDENTIFICACIÓN INICIAL"]
["¿Existe levantamiento, descenso o transporte manual de un objeto de 3 kg o más?","¿Existe empuje o arrastre de un objeto utilizando 1 o 2 manos?","¿Existe manejo manual de personas/pacientes?"]
[{"$f":"'TABLA 1 P1'!Y10","v":"No"},{"$f":"'TABLA 1 P1'!AA10","v":"No"},{"$f":"'TABLA 1 P1'!AC10","v":"No"}]
["DETALLE IDENTIFICACIÓN AVANZADA"]
["Resultado TABLA 3 Condición Aceptable","Resultado TABLA 5 Condición Aceptable","Resultado TABLA 7 Condición Aceptable"]
[{"$f":"IF(AND(A73=\"No\"),\"No Aplica\",\"Aplica\")","v":"No Aplica"},{"$f":"IF(AND(B73=\"No\"),\"No Aplica\",\"Aplica\")","v":"No Aplica"},{"$f":"IF(AND(C73=\"No\"),\"No Aplica\",\"Aplica\")","v":"No Aplica"}]
[{"$f":"IF('TABLA 3T3P1'!F31>=1,\"No es Aceptable\",\"Aceptable\")","v":"Aceptable"},{"$f":"IF('TABLA 5T3P1'!F18>=1,\"No es Aceptable\",\"Aceptable\")","v":"Aceptable"},{"$f":"IF('TABLA 7T3P1'!F18>=1,\"No es Aceptable\",\"Aceptable\")","v":"Aceptable"}]
["Resultado TABLA 4 Condición Crítica","Resultado TABLA 6 Condición Crítica","Resultado TABLA 8 Condición Crítica"]
[{"$f":"IF(AND(A77=\"No es Aceptable\"),\"Aplica\",\"No Aplica\")","v":"No Aplica"},{"$f":"IF(AND(B77=\"No es Aceptable\"),\"Aplica\",\"No Aplica\")","v":"No Aplica"},{"$f":"IF(AND(C77=\"No es Aceptable\"),\"Aplica\",\"No Aplica\")","v":"No Aplica"}]
[{"$f":"IF('TABLA 4T3P1'!F31>=1,\"Crítica\",\"No Crítica\")","v":"No Crítica"},{"$f":"IF('TABLA 6T3P1'!F21>=1,\"Crítica\",\"No Crítica\")","v":"No Crítica"},{"$f":"IF('TABLA 8T3P1'!F19>=1,\"Crítica\",\"No Crítica\")","v":"No Crítica"}]
["Resultado Tabla 3 y Tabla 4 ","Resultado Tabla 5 y Tabla 6","Resultado Tabla 7 y Tabla 8"]
[{"$f":"IF(AND(A77=\"Aceptable\"),\"Ausencia de riesgo\",\"\")","v":"Ausencia de riesgo"},{"$f":"IF(AND(B77=\"Aceptable\"),\"Ausencia de riesgo\",\"\")","v":"Ausencia de riesgo"},{"$f":"IF(AND(C77=\"Aceptable\"),\"Ausencia de riesgo\",\"\")","v":"Ausencia de riesgo"}]
[{"$f":"IF(AND(A77=\"No es Aceptable\",A80=\"No Crítica\"),\"Presencia de riesgo No Crítico\",\"\")","v":""},{"$f":"IF(AND(B77=\"No es Aceptable\",B80=\"No Crítica\"),\"Presencia de riesgo No Crítico\",\"\")","v":""},{"$f":"IF(AND(C77=\"No es Aceptable\",C80=\"No Crítica\"),\"Presencia de riesgo No Crítico\",\"\")","v":""}]
[{"$f":"IF(AND(A80=\"Crítica\"),\"Condición Crítica\",\"\")","v":""},{"$f":"IF(AND(B80=\"Crítica\"),\"Condición Crítica\",\"\")","v":""},{"$f":"IF(AND(C80=\"Crítica\"),\"Condición Crítica\",\"\")","v":""}]
[]
["Detalle de Resultados Tarea N° 4:",{"$f":"'TABLA 1 P1'!C12","v":"NA"}]
["DETALLE IDENTIFICACIÓN INICIAL"]
["¿Existe levantamiento, descenso o transporte manual de un objeto de 3 kg o más?","¿Existe empuje o arrastre de un objeto utilizando 1 o 2 manos?","¿Existe manejo manual de personas/pacientes?"]
[{"$f":"'TABLA 1 P1'!Y12","v":"No"},{"$f":"'TABLA 1 P1'!AA12","v":"No"},{"$f":"'TABLA 1 P1'!AC12","v":"No"}]
["DETALLE IDENTIFICACIÓN AVANZADA"]
["Resultado TABLA 3 Condición Aceptable","Resultado TABLA 5 Condición Aceptable","Resultado TABLA 7 Condición Aceptable"]
[{"$f":"IF(AND(A89=\"No\"),\"No Aplica\",\"Aplica\")","v":"No Aplica"},{"$f":"IF(AND(B89=\"No\"),\"No Aplica\",\"Aplica\")","v":"No Aplica"},{"$f":"IF(AND(C89=\"No\"),\"No Aplica\",\"Aplica\")","v":"No Aplica"}]
[{"$f":"IF('TABLA 3T4P1'!F31>=1,\"No es Aceptable\",\"Aceptable\")","v":"Aceptable"},{"$f":"IF('TABLA 5T4P1'!F18>=1,\"No es Aceptable\",\"Aceptable\")","v":"Aceptable"},{"$f":"IF('TABLA 7T4P1'!F18>=1,\"No es Aceptable\",\"Aceptable\")","v":"Aceptable"}]
["Resultado TABLA 4 Condición Crítica","Resultado TABLA 6 Condición Crítica","Resultado TABLA 8 Condición Crítica"]
[{"$f":"IF(AND(A93=\"No es Aceptable\"),\"Aplica\",\"No Aplica\")","v":"No Aplica"},{"$f":"IF(AND(B93=\"No es Aceptable\"),\"Aplica\",\"No Aplica\")","v":"No Aplica"},{"$f":"IF(AND(C93=\"No es Aceptable\"),\"Aplica\",\"No Aplica\")","v":"No Aplica"}]
[{"$f":"IF('TABLA 4T4P1'!F31>=1,\"Crítica\",\"No Crítica\")","v":"No Crítica"},{"$f":"IF('TABLA 6T4P1'!F21>=1,\"Crítica\",\"No Crítica\")","v":"No Crítica"},{"$f":"IF('TABLA 8T4P1'!F19>=1,\"Crítica\",\"No Crítica\")","v":"No Crítica"}]
["Resultado Tabla 3 y Tabla 4 ","Resultado Tabla 5 y Tabla 6","Resultado Tabla 7 y Tabla 8"]
[{"$f":"IF(AND(A93=\"Aceptable\"),\"Ausencia de riesgo\",\"\")","v":"Ausencia de riesgo"},{"$f":"IF(AND(B93=\"Aceptable\"),\"Ausencia de riesgo\",\"\")","v":"Ausencia de riesgo"},{"$f":"IF(AND(C93=\"Aceptable\"),\"Ausencia de riesgo\",\"\")","v":"Ausencia de riesgo"}]
[{"$f":"IF(AND(A93=\"No es Aceptable\",A96=\"No Crítica\"),\"Presencia de riesgo No Crítico\",\"\")","v":""},{"$f":"IF(AND(B93=\"No es Aceptable\",B96=\"No Crítica\"),\"Presencia de riesgo No Crítico\",\"\")","v":""},{"$f":"IF(AND(C93=\"No es Aceptable\",C96=\"No Crítica\"),\"Presencia de riesgo No Crítico\",\"\")","v":""}]
[{"$f":"IF(AND(A96=\"Crítica\"),\"Condición Crítica\",\"\")","v":""},{"$f":"IF(AND(B96=\"Crítica\"),\"Condición Crítica\",\"\")","v":""},{"$f":"IF(AND(C96=\"Crítica\"),\"Condición Crítica\",\"\")","v":""}]
[]
["Detalle de Resultados Tarea N° 5:",{"$f":"'TABLA 1 P1'!C14","v":"NA"}]
["DETALLE IDENTIFICACIÓN INICIAL"]
["¿Existe levantamiento, descenso o transporte manual de un objeto de 3 kg o más?","¿Existe empuje o arrastre de un objeto utilizando 1 o 2 manos?","¿Existe manejo manual de personas/pacientes?"]
[{"$f":"'TABLA 1 P1'!Y14","v":"No"},{"$f":"'TABLA 1 P1'!AA14","v":"No"},{"$f":"'TABLA 1 P1'!AC14","v":"No"}]
["DETALLE IDENTIFICACIÓN AVANZADA"]
["Resultado TABLA 3 Condición Aceptable","Resultado TABLA 5 Condición Aceptable","Resultado TABLA 7 Condición Aceptable"]
[{"$f":"IF(AND(A105=\"No\"),\"No Aplica\",\"Aplica\")","v":"No Aplica"},{"$f":"IF(AND(B105=\"No\"),\"No Aplica\",\"Aplica\")","v":"No Aplica"},{"$f":"IF(AND(C105=\"No\"),\"No Aplica\",\"Aplica\")","v":"No Aplica"}]
[{"$f":"IF('TABLA 3T5P1'!F31>=1,\"No es Aceptable\",\"Aceptable\")","v":"Aceptable"},{"$f":"IF('TABLA 5T5P1'!F18>=1,\"No es Aceptable\",\"Aceptable\")","v":"Aceptable"},{"$f":"IF('TABLA 7T5P1'!F18>=1,\"No es Aceptable\",\"Aceptable\")","v":"Aceptable"}]
["Resultado TABLA 4 Condición Crítica","Resultado TABLA 6 Condición Crítica","Resultado TABLA 8 Condición Crítica"]
[{"$f":"IF(AND(A109=\"No es Aceptable\"),\"Aplica\",\"No Aplica\")","v":"No Aplica"},{"$f":"IF(AND(B109=\"No es Aceptable\"),\"Aplica\",\"No Aplica\")","v":"No Aplica"},{"$f":"IF(AND(C109=\"No es Aceptable\"),\"Aplica\",\"No Aplica\")","v":"No Aplica"}]
[{"$f":"IF('TABLA 4T5P1'!F31>=1,\"Crítica\",\"No Crítica\")","v":"No Crítica"},{"$f":"IF('TABLA 6T5P1'!F21>=1,\"Crítica\",\"No Crítica\")","v":"No Crítica"},{"$f":"IF('TABLA 8T5P1'!F19>=1,\"Crítica\",\"No Crítica\")","v":"No Crítica"}]
["Resultado Tabla 3 y Tabla 4 ","Resultado Tabla 5 y Tabla 6","Resultado Tabla 7 y Tabla 8"]
[{"$f":"IF(AND(A109=\"Aceptable\"),\"Ausencia de riesgo\",\"\")","v":"Ausencia de riesgo"},{"$f":"IF(AND(B109=\"Aceptable\"),\"Ausencia de riesgo\",\"\")","v":"Ausencia de riesgo"},{"$f":"IF(AND(C109=\"Aceptable\"),\"Ausencia de riesgo\",\"\")","v":"Ausencia de riesgo"}]
[{"$f":"IF(AND(A109=\"No es Aceptable\",A112=\"No Crítica\"),\"Presencia de riesgo No Crítico\",\"\")","v":""},{"$f":"IF(AND(B109=\"No es Aceptable\",B112=\"No Crítica\"),\"Presencia de riesgo No Crítico\",\"\")","v":""},{"$f":"IF(AND(C109=\"No es Aceptable\",C112=\"No Crítica\"),\"Presencia de riesgo No Crítico\",\"\")","v":""}]
[{"$f":"IF(AND(A112=\"Crítica\"),\"Condición Crítica\",\"\")","v":""},{"$f":"IF(AND(B112=\"Crítica\"),\"Condición Crítica\",\"\")","v":""},{"$f":"IF(AND(C112=\"Crítica\"),\"Condición Crítica\",\"\")","v":""}]
[]
[]
[]
[]
[]
[]
[]
[]
[]
[]
[]
[]
[]
[]
[]
[]
[]
[]
[]
[]
[]
[]
["Razón Social",{"$f":"'Datos Empresa'!D5","v":0},"Cargo Responsable"]
["RUT Empresa",{"$f":"'Datos Empresa'!D8","v":0},{"$f":"'Datos Empresa'!D29","v":0}]
["Dirección del Centro Trabajo",{"$f":"'Datos Empresa'!D14","v":0},"Correo electrónico Responsable"]
["Región",{"$f":"'Datos Empresa'!D17","v":0},{"$f":"'Datos Empresa'!D32","v":0}]
["Comuna",{"$f":"'Datos Empresa'!D20","v":0},"Teléfono de contacto"]
["Responsable",{"$f":"'Datos Empresa'!D26","v":0},{"$f":"'Datos Empresa'!D35","v":0}]
["RUN Responsable",{"$f":"'Datos Empresa'!D23","v":0}]
[]
[]
[]
[]
[]
[]
["Puesto de Trabajo  N°  ❷",{"$f":"'Listado de Puestos de Trabajo'!D9","v":"Disponible Puesto 2"}]
["Resultado Proceso de Identificación","Acciones Proceso de Identificación","Próximo paso"]
[]
[{"$f":"IF(AND(A184=\"\",B184=\"\",C184=\"\",A200=\"\",B200=\"\",C200=\"\",A216=\"\",B216=\"\",C216=\"\",A232=\"\",B232=\"\",C232=\"\",A248=\"\",B248=\"\",C248=\"\"),\"\",\"Condición Crítica\")","v":""},{"$f":"IF(A155=\"Condición Crítica\",\"Deberán corregir la(s) condición(es) crítica(s) dentro del plazo establecido y luego volver a aplicar tablas de identificación avanzada.\",\"\")","v":""},{"$f":"IF(A155=\"Condición Crítica\",\"Tendrán un máximo de 60 días para implementar medidas de corrección. La ACHS podrá indicar un tiempo mayor o menor, el cual en ningún caso podrá exceder a los 180 días.\",\"\")","v":""}]
[{"$f":"IF(AND(A183=\"\",B183=\"\",C183=\"\",A199=\"\",B199=\"\",C199=\"\",A215=\"\",B215=\"\",C215=\"\",A231=\"\",B231=\"\",C231=\"\",A247=\"\",B247=\"\",C247=\"\"),\"\",\"Presencia de riesgo No Crítico\")","v":""},{"$f":"IF(A156=\"Presencia de riesgo No Crítico\",\"Deberán realizar evaluación cuantitativa especializada.\",\"\")","v":""},{"$f":"IF(A156=\"Presencia de riesgo No Crítico\",\"Deberán contar con la asesoría de un especialista en ergonomía y para ello contará con un plazo de 60 días considerando la verificación de la disminución del riesgo, mediante metodología especializada.\",\"\")","v":""}]
[{"$f":"IF(AND(A182=\"Ausencia de riesgo\",B182=\"Ausencia de riesgo\",C182=\"Ausencia de riesgo\",A198=\"Ausencia de riesgo\",B198=\"Ausencia de riesgo\",C198=\"Ausencia de riesgo\",A214=\"Ausencia de riesgo\",B214=\"Ausencia de riesgo\",C214=\"Ausencia de riesgo\",A230=\"Ausencia de riesgo\",B230=\"Ausencia de riesgo\",C230=\"Ausencia de riesgo\",A246=\"Ausencia de riesgo\",B246=\"Ausencia de riesgo\",C246=\"Ausencia de riesgo\"),\"Ausencia de Riesgo\",\"\")","v":"Ausencia de Riesgo"},{"$f":"IF(A157=\"Ausencia de riesgo\",\"Pueden mantener y asegurar las condiciones por un periodo de 4 años o volver a identificar solo si estas cambian.\",\"\")","v":"Pueden mantener y asegurar las condiciones por un periodo de 4 años o volver a identificar solo si estas cambian."},{"$f":"IF(A157=\"Ausencia de Riesgo\",\"No será necesario continuar con evaluación de riesgo, pero si deberá realizar revisiones periódicas,principalmente cuando existan modificaciones de tareas en el puesto de trabajo.\",\"\")","v":"No será necesario continuar con evaluación de riesgo, pero si deberá realizar revisiones periódicas,principalmente cuando existan modificaciones de tareas en el puesto de trabajo."}]
[]
[]
[]
[null,null,{"$f":"IF(A156=\"Presencia de riesgo No Crítico\",\"Nota:  No se realizará la evaluación del riesgo si solo la condición no es aceptable en las preguntas relacionadas al ambiente de trabajo. Esta excepción no aplica para Tabla 8 de Manejo manual de personas/pacientes -Identificación avanzada.\",\"\")","v":""}]
[]
[]
[null,null,{"$f":"IF(A155=\"Condición Crítica\",\"Presencia de Condición Crítica\",\"0\")","v":"0"}]
[null,null,{"$f":"IF(A156=\"Presencia de riesgo No Crítico\",\"Presencia de Riesgo No Crítico\",\"0\")","v":"0"}]
[]
[]
[]
[]
["Detalle de Resultados Tarea N° 1:",{"$f":"'TABLA 1 P2'!C6","v":"NA"}]
["DETALLE IDENTIFICACIÓN INICIAL"]
["¿Existe levantamiento, descenso o transporte manual de un objeto de 3 kg o más?","¿Existe empuje o arrastre de un objeto utilizando 1 o 2 manos?","¿Existe manejo manual de personas/pacientes?"]
[{"$f":"'TABLA 1 P2'!Y6","v":"No"},{"$f":"'TABLA 1 P2'!AA6","v":"No"},{"$f":"'TABLA 1 P2'!AC6","v":"No"}]
["DETALLE IDENTIFICACIÓN AVANZADA"]
["Resultado TABLA 3 Condición Aceptable","Resultado TABLA 5 Condición Aceptable","Resultado TABLA 7 Condición Aceptable"]
[{"$f":"IF(AND(A173=\"No\"),\"No Aplica\",\"Aplica\")","v":"No Aplica"},{"$f":"IF(AND(B173=\"No\"),\"No Aplica\",\"Aplica\")","v":"No Aplica"},{"$f":"IF(AND(C173=\"No\"),\"No Aplica\",\"Aplica\")","v":"No Aplica"}]
[{"$f":"IF('TABLA 3T1P2'!F31>=1,\"No es Aceptable\",\"Aceptable\")","v":"Aceptable"},{"$f":"IF('TABLA 5T1P2'!F18>=1,\"No es Aceptable\",\"Aceptable\")","v":"Aceptable"},{"$f":"IF('TABLA 7T1P2'!F18>=1,\"No es Aceptable\",\"Aceptable\")","v":"Aceptable"}]
["Resultado TABLA 4 Condición Crítica","Resultado TABLA 6 Condición Crítica","Resultado TABLA 8 Condición Crítica"]
[{"$f":"IF(AND(A177=\"No es Aceptable\"),\"Aplica\",\"No Aplica\")","v":"No Aplica"},{"$f":"IF(AND(B177=\"No es Aceptable\"),\"Aplica\",\"No Aplica\")","v":"No Aplica"},{"$f":"IF(AND(C177=\"No es Aceptable\"),\"Aplica\",\"No Aplica\")","v":"No Aplica"}]
[{"$f":"IF('TABLA 4T1P2'!F31>=1,\"Crítica\",\"No Crítica\")","v":"No Crítica"},{"$f":"IF('TABLA 6T1P2'!F21>=1,\"Crítica\",\"No Crítica\")","v":"No Crítica"},{"$f":"IF('TABLA 8T1P2'!F19>=1,\"Crítica\",\"No Crítica\")","v":"No Crítica"}]
["Resultado Tabla 3 y Tabla 4 ","Resultado Tabla 5 y Tabla 6","Resultado Tabla 7 y Tabla 8"]
[{"$f":"IF(AND(A177=\"Aceptable\"),\"Ausencia de riesgo\",\"\")","v":"Ausencia de riesgo"},{"$f":"IF(AND(B177=\"Aceptable\"),\"Ausencia de riesgo\",\"\")","v":"Ausencia de riesgo"},{"$f":"IF(AND(C177=\"Aceptable\"),\"Ausencia de riesgo\",\"\")","v":"Ausencia de riesgo"}]
[{"$f":"IF(AND(A177=\"No es Aceptable\",A180=\"No Crítica\"),\"Presencia de riesgo No Crítico\",\"\")","v":""},{"$f":"IF(AND(B177=\"No es Aceptable\",B180=\"No Crítica\"),\"Presencia de riesgo No Crítico\",\"\")","v":""},{"$f":"IF(AND(C177=\"No es Aceptable\",C180=\"No Crítica\"),\"Presencia de riesgo No Crítico\",\"\")","v":""}]
[{"$f":"IF(AND(A180=\"Crítica\"),\"Condición Crítica\",\"\")","v":""},{"$f":"IF(AND(B180=\"Crítica\"),\"Condición Crítica\",\"\")","v":""},{"$f":"IF(AND(C180=\"Crítica\"),\"Condición Crítica\",\"\")","v":""}]
[]
["Detalle de Resultados Tarea N° 2:",{"$f":"'TABLA 1 P2'!C8","v":"NA"}]
["DETALLE IDENTIFICACIÓN INICIAL"]
["¿Existe levantamiento, descenso o transporte manual de un objeto de 3 kg o más?","¿Existe empuje o arrastre de un objeto utilizando 1 o 2 manos?","¿Existe manejo manual de personas/pacientes?"]
[{"$f":"'TABLA 1 P2'!Y8","v":"No"},{"$f":"'TABLA 1 P2'!AA8","v":"No"},{"$f":"'TABLA 1 P2'!AC8","v":"No"}]
["DETALLE IDENTIFICACIÓN AVANZADA"]
["Resultado TABLA 3 Condición Aceptable","Resultado TABLA 5 Condición Aceptable","Resultado TABLA 7 Condición Aceptable"]
[{"$f":"IF(AND(A189=\"No\"),\"No Aplica\",\"Aplica\")","v":"No Aplica"},{"$f":"IF(AND(B189=\"No\"),\"No Aplica\",\"Aplica\")","v":"No Aplica"},{"$f":"IF(AND(C189=\"No\"),\"No Aplica\",\"Aplica\")","v":"No Aplica"}]
[{"$f":"IF('TABLA 3T2P2'!F31>=1,\"No es Aceptable\",\"Aceptable\")","v":"Aceptable"},{"$f":"IF('TABLA 5T2P2'!F18>=1,\"No es Aceptable\",\"Aceptable\")","v":"Aceptable"},{"$f":"IF('TABLA 7T2P2'!F18>=1,\"No es Aceptable\",\"Aceptable\")","v":"Aceptable"}]
["Resultado TABLA 4 Condición Crítica","Resultado TABLA 6 Condición Crítica","Resultado TABLA 8 Condición Crítica"]
[{"$f":"IF(AND(A193=\"No es Aceptable\"),\"Aplica\",\"No Aplica\")","v":"No Aplica"},{"$f":"IF(AND(B193=\"No es Aceptable\"),\"Aplica\",\"No Aplica\")","v":"No Aplica"},{"$f":"IF(AND(C193=\"No es Aceptable\"),\"Aplica\",\"No Aplica\")","v":"No Aplica"}]
[{"$f":"IF('TABLA 4T2P2'!F31>=1,\"Crítica\",\"No Crítica\")","v":"No Crítica"},{"$f":"IF('TABLA 6T2P2'!F21>=1,\"Crítica\",\"No Crítica\")","v":"No Crítica"},{"$f":"IF('TABLA 8T2P2'!F19>=1,\"Crítica\",\"No Crítica\")","v":"No Crítica"}]
["Resultado Tabla 3 y Tabla 4 ","Resultado Tabla 5 y Tabla 6","Resultado Tabla 7 y Tabla 8"]
[{"$f":"IF(AND(A193=\"Aceptable\"),\"Ausencia de riesgo\",\"\")","v":"Ausencia de riesgo"},{"$f":"IF(AND(B193=\"Aceptable\"),\"Ausencia de riesgo\",\"\")","v":"Ausencia de riesgo"},{"$f":"IF(AND(C193=\"Aceptable\"),\"Ausencia de riesgo\",\"\")","v":"Ausencia de riesgo"}]
[{"$f":"IF(AND(A193=\"No es Aceptable\",A196=\"No Crítica\"),\"Presencia de riesgo No Crítico\",\"\")","v":""},{"$f":"IF(AND(B193=\"No es Aceptable\",B196=\"No Crítica\"),\"Presencia de riesgo No Crítico\",\"\")","v":""},{"$f":"IF(AND(C193=\"No es Aceptable\",C196=\"No Crítica\"),\"Presencia de riesgo No Crítico\",\"\")","v":""}]
[{"$f":"IF(AND(A196=\"Crítica\"),\"Condición Crítica\",\"\")","v":""},{"$f":"IF(AND(B196=\"Crítica\"),\"Condición Crítica\",\"\")","v":""},{"$f":"IF(AND(C196=\"Crítica\"),\"Condición Crítica\",\"\")","v":""}]
[]
["Detalle de Resultados Tarea N° 3:",{"$f":"'TABLA 1 P2'!C10","v":"NA"}]
["DETALLE IDENTIFICACIÓN INICIAL"]
["¿Existe levantamiento, descenso o transporte manual de un objeto de 3 kg o más?","¿Existe empuje o arrastre de un objeto utilizando 1 o 2 manos?","¿Existe manejo manual de personas/pacientes?"]
[{"$f":"'TABLA 1 P2'!Y10","v":"No"},{"$f":"'TABLA 1 P2'!AA10","v":"No"},{"$f":"'TABLA 1 P2'!AC10","v":"No"}]
["DETALLE IDENTIFICACIÓN AVANZADA"]
["Resultado TABLA 3 Condición Aceptable","Resultado TABLA 5 Condición Aceptable","Resultado TABLA 7 Condición Aceptable"]
[{"$f":"IF(AND(A205=\"No\"),\"No Aplica\",\"Aplica\")","v":"No Aplica"},{"$f":"IF(AND(B205=\"No\"),\"No Aplica\",\"Aplica\")","v":"No Aplica"},{"$f":"IF(AND(C205=\"No\"),\"No Aplica\",\"Aplica\")","v":"No Aplica"}]
[{"$f":"IF('TABLA 3T3P2'!F31>=1,\"No es Aceptable\",\"Aceptable\")","v":"Aceptable"},{"$f":"IF('TABLA 5T3P2'!F18>=1,\"No es Aceptable\",\"Aceptable\")","v":"Aceptable"},{"$f":"IF('TABLA 7T3P2'!F18>=1,\"No es Aceptable\",\"Aceptable\")","v":"Aceptable"}]
["Resultado TABLA 4 Condición Crítica","Resultado TABLA 6 Condición Crítica","Resultado TABLA 8 Condición Crítica"]
[{"$f":"IF(AND(A209=\"No es Aceptable\"),\"Aplica\",\"No Aplica\")","v":"No Aplica"},{"$f":"IF(AND(B209=\"No es Aceptable\"),\"Aplica\",\"No Aplica\")","v":"No Aplica"},{"$f":"IF(AND(C209=\"No es Aceptable\"),\"Aplica\",\"No Aplica\")","v":"No Aplica"}]
[{"$f":"IF('TABLA 4T3P2'!F31>=1,\"Crítica\",\"No Crítica\")","v":"No Crítica"},{"$f":"IF('TABLA 6T3P2'!F21>=1,\"Crítica\",\"No Crítica\")","v":"No Crítica"},{"$f":"IF('TABLA 8T3P2'!F19>=1,\"Crítica\",\"No Crítica\")","v":"No Crítica"}]
["Resultado Tabla 3 y Tabla 4 ","Resultado Tabla 5 y Tabla 6","Resultado Tabla 7 y Tabla 8"]
[{"$f":"IF(AND(A209=\"Aceptable\"),\"Ausencia de riesgo\",\"\")","v":"Ausencia de riesgo"},{"$f":"IF(AND(B209=\"Aceptable\"),\"Ausencia de riesgo\",\"\")","v":"Ausencia de riesgo"},{"$f":"IF(AND(C209=\"Aceptable\"),\"Ausencia de riesgo\",\"\")","v":"Ausencia de riesgo"}]
[{"$f":"IF(AND(A209=\"No es Aceptable\",A212=\"No Crítica\"),\"Presencia de riesgo No Crítico\",\"\")","v":""},{"$f":"IF(AND(B209=\"No es Aceptable\",B212=\"No Crítica\"),\"Presencia de riesgo No Crítico\",\"\")","v":""},{"$f":"IF(AND(C209=\"No es Aceptable\",C212=\"No Crítica\"),\"Presencia de riesgo No Crítico\",\"\")","v":""}]
[{"$f":"IF(AND(A212=\"Crítica\"),\"Condición Crítica\",\"\")","v":""},{"$f":"IF(AND(B212=\"Crítica\"),\"Condición Crítica\",\"\")","v":""},{"$f":"IF(AND(C212=\"Crítica\"),\"Condición Crítica\",\"\")","v":""}]
[]
["Detalle de Resultados Tarea N° 4:",{"$f":"'TABLA 1 P2'!C12","v":"NA"}]
["DETALLE IDENTIFICACIÓN INICIAL"]
["¿Existe levantamiento, descenso o transporte manual de un objeto de 3 kg o más?","¿Existe empuje o arrastre de un objeto utilizando 1 o 2 manos?","¿Existe manejo manual de personas/pacientes?"]
[{"$f":"'TABLA 1 P2'!Y12","v":"No"},{"$f":"'TABLA 1 P2'!AA12","v":"No"},{"$f":"'TABLA 1 P2'!AC12","v":"No"}]
["DETALLE IDENTIFICACIÓN AVANZADA"]
["Resultado TABLA 3 Condición Aceptable","Resultado TABLA 5 Condición Aceptable","Resultado TABLA 7 Condición Aceptable"]
[{"$f":"IF(AND(A221=\"No\"),\"No Aplica\",\"Aplica\")","v":"No Aplica"},{"$f":"IF(AND(B221=\"No\"),\"No Aplica\",\"Aplica\")","v":"No Aplica"},{"$f":"IF(AND(C221=\"No\"),\"No Aplica\",\"Aplica\")","v":"No Aplica"}]
[{"$f":"IF('TABLA 3T4P2'!F31>=1,\"No es Aceptable\",\"Aceptable\")","v":"Aceptable"},{"$f":"IF('TABLA 5T4P2'!F18>=1,\"No es Aceptable\",\"Aceptable\")","v":"Aceptable"},{"$f":"IF('TABLA 7T4P2'!F18>=1,\"No es Aceptable\",\"Aceptable\")","v":"Aceptable"}]
["Resultado TABLA 4 Condición Crítica","Resultado TABLA 6 Condición Crítica","Resultado TABLA 8 Condición Crítica"]
[{"$f":"IF(AND(A225=\"No es Aceptable\"),\"Aplica\",\"No Aplica\")","v":"No Aplica"},{"$f":"IF(AND(B225=\"No es Aceptable\"),\"Aplica\",\"No Aplica\")","v":"No Aplica"},{"$f":"IF(AND(C225=\"No es Aceptable\"),\"Aplica\",\"No Aplica\")","v":"No Aplica"}]
[{"$f":"IF('TABLA 4T4P2'!F31>=1,\"Crítica\",\"No Crítica\")","v":"No Crítica"},{"$f":"IF('TABLA 6T4P2'!F21>=1,\"Crítica\",\"No Crítica\")","v":"No Crítica"},{"$f":"IF('TABLA 8T4P2'!F19>=1,\"Crítica\",\"No Crítica\")","v":"No Crítica"}]
["Resultado Tabla 3 y Tabla 4 ","Resultado Tabla 5 y Tabla 6","Resultado Tabla 7 y Tabla 8"]
[{"$f":"IF(AND(A225=\"Aceptable\"),\"Ausencia de riesgo\",\"\")","v":"Ausencia de riesgo"},{"$f":"IF(AND(B225=\"Aceptable\"),\"Ausencia de riesgo\",\"\")","v":"Ausencia de riesgo"},{"$f":"IF(AND(C225=\"Aceptable\"),\"Ausencia de riesgo\",\"\")","v":"Ausencia de riesgo"}]
[{"$f":"IF(AND(A225=\"No es Aceptable\",A228=\"No Crítica\"),\"Presencia de riesgo No Crítico\",\"\")","v":""},{"$f":"IF(AND(B225=\"No es Aceptable\",B228=\"No Crítica\"),\"Presencia de riesgo No Crítico\",\"\")","v":""},{"$f":"IF(AND(C225=\"No es Aceptable\",C228=\"No Crítica\"),\"Presencia de riesgo No Crítico\",\"\")","v":""}]
[{"$f":"IF(AND(A228=\"Crítica\"),\"Condición Crítica\",\"\")","v":""},{"$f":"IF(AND(B228=\"Crítica\"),\"Condición Crítica\",\"\")","v":""},{"$f":"IF(AND(C228=\"Crítica\"),\"Condición Crítica\",\"\")","v":""}]
[]
["Detalle de Resultados Tarea N° 5:",{"$f":"'TABLA 1 P2'!C14","v":"NA"}]
["DETALLE IDENTIFICACIÓN INICIAL"]
["¿Existe levantamiento, descenso o transporte manual de un objeto de 3 kg o más?","¿Existe empuje o arrastre de un objeto utilizando 1 o 2 manos?","¿Existe manejo manual de personas/pacientes?"]
[{"$f":"'TABLA 1 P2'!Y14","v":"No"},{"$f":"'TABLA 1 P2'!AA14","v":"No"},{"$f":"'TABLA 1 P2'!AC14","v":"No"}]
["DETALLE IDENTIFICACIÓN AVANZADA"]
["Resultado TABLA 3 Condición Aceptable","Resultado TABLA 5 Condición Aceptable","Resultado TABLA 7 Condición Aceptable"]
[{"$f":"IF(AND(A237=\"No\"),\"No Aplica\",\"Aplica\")","v":"No Aplica"},{"$f":"IF(AND(B237=\"No\"),\"No Aplica\",\"Aplica\")","v":"No Aplica"},{"$f":"IF(AND(C237=\"No\"),\"No Aplica\",\"Aplica\")","v":"No Aplica"}]
[{"$f":"IF('TABLA 3T5P2'!F31>=1,\"No es Aceptable\",\"Aceptable\")","v":"Aceptable"},{"$f":"IF('TABLA 5T5P2'!F18>=1,\"No es Aceptable\",\"Aceptable\")","v":"Aceptable"},{"$f":"IF('TABLA 7T5P2'!F18>=1,\"No es Aceptable\",\"Aceptable\")","v":"Aceptable"}]
["Resultado TABLA 4 Condición Crítica","Resultado TABLA 6 Condición Crítica","Resultado TABLA 8 Condición Crítica"]
[{"$f":"IF(AND(A241=\"No es Aceptable\"),\"Aplica\",\"No Aplica\")","v":"No Aplica"},{"$f":"IF(AND(B241=\"No es Aceptable\"),\"Aplica\",\"No Aplica\")","v":"No Aplica"},{"$f":"IF(AND(C241=\"No es Aceptable\"),\"Aplica\",\"No Aplica\")","v":"No Aplica"}]
[{"$f":"IF('TABLA 4T5P2'!F31>=1,\"Crítica\",\"No Crítica\")","v":"No Crítica"},{"$f":"IF('TABLA 6T5P2'!F21>=1,\"Crítica\",\"No Crítica\")","v":"No Crítica"},{"$f":"IF('TABLA 8T5P2'!F19>=1,\"Crítica\",\"No Crítica\")","v":"No Crítica"}]
["Resultado Tabla 3 y Tabla 4 ","Resultado Tabla 5 y Tabla 6","Resultado Tabla 7 y Tabla 8"]
[{"$f":"IF(AND(A241=\"Aceptable\"),\"Ausencia de riesgo\",\"\")","v":"Ausencia de riesgo"},{"$f":"IF(AND(B241=\"Aceptable\"),\"Ausencia de riesgo\",\"\")","v":"Ausencia de riesgo"},{"$f":"IF(AND(C241=\"Aceptable\"),\"Ausencia de riesgo\",\"\")","v":"Ausencia de riesgo"}]
[{"$f":"IF(AND(A241=\"No es Aceptable\",A244=\"No Crítica\"),\"Presencia de riesgo No Crítico\",\"\")","v":""},{"$f":"IF(AND(B241=\"No es Aceptable\",B244=\"No Crítica\"),\"Presencia de riesgo No Crítico\",\"\")","v":""},{"$f":"IF(AND(C241=\"No es Aceptable\",C244=\"No Crítica\"),\"Presencia de riesgo No Crítico\",\"\")","v":""}]
[{"$f":"IF(AND(A244=\"Crítica\"),\"Condición Crítica\",\"\")","v":""},{"$f":"IF(AND(B244=\"Crítica\"),\"Condición Crítica\",\"\")","v":""},{"$f":"IF(AND(C244=\"Crítica\"),\"Condición Crítica\",\"\")","v":""}]
[]
[]
[]
[]
[]
[]
[]
[]
[]
[]
[]
[]
[]
[]
[]
[]
[]
[]
[]
[]
[]
[]
["Razón Social",{"$f":"'Datos Empresa'!D5","v":0},"Cargo Responsable"]
["RUT Empresa",{"$f":"'Datos Empresa'!D8","v":0},{"$f":"'Datos Empresa'!D29","v":0}]
["Dirección del Centro Trabajo",{"$f":"'Datos Empresa'!D14","v":0},"Correo electrónico Responsable"]
["Región",{"$f":"'Datos Empresa'!D17","v":0},{"$f":"'Datos Empresa'!D32","v":0}]
["Comuna",{"$f":"'Datos Empresa'!D20","v":0},"Teléfono de contacto"]
["Responsable",{"$f":"'Datos Empresa'!D26","v":0},{"$f":"'Datos Empresa'!D35","v":0}]
["RUN Responsable",{"$f":"'Datos Empresa'!D23","v":0}]
[]
[]
[]
[]
[]
[]
["Puesto de Trabajo  N°  ❸",{"$f":"'Listado de Puestos de Trabajo'!D12","v":"Disponible Puesto 3"}]
["Resultado Proceso de Identificación","Acciones Proceso de Identificación","Próximo paso"]
[]
[{"$f":"IF(AND(A316=\"\",B316=\"\",C316=\"\",A332=\"\",B332=\"\",C332=\"\",A348=\"\",B348=\"\",C348=\"\",A364=\"\",B364=\"\",C364=\"\",A380=\"\",B380=\"\",C380=\"\"),\"\",\"Condición Crítica\")","v":""},{"$f":"IF(A287=\"Condición Crítica\",\"Deberán corregir la(s) condición(es) crítica(s) dentro del plazo establecido y luego volver a aplicar tablas de identificación avanzada.\",\"\")","v":""},{"$f":"IF(A287=\"Condición Crítica\",\"Tendrán un máximo de 60 días para implementar medidas de corrección. La ACHS podrá indicar un tiempo mayor o menor, el cual en ningún caso podrá exceder a los 180 días.\",\"\")","v":""}]
[{"$f":"IF(AND(A315=\"\",B315=\"\",C315=\"\",A331=\"\",B331=\"\",C331=\"\",A347=\"\",B347=\"\",C347=\"\",A363=\"\",B363=\"\",C363=\"\",A379=\"\",B379=\"\",C379=\"\"),\"\",\"Presencia de riesgo No Crítico\")","v":""},{"$f":"IF(A288=\"Presencia de riesgo No Crítico\",\"Deberán realizar evaluación cuantitativa especializada.\",\"\")","v":""},{"$f":"IF(A288=\"Presencia de riesgo No Crítico\",\"Deberán contar con la asesoría de un especialista en ergonomía y para ello contará con un plazo de 60 días considerando la verificación de la disminución del riesgo, mediante metodología especializada.\",\"\")","v":""}]
[{"$f":"IF(AND(A314=\"Ausencia de riesgo\",B314=\"Ausencia de riesgo\",C314=\"Ausencia de riesgo\",A330=\"Ausencia de riesgo\",B330=\"Ausencia de riesgo\",C330=\"Ausencia de riesgo\",A346=\"Ausencia de riesgo\",B346=\"Ausencia de riesgo\",C346=\"Ausencia de riesgo\",A362=\"Ausencia de riesgo\",B362=\"Ausencia de riesgo\",C362=\"Ausencia de riesgo\",A378=\"Ausencia de riesgo\",B378=\"Ausencia de riesgo\",C378=\"Ausencia de riesgo\"),\"Ausencia de Riesgo\",\"\")","v":"Ausencia de Riesgo"},{"$f":"IF(A289=\"Ausencia de riesgo\",\"Pueden mantener y asegurar las condiciones por un periodo de 4 años o volver a identificar solo si estas cambian.\",\"\")","v":"Pueden mantener y asegurar las condiciones por un periodo de 4 años o volver a identificar solo si estas cambian."},{"$f":"IF(A289=\"Ausencia de Riesgo\",\"No será necesario continuar con evaluación de riesgo, pero si deberá realizar revisiones periódicas,principalmente cuando existan modificaciones de tareas en el puesto de trabajo.\",\"\")","v":"No será necesario continuar con evaluación de riesgo, pero si deberá realizar revisiones periódicas,principalmente cuando existan modificaciones de tareas en el puesto de trabajo."}]
[]
[]
[]
[null,null,{"$f":"IF(A288=\"Presencia de riesgo No Crítico\",\"Nota:  No se realizará la evaluación del riesgo si solo la condición no es aceptable en las preguntas relacionadas al ambiente de trabajo. Esta excepción no aplica para Tabla 8 de Manejo manual de personas/pacientes -Identificación avanzada.\",\"\")","v":""}]
[]
[]
[null,null,{"$f":"IF(A287=\"Condición Crítica\",\"Presencia de Condición Crítica\",\"0\")","v":"0"}]
[null,null,{"$f":"IF(A288=\"Presencia de riesgo No Crítico\",\"Presencia de Riesgo No Crítico\",\"0\")","v":"0"}]
[]
[]
[]
[]
["Detalle de Resultados Tarea N° 1:",{"$f":"'TABLA 1 P3'!C6","v":"NA"}]
["DETALLE IDENTIFICACIÓN INICIAL"]
["¿Existe levantamiento, descenso o transporte manual de un objeto de 3 kg o más?","¿Existe empuje o arrastre de un objeto utilizando 1 o 2 manos?","¿Existe manejo manual de personas/pacientes?"]
[{"$f":"'TABLA 1 P3'!Y6","v":"No"},{"$f":"'TABLA 1 P3'!AA6","v":"No"},{"$f":"'TABLA 1 P3'!AC6","v":"No"}]
["DETALLE IDENTIFICACIÓN AVANZADA"]
["Resultado TABLA 3 Condición Aceptable","Resultado TABLA 5 Condición Aceptable","Resultado TABLA 7 Condición Aceptable"]
[{"$f":"IF(AND(A305=\"No\"),\"No Aplica\",\"Aplica\")","v":"No Aplica"},{"$f":"IF(AND(B305=\"No\"),\"No Aplica\",\"Aplica\")","v":"No Aplica"},{"$f":"IF(AND(C305=\"No\"),\"No Aplica\",\"Aplica\")","v":"No Aplica"}]
[{"$f":"IF('TABLA 3T1P3'!F31>=1,\"No es Aceptable\",\"Aceptable\")","v":"Aceptable"},{"$f":"IF('TABLA 5T1P3'!F18>=1,\"No es Aceptable\",\"Aceptable\")","v":"Aceptable"},{"$f":"IF('TABLA 7T1P3'!F18>=1,\"No es Aceptable\",\"Aceptable\")","v":"Aceptable"}]
["Resultado TABLA 4 Condición Crítica","Resultado TABLA 6 Condición Crítica","Resultado TABLA 8 Condición Crítica"]
[{"$f":"IF(AND(A309=\"No es Aceptable\"),\"Aplica\",\"No Aplica\")","v":"No Aplica"},{"$f":"IF(AND(B309=\"No es Aceptable\"),\"Aplica\",\"No Aplica\")","v":"No Aplica"},{"$f":"IF(AND(C309=\"No es Aceptable\"),\"Aplica\",\"No Aplica\")","v":"No Aplica"}]
[{"$f":"IF('TABLA 4T1P3'!F31>=1,\"Crítica\",\"No Crítica\")","v":"No Crítica"},{"$f":"IF('TABLA 6T1P3'!F21>=1,\"Crítica\",\"No Crítica\")","v":"No Crítica"},{"$f":"IF('TABLA 8T1P3'!F19>=1,\"Crítica\",\"No Crítica\")","v":"No Crítica"}]
["Resultado Tabla 3 y Tabla 4 ","Resultado Tabla 5 y Tabla 6","Resultado Tabla 7 y Tabla 8"]
[{"$f":"IF(AND(A309=\"Aceptable\"),\"Ausencia de riesgo\",\"\")","v":"Ausencia de riesgo"},{"$f":"IF(AND(B309=\"Aceptable\"),\"Ausencia de riesgo\",\"\")","v":"Ausencia de riesgo"},{"$f":"IF(AND(C309=\"Aceptable\"),\"Ausencia de riesgo\",\"\")","v":"Ausencia de riesgo"}]
[{"$f":"IF(AND(A309=\"No es Aceptable\",A312=\"No Crítica\"),\"Presencia de riesgo No Crítico\",\"\")","v":""},{"$f":"IF(AND(B309=\"No es Aceptable\",B312=\"No Crítica\"),\"Presencia de riesgo No Crítico\",\"\")","v":""},{"$f":"IF(AND(C309=\"No es Aceptable\",C312=\"No Crítica\"),\"Presencia de riesgo No Crítico\",\"\")","v":""}]
[{"$f":"IF(AND(A312=\"Crítica\"),\"Condición Crítica\",\"\")","v":""},{"$f":"IF(AND(B312=\"Crítica\"),\"Condición Crítica\",\"\")","v":""},{"$f":"IF(AND(C312=\"Crítica\"),\"Condición Crítica\",\"\")","v":""}]
[]
["Detalle de Resultados Tarea N° 2:",{"$f":"'TABLA 1 P3'!C8","v":"NA"}]
["DETALLE IDENTIFICACIÓN INICIAL"]
["¿Existe levantamiento, descenso o transporte manual de un objeto de 3 kg o más?","¿Existe empuje o arrastre de un objeto utilizando 1 o 2 manos?","¿Existe manejo manual de personas/pacientes?"]
[{"$f":"'TABLA 1 P3'!Y8","v":"No"},{"$f":"'TABLA 1 P3'!AA8","v":"No"},{"$f":"'TABLA 1 P3'!AC8","v":"No"}]
["DETALLE IDENTIFICACIÓN AVANZADA"]
["Resultado TABLA 3 Condición Aceptable","Resultado TABLA 5 Condición Aceptable","Resultado TABLA 7 Condición Aceptable"]
[{"$f":"IF(AND(A321=\"No\"),\"No Aplica\",\"Aplica\")","v":"No Aplica"},{"$f":"IF(AND(B321=\"No\"),\"No Aplica\",\"Aplica\")","v":"No Aplica"},{"$f":"IF(AND(C321=\"No\"),\"No Aplica\",\"Aplica\")","v":"No Aplica"}]
[{"$f":"IF('TABLA 3T2P3'!F21>=1,\"No es Aceptable\",\"Aceptable\")","v":"Aceptable"},{"$f":"IF('TABLA 5T2P3'!F18>=1,\"No es Aceptable\",\"Aceptable\")","v":"Aceptable"},{"$f":"IF('TABLA 7T2P3'!F18>=1,\"No es Aceptable\",\"Aceptable\")","v":"Aceptable"}]
["Resultado TABLA 4 Condición Crítica","Resultado TABLA 6 Condición Crítica","Resultado TABLA 8 Condición Crítica"]
[{"$f":"IF(AND(A325=\"No es Aceptable\"),\"Aplica\",\"No Aplica\")","v":"No Aplica"},{"$f":"IF(AND(B325=\"No es Aceptable\"),\"Aplica\",\"No Aplica\")","v":"No Aplica"},{"$f":"IF(AND(C325=\"No es Aceptable\"),\"Aplica\",\"No Aplica\")","v":"No Aplica"}]
[{"$f":"IF('TABLA 4T2P3'!F31>=1,\"Crítica\",\"No Crítica\")","v":"No Crítica"},{"$f":"IF('TABLA 6T2P3'!F21>=1,\"Crítica\",\"No Crítica\")","v":"No Crítica"},{"$f":"IF('TABLA 8T2P3'!F19>=1,\"Crítica\",\"No Crítica\")","v":"No Crítica"}]
["Resultado Tabla 3 y Tabla 4 ","Resultado Tabla 5 y Tabla 6","Resultado Tabla 7 y Tabla 8"]
[{"$f":"IF(AND(A325=\"Aceptable\"),\"Ausencia de riesgo\",\"\")","v":"Ausencia de riesgo"},{"$f":"IF(AND(B325=\"Aceptable\"),\"Ausencia de riesgo\",\"\")","v":"Ausencia de riesgo"},{"$f":"IF(AND(C325=\"Aceptable\"),\"Ausencia de riesgo\",\"\")","v":"Ausencia de riesgo"}]
[{"$f":"IF(AND(A325=\"No es Aceptable\",A328=\"No Crítica\"),\"Presencia de riesgo No Crítico\",\"\")","v":""},{"$f":"IF(AND(B325=\"No es Aceptable\",B328=\"No Crítica\"),\"Presencia de riesgo No Crítico\",\"\")","v":""},{"$f":"IF(AND(C325=\"No es Aceptable\",C328=\"No Crítica\"),\"Presencia de riesgo No Crítico\",\"\")","v":""}]
[{"$f":"IF(AND(A328=\"Crítica\"),\"Condición Crítica\",\"\")","v":""},{"$f":"IF(AND(B328=\"Crítica\"),\"Condición Crítica\",\"\")","v":""},{"$f":"IF(AND(C328=\"Crítica\"),\"Condición Crítica\",\"\")","v":""}]
[]
["Detalle de Resultados Tarea N° 3:",{"$f":"'TABLA 1 P3'!C10","v":"NA"}]
["DETALLE IDENTIFICACIÓN INICIAL"]
["¿Existe levantamiento, descenso o transporte manual de un objeto de 3 kg o más?","¿Existe empuje o arrastre de un objeto utilizando 1 o 2 manos?","¿Existe manejo manual de personas/pacientes?"]
[{"$f":"'TABLA 1 P3'!Y10","v":"No"},{"$f":"'TABLA 1 P3'!AA10","v":"No"},{"$f":"'TABLA 1 P3'!AC10","v":"No"}]
["DETALLE IDENTIFICACIÓN AVANZADA"]
["Resultado TABLA 3 Condición Aceptable","Resultado TABLA 5 Condición Aceptable","Resultado TABLA 7 Condición Aceptable"]
[{"$f":"IF(AND(A337=\"No\"),\"No Aplica\",\"Aplica\")","v":"No Aplica"},{"$f":"IF(AND(B337=\"No\"),\"No Aplica\",\"Aplica\")","v":"No Aplica"},{"$f":"IF(AND(C337=\"No\"),\"No Aplica\",\"Aplica\")","v":"No Aplica"}]
[{"$f":"IF('TABLA 3T3P3'!F31>=1,\"No es Aceptable\",\"Aceptable\")","v":"Aceptable"},{"$f":"IF('TABLA 5T3P3'!F18>=1,\"No es Aceptable\",\"Aceptable\")","v":"Aceptable"},{"$f":"IF('TABLA 7T3P3'!F18>=1,\"No es Aceptable\",\"Aceptable\")","v":"Aceptable"}]
["Resultado TABLA 4 Condición Crítica","Resultado TABLA 6 Condición Crítica","Resultado TABLA 8 Condición Crítica"]
[{"$f":"IF(AND(A341=\"No es Aceptable\"),\"Aplica\",\"No Aplica\")","v":"No Aplica"},{"$f":"IF(AND(B341=\"No es Aceptable\"),\"Aplica\",\"No Aplica\")","v":"No Aplica"},{"$f":"IF(AND(C341=\"No es Aceptable\"),\"Aplica\",\"No Aplica\")","v":"No Aplica"}]
[{"$f":"IF('TABLA 4T3P3'!F31>=1,\"Crítica\",\"No Crítica\")","v":"No Crítica"},{"$f":"IF('TABLA 6T3P3'!F21>=1,\"Crítica\",\"No Crítica\")","v":"No Crítica"},{"$f":"IF('TABLA 8T3P3'!F19>=1,\"Crítica\",\"No Crítica\")","v":"No Crítica"}]
["Resultado Tabla 3 y Tabla 4 ","Resultado Tabla 5 y Tabla 6","Resultado Tabla 7 y Tabla 8"]
[{"$f":"IF(AND(A341=\"Aceptable\"),\"Ausencia de riesgo\",\"\")","v":"Ausencia de riesgo"},{"$f":"IF(AND(B341=\"Aceptable\"),\"Ausencia de riesgo\",\"\")","v":"Ausencia de riesgo"},{"$f":"IF(AND(C341=\"Aceptable\"),\"Ausencia de riesgo\",\"\")","v":"Ausencia de riesgo"}]
[{"$f":"IF(AND(A341=\"No es Aceptable\",A344=\"No Crítica\"),\"Presencia de riesgo No Crítico\",\"\")","v":""},{"$f":"IF(AND(B341=\"No es Aceptable\",B344=\"No Crítica\"),\"Presencia de riesgo No Crítico\",\"\")","v":""},{"$f":"IF(AND(C341=\"No es Aceptable\",C344=\"No Crítica\"),\"Presencia de riesgo No Crítico\",\"\")","v":""}]
[{"$f":"IF(AND(A344=\"Crítica\"),\"Condición Crítica\",\"\")","v":""},{"$f":"IF(AND(B344=\"Crítica\"),\"Condición Crítica\",\"\")","v":""},{"$f":"IF(AND(C344=\"Crítica\"),\"Condición Crítica\",\"\")","v":""}]
[]
["Detalle de Resultados Tarea N° 4:",{"$f":"'TABLA 1 P3'!C12","v":"NA"}]
["DETALLE IDENTIFICACIÓN INICIAL"]
["¿Existe levantamiento, descenso o transporte manual de un objeto de 3 kg o más?","¿Existe empuje o arrastre de un objeto utilizando 1 o 2 manos?","¿Existe manejo manual de personas/pacientes?"]
[{"$f":"'TABLA 1 P3'!Y12","v":"No"},{"$f":"'TABLA 1 P3'!AA12","v":"No"},{"$f":"'TABLA 1 P3'!AC12","v":"No"}]
["DETALLE IDENTIFICACIÓN AVANZADA"]
["Resultado TABLA 3 Condición Aceptable","Resultado TABLA 5 Condición Aceptable","Resultado TABLA 7 Condición Aceptable"]
[{"$f":"IF(AND(A353=\"No\"),\"No Aplica\",\"Aplica\")","v":"No Aplica"},{"$f":"IF(AND(B353=\"No\"),\"No Aplica\",\"Aplica\")","v":"No Aplica"},{"$f":"IF(AND(C353=\"No\"),\"No Aplica\",\"Aplica\")","v":"No Aplica"}]
[{"$f":"IF('TABLA 3T4P3'!F31>=1,\"No es Aceptable\",\"Aceptable\")","v":"Aceptable"},{"$f":"IF('TABLA 5T4P3'!F18>=1,\"No es Aceptable\",\"Aceptable\")","v":"Aceptable"},{"$f":"IF('TABLA 7T4P3'!F18>=1,\"No es Aceptable\",\"Aceptable\")","v":"Aceptable"}]
["Resultado TABLA 4 Condición Crítica","Resultado TABLA 6 Condición Crítica","Resultado TABLA 8 Condición Crítica"]
[{"$f":"IF(AND(A357=\"No es Aceptable\"),\"Aplica\",\"No Aplica\")","v":"No Aplica"},{"$f":"IF(AND(B357=\"No es Aceptable\"),\"Aplica\",\"No Aplica\")","v":"No Aplica"},{"$f":"IF(AND(C357=\"No es Aceptable\"),\"Aplica\",\"No Aplica\")","v":"No Aplica"}]
[{"$f":"IF('TABLA 4T4P3'!F31>=1,\"Crítica\",\"No Crítica\")","v":"No Crítica"},{"$f":"IF('TABLA 6T4P3'!F21>=1,\"Crítica\",\"No Crítica\")","v":"No Crítica"},{"$f":"IF('TABLA 8T4P3'!F19>=1,\"Crítica\",\"No Crítica\")","v":"No Crítica"}]
["Resultado Tabla 3 y Tabla 4 ","Resultado Tabla 5 y Tabla 6","Resultado Tabla 7 y Tabla 8"]
[{"$f":"IF(AND(A357=\"Aceptable\"),\"Ausencia de riesgo\",\"\")","v":"Ausencia de riesgo"},{"$f":"IF(AND(B357=\"Aceptable\"),\"Ausencia de riesgo\",\"\")","v":"Ausencia de riesgo"},{"$f":"IF(AND(C357=\"Aceptable\"),\"Ausencia de riesgo\",\"\")","v":"Ausencia de riesgo"}]
[{"$f":"IF(AND(A357=\"No es Aceptable\",A360=\"No Crítica\"),\"Presencia de riesgo No Crítico\",\"\")","v":""},{"$f":"IF(AND(B357=\"No es Aceptable\",B360=\"No Crítica\"),\"Presencia de riesgo No Crítico\",\"\")","v":""},{"$f":"IF(AND(C357=\"No es Aceptable\",C360=\"No Crítica\"),\"Presencia de riesgo No Crítico\",\"\")","v":""}]
[{"$f":"IF(AND(A360=\"Crítica\"),\"Condición Crítica\",\"\")","v":""},{"$f":"IF(AND(B360=\"Crítica\"),\"Condición Crítica\",\"\")","v":""},{"$f":"IF(AND(C360=\"Crítica\"),\"Condición Crítica\",\"\")","v":""}]
[]
["Detalle de Resultados Tarea N° 5:",{"$f":"'TABLA 1 P3'!C14","v":"NA"}]
["DETALLE IDENTIFICACIÓN INICIAL"]
["¿Existe levantamiento, descenso o transporte manual de un objeto de 3 kg o más?","¿Existe empuje o arrastre de un objeto utilizando 1 o 2 manos?","¿Existe manejo manual de personas/pacientes?"]
[{"$f":"'TABLA 1 P3'!Y14","v":"No"},{"$f":"'TABLA 1 P3'!AA14","v":"No"},{"$f":"'TABLA 1 P3'!AC14","v":"No"}]
["DETALLE IDENTIFICACIÓN AVANZADA"]
["Resultado TABLA 3 Condición Aceptable","Resultado TABLA 5 Condición Aceptable","Resultado TABLA 7 Condición Aceptable"]
[{"$f":"IF(AND(A369=\"No\"),\"No Aplica\",\"Aplica\")","v":"No Aplica"},{"$f":"IF(AND(B369=\"No\"),\"No Aplica\",\"Aplica\")","v":"No Aplica"},{"$f":"IF(AND(C369=\"No\"),\"No Aplica\",\"Aplica\")","v":"No Aplica"}]
[{"$f":"IF('TABLA 3T5P3'!F31>=1,\"No es Aceptable\",\"Aceptable\")","v":"Aceptable"},{"$f":"IF('TABLA 5T5P3'!F18>=1,\"No es Aceptable\",\"Aceptable\")","v":"Aceptable"},{"$f":"IF('TABLA 7T5P3'!F18>=1,\"No es Aceptable\",\"Aceptable\")","v":"Aceptable"}]
["Resultado TABLA 4 Condición Crítica","Resultado TABLA 6 Condición Crítica","Resultado TABLA 8 Condición Crítica"]
[{"$f":"IF(AND(A373=\"No es Aceptable\"),\"Aplica\",\"No Aplica\")","v":"No Aplica"},{"$f":"IF(AND(B373=\"No es Aceptable\"),\"Aplica\",\"No Aplica\")","v":"No Aplica"},{"$f":"IF(AND(C373=\"No es Aceptable\"),\"Aplica\",\"No Aplica\")","v":"No Aplica"}]
[{"$f":"IF('TABLA 4T5P3'!F31>=1,\"Crítica\",\"No Crítica\")","v":"No Crítica"},{"$f":"IF('TABLA 6T5P3'!F21>=1,\"Crítica\",\"No Crítica\")","v":"No Crítica"},{"$f":"IF('TABLA 8T5P3'!F19>=1,\"Crítica\",\"No Crítica\")","v":"No Crítica"}]
["Resultado Tabla 3 y Tabla 4 ","Resultado Tabla 5 y Tabla 6","Resultado Tabla 7 y Tabla 8"]
[{"$f":"IF(AND(A373=\"Aceptable\"),\"Ausencia de riesgo\",\"\")","v":"Ausencia de riesgo"},{"$f":"IF(AND(B373=\"Aceptable\"),\"Ausencia de riesgo\",\"\")","v":"Ausencia de riesgo"},{"$f":"IF(AND(C373=\"Aceptable\"),\"Ausencia de riesgo\",\"\")","v":"Ausencia de riesgo"}]
[{"$f":"IF(AND(A373=\"No es Aceptable\",A376=\"No Crítica\"),\"Presencia de riesgo No Crítico\",\"\")","v":""},{"$f":"IF(AND(B373=\"No es Aceptable\",B376=\"No Crítica\"),\"Presencia de riesgo No Crítico\",\"\")","v":""},{"$f":"IF(AND(C373=\"No es Aceptable\",C376=\"No Crítica\"),\"Presencia de riesgo No Crítico\",\"\")","v":""}]
[{"$f":"IF(AND(A376=\"Crítica\"),\"Condición Crítica\",\"\")","v":""},{"$f":"IF(AND(B376=\"Crítica\"),\"Condición Crítica\",\"\")","v":""},{"$f":"IF(AND(C376=\"Crítica\"),\"Condición Crítica\",\"\")","v":""}]
[]
[]
[]
[]
[]
[]
[]
[]
[]
[]
[]
[]
[]
[]
[]
[]
[]
[]
[]
[]
[]
[]
["Razón Social",{"$f":"'Datos Empresa'!D5","v":0},"Cargo Responsable"]
["RUT Empresa",{"$f":"'Datos Empresa'!D8","v":0},{"$f":"'Datos Empresa'!D29","v":0}]
["Dirección del Centro Trabajo",{"$f":"'Datos Empresa'!D14","v":0},"Correo electrónico Responsable"]
["Región",{"$f":"'Datos Empresa'!D17","v":0},{"$f":"'Datos Empresa'!D32","v":0}]
["Comuna",{"$f":"'Datos Empresa'!D20","v":0},"Teléfono de contacto"]
["Responsable",{"$f":"'Datos Empresa'!D26","v":0},{"$f":"'Datos Empresa'!D35","v":0}]
["RUN Responsable",{"$f":"'Datos Empresa'!D23","v":0}]
[]
[]
[]
[]
[]
[]
["Puesto de Trabajo  N°  ❹",{"$f":"'Listado de Puestos de Trabajo'!D15","v":"Disponible Puesto 4"}]
["Resultado Proceso de Identificación","Acciones Proceso de Identificación","Próximo paso"]
[]
[{"$f":"IF(AND(A448=\"\",B448=\"\",C448=\"\",A464=\"\",B464=\"\",C464=\"\",A480=\"\",B480=\"\",C480=\"\",A496=\"\",B496=\"\",C496=\"\",A512=\"\",B512=\"\",C512=\"\"),\"\",\"Condición Crítica\")","v":""},{"$f":"IF(A419=\"Condición Crítica\",\"Deberán corregir la(s) condición(es) crítica(s) dentro del plazo establecido y luego volver a aplicar tablas de identificación avanzada.\",\"\")","v":""},{"$f":"IF(A419=\"Condición Crítica\",\"Tendrán un máximo de 60 días para implementar medidas de corrección. La ACHS podrá indicar un tiempo mayor o menor, el cual en ningún caso podrá exceder a los 180 días.\",\"\")","v":""}]
[{"$f":"IF(AND(A447=\"\",B447=\"\",C447=\"\",A463=\"\",B463=\"\",C463=\"\",A479=\"\",B479=\"\",C479=\"\",A495=\"\",B495=\"\",C495=\"\",A511=\"\",B511=\"\",C511=\"\"),\"\",\"Presencia de riesgo No Crítico\")","v":""},{"$f":"IF(A420=\"Presencia de riesgo No Crítico\",\"Deberán realizar evaluación cuantitativa especializada.\",\"\")","v":""},{"$f":"IF(A420=\"Presencia de riesgo No Crítico\",\"Deberán contar con la asesoría de un especialista en ergonomía y para ello contará con un plazo de 60 días considerando la verificación de la disminución del riesgo, mediante metodología especializada.\",\"\")","v":""}]
[{"$f":"IF(AND(A446=\"Ausencia de riesgo\",B446=\"Ausencia de riesgo\",C446=\"Ausencia de riesgo\",A462=\"Ausencia de riesgo\",B462=\"Ausencia de riesgo\",C462=\"Ausencia de riesgo\",A478=\"Ausencia de riesgo\",B478=\"Ausencia de riesgo\",C478=\"Ausencia de riesgo\",A494=\"Ausencia de riesgo\",B494=\"Ausencia de riesgo\",C494=\"Ausencia de riesgo\",A510=\"Ausencia de riesgo\",B510=\"Ausencia de riesgo\",C510=\"Ausencia de riesgo\"),\"Ausencia de Riesgo\",\"\")","v":"Ausencia de Riesgo"},{"$f":"IF(A421=\"Ausencia de riesgo\",\"Pueden mantener y asegurar las condiciones por un periodo de 4 años o volver a identificar solo si estas cambian.\",\"\")","v":"Pueden mantener y asegurar las condiciones por un periodo de 4 años o volver a identificar solo si estas cambian."},{"$f":"IF(A421=\"Ausencia de Riesgo\",\"No será necesario continuar con evaluación de riesgo, pero si deberá realizar revisiones periódicas,principalmente cuando existan modificaciones de tareas en el puesto de trabajo.\",\"\")","v":"No será necesario continuar con evaluación de riesgo, pero si deberá realizar revisiones periódicas,principalmente cuando existan modificaciones de tareas en el puesto de trabajo."}]
[]
[]
[]
[null,null,{"$f":"IF(A420=\"Presencia de riesgo No Crítico\",\"Nota:  No se realizará la evaluación del riesgo si solo la condición no es aceptable en las preguntas relacionadas al ambiente de trabajo. Esta excepción no aplica para Tabla 8 de Manejo manual de personas/pacientes -Identificación avanzada.\",\"\")","v":""}]
[]
[]
[null,null,{"$f":"IF(A419=\"Condición Crítica\",\"Presencia de Condición Crítica\",\"0\")","v":"0"}]
[null,null,{"$f":"IF(A420=\"Presencia de riesgo No Crítico\",\"Presencia de Riesgo No Crítico\",\"0\")","v":"0"}]
[]
[]
[]
[]
["Detalle de Resultados Tarea N° 1:",{"$f":"'TABLA 1 P4'!C6","v":"NA"}]
["DETALLE IDENTIFICACIÓN INICIAL"]
["¿Existe levantamiento, descenso o transporte manual de un objeto de 3 kg o más?","¿Existe empuje o arrastre de un objeto utilizando 1 o 2 manos?","¿Existe manejo manual de personas/pacientes?"]
[{"$f":"'TABLA 1 P4'!Y6","v":"No"},{"$f":"'TABLA 1 P4'!AA6","v":"No"},{"$f":"'TABLA 1 P4'!AC6","v":"No"}]
["DETALLE IDENTIFICACIÓN AVANZADA"]
["Resultado TABLA 3 Condición Aceptable","Resultado TABLA 5 Condición Aceptable","Resultado TABLA 7 Condición Aceptable"]
[{"$f":"IF(AND(A437=\"No\"),\"No Aplica\",\"Aplica\")","v":"No Aplica"},{"$f":"IF(AND(B437=\"No\"),\"No Aplica\",\"Aplica\")","v":"No Aplica"},{"$f":"IF(AND(C437=\"No\"),\"No Aplica\",\"Aplica\")","v":"No Aplica"}]
[{"$f":"IF('TABLA 3T1P4'!F31>=1,\"No es Aceptable\",\"Aceptable\")","v":"Aceptable"},{"$f":"IF('TABLA 5T1P4'!F18>=1,\"No es Aceptable\",\"Aceptable\")","v":"Aceptable"},{"$f":"IF('TABLA 7T1P4'!F18>=1,\"No es Aceptable\",\"Aceptable\")","v":"Aceptable"}]
["Resultado TABLA 4 Condición Crítica","Resultado TABLA 6 Condición Crítica","Resultado TABLA 8 Condición Crítica"]
[{"$f":"IF(AND(A441=\"No es Aceptable\"),\"Aplica\",\"No Aplica\")","v":"No Aplica"},{"$f":"IF(AND(B441=\"No es Aceptable\"),\"Aplica\",\"No Aplica\")","v":"No Aplica"},{"$f":"IF(AND(C441=\"No es Aceptable\"),\"Aplica\",\"No Aplica\")","v":"No Aplica"}]
[{"$f":"IF('TABLA 4T1P4'!F31>=1,\"Crítica\",\"No Crítica\")","v":"No Crítica"},{"$f":"IF('TABLA 6T1P4'!F21>=1,\"Crítica\",\"No Crítica\")","v":"No Crítica"},{"$f":"IF('TABLA 8T1P4'!F19>=1,\"Crítica\",\"No Crítica\")","v":"No Crítica"}]
["Resultado Tabla 3 y Tabla 4 ","Resultado Tabla 5 y Tabla 6","Resultado Tabla 7 y Tabla 8"]
[{"$f":"IF(AND(A441=\"Aceptable\"),\"Ausencia de riesgo\",\"\")","v":"Ausencia de riesgo"},{"$f":"IF(AND(B441=\"Aceptable\"),\"Ausencia de riesgo\",\"\")","v":"Ausencia de riesgo"},{"$f":"IF(AND(C441=\"Aceptable\"),\"Ausencia de riesgo\",\"\")","v":"Ausencia de riesgo"}]
[{"$f":"IF(AND(A441=\"No es Aceptable\",A444=\"No Crítica\"),\"Presencia de riesgo No Crítico\",\"\")","v":""},{"$f":"IF(AND(B441=\"No es Aceptable\",B444=\"No Crítica\"),\"Presencia de riesgo No Crítico\",\"\")","v":""},{"$f":"IF(AND(C441=\"No es Aceptable\",C444=\"No Crítica\"),\"Presencia de riesgo No Crítico\",\"\")","v":""}]
[{"$f":"IF(AND(A444=\"Crítica\"),\"Condición Crítica\",\"\")","v":""},{"$f":"IF(AND(B444=\"Crítica\"),\"Condición Crítica\",\"\")","v":""},{"$f":"IF(AND(C444=\"Crítica\"),\"Condición Crítica\",\"\")","v":""}]
[]
["Detalle de Resultados Tarea N° 2:",{"$f":"'TABLA 1 P4'!C8","v":"NA"}]
["DETALLE IDENTIFICACIÓN INICIAL"]
["¿Existe levantamiento, descenso o transporte manual de un objeto de 3 kg o más?","¿Existe empuje o arrastre de un objeto utilizando 1 o 2 manos?","¿Existe manejo manual de personas/pacientes?"]
[{"$f":"'TABLA 1 P4'!Y8","v":"No"},{"$f":"'TABLA 1 P4'!AA8","v":"No"},{"$f":"'TABLA 1 P4'!AC8","v":"No"}]
["DETALLE IDENTIFICACIÓN AVANZADA"]
["Resultado TABLA 3 Condición Aceptable","Resultado TABLA 5 Condición Aceptable","Resultado TABLA 7 Condición Aceptable"]
[{"$f":"IF(AND(A453=\"No\"),\"No Aplica\",\"Aplica\")","v":"No Aplica"},{"$f":"IF(AND(B453=\"No\"),\"No Aplica\",\"Aplica\")","v":"No Aplica"},{"$f":"IF(AND(C453=\"No\"),\"No Aplica\",\"Aplica\")","v":"No Aplica"}]
[{"$f":"IF('TABLA 3T2P4'!F31>=1,\"No es Aceptable\",\"Aceptable\")","v":"Aceptable"},{"$f":"IF('TABLA 5T2P4'!F18>=1,\"No es Aceptable\",\"Aceptable\")","v":"Aceptable"},{"$f":"IF('TABLA 7T2P4'!F18>=1,\"No es Aceptable\",\"Aceptable\")","v":"Aceptable"}]
["Resultado TABLA 4 Condición Crítica","Resultado TABLA 6 Condición Crítica","Resultado TABLA 8 Condición Crítica"]
[{"$f":"IF(AND(A457=\"No es Aceptable\"),\"Aplica\",\"No Aplica\")","v":"No Aplica"},{"$f":"IF(AND(B457=\"No es Aceptable\"),\"Aplica\",\"No Aplica\")","v":"No Aplica"},{"$f":"IF(AND(C457=\"No es Aceptable\"),\"Aplica\",\"No Aplica\")","v":"No Aplica"}]
[{"$f":"IF('TABLA 4T2P4'!F31>=1,\"Crítica\",\"No Crítica\")","v":"No Crítica"},{"$f":"IF('TABLA 6T2P4'!F21>=1,\"Crítica\",\"No Crítica\")","v":"No Crítica"},{"$f":"IF('TABLA 8T2P4'!F19>=1,\"Crítica\",\"No Crítica\")","v":"No Crítica"}]
["Resultado Tabla 3 y Tabla 4 ","Resultado Tabla 5 y Tabla 6","Resultado Tabla 7 y Tabla 8"]
[{"$f":"IF(AND(A457=\"Aceptable\"),\"Ausencia de riesgo\",\"\")","v":"Ausencia de riesgo"},{"$f":"IF(AND(B457=\"Aceptable\"),\"Ausencia de riesgo\",\"\")","v":"Ausencia de riesgo"},{"$f":"IF(AND(C457=\"Aceptable\"),\"Ausencia de riesgo\",\"\")","v":"Ausencia de riesgo"}]
[{"$f":"IF(AND(A457=\"No es Aceptable\",A460=\"No Crítica\"),\"Presencia de riesgo No Crítico\",\"\")","v":""},{"$f":"IF(AND(B457=\"No es Aceptable\",B460=\"No Crítica\"),\"Presencia de riesgo No Crítico\",\"\")","v":""},{"$f":"IF(AND(C457=\"No es Aceptable\",C460=\"No Crítica\"),\"Presencia de riesgo No Crítico\",\"\")","v":""}]
[{"$f":"IF(AND(A460=\"Crítica\"),\"Condición Crítica\",\"\")","v":""},{"$f":"IF(AND(B460=\"Crítica\"),\"Condición Crítica\",\"\")","v":""},{"$f":"IF(AND(C460=\"Crítica\"),\"Condición Crítica\",\"\")","v":""}]
[]
["Detalle de Resultados Tarea N° 3:",{"$f":"'TABLA 1 P4'!C10","v":"NA"}]
["DETALLE IDENTIFICACIÓN INICIAL"]
["¿Existe levantamiento, descenso o transporte manual de un objeto de 3 kg o más?","¿Existe empuje o arrastre de un objeto utilizando 1 o 2 manos?","¿Existe manejo manual de personas/pacientes?"]
[{"$f":"'TABLA 1 P4'!Y10","v":"No"},{"$f":"'TABLA 1 P4'!AA10","v":"No"},{"$f":"'TABLA 1 P4'!AC10","v":"No"}]
["DETALLE IDENTIFICACIÓN AVANZADA"]
["Resultado TABLA 3 Condición Aceptable","Resultado TABLA 5 Condición Aceptable","Resultado TABLA 7 Condición Aceptable"]
[{"$f":"IF(AND(A469=\"No\"),\"No Aplica\",\"Aplica\")","v":"No Aplica"},{"$f":"IF(AND(B469=\"No\"),\"No Aplica\",\"Aplica\")","v":"No Aplica"},{"$f":"IF(AND(C469=\"No\"),\"No Aplica\",\"Aplica\")","v":"No Aplica"}]
[{"$f":"IF('TABLA 3T3P4'!F31>=1,\"No es Aceptable\",\"Aceptable\")","v":"Aceptable"},{"$f":"IF('TABLA 5T3P4'!F18=1,\"No es Aceptable\",\"Aceptable\")","v":"Aceptable"},{"$f":"IF('TABLA 7T3P4'!F18>=1,\"No es Aceptable\",\"Aceptable\")","v":"Aceptable"}]
["Resultado TABLA 4 Condición Crítica","Resultado TABLA 6 Condición Crítica","Resultado TABLA 8 Condición Crítica"]
[{"$f":"IF(AND(A473=\"No es Aceptable\"),\"Aplica\",\"No Aplica\")","v":"No Aplica"},{"$f":"IF(AND(B473=\"No es Aceptable\"),\"Aplica\",\"No Aplica\")","v":"No Aplica"},{"$f":"IF(AND(C473=\"No es Aceptable\"),\"Aplica\",\"No Aplica\")","v":"No Aplica"}]
[{"$f":"IF('TABLA 4T3P4'!F31>=1,\"Crítica\",\"No Crítica\")","v":"No Crítica"},{"$f":"IF('TABLA 6T3P4'!F21>=1,\"Crítica\",\"No Crítica\")","v":"No Crítica"},{"$f":"IF('TABLA 8T3P4'!F19>=1,\"Crítica\",\"No Crítica\")","v":"No Crítica"}]
["Resultado Tabla 3 y Tabla 4 ","Resultado Tabla 5 y Tabla 6","Resultado Tabla 7 y Tabla 8"]
[{"$f":"IF(AND(A473=\"Aceptable\"),\"Ausencia de riesgo\",\"\")","v":"Ausencia de riesgo"},{"$f":"IF(AND(B473=\"Aceptable\"),\"Ausencia de riesgo\",\"\")","v":"Ausencia de riesgo"},{"$f":"IF(AND(C473=\"Aceptable\"),\"Ausencia de riesgo\",\"\")","v":"Ausencia de riesgo"}]
[{"$f":"IF(AND(A473=\"No es Aceptable\",A476=\"No Crítica\"),\"Presencia de riesgo No Crítico\",\"\")","v":""},{"$f":"IF(AND(B473=\"No es Aceptable\",B476=\"No Crítica\"),\"Presencia de riesgo No Crítico\",\"\")","v":""},{"$f":"IF(AND(C473=\"No es Aceptable\",C476=\"No Crítica\"),\"Presencia de riesgo No Crítico\",\"\")","v":""}]
[{"$f":"IF(AND(A476=\"Crítica\"),\"Condición Crítica\",\"\")","v":""},{"$f":"IF(AND(B476=\"Crítica\"),\"Condición Crítica\",\"\")","v":""},{"$f":"IF(AND(C476=\"Crítica\"),\"Condición Crítica\",\"\")","v":""}]
[]
["Detalle de Resultados Tarea N° 4:",{"$f":"'TABLA 1 P4'!C12","v":"NA"}]
["DETALLE IDENTIFICACIÓN INICIAL"]
["¿Existe levantamiento, descenso o transporte manual de un objeto de 3 kg o más?","¿Existe empuje o arrastre de un objeto utilizando 1 o 2 manos?","¿Existe manejo manual de personas/pacientes?"]
[{"$f":"'TABLA 1 P4'!Y12","v":"No"},{"$f":"'TABLA 1 P4'!AA12","v":"No"},{"$f":"'TABLA 1 P4'!AC12","v":"No"}]
["DETALLE IDENTIFICACIÓN AVANZADA"]
["Resultado TABLA 3 Condición Aceptable","Resultado TABLA 5 Condición Aceptable","Resultado TABLA 7 Condición Aceptable"]
[{"$f":"IF(AND(A485=\"No\"),\"No Aplica\",\"Aplica\")","v":"No Aplica"},{"$f":"IF(AND(B485=\"No\"),\"No Aplica\",\"Aplica\")","v":"No Aplica"},{"$f":"IF(AND(C485=\"No\"),\"No Aplica\",\"Aplica\")","v":"No Aplica"}]
[{"$f":"IF('TABLA 3T4P4'!F31>=1,\"No es Aceptable\",\"Aceptable\")","v":"Aceptable"},{"$f":"IF('TABLA 5T4P4'!F18>=1,\"No es Aceptable\",\"Aceptable\")","v":"Aceptable"},{"$f":"IF('TABLA 7T4P4'!F18>=1,\"No es Aceptable\",\"Aceptable\")","v":"Aceptable"}]
["Resultado TABLA 4 Condición Crítica","Resultado TABLA 6 Condición Crítica","Resultado TABLA 8 Condición Crítica"]
[{"$f":"IF(AND(A489=\"No es Aceptable\"),\"Aplica\",\"No Aplica\")","v":"No Aplica"},{"$f":"IF(AND(B489=\"No es Aceptable\"),\"Aplica\",\"No Aplica\")","v":"No Aplica"},{"$f":"IF(AND(C489=\"No es Aceptable\"),\"Aplica\",\"No Aplica\")","v":"No Aplica"}]
[{"$f":"IF('TABLA 4T4P4'!F31>=1,\"Crítica\",\"No Crítica\")","v":"No Crítica"},{"$f":"IF('TABLA 6T4P4'!F21>=1,\"Crítica\",\"No Crítica\")","v":"No Crítica"},{"$f":"IF('TABLA 8T4P4'!F19>=1,\"Crítica\",\"No Crítica\")","v":"No Crítica"}]
["Resultado Tabla 3 y Tabla 4 ","Resultado Tabla 5 y Tabla 6","Resultado Tabla 7 y Tabla 8"]
[{"$f":"IF(AND(A489=\"Aceptable\"),\"Ausencia de riesgo\",\"\")","v":"Ausencia de riesgo"},{"$f":"IF(AND(B489=\"Aceptable\"),\"Ausencia de riesgo\",\"\")","v":"Ausencia de riesgo"},{"$f":"IF(AND(C489=\"Aceptable\"),\"Ausencia de riesgo\",\"\")","v":"Ausencia de riesgo"}]
[{"$f":"IF(AND(A489=\"No es Aceptable\",A492=\"No Crítica\"),\"Presencia de riesgo No Crítico\",\"\")","v":""},{"$f":"IF(AND(B489=\"No es Aceptable\",B492=\"No Crítica\"),\"Presencia de riesgo No Crítico\",\"\")","v":""},{"$f":"IF(AND(C489=\"No es Aceptable\",C492=\"No Crítica\"),\"Presencia de riesgo No Crítico\",\"\")","v":""}]
[{"$f":"IF(AND(A492=\"Crítica\"),\"Condición Crítica\",\"\")","v":""},{"$f":"IF(AND(B492=\"Crítica\"),\"Condición Crítica\",\"\")","v":""},{"$f":"IF(AND(C492=\"Crítica\"),\"Condición Crítica\",\"\")","v":""}]
[]
["Detalle de Resultados Tarea N° 5:",{"$f":"'TABLA 1 P4'!C14","v":"NA"}]
["DETALLE IDENTIFICACIÓN INICIAL"]
["¿Existe levantamiento, descenso o transporte manual de un objeto de 3 kg o más?","¿Existe empuje o arrastre de un objeto utilizando 1 o 2 manos?","¿Existe manejo manual de personas/pacientes?"]
[{"$f":"'TABLA 1 P4'!Y14","v":"No"},{"$f":"'TABLA 1 P4'!AA14","v":"No"},{"$f":"'TABLA 1 P4'!AC14","v":"No"}]
["DETALLE IDENTIFICACIÓN AVANZADA"]
["Resultado TABLA 3 Condición Aceptable","Resultado TABLA 5 Condición Aceptable","Resultado TABLA 7 Condición Aceptable"]
[{"$f":"IF(AND(A501=\"No\"),\"No Aplica\",\"Aplica\")","v":"No Aplica"},{"$f":"IF(AND(B501=\"No\"),\"No Aplica\",\"Aplica\")","v":"No Aplica"},{"$f":"IF(AND(C501=\"No\"),\"No Aplica\",\"Aplica\")","v":"No Aplica"}]
[{"$f":"IF('TABLA 3T5P4'!F31>=1,\"No es Aceptable\",\"Aceptable\")","v":"Aceptable"},{"$f":"IF('TABLA 5T5P4'!F18>=1,\"No es Aceptable\",\"Aceptable\")","v":"Aceptable"},{"$f":"IF('TABLA 7T5P4'!F18>=1,\"No es Aceptable\",\"Aceptable\")","v":"Aceptable"}]
["Resultado TABLA 4 Condición Crítica","Resultado TABLA 6 Condición Crítica","Resultado TABLA 8 Condición Crítica"]
[{"$f":"IF(AND(A505=\"No es Aceptable\"),\"Aplica\",\"No Aplica\")","v":"No Aplica"},{"$f":"IF(AND(B505=\"No es Aceptable\"),\"Aplica\",\"No Aplica\")","v":"No Aplica"},{"$f":"IF(AND(C505=\"No es Aceptable\"),\"Aplica\",\"No Aplica\")","v":"No Aplica"}]
[{"$f":"IF('TABLA 4T5P4'!F31>=1,\"Crítica\",\"No Crítica\")","v":"No Crítica"},{"$f":"IF('TABLA 6T5P4'!F21>=1,\"Crítica\",\"No Crítica\")","v":"No Crítica"},{"$f":"IF('TABLA 8T5P4'!F19>=1,\"Crítica\",\"No Crítica\")","v":"No Crítica"}]
["Resultado Tabla 3 y Tabla 4 ","Resultado Tabla 5 y Tabla 6","Resultado Tabla 7 y Tabla 8"]
[{"$f":"IF(AND(A505=\"Aceptable\"),\"Ausencia de riesgo\",\"\")","v":"Ausencia de riesgo"},{"$f":"IF(AND(B505=\"Aceptable\"),\"Ausencia de riesgo\",\"\")","v":"Ausencia de riesgo"},{"$f":"IF(AND(C505=\"Aceptable\"),\"Ausencia de riesgo\",\"\")","v":"Ausencia de riesgo"}]
[{"$f":"IF(AND(A505=\"No es Aceptable\",A508=\"No Crítica\"),\"Presencia de riesgo No Crítico\",\"\")","v":""},{"$f":"IF(AND(B505=\"No es Aceptable\",B508=\"No Crítica\"),\"Presencia de riesgo No Crítico\",\"\")","v":""},{"$f":"IF(AND(C505=\"No es Aceptable\",C508=\"No Crítica\"),\"Presencia de riesgo No Crítico\",\"\")","v":""}]
[{"$f":"IF(AND(A508=\"Crítica\"),\"Condición Crítica\",\"\")","v":""},{"$f":"IF(AND(B508=\"Crítica\"),\"Condición Crítica\",\"\")","v":""},{"$f":"IF(AND(C508=\"Crítica\"),\"Condición Crítica\",\"\")","v":""}]
[]
[]
[]
[]
[]
[]
[]
[]
[]
[]
[]
[]
[]
[]
[]
[]
[]
[]
[]
[]
[]
[]
["Razón Social",{"$f":"'Datos Empresa'!D5","v":0},"Cargo Responsable"]
["RUT Empresa",{"$f":"'Datos Empresa'!D8","v":0},{"$f":"'Datos Empresa'!D29","v":0}]
["Dirección del Centro Trabajo",{"$f":"'Datos Empresa'!D14","v":0},"Correo electrónico Responsable"]
["Región",{"$f":"'Datos Empresa'!D17","v":0},{"$f":"'Datos Empresa'!D32","v":0}]
["Comuna",{"$f":"'Datos Empresa'!D20","v":0},"Teléfono de contacto"]
["Responsable",{"$f":"'Datos Empresa'!D26","v":0},{"$f":"'Datos Empresa'!D35","v":0}]
["RUN Responsable",{"$f":"'Datos Empresa'!D23","v":0}]
[]
[]
[]
[]
[]
[]
["Puesto de Trabajo  N°  ❺",{"$f":"'Listado de Puestos de Trabajo'!D18","v":"Disponible Puesto 5"}]
["Resultado Proceso de Identificación","Acciones Proceso de Identificación","Próximo paso"]
[]
[{"$f":"IF(AND(A580=\"\",B580=\"\",C580=\"\",A596=\"\",B596=\"\",C596=\"\",A612=\"\",B612=\"\",C612=\"\",A628=\"\",B628=\"\",C628=\"\",A644=\"\",B644=\"\",C644=\"\"),\"\",\"Condición Crítica\")","v":""},{"$f":"IF(A551=\"Condición Crítica\",\"Deberán corregir la(s) condición(es) crítica(s) dentro del plazo establecido y luego volver a aplicar tablas de identificación avanzada.\",\"\")","v":""},{"$f":"IF(A551=\"Condición Crítica\",\"Tendrán un máximo de 60 días para implementar medidas de corrección. La ACHS podrá indicar un tiempo mayor o menor, el cual en ningún caso podrá exceder a los 180 días.\",\"\")","v":""}]
[{"$f":"IF(AND(A579=\"\",B579=\"\",C579=\"\",A595=\"\",B595=\"\",C595=\"\",A611=\"\",B611=\"\",C611=\"\",A627=\"\",B627=\"\",C627=\"\",A643=\"\",B643=\"\",C643=\"\"),\"\",\"Presencia de riesgo No Crítico\")","v":""},{"$f":"IF(A552=\"Presencia de riesgo No Crítico\",\"Deberán realizar evaluación cuantitativa especializada.\",\"\")","v":""},{"$f":"IF(A552=\"Presencia de riesgo No Crítico\",\"Deberán contar con la asesoría de un especialista en ergonomía y para ello contará con un plazo de 60 días considerando la verificación de la disminución del riesgo, mediante metodología especializada.\",\"\")","v":""}]
[{"$f":"IF(AND(A578=\"Ausencia de riesgo\",B578=\"Ausencia de riesgo\",C578=\"Ausencia de riesgo\",A594=\"Ausencia de riesgo\",B594=\"Ausencia de riesgo\",C594=\"Ausencia de riesgo\",A610=\"Ausencia de riesgo\",B610=\"Ausencia de riesgo\",C610=\"Ausencia de riesgo\",A626=\"Ausencia de riesgo\",B626=\"Ausencia de riesgo\",C626=\"Ausencia de riesgo\",A642=\"Ausencia de riesgo\",B642=\"Ausencia de riesgo\",C642=\"Ausencia de riesgo\"),\"Ausencia de Riesgo\",\"\")","v":"Ausencia de Riesgo"},{"$f":"IF(A553=\"Ausencia de riesgo\",\"Pueden mantener y asegurar las condiciones por un periodo de 4 años o volver a identificar solo si estas cambian.\",\"\")","v":"Pueden mantener y asegurar las condiciones por un periodo de 4 años o volver a identificar solo si estas cambian."},{"$f":"IF(A553=\"Ausencia de Riesgo\",\"No será necesario continuar con evaluación de riesgo, pero si deberá realizar revisiones periódicas,principalmente cuando existan modificaciones de tareas en el puesto de trabajo.\",\"\")","v":"No será necesario continuar con evaluación de riesgo, pero si deberá realizar revisiones periódicas,principalmente cuando existan modificaciones de tareas en el puesto de trabajo."}]
[]
[]
[]
[null,null,{"$f":"IF(A552=\"Presencia de riesgo No Crítico\",\"Nota:  No se realizará la evaluación del riesgo si solo la condición no es aceptable en las preguntas relacionadas al ambiente de trabajo. Esta excepción no aplica para Tabla 8 de Manejo manual de personas/pacientes -Identificación avanzada.\",\"\")","v":""}]
[]
[]
[null,null,{"$f":"IF(A551=\"Condición Crítica\",\"Presencia de Condición Crítica\",\"0\")","v":"0"}]
[null,null,{"$f":"IF(A552=\"Presencia de riesgo No Crítico\",\"Presencia de Riesgo No Crítico\",\"0\")","v":"0"}]
[]
[]
[]
[]
["Detalle de Resultados Tarea N° 1:",{"$f":"'TABLA 1 P5'!C6","v":"NA"}]
["DETALLE IDENTIFICACIÓN INICIAL"]
["¿Existe levantamiento, descenso o transporte manual de un objeto de 3 kg o más?","¿Existe empuje o arrastre de un objeto utilizando 1 o 2 manos?","¿Existe manejo manual de personas/pacientes?"]
[{"$f":"'TABLA 1 P5'!Y6","v":"No"},{"$f":"'TABLA 1 P5'!AA6","v":"No"},{"$f":"'TABLA 1 P5'!AC6","v":"No"}]
["DETALLE IDENTIFICACIÓN AVANZADA"]
["Resultado TABLA 3 Condición Aceptable","Resultado TABLA 5 Condición Aceptable","Resultado TABLA 7 Condición Aceptable"]
[{"$f":"IF(AND(A569=\"No\"),\"No Aplica\",\"Aplica\")","v":"No Aplica"},{"$f":"IF(AND(B569=\"No\"),\"No Aplica\",\"Aplica\")","v":"No Aplica"},{"$f":"IF(AND(C569=\"No\"),\"No Aplica\",\"Aplica\")","v":"No Aplica"}]
[{"$f":"IF('TABLA 3T1P5'!F31>=1,\"No es Aceptable\",\"Aceptable\")","v":"Aceptable"},{"$f":"IF('TABLA 5T1P5'!F18>=1,\"No es Aceptable\",\"Aceptable\")","v":"Aceptable"},{"$f":"IF('TABLA 7T1P5'!F18>=1,\"No es Aceptable\",\"Aceptable\")","v":"Aceptable"}]
["Resultado TABLA 4 Condición Crítica","Resultado TABLA 6 Condición Crítica","Resultado TABLA 8 Condición Crítica"]
[{"$f":"IF(AND(A573=\"No es Aceptable\"),\"Aplica\",\"No Aplica\")","v":"No Aplica"},{"$f":"IF(AND(B573=\"No es Aceptable\"),\"Aplica\",\"No Aplica\")","v":"No Aplica"},{"$f":"IF(AND(C573=\"No es Aceptable\"),\"Aplica\",\"No Aplica\")","v":"No Aplica"}]
[{"$f":"IF('TABLA 4T1P5'!F31>=1,\"Crítica\",\"No Crítica\")","v":"No Crítica"},{"$f":"IF('TABLA 6T1P5'!F21>=1,\"Crítica\",\"No Crítica\")","v":"No Crítica"},{"$f":"IF('TABLA 8T1P5'!F19>=1,\"Crítica\",\"No Crítica\")","v":"No Crítica"}]
["Resultado Tabla 3 y Tabla 4 ","Resultado Tabla 5 y Tabla 6","Resultado Tabla 7 y Tabla 8"]
[{"$f":"IF(AND(A573=\"Aceptable\"),\"Ausencia de riesgo\",\"\")","v":"Ausencia de riesgo"},{"$f":"IF(AND(B573=\"Aceptable\"),\"Ausencia de riesgo\",\"\")","v":"Ausencia de riesgo"},{"$f":"IF(AND(C573=\"Aceptable\"),\"Ausencia de riesgo\",\"\")","v":"Ausencia de riesgo"}]
[{"$f":"IF(AND(A573=\"No es Aceptable\",A576=\"No Crítica\"),\"Presencia de riesgo No Crítico\",\"\")","v":""},{"$f":"IF(AND(B573=\"No es Aceptable\",B576=\"No Crítica\"),\"Presencia de riesgo No Crítico\",\"\")","v":""},{"$f":"IF(AND(C573=\"No es Aceptable\",C576=\"No Crítica\"),\"Presencia de riesgo No Crítico\",\"\")","v":""}]
[{"$f":"IF(AND(A576=\"Crítica\"),\"Condición Crítica\",\"\")","v":""},{"$f":"IF(AND(B576=\"Crítica\"),\"Condición Crítica\",\"\")","v":""},{"$f":"IF(AND(C576=\"Crítica\"),\"Condición Crítica\",\"\")","v":""}]
[]
["Detalle de Resultados Tarea N° 2:",{"$f":"'TABLA 1 P5'!C8","v":"NA"}]
["DETALLE IDENTIFICACIÓN INICIAL"]
["¿Existe levantamiento, descenso o transporte manual de un objeto de 3 kg o más?","¿Existe empuje o arrastre de un objeto utilizando 1 o 2 manos?","¿Existe manejo manual de personas/pacientes?"]
[{"$f":"'TABLA 1 P5'!Y8","v":"No"},{"$f":"'TABLA 1 P5'!AA8","v":"No"},{"$f":"'TABLA 1 P5'!AC8","v":"No"}]
["DETALLE IDENTIFICACIÓN AVANZADA"]
["Resultado TABLA 3 Condición Aceptable","Resultado TABLA 5 Condición Aceptable","Resultado TABLA 7 Condición Aceptable"]
[{"$f":"IF(AND(A585=\"No\"),\"No Aplica\",\"Aplica\")","v":"No Aplica"},{"$f":"IF(AND(B585=\"No\"),\"No Aplica\",\"Aplica\")","v":"No Aplica"},{"$f":"IF(AND(C585=\"No\"),\"No Aplica\",\"Aplica\")","v":"No Aplica"}]
[{"$f":"IF('TABLA 3T2P5'!F31>=1,\"No es Aceptable\",\"Aceptable\")","v":"Aceptable"},{"$f":"IF('TABLA 5T2P5'!F18>=1,\"No es Aceptable\",\"Aceptable\")","v":"Aceptable"},{"$f":"IF('TABLA 7T2P5'!F18>=1,\"No es Aceptable\",\"Aceptable\")","v":"Aceptable"}]
["Resultado TABLA 4 Condición Crítica","Resultado TABLA 6 Condición Crítica","Resultado TABLA 8 Condición Crítica"]
[{"$f":"IF(AND(A589=\"No es Aceptable\"),\"Aplica\",\"No Aplica\")","v":"No Aplica"},{"$f":"IF(AND(B589=\"No es Aceptable\"),\"Aplica\",\"No Aplica\")","v":"No Aplica"},{"$f":"IF(AND(C589=\"No es Aceptable\"),\"Aplica\",\"No Aplica\")","v":"No Aplica"}]
[{"$f":"IF('TABLA 4T2P5'!F31>=1,\"Crítica\",\"No Crítica\")","v":"No Crítica"},{"$f":"IF('TABLA 6T2P5'!F21>=1,\"Crítica\",\"No Crítica\")","v":"No Crítica"},{"$f":"IF('TABLA 8T2P5'!F19>=1,\"Crítica\",\"No Crítica\")","v":"No Crítica"}]
["Resultado Tabla 3 y Tabla 4 ","Resultado Tabla 5 y Tabla 6","Resultado Tabla 7 y Tabla 8"]
[{"$f":"IF(AND(A589=\"Aceptable\"),\"Ausencia de riesgo\",\"\")","v":"Ausencia de riesgo"},{"$f":"IF(AND(B589=\"Aceptable\"),\"Ausencia de riesgo\",\"\")","v":"Ausencia de riesgo"},{"$f":"IF(AND(C589=\"Aceptable\"),\"Ausencia de riesgo\",\"\")","v":"Ausencia de riesgo"}]
[{"$f":"IF(AND(A589=\"No es Aceptable\",A592=\"No Crítica\"),\"Presencia de riesgo No Crítico\",\"\")","v":""},{"$f":"IF(AND(B589=\"No es Aceptable\",B592=\"No Crítica\"),\"Presencia de riesgo No Crítico\",\"\")","v":""},{"$f":"IF(AND(C589=\"No es Aceptable\",C592=\"No Crítica\"),\"Presencia de riesgo No Crítico\",\"\")","v":""}]
[{"$f":"IF(AND(A592=\"Crítica\"),\"Condición Crítica\",\"\")","v":""},{"$f":"IF(AND(B592=\"Crítica\"),\"Condición Crítica\",\"\")","v":""},{"$f":"IF(AND(C592=\"Crítica\"),\"Condición Crítica\",\"\")","v":""}]
[]
["Detalle de Resultados Tarea N° 3:",{"$f":"'TABLA 1 P5'!C10","v":"NA"}]
["DETALLE IDENTIFICACIÓN INICIAL"]
["¿Existe levantamiento, descenso o transporte manual de un objeto de 3 kg o más?","¿Existe empuje o arrastre de un objeto utilizando 1 o 2 manos?","¿Existe manejo manual de personas/pacientes?"]
[{"$f":"'TABLA 1 P5'!Y10","v":"No"},{"$f":"'TABLA 1 P5'!AA10","v":"No"},{"$f":"'TABLA 1 P5'!AC10","v":"No"}]
["DETALLE IDENTIFICACIÓN AVANZADA"]
["Resultado TABLA 3 Condición Aceptable","Resultado TABLA 5 Condición Aceptable","Resultado TABLA 7 Condición Aceptable"]
[{"$f":"IF(AND(A601=\"No\"),\"No Aplica\",\"Aplica\")","v":"No Aplica"},{"$f":"IF(AND(B601=\"No\"),\"No Aplica\",\"Aplica\")","v":"No Aplica"},{"$f":"IF(AND(C601=\"No\"),\"No Aplica\",\"Aplica\")","v":"No Aplica"}]
[{"$f":"IF('TABLA 3T3P5'!F31>=1,\"No es Aceptable\",\"Aceptable\")","v":"Aceptable"},{"$f":"IF('TABLA 5T3P5'!F18=1,\"No es Aceptable\",\"Aceptable\")","v":"Aceptable"},{"$f":"IF('TABLA 7T3P5'!F18>=1,\"No es Aceptable\",\"Aceptable\")","v":"Aceptable"}]
["Resultado TABLA 4 Condición Crítica","Resultado TABLA 6 Condición Crítica","Resultado TABLA 8 Condición Crítica"]
[{"$f":"IF(AND(A605=\"No es Aceptable\"),\"Aplica\",\"No Aplica\")","v":"No Aplica"},{"$f":"IF(AND(B605=\"No es Aceptable\"),\"Aplica\",\"No Aplica\")","v":"No Aplica"},{"$f":"IF(AND(C605=\"No es Aceptable\"),\"Aplica\",\"No Aplica\")","v":"No Aplica"}]
[{"$f":"IF('TABLA 4T3P5'!F31>=1,\"Crítica\",\"No Crítica\")","v":"No Crítica"},{"$f":"IF('TABLA 6T3P5'!F21>=1,\"Crítica\",\"No Crítica\")","v":"No Crítica"},{"$f":"IF('TABLA 8T3P5'!F19>=1,\"Crítica\",\"No Crítica\")","v":"No Crítica"}]
["Resultado Tabla 3 y Tabla 4 ","Resultado Tabla 5 y Tabla 6","Resultado Tabla 7 y Tabla 8"]
[{"$f":"IF(AND(A605=\"Aceptable\"),\"Ausencia de riesgo\",\"\")","v":"Ausencia de riesgo"},{"$f":"IF(AND(B605=\"Aceptable\"),\"Ausencia de riesgo\",\"\")","v":"Ausencia de riesgo"},{"$f":"IF(AND(C605=\"Aceptable\"),\"Ausencia de riesgo\",\"\")","v":"Ausencia de riesgo"}]
[{"$f":"IF(AND(A605=\"No es Aceptable\",A608=\"No Crítica\"),\"Presencia de riesgo No Crítico\",\"\")","v":""},{"$f":"IF(AND(B605=\"No es Aceptable\",B608=\"No Crítica\"),\"Presencia de riesgo No Crítico\",\"\")","v":""},{"$f":"IF(AND(C605=\"No es Aceptable\",C608=\"No Crítica\"),\"Presencia de riesgo No Crítico\",\"\")","v":""}]
[{"$f":"IF(AND(A608=\"Crítica\"),\"Condición Crítica\",\"\")","v":""},{"$f":"IF(AND(B608=\"Crítica\"),\"Condición Crítica\",\"\")","v":""},{"$f":"IF(AND(C608=\"Crítica\"),\"Condición Crítica\",\"\")","v":""}]
[]
["Detalle de Resultados Tarea N° 4:",{"$f":"'TABLA 1 P5'!C12","v":"NA"}]
["DETALLE IDENTIFICACIÓN INICIAL"]
["¿Existe levantamiento, descenso o transporte manual de un objeto de 3 kg o más?","¿Existe empuje o arrastre de un objeto utilizando 1 o 2 manos?","¿Existe manejo manual de personas/pacientes?"]
[{"$f":"'TABLA 1 P5'!Y12","v":"No"},{"$f":"'TABLA 1 P5'!AA12","v":"No"},{"$f":"'TABLA 1 P5'!AC12","v":"No"}]
["DETALLE IDENTIFICACIÓN AVANZADA"]
["Resultado TABLA 3 Condición Aceptable","Resultado TABLA 5 Condición Aceptable","Resultado TABLA 7 Condición Aceptable"]
[{"$f":"IF(AND(A617=\"No\"),\"No Aplica\",\"Aplica\")","v":"No Aplica"},{"$f":"IF(AND(B617=\"No\"),\"No Aplica\",\"Aplica\")","v":"No Aplica"},{"$f":"IF(AND(C617=\"No\"),\"No Aplica\",\"Aplica\")","v":"No Aplica"}]
[{"$f":"IF('TABLA 3T4P5'!F31>=1,\"No es Aceptable\",\"Aceptable\")","v":"Aceptable"},{"$f":"IF('TABLA 5T4P5'!F18>=1,\"No es Aceptable\",\"Aceptable\")","v":"Aceptable"},{"$f":"IF('TABLA 7T4P5'!F18>=1,\"No es Aceptable\",\"Aceptable\")","v":"Aceptable"}]
["Resultado TABLA 4 Condición Crítica","Resultado TABLA 6 Condición Crítica","Resultado TABLA 8 Condición Crítica"]
[{"$f":"IF(AND(A621=\"No es Aceptable\"),\"Aplica\",\"No Aplica\")","v":"No Aplica"},{"$f":"IF(AND(B621=\"No es Aceptable\"),\"Aplica\",\"No Aplica\")","v":"No Aplica"},{"$f":"IF(AND(C621=\"No es Aceptable\"),\"Aplica\",\"No Aplica\")","v":"No Aplica"}]
[{"$f":"IF('TABLA 4T4P5'!F31>=1,\"Crítica\",\"No Crítica\")","v":"No Crítica"},{"$f":"IF('TABLA 6T4P5'!F21>=1,\"Crítica\",\"No Crítica\")","v":"No Crítica"},{"$f":"IF('TABLA 8T4P5'!F19>=1,\"Crítica\",\"No Crítica\")","v":"No Crítica"}]
["Resultado Tabla 3 y Tabla 4 ","Resultado Tabla 5 y Tabla 6","Resultado Tabla 7 y Tabla 8"]
[{"$f":"IF(AND(A621=\"Aceptable\"),\"Ausencia de riesgo\",\"\")","v":"Ausencia de riesgo"},{"$f":"IF(AND(B621=\"Aceptable\"),\"Ausencia de riesgo\",\"\")","v":"Ausencia de riesgo"},{"$f":"IF(AND(C621=\"Aceptable\"),\"Ausencia de riesgo\",\"\")","v":"Ausencia de riesgo"}]
[{"$f":"IF(AND(A621=\"No es Aceptable\",A624=\"No Crítica\"),\"Presencia de riesgo No Crítico\",\"\")","v":""},{"$f":"IF(AND(B621=\"No es Aceptable\",B624=\"No Crítica\"),\"Presencia de riesgo No Crítico\",\"\")","v":""},{"$f":"IF(AND(C621=\"No es Aceptable\",C624=\"No Crítica\"),\"Presencia de riesgo No Crítico\",\"\")","v":""}]
[{"$f":"IF(AND(A624=\"Crítica\"),\"Condición Crítica\",\"\")","v":""},{"$f":"IF(AND(B624=\"Crítica\"),\"Condición Crítica\",\"\")","v":""},{"$f":"IF(AND(C624=\"Crítica\"),\"Condición Crítica\",\"\")","v":""}]
[]
["Detalle de Resultados Tarea N° 5:",{"$f":"'TABLA 1 P5'!C14","v":"NA"}]
["DETALLE IDENTIFICACIÓN INICIAL"]
["¿Existe levantamiento, descenso o transporte manual de un objeto de 3 kg o más?","¿Existe empuje o arrastre de un objeto utilizando 1 o 2 manos?","¿Existe manejo manual de personas/pacientes?"]
[{"$f":"'TABLA 1 P5'!Y14","v":"No"},{"$f":"'TABLA 1 P5'!AA14","v":"No"},{"$f":"'TABLA 1 P5'!AC14","v":"No"}]
["DETALLE IDENTIFICACIÓN AVANZADA"]
["Resultado TABLA 3 Condición Aceptable","Resultado TABLA 5 Condición Aceptable","Resultado TABLA 7 Condición Aceptable"]
[{"$f":"IF(AND(A633=\"No\"),\"No Aplica\",\"Aplica\")","v":"No Aplica"},{"$f":"IF(AND(B633=\"No\"),\"No Aplica\",\"Aplica\")","v":"No Aplica"},{"$f":"IF(AND(C633=\"No\"),\"No Aplica\",\"Aplica\")","v":"No Aplica"}]
[{"$f":"IF('TABLA 3T5P5'!F31>=1,\"No es Aceptable\",\"Aceptable\")","v":"Aceptable"},{"$f":"IF('TABLA 5T5P5'!F18>=1,\"No es Aceptable\",\"Aceptable\")","v":"Aceptable"},{"$f":"IF('TABLA 7T5P5'!F18>=1,\"No es Aceptable\",\"Aceptable\")","v":"Aceptable"}]
["Resultado TABLA 4 Condición Crítica","Resultado TABLA 6 Condición Crítica","Resultado TABLA 8 Condición Crítica"]
[{"$f":"IF(AND(A637=\"No es Aceptable\"),\"Aplica\",\"No Aplica\")","v":"No Aplica"},{"$f":"IF(AND(B637=\"No es Aceptable\"),\"Aplica\",\"No Aplica\")","v":"No Aplica"},{"$f":"IF(AND(C637=\"No es Aceptable\"),\"Aplica\",\"No Aplica\")","v":"No Aplica"}]
[{"$f":"IF('TABLA 4T5P5'!F31>=1,\"Crítica\",\"No Crítica\")","v":"No Crítica"},{"$f":"IF('TABLA 6T5P5'!F21>=1,\"Crítica\",\"No Crítica\")","v":"No Crítica"},{"$f":"IF('TABLA 8T5P5'!F19>=1,\"Crítica\",\"No Crítica\")","v":"No Crítica"}]
["Resultado Tabla 3 y Tabla 4 ","Resultado Tabla 5 y Tabla 6","Resultado Tabla 7 y Tabla 8"]
[{"$f":"IF(AND(A637=\"Aceptable\"),\"Ausencia de riesgo\",\"\")","v":"Ausencia de riesgo"},{"$f":"IF(AND(B637=\"Aceptable\"),\"Ausencia de riesgo\",\"\")","v":"Ausencia de riesgo"},{"$f":"IF(AND(C637=\"Aceptable\"),\"Ausencia de riesgo\",\"\")","v":"Ausencia de riesgo"}]
[{"$f":"IF(AND(A637=\"No es Aceptable\",A640=\"No Crítica\"),\"Presencia de riesgo No Crítico\",\"\")","v":""},{"$f":"IF(AND(B637=\"No es Aceptable\",B640=\"No Crítica\"),\"Presencia de riesgo No Crítico\",\"\")","v":""},{"$f":"IF(AND(C637=\"No es Aceptable\",C640=\"No Crítica\"),\"Presencia de riesgo No Crítico\",\"\")","v":""}]
[{"$f":"IF(AND(A640=\"Crítica\"),\"Condición Crítica\",\"\")","v":""},{"$f":"IF(AND(B640=\"Crítica\"),\"Condición Crítica\",\"\")","v":""},{"$f":"IF(AND(C640=\"Crítica\"),\"Condición Crítica\",\"\")","v":""}]
[]
[]
[]
[]
[]
[]
[]
[]
[]
[]
[]
[]
[]
[]
[]
[]
[]
[]
[]
[]
[]
[]
["Razón Social",{"$f":"'Datos Empresa'!D5","v":0},"Cargo Responsable"]
["RUT Empresa",{"$f":"'Datos Empresa'!D8","v":0},{"$f":"'Datos Empresa'!D29","v":0}]
["Dirección del Centro Trabajo",{"$f":"'Datos Empresa'!D14","v":0},"Correo electrónico Responsable"]
["Región",{"$f":"'Datos Empresa'!D17","v":0},{"$f":"'Datos Empresa'!D32","v":0}]
["Comuna",{"$f":"'Datos Empresa'!D20","v":0},"Teléfono de contacto"]
["Responsable",{"$f":"'Datos Empresa'!D26","v":0},{"$f":"'Datos Empresa'!D35","v":0}]
["RUN Responsable",{"$f":"'Datos Empresa'!D23","v":0}]
[]
[]
[]
[]
[]
[]
["Puesto de Trabajo  N°  ❻",{"$f":"'Listado de Puestos de Trabajo'!D21","v":"Disponible Puesto 6"}]
["Resultado Proceso de Identificación","Acciones Proceso de Identificación","Próximo paso"]
[]
[{"$f":"IF(AND(A712=\"\",B712=\"\",C712=\"\",A728=\"\",B728=\"\",C728=\"\",A744=\"\",B744=\"\",C744=\"\",A760=\"\",B760=\"\",C760=\"\",A776=\"\",B776=\"\",C776=\"\"),\"\",\"Condición Crítica\")","v":""},{"$f":"IF(A683=\"Condición Crítica\",\"Deberán corregir la(s) condición(es) crítica(s) dentro del plazo establecido y luego volver a aplicar tablas de identificación avanzada.\",\"\")","v":""},{"$f":"IF(A683=\"Condición Crítica\",\"Tendrán un máximo de 60 días para implementar medidas de corrección. La ACHS podrá indicar un tiempo mayor o menor, el cual en ningún caso podrá exceder a los 180 días.\",\"\")","v":""}]
[{"$f":"IF(AND(A711=\"\",B711=\"\",C711=\"\",A727=\"\",B727=\"\",C727=\"\",A743=\"\",B743=\"\",C743=\"\",A759=\"\",B759=\"\",C759=\"\",A775=\"\",B775=\"\",C775=\"\"),\"\",\"Presencia de riesgo No Crítico\")","v":""},{"$f":"IF(A684=\"Presencia de riesgo No Crítico\",\"Deberán realizar evaluación cuantitativa especializada.\",\"\")","v":""},{"$f":"IF(A684=\"Presencia de riesgo No Crítico\",\"Deberán contar con la asesoría de un especialista en ergonomía y para ello contará con un plazo de 60 días considerando la verificación de la disminución del riesgo, mediante metodología especializada.\",\"\")","v":""}]
[{"$f":"IF(AND(A710=\"Ausencia de riesgo\",B710=\"Ausencia de riesgo\",C710=\"Ausencia de riesgo\",A726=\"Ausencia de riesgo\",B726=\"Ausencia de riesgo\",C726=\"Ausencia de riesgo\",A742=\"Ausencia de riesgo\",B742=\"Ausencia de riesgo\",C742=\"Ausencia de riesgo\",A758=\"Ausencia de riesgo\",B758=\"Ausencia de riesgo\",C758=\"Ausencia de riesgo\",A774=\"Ausencia de riesgo\",B774=\"Ausencia de riesgo\",C774=\"Ausencia de riesgo\"),\"Ausencia de Riesgo\",\"\")","v":"Ausencia de Riesgo"},{"$f":"IF(A685=\"Ausencia de riesgo\",\"Pueden mantener y asegurar las condiciones por un periodo de 4 años o volver a identificar solo si estas cambian.\",\"\")","v":"Pueden mantener y asegurar las condiciones por un periodo de 4 años o volver a identificar solo si estas cambian."},{"$f":"IF(A685=\"Ausencia de Riesgo\",\"No será necesario continuar con evaluación de riesgo, pero si deberá realizar revisiones periódicas,principalmente cuando existan modificaciones de tareas en el puesto de trabajo.\",\"\")","v":"No será necesario continuar con evaluación de riesgo, pero si deberá realizar revisiones periódicas,principalmente cuando existan modificaciones de tareas en el puesto de trabajo."}]
[]
[]
[]
[null,null,{"$f":"IF(A684=\"Presencia de riesgo No Crítico\",\"Nota:  No se realizará la evaluación del riesgo si solo la condición no es aceptable en las preguntas relacionadas al ambiente de trabajo. Esta excepción no aplica para Tabla 8 de Manejo manual de personas/pacientes -Identificación avanzada.\",\"\")","v":""}]
[]
[]
[null,null,{"$f":"IF(A683=\"Condición Crítica\",\"Presencia de Condición Crítica\",\"0\")","v":"0"}]
[null,null,{"$f":"IF(A684=\"Presencia de riesgo No Crítico\",\"Presencia de Riesgo No Crítico\",\"0\")","v":"0"}]
[]
[]
[]
[]
["Detalle de Resultados Tarea N° 1:",{"$f":"'TABLA 1 P6'!C6","v":"NA"}]
["DETALLE IDENTIFICACIÓN INICIAL"]
["¿Existe levantamiento, descenso o transporte manual de un objeto de 3 kg o más?","¿Existe empuje o arrastre de un objeto utilizando 1 o 2 manos?","¿Existe manejo manual de personas/pacientes?"]
[{"$f":"'TABLA 1 P6'!Y6","v":"No"},{"$f":"'TABLA 1 P6'!AA6","v":"No"},{"$f":"'TABLA 1 P6'!AC6","v":"No"}]
["DETALLE IDENTIFICACIÓN AVANZADA"]
["Resultado TABLA 3 Condición Aceptable","Resultado TABLA 5 Condición Aceptable","Resultado TABLA 7 Condición Aceptable"]
[{"$f":"IF(AND(A701=\"No\"),\"No Aplica\",\"Aplica\")","v":"No Aplica"},{"$f":"IF(AND(B701=\"No\"),\"No Aplica\",\"Aplica\")","v":"No Aplica"},{"$f":"IF(AND(C701=\"No\"),\"No Aplica\",\"Aplica\")","v":"No Aplica"}]
[{"$f":"IF('TABLA 3T1P6'!F31>=1,\"No es Aceptable\",\"Aceptable\")","v":"Aceptable"},{"$f":"IF('TABLA 5T1P6'!F18>=1,\"No es Aceptable\",\"Aceptable\")","v":"Aceptable"},{"$f":"IF('TABLA 7T1P6'!F18>=1,\"No es Aceptable\",\"Aceptable\")","v":"Aceptable"}]
["Resultado TABLA 4 Condición Crítica","Resultado TABLA 6 Condición Crítica","Resultado TABLA 8 Condición Crítica"]
[{"$f":"IF(AND(A705=\"No es Aceptable\"),\"Aplica\",\"No Aplica\")","v":"No Aplica"},{"$f":"IF(AND(B705=\"No es Aceptable\"),\"Aplica\",\"No Aplica\")","v":"No Aplica"},{"$f":"IF(AND(C705=\"No es Aceptable\"),\"Aplica\",\"No Aplica\")","v":"No Aplica"}]
[{"$f":"IF('TABLA 4T1P6'!F31>=1,\"Crítica\",\"No Crítica\")","v":"No Crítica"},{"$f":"IF('TABLA 6T1P6'!F21>=1,\"Crítica\",\"No Crítica\")","v":"No Crítica"},{"$f":"IF('TABLA 8T1P6'!F19>=1,\"Crítica\",\"No Crítica\")","v":"No Crítica"}]
["Resultado Tabla 3 y Tabla 4 ","Resultado Tabla 5 y Tabla 6","Resultado Tabla 7 y Tabla 8"]
[{"$f":"IF(AND(A705=\"Aceptable\"),\"Ausencia de riesgo\",\"\")","v":"Ausencia de riesgo"},{"$f":"IF(AND(B705=\"Aceptable\"),\"Ausencia de riesgo\",\"\")","v":"Ausencia de riesgo"},{"$f":"IF(AND(C705=\"Aceptable\"),\"Ausencia de riesgo\",\"\")","v":"Ausencia de riesgo"}]
[{"$f":"IF(AND(A705=\"No es Aceptable\",A708=\"No Crítica\"),\"Presencia de riesgo No Crítico\",\"\")","v":""},{"$f":"IF(AND(B705=\"No es Aceptable\",B708=\"No Crítica\"),\"Presencia de riesgo No Crítico\",\"\")","v":""},{"$f":"IF(AND(C705=\"No es Aceptable\",C708=\"No Crítica\"),\"Presencia de riesgo No Crítico\",\"\")","v":""}]
[{"$f":"IF(AND(A708=\"Crítica\"),\"Condición Crítica\",\"\")","v":""},{"$f":"IF(AND(B708=\"Crítica\"),\"Condición Crítica\",\"\")","v":""},{"$f":"IF(AND(C708=\"Crítica\"),\"Condición Crítica\",\"\")","v":""}]
[]
["Detalle de Resultados Tarea N° 2:",{"$f":"'TABLA 1 P6'!C8","v":"NA"}]
["DETALLE IDENTIFICACIÓN INICIAL"]
["¿Existe levantamiento, descenso o transporte manual de un objeto de 3 kg o más?","¿Existe empuje o arrastre de un objeto utilizando 1 o 2 manos?","¿Existe manejo manual de personas/pacientes?"]
[{"$f":"'TABLA 1 P6'!Y8","v":"No"},{"$f":"'TABLA 1 P6'!AA8","v":"No"},{"$f":"'TABLA 1 P6'!AC8","v":"No"}]
["DETALLE IDENTIFICACIÓN AVANZADA"]
["Resultado TABLA 3 Condición Aceptable","Resultado TABLA 5 Condición Aceptable","Resultado TABLA 7 Condición Aceptable"]
[{"$f":"IF(AND(A717=\"No\"),\"No Aplica\",\"Aplica\")","v":"No Aplica"},{"$f":"IF(AND(B717=\"No\"),\"No Aplica\",\"Aplica\")","v":"No Aplica"},{"$f":"IF(AND(C717=\"No\"),\"No Aplica\",\"Aplica\")","v":"No Aplica"}]
[{"$f":"IF('TABLA 3T2P6'!F31>=1,\"No es Aceptable\",\"Aceptable\")","v":"Aceptable"},{"$f":"IF('TABLA 5T2P6'!F18>=1,\"No es Aceptable\",\"Aceptable\")","v":"Aceptable"},{"$f":"IF('TABLA 7T2P6'!F18>=1,\"No es Aceptable\",\"Aceptable\")","v":"Aceptable"}]
["Resultado TABLA 4 Condición Crítica","Resultado TABLA 6 Condición Crítica","Resultado TABLA 8 Condición Crítica"]
[{"$f":"IF(AND(A721=\"No es Aceptable\"),\"Aplica\",\"No Aplica\")","v":"No Aplica"},{"$f":"IF(AND(B721=\"No es Aceptable\"),\"Aplica\",\"No Aplica\")","v":"No Aplica"},{"$f":"IF(AND(C721=\"No es Aceptable\"),\"Aplica\",\"No Aplica\")","v":"No Aplica"}]
[{"$f":"IF('TABLA 4T2P6'!F31>=1,\"Crítica\",\"No Crítica\")","v":"No Crítica"},{"$f":"IF('TABLA 6T2P6'!F21>=1,\"Crítica\",\"No Crítica\")","v":"No Crítica"},{"$f":"IF('TABLA 8T2P6'!F19>=1,\"Crítica\",\"No Crítica\")","v":"No Crítica"}]
["Resultado Tabla 3 y Tabla 4 ","Resultado Tabla 5 y Tabla 6","Resultado Tabla 7 y Tabla 8"]
[{"$f":"IF(AND(A721=\"Aceptable\"),\"Ausencia de riesgo\",\"\")","v":"Ausencia de riesgo"},{"$f":"IF(AND(B721=\"Aceptable\"),\"Ausencia de riesgo\",\"\")","v":"Ausencia de riesgo"},{"$f":"IF(AND(C721=\"Aceptable\"),\"Ausencia de riesgo\",\"\")","v":"Ausencia de riesgo"}]
[{"$f":"IF(AND(A721=\"No es Aceptable\",A724=\"No Crítica\"),\"Presencia de riesgo No Crítico\",\"\")","v":""},{"$f":"IF(AND(B721=\"No es Aceptable\",B724=\"No Crítica\"),\"Presencia de riesgo No Crítico\",\"\")","v":""},{"$f":"IF(AND(C721=\"No es Aceptable\",C724=\"No Crítica\"),\"Presencia de riesgo No Crítico\",\"\")","v":""}]
[{"$f":"IF(AND(A724=\"Crítica\"),\"Condición Crítica\",\"\")","v":""},{"$f":"IF(AND(B724=\"Crítica\"),\"Condición Crítica\",\"\")","v":""},{"$f":"IF(AND(C724=\"Crítica\"),\"Condición Crítica\",\"\")","v":""}]
[]
["Detalle de Resultados Tarea N° 3:",{"$f":"'TABLA 1 P6'!C10","v":"NA"}]
["DETALLE IDENTIFICACIÓN INICIAL"]
["¿Existe levantamiento, descenso o transporte manual de un objeto de 3 kg o más?","¿Existe empuje o arrastre de un objeto utilizando 1 o 2 manos?","¿Existe manejo manual de personas/pacientes?"]
[{"$f":"'TABLA 1 P6'!Y10","v":"No"},{"$f":"'TABLA 1 P6'!AA10","v":"No"},{"$f":"'TABLA 1 P6'!AC10","v":"No"}]
["DETALLE IDENTIFICACIÓN AVANZADA"]
["Resultado TABLA 3 Condición Aceptable","Resultado TABLA 5 Condición Aceptable","Resultado TABLA 7 Condición Aceptable"]
[{"$f":"IF(AND(A733=\"No\"),\"No Aplica\",\"Aplica\")","v":"No Aplica"},{"$f":"IF(AND(B733=\"No\"),\"No Aplica\",\"Aplica\")","v":"No Aplica"},{"$f":"IF(AND(C733=\"No\"),\"No Aplica\",\"Aplica\")","v":"No Aplica"}]
[{"$f":"IF('TABLA 3T3P6'!F31>=1,\"No es Aceptable\",\"Aceptable\")","v":"Aceptable"},{"$f":"IF('TABLA 5T3P6'!F18=1,\"No es Aceptable\",\"Aceptable\")","v":"Aceptable"},{"$f":"IF('TABLA 7T3P6'!F18>=1,\"No es Aceptable\",\"Aceptable\")","v":"Aceptable"}]
["Resultado TABLA 4 Condición Crítica","Resultado TABLA 6 Condición Crítica","Resultado TABLA 8 Condición Crítica"]
[{"$f":"IF(AND(A737=\"No es Aceptable\"),\"Aplica\",\"No Aplica\")","v":"No Aplica"},{"$f":"IF(AND(B737=\"No es Aceptable\"),\"Aplica\",\"No Aplica\")","v":"No Aplica"},{"$f":"IF(AND(C737=\"No es Aceptable\"),\"Aplica\",\"No Aplica\")","v":"No Aplica"}]
[{"$f":"IF('TABLA 4T3P6'!F31>=1,\"Crítica\",\"No Crítica\")","v":"No Crítica"},{"$f":"IF('TABLA 6T3P6'!F21>=1,\"Crítica\",\"No Crítica\")","v":"No Crítica"},{"$f":"IF('TABLA 8T3P6'!F19>=1,\"Crítica\",\"No Crítica\")","v":"No Crítica"}]
["Resultado Tabla 3 y Tabla 4 ","Resultado Tabla 5 y Tabla 6","Resultado Tabla 7 y Tabla 8"]
[{"$f":"IF(AND(A737=\"Aceptable\"),\"Ausencia de riesgo\",\"\")","v":"Ausencia de riesgo"},{"$f":"IF(AND(B737=\"Aceptable\"),\"Ausencia de riesgo\",\"\")","v":"Ausencia de riesgo"},{"$f":"IF(AND(C737=\"Aceptable\"),\"Ausencia de riesgo\",\"\")","v":"Ausencia de riesgo"}]
[{"$f":"IF(AND(A737=\"No es Aceptable\",A740=\"No Crítica\"),\"Presencia de riesgo No Crítico\",\"\")","v":""},{"$f":"IF(AND(B737=\"No es Aceptable\",B740=\"No Crítica\"),\"Presencia de riesgo No Crítico\",\"\")","v":""},{"$f":"IF(AND(C737=\"No es Aceptable\",C740=\"No Crítica\"),\"Presencia de riesgo No Crítico\",\"\")","v":""}]
[{"$f":"IF(AND(A740=\"Crítica\"),\"Condición Crítica\",\"\")","v":""},{"$f":"IF(AND(B740=\"Crítica\"),\"Condición Crítica\",\"\")","v":""},{"$f":"IF(AND(C740=\"Crítica\"),\"Condición Crítica\",\"\")","v":""}]
[]
["Detalle de Resultados Tarea N° 4:",{"$f":"'TABLA 1 P6'!C12","v":"NA"}]
["DETALLE IDENTIFICACIÓN INICIAL"]
["¿Existe levantamiento, descenso o transporte manual de un objeto de 3 kg o más?","¿Existe empuje o arrastre de un objeto utilizando 1 o 2 manos?","¿Existe manejo manual de personas/pacientes?"]
[{"$f":"'TABLA 1 P6'!Y12","v":"No"},{"$f":"'TABLA 1 P6'!AA12","v":"No"},{"$f":"'TABLA 1 P6'!AC12","v":"No"}]
["DETALLE IDENTIFICACIÓN AVANZADA"]
["Resultado TABLA 3 Condición Aceptable","Resultado TABLA 5 Condición Aceptable","Resultado TABLA 7 Condición Aceptable"]
[{"$f":"IF(AND(A749=\"No\"),\"No Aplica\",\"Aplica\")","v":"No Aplica"},{"$f":"IF(AND(B749=\"No\"),\"No Aplica\",\"Aplica\")","v":"No Aplica"},{"$f":"IF(AND(C749=\"No\"),\"No Aplica\",\"Aplica\")","v":"No Aplica"}]
[{"$f":"IF('TABLA 3T4P6'!F31>=1,\"No es Aceptable\",\"Aceptable\")","v":"Aceptable"},{"$f":"IF('TABLA 5T4P6'!F18>=1,\"No es Aceptable\",\"Aceptable\")","v":"Aceptable"},{"$f":"IF('TABLA 7T4P6'!F18>=1,\"No es Aceptable\",\"Aceptable\")","v":"Aceptable"}]
["Resultado TABLA 4 Condición Crítica","Resultado TABLA 6 Condición Crítica","Resultado TABLA 8 Condición Crítica"]
[{"$f":"IF(AND(A753=\"No es Aceptable\"),\"Aplica\",\"No Aplica\")","v":"No Aplica"},{"$f":"IF(AND(B753=\"No es Aceptable\"),\"Aplica\",\"No Aplica\")","v":"No Aplica"},{"$f":"IF(AND(C753=\"No es Aceptable\"),\"Aplica\",\"No Aplica\")","v":"No Aplica"}]
[{"$f":"IF('TABLA 4T4P6'!F31>=1,\"Crítica\",\"No Crítica\")","v":"No Crítica"},{"$f":"IF('TABLA 6T4P6'!F21>=1,\"Crítica\",\"No Crítica\")","v":"No Crítica"},{"$f":"IF('TABLA 8T4P6'!F19>=1,\"Crítica\",\"No Crítica\")","v":"No Crítica"}]
["Resultado Tabla 3 y Tabla 4 ","Resultado Tabla 5 y Tabla 6","Resultado Tabla 7 y Tabla 8"]
[{"$f":"IF(AND(A753=\"Aceptable\"),\"Ausencia de riesgo\",\"\")","v":"Ausencia de riesgo"},{"$f":"IF(AND(B753=\"Aceptable\"),\"Ausencia de riesgo\",\"\")","v":"Ausencia de riesgo"},{"$f":"IF(AND(C753=\"Aceptable\"),\"Ausencia de riesgo\",\"\")","v":"Ausencia de riesgo"}]
[{"$f":"IF(AND(A753=\"No es Aceptable\",A756=\"No Crítica\"),\"Presencia de riesgo No Crítico\",\"\")","v":""},{"$f":"IF(AND(B753=\"No es Aceptable\",B756=\"No Crítica\"),\"Presencia de riesgo No Crítico\",\"\")","v":""},{"$f":"IF(AND(C753=\"No es Aceptable\",C756=\"No Crítica\"),\"Presencia de riesgo No Crítico\",\"\")","v":""}]
[{"$f":"IF(AND(A756=\"Crítica\"),\"Condición Crítica\",\"\")","v":""},{"$f":"IF(AND(B756=\"Crítica\"),\"Condición Crítica\",\"\")","v":""},{"$f":"IF(AND(C756=\"Crítica\"),\"Condición Crítica\",\"\")","v":""}]
[]
["Detalle de Resultados Tarea N° 5:",{"$f":"'TABLA 1 P6'!C14","v":"NA"}]
["DETALLE IDENTIFICACIÓN INICIAL"]
["¿Existe levantamiento, descenso o transporte manual de un objeto de 3 kg o más?","¿Existe empuje o arrastre de un objeto utilizando 1 o 2 manos?","¿Existe manejo manual de personas/pacientes?"]
[{"$f":"'TABLA 1 P6'!Y14","v":"No"},{"$f":"'TABLA 1 P6'!AA14","v":"No"},{"$f":"'TABLA 1 P6'!AC14","v":"No"}]
["DETALLE IDENTIFICACIÓN AVANZADA"]
["Resultado TABLA 3 Condición Aceptable","Resultado TABLA 5 Condición Aceptable","Resultado TABLA 7 Condición Aceptable"]
[{"$f":"IF(AND(A765=\"No\"),\"No Aplica\",\"Aplica\")","v":"No Aplica"},{"$f":"IF(AND(B765=\"No\"),\"No Aplica\",\"Aplica\")","v":"No Aplica"},{"$f":"IF(AND(C765=\"No\"),\"No Aplica\",\"Aplica\")","v":"No Aplica"}]
[{"$f":"IF('TABLA 3T5P6'!F31>=1,\"No es Aceptable\",\"Aceptable\")","v":"Aceptable"},{"$f":"IF('TABLA 5T5P6'!F18>=1,\"No es Aceptable\",\"Aceptable\")","v":"Aceptable"},{"$f":"IF('TABLA 7T5P6'!F18>=1,\"No es Aceptable\",\"Aceptable\")","v":"Aceptable"}]
["Resultado TABLA 4 Condición Crítica","Resultado TABLA 6 Condición Crítica","Resultado TABLA 8 Condición Crítica"]
[{"$f":"IF(AND(A769=\"No es Aceptable\"),\"Aplica\",\"No Aplica\")","v":"No Aplica"},{"$f":"IF(AND(B769=\"No es Aceptable\"),\"Aplica\",\"No Aplica\")","v":"No Aplica"},{"$f":"IF(AND(C769=\"No es Aceptable\"),\"Aplica\",\"No Aplica\")","v":"No Aplica"}]
[{"$f":"IF('TABLA 4T5P6'!F31>=1,\"Crítica\",\"No Crítica\")","v":"No Crítica"},{"$f":"IF('TABLA 6T5P6'!F21>=1,\"Crítica\",\"No Crítica\")","v":"No Crítica"},{"$f":"IF('TABLA 8T5P6'!F19>=1,\"Crítica\",\"No Crítica\")","v":"No Crítica"}]
["Resultado Tabla 3 y Tabla 4 ","Resultado Tabla 5 y Tabla 6","Resultado Tabla 7 y Tabla 8"]
[{"$f":"IF(AND(A769=\"Aceptable\"),\"Ausencia de riesgo\",\"\")","v":"Ausencia de riesgo"},{"$f":"IF(AND(B769=\"Aceptable\"),\"Ausencia de riesgo\",\"\")","v":"Ausencia de riesgo"},{"$f":"IF(AND(C769=\"Aceptable\"),\"Ausencia de riesgo\",\"\")","v":"Ausencia de riesgo"}]
[{"$f":"IF(AND(A769=\"No es Aceptable\",A772=\"No Crítica\"),\"Presencia de riesgo No Crítico\",\"\")","v":""},{"$f":"IF(AND(B769=\"No es Aceptable\",B772=\"No Crítica\"),\"Presencia de riesgo No Crítico\",\"\")","v":""},{"$f":"IF(AND(C769=\"No es Aceptable\",C772=\"No Crítica\"),\"Presencia de riesgo No Crítico\",\"\")","v":""}]
[{"$f":"IF(AND(A772=\"Crítica\"),\"Condición Crítica\",\"\")","v":""},{"$f":"IF(AND(B772=\"Crítica\"),\"Condición Crítica\",\"\")","v":""},{"$f":"IF(AND(C772=\"Crítica\"),\"Condición Crítica\",\"\")","v":""}]
[]
[]
[]
[]
[]
[]
[]
[]
[]
[]
[]
[]
[]
[]
[]
[]
[]
[]
[]
[]
[]
[]
["Razón Social",{"$f":"'Datos Empresa'!D5","v":0},"Cargo Responsable"]
["RUT Empresa",{"$f":"'Datos Empresa'!D8","v":0},{"$f":"'Datos Empresa'!D29","v":0}]
["Dirección del Centro Trabajo",{"$f":"'Datos Empresa'!D14","v":0},"Correo electrónico Responsable"]
["Región",{"$f":"'Datos Empresa'!D17","v":0},{"$f":"'Datos Empresa'!D32","v":0}]
["Comuna",{"$f":"'Datos Empresa'!D20","v":0},"Teléfono de contacto"]
["Responsable",{"$f":"'Datos Empresa'!D26","v":0},{"$f":"'Datos Empresa'!D35","v":0}]
["RUN Responsable",{"$f":"'Datos Empresa'!D23","v":0}]
[]
[]
[]
[]
[]
[]
["Puesto de Trabajo  N°  ❼",{"$f":"'Listado de Puestos de Trabajo'!D24","v":"Disponible Puesto 7"}]
["Resultado Proceso de Identificación","Acciones Proceso de Identificación","Próximo paso"]
[]
[{"$f":"IF(AND(A844=\"\",B844=\"\",C844=\"\",A860=\"\",B860=\"\",C860=\"\",A876=\"\",B876=\"\",C876=\"\",A892=\"\",B892=\"\",C892=\"\",A908=\"\",B908=\"\",C908=\"\"),\"\",\"Condición Crítica\")","v":""},{"$f":"IF(A815=\"Condición Crítica\",\"Deberán corregir la(s) condición(es) crítica(s) dentro del plazo establecido y luego volver a aplicar tablas de identificación avanzada.\",\"\")","v":""},{"$f":"IF(A815=\"Condición Crítica\",\"Tendrán un máximo de 60 días para implementar medidas de corrección. La ACHS podrá indicar un tiempo mayor o menor, el cual en ningún caso podrá exceder a los 180 días.\",\"\")","v":""}]
[{"$f":"IF(AND(A843=\"\",B843=\"\",C843=\"\",A859=\"\",B859=\"\",C859=\"\",A875=\"\",B875=\"\",C875=\"\",A891=\"\",B891=\"\",C891=\"\",A907=\"\",B907=\"\",C907=\"\"),\"\",\"Presencia de riesgo No Crítico\")","v":""},{"$f":"IF(A816=\"Presencia de riesgo No Crítico\",\"Deberán realizar evaluación cuantitativa especializada.\",\"\")","v":""},{"$f":"IF(A816=\"Presencia de riesgo No Crítico\",\"Deberán contar con la asesoría de un especialista en ergonomía y para ello contará con un plazo de 60 días considerando la verificación de la disminución del riesgo, mediante metodología especializada.\",\"\")","v":""}]
[{"$f":"IF(AND(A842=\"Ausencia de riesgo\",B842=\"Ausencia de riesgo\",C842=\"Ausencia de riesgo\",A858=\"Ausencia de riesgo\",B858=\"Ausencia de riesgo\",C858=\"Ausencia de riesgo\",A874=\"Ausencia de riesgo\",B874=\"Ausencia de riesgo\",C874=\"Ausencia de riesgo\",A890=\"Ausencia de riesgo\",B890=\"Ausencia de riesgo\",C890=\"Ausencia de riesgo\",A906=\"Ausencia de riesgo\",B906=\"Ausencia de riesgo\",C906=\"Ausencia de riesgo\"),\"Ausencia de Riesgo\",\"\")","v":"Ausencia de Riesgo"},{"$f":"IF(A817=\"Ausencia de riesgo\",\"Pueden mantener y asegurar las condiciones por un periodo de 4 años o volver a identificar solo si estas cambian.\",\"\")","v":"Pueden mantener y asegurar las condiciones por un periodo de 4 años o volver a identificar solo si estas cambian."},{"$f":"IF(A817=\"Ausencia de Riesgo\",\"No será necesario continuar con evaluación de riesgo, pero si deberá realizar revisiones periódicas,principalmente cuando existan modificaciones de tareas en el puesto de trabajo.\",\"\")","v":"No será necesario continuar con evaluación de riesgo, pero si deberá realizar revisiones periódicas,principalmente cuando existan modificaciones de tareas en el puesto de trabajo."}]
[]
[]
[]
[null,null,{"$f":"IF(A816=\"Presencia de riesgo No Crítico\",\"Nota:  No se realizará la evaluación del riesgo si solo la condición no es aceptable en las preguntas relacionadas al ambiente de trabajo. Esta excepción no aplica para Tabla 8 de Manejo manual de personas/pacientes -Identificación avanzada.\",\"\")","v":""}]
[]
[]
[null,null,{"$f":"IF(A815=\"Condición Crítica\",\"Presencia de Condición Crítica\",\"0\")","v":"0"}]
[null,null,{"$f":"IF(A816=\"Presencia de riesgo No Crítico\",\"Presencia de Riesgo No Crítico\",\"0\")","v":"0"}]
[]
[]
[]
[]
["Detalle de Resultados Tarea N° 1:",{"$f":"'TABLA 1 P7'!C6","v":"NA"}]
["DETALLE IDENTIFICACIÓN INICIAL"]
["¿Existe levantamiento, descenso o transporte manual de un objeto de 3 kg o más?","¿Existe empuje o arrastre de un objeto utilizando 1 o 2 manos?","¿Existe manejo manual de personas/pacientes?"]
[{"$f":"'TABLA 1 P7'!Y6","v":"No"},{"$f":"'TABLA 1 P7'!AA6","v":"No"},{"$f":"'TABLA 1 P7'!AC6","v":"No"}]
["DETALLE IDENTIFICACIÓN AVANZADA"]
["Resultado TABLA 3 Condición Aceptable","Resultado TABLA 5 Condición Aceptable","Resultado TABLA 7 Condición Aceptable"]
[{"$f":"IF(AND(A833=\"No\"),\"No Aplica\",\"Aplica\")","v":"No Aplica"},{"$f":"IF(AND(B833=\"No\"),\"No Aplica\",\"Aplica\")","v":"No Aplica"},{"$f":"IF(AND(C833=\"No\"),\"No Aplica\",\"Aplica\")","v":"No Aplica"}]
[{"$f":"IF('TABLA 3T1P7'!F31>=1,\"No es Aceptable\",\"Aceptable\")","v":"Aceptable"},{"$f":"IF('TABLA 5T1P7'!F18>=1,\"No es Aceptable\",\"Aceptable\")","v":"Aceptable"},{"$f":"IF('TABLA 7T1P7'!F18>=1,\"No es Aceptable\",\"Aceptable\")","v":"Aceptable"}]
["Resultado TABLA 4 Condición Crítica","Resultado TABLA 6 Condición Crítica","Resultado TABLA 8 Condición Crítica"]
[{"$f":"IF(AND(A837=\"No es Aceptable\"),\"Aplica\",\"No Aplica\")","v":"No Aplica"},{"$f":"IF(AND(B837=\"No es Aceptable\"),\"Aplica\",\"No Aplica\")","v":"No Aplica"},{"$f":"IF(AND(C837=\"No es Aceptable\"),\"Aplica\",\"No Aplica\")","v":"No Aplica"}]
[{"$f":"IF('TABLA 4T1P7'!F31>=1,\"Crítica\",\"No Crítica\")","v":"No Crítica"},{"$f":"IF('TABLA 6T1P7'!F21>=1,\"Crítica\",\"No Crítica\")","v":"No Crítica"},{"$f":"IF('TABLA 8T1P7'!F19>=1,\"Crítica\",\"No Crítica\")","v":"No Crítica"}]
["Resultado Tabla 3 y Tabla 4 ","Resultado Tabla 5 y Tabla 6","Resultado Tabla 7 y Tabla 8"]
[{"$f":"IF(AND(A837=\"Aceptable\"),\"Ausencia de riesgo\",\"\")","v":"Ausencia de riesgo"},{"$f":"IF(AND(B837=\"Aceptable\"),\"Ausencia de riesgo\",\"\")","v":"Ausencia de riesgo"},{"$f":"IF(AND(C837=\"Aceptable\"),\"Ausencia de riesgo\",\"\")","v":"Ausencia de riesgo"}]
[{"$f":"IF(AND(A837=\"No es Aceptable\",A840=\"No Crítica\"),\"Presencia de riesgo No Crítico\",\"\")","v":""},{"$f":"IF(AND(B837=\"No es Aceptable\",B840=\"No Crítica\"),\"Presencia de riesgo No Crítico\",\"\")","v":""},{"$f":"IF(AND(C837=\"No es Aceptable\",C840=\"No Crítica\"),\"Presencia de riesgo No Crítico\",\"\")","v":""}]
[{"$f":"IF(AND(A840=\"Crítica\"),\"Condición Crítica\",\"\")","v":""},{"$f":"IF(AND(B840=\"Crítica\"),\"Condición Crítica\",\"\")","v":""},{"$f":"IF(AND(C840=\"Crítica\"),\"Condición Crítica\",\"\")","v":""}]
[]
["Detalle de Resultados Tarea N° 2:",{"$f":"'TABLA 1 P7'!C8","v":"NA"}]
["DETALLE IDENTIFICACIÓN INICIAL"]
["¿Existe levantamiento, descenso o transporte manual de un objeto de 3 kg o más?","¿Existe empuje o arrastre de un objeto utilizando 1 o 2 manos?","¿Existe manejo manual de personas/pacientes?"]
[{"$f":"'TABLA 1 P7'!Y8","v":"No"},{"$f":"'TABLA 1 P7'!AA8","v":"No"},{"$f":"'TABLA 1 P7'!AC8","v":"No"}]
["DETALLE IDENTIFICACIÓN AVANZADA"]
["Resultado TABLA 3 Condición Aceptable","Resultado TABLA 5 Condición Aceptable","Resultado TABLA 7 Condición Aceptable"]
[{"$f":"IF(AND(A849=\"No\"),\"No Aplica\",\"Aplica\")","v":"No Aplica"},{"$f":"IF(AND(B849=\"No\"),\"No Aplica\",\"Aplica\")","v":"No Aplica"},{"$f":"IF(AND(C849=\"No\"),\"No Aplica\",\"Aplica\")","v":"No Aplica"}]
[{"$f":"IF('TABLA 3T2P7'!F31>=1,\"No es Aceptable\",\"Aceptable\")","v":"Aceptable"},{"$f":"IF('TABLA 5T2P7'!F18>=1,\"No es Aceptable\",\"Aceptable\")","v":"Aceptable"},{"$f":"IF('TABLA 7T2P7'!F18>=1,\"No es Aceptable\",\"Aceptable\")","v":"Aceptable"}]
["Resultado TABLA 4 Condición Crítica","Resultado TABLA 6 Condición Crítica","Resultado TABLA 8 Condición Crítica"]
[{"$f":"IF(AND(A853=\"No es Aceptable\"),\"Aplica\",\"No Aplica\")","v":"No Aplica"},{"$f":"IF(AND(B853=\"No es Aceptable\"),\"Aplica\",\"No Aplica\")","v":"No Aplica"},{"$f":"IF(AND(C853=\"No es Aceptable\"),\"Aplica\",\"No Aplica\")","v":"No Aplica"}]
[{"$f":"IF('TABLA 4T2P7'!F31>=1,\"Crítica\",\"No Crítica\")","v":"No Crítica"},{"$f":"IF('TABLA 6T2P7'!F21>=1,\"Crítica\",\"No Crítica\")","v":"No Crítica"},{"$f":"IF('TABLA 8T2P7'!F19>=1,\"Crítica\",\"No Crítica\")","v":"No Crítica"}]
["Resultado Tabla 3 y Tabla 4 ","Resultado Tabla 5 y Tabla 6","Resultado Tabla 7 y Tabla 8"]
[{"$f":"IF(AND(A853=\"Aceptable\"),\"Ausencia de riesgo\",\"\")","v":"Ausencia de riesgo"},{"$f":"IF(AND(B853=\"Aceptable\"),\"Ausencia de riesgo\",\"\")","v":"Ausencia de riesgo"},{"$f":"IF(AND(C853=\"Aceptable\"),\"Ausencia de riesgo\",\"\")","v":"Ausencia de riesgo"}]
[{"$f":"IF(AND(A853=\"No es Aceptable\",A856=\"No Crítica\"),\"Presencia de riesgo No Crítico\",\"\")","v":""},{"$f":"IF(AND(B853=\"No es Aceptable\",B856=\"No Crítica\"),\"Presencia de riesgo No Crítico\",\"\")","v":""},{"$f":"IF(AND(C853=\"No es Aceptable\",C856=\"No Crítica\"),\"Presencia de riesgo No Crítico\",\"\")","v":""}]
[{"$f":"IF(AND(A856=\"Crítica\"),\"Condición Crítica\",\"\")","v":""},{"$f":"IF(AND(B856=\"Crítica\"),\"Condición Crítica\",\"\")","v":""},{"$f":"IF(AND(C856=\"Crítica\"),\"Condición Crítica\",\"\")","v":""}]
[]
["Detalle de Resultados Tarea N° 3:",{"$f":"'TABLA 1 P7'!C10","v":"NA"}]
["DETALLE IDENTIFICACIÓN INICIAL"]
["¿Existe levantamiento, descenso o transporte manual de un objeto de 3 kg o más?","¿Existe empuje o arrastre de un objeto utilizando 1 o 2 manos?","¿Existe manejo manual de personas/pacientes?"]
[{"$f":"'TABLA 1 P7'!Y10","v":"No"},{"$f":"'TABLA 1 P7'!AA10","v":"No"},{"$f":"'TABLA 1 P7'!AC10","v":"No"}]
["DETALLE IDENTIFICACIÓN AVANZADA"]
["Resultado TABLA 3 Condición Aceptable","Resultado TABLA 5 Condición Aceptable","Resultado TABLA 7 Condición Aceptable"]
[{"$f":"IF(AND(A865=\"No\"),\"No Aplica\",\"Aplica\")","v":"No Aplica"},{"$f":"IF(AND(B865=\"No\"),\"No Aplica\",\"Aplica\")","v":"No Aplica"},{"$f":"IF(AND(C865=\"No\"),\"No Aplica\",\"Aplica\")","v":"No Aplica"}]
[{"$f":"IF('TABLA 3T3P7'!F31>=1,\"No es Aceptable\",\"Aceptable\")","v":"Aceptable"},{"$f":"IF('TABLA 5T3P7'!F18=1,\"No es Aceptable\",\"Aceptable\")","v":"Aceptable"},{"$f":"IF('TABLA 7T3P7'!F18>=1,\"No es Aceptable\",\"Aceptable\")","v":"Aceptable"}]
["Resultado TABLA 4 Condición Crítica","Resultado TABLA 6 Condición Crítica","Resultado TABLA 8 Condición Crítica"]
[{"$f":"IF(AND(A869=\"No es Aceptable\"),\"Aplica\",\"No Aplica\")","v":"No Aplica"},{"$f":"IF(AND(B869=\"No es Aceptable\"),\"Aplica\",\"No Aplica\")","v":"No Aplica"},{"$f":"IF(AND(C869=\"No es Aceptable\"),\"Aplica\",\"No Aplica\")","v":"No Aplica"}]
[{"$f":"IF('TABLA 4T3P7'!F31>=1,\"Crítica\",\"No Crítica\")","v":"No Crítica"},{"$f":"IF('TABLA 6T3P7'!F21>=1,\"Crítica\",\"No Crítica\")","v":"No Crítica"},{"$f":"IF('TABLA 8T3P7'!F19>=1,\"Crítica\",\"No Crítica\")","v":"No Crítica"}]
["Resultado Tabla 3 y Tabla 4 ","Resultado Tabla 5 y Tabla 6","Resultado Tabla 7 y Tabla 8"]
[{"$f":"IF(AND(A869=\"Aceptable\"),\"Ausencia de riesgo\",\"\")","v":"Ausencia de riesgo"},{"$f":"IF(AND(B869=\"Aceptable\"),\"Ausencia de riesgo\",\"\")","v":"Ausencia de riesgo"},{"$f":"IF(AND(C869=\"Aceptable\"),\"Ausencia de riesgo\",\"\")","v":"Ausencia de riesgo"}]
[{"$f":"IF(AND(A869=\"No es Aceptable\",A872=\"No Crítica\"),\"Presencia de riesgo No Crítico\",\"\")","v":""},{"$f":"IF(AND(B869=\"No es Aceptable\",B872=\"No Crítica\"),\"Presencia de riesgo No Crítico\",\"\")","v":""},{"$f":"IF(AND(C869=\"No es Aceptable\",C872=\"No Crítica\"),\"Presencia de riesgo No Crítico\",\"\")","v":""}]
[{"$f":"IF(AND(A872=\"Crítica\"),\"Condición Crítica\",\"\")","v":""},{"$f":"IF(AND(B872=\"Crítica\"),\"Condición Crítica\",\"\")","v":""},{"$f":"IF(AND(C872=\"Crítica\"),\"Condición Crítica\",\"\")","v":""}]
[]
["Detalle de Resultados Tarea N° 4:",{"$f":"'TABLA 1 P7'!C12","v":"NA"}]
["DETALLE IDENTIFICACIÓN INICIAL"]
["¿Existe levantamiento, descenso o transporte manual de un objeto de 3 kg o más?","¿Existe empuje o arrastre de un objeto utilizando 1 o 2 manos?","¿Existe manejo manual de personas/pacientes?"]
[{"$f":"'TABLA 1 P7'!Y12","v":"No"},{"$f":"'TABLA 1 P7'!AA12","v":"No"},{"$f":"'TABLA 1 P7'!AC12","v":"No"}]
["DETALLE IDENTIFICACIÓN AVANZADA"]
["Resultado TABLA 3 Condición Aceptable","Resultado TABLA 5 Condición Aceptable","Resultado TABLA 7 Condición Aceptable"]
[{"$f":"IF(AND(A881=\"No\"),\"No Aplica\",\"Aplica\")","v":"No Aplica"},{"$f":"IF(AND(B881=\"No\"),\"No Aplica\",\"Aplica\")","v":"No Aplica"},{"$f":"IF(AND(C881=\"No\"),\"No Aplica\",\"Aplica\")","v":"No Aplica"}]
[{"$f":"IF('TABLA 3T4P7'!F31>=1,\"No es Aceptable\",\"Aceptable\")","v":"Aceptable"},{"$f":"IF('TABLA 5T4P7'!F18>=1,\"No es Aceptable\",\"Aceptable\")","v":"Aceptable"},{"$f":"IF('TABLA 7T4P7'!F18>=1,\"No es Aceptable\",\"Aceptable\")","v":"Aceptable"}]
["Resultado TABLA 4 Condición Crítica","Resultado TABLA 6 Condición Crítica","Resultado TABLA 8 Condición Crítica"]
[{"$f":"IF(AND(A885=\"No es Aceptable\"),\"Aplica\",\"No Aplica\")","v":"No Aplica"},{"$f":"IF(AND(B885=\"No es Aceptable\"),\"Aplica\",\"No Aplica\")","v":"No Aplica"},{"$f":"IF(AND(C885=\"No es Aceptable\"),\"Aplica\",\"No Aplica\")","v":"No Aplica"}]
[{"$f":"IF('TABLA 4T4P7'!F31>=1,\"Crítica\",\"No Crítica\")","v":"No Crítica"},{"$f":"IF('TABLA 6T4P7'!F21>=1,\"Crítica\",\"No Crítica\")","v":"No Crítica"},{"$f":"IF('TABLA 8T4P7'!F19>=1,\"Crítica\",\"No Crítica\")","v":"No Crítica"}]
["Resultado Tabla 3 y Tabla 4 ","Resultado Tabla 5 y Tabla 6","Resultado Tabla 7 y Tabla 8"]
[{"$f":"IF(AND(A885=\"Aceptable\"),\"Ausencia de riesgo\",\"\")","v":"Ausencia de riesgo"},{"$f":"IF(AND(B885=\"Aceptable\"),\"Ausencia de riesgo\",\"\")","v":"Ausencia de riesgo"},{"$f":"IF(AND(C885=\"Aceptable\"),\"Ausencia de riesgo\",\"\")","v":"Ausencia de riesgo"}]
[{"$f":"IF(AND(A885=\"No es Aceptable\",A888=\"No Crítica\"),\"Presencia de riesgo No Crítico\",\"\")","v":""},{"$f":"IF(AND(B885=\"No es Aceptable\",B888=\"No Crítica\"),\"Presencia de riesgo No Crítico\",\"\")","v":""},{"$f":"IF(AND(C885=\"No es Aceptable\",C888=\"No Crítica\"),\"Presencia de riesgo No Crítico\",\"\")","v":""}]
[{"$f":"IF(AND(A888=\"Crítica\"),\"Condición Crítica\",\"\")","v":""},{"$f":"IF(AND(B888=\"Crítica\"),\"Condición Crítica\",\"\")","v":""},{"$f":"IF(AND(C888=\"Crítica\"),\"Condición Crítica\",\"\")","v":""}]
[]
["Detalle de Resultados Tarea N° 5:",{"$f":"'TABLA 1 P7'!C14","v":"NA"}]
["DETALLE IDENTIFICACIÓN INICIAL"]
["¿Existe levantamiento, descenso o transporte manual de un objeto de 3 kg o más?","¿Existe empuje o arrastre de un objeto utilizando 1 o 2 manos?","¿Existe manejo manual de personas/pacientes?"]
[{"$f":"'TABLA 1 P7'!Y14","v":"No"},{"$f":"'TABLA 1 P7'!AA14","v":"No"},{"$f":"'TABLA 1 P7'!AC14","v":"No"}]
["DETALLE IDENTIFICACIÓN AVANZADA"]
["Resultado TABLA 3 Condición Aceptable","Resultado TABLA 5 Condición Aceptable","Resultado TABLA 7 Condición Aceptable"]
[{"$f":"IF(AND(A897=\"No\"),\"No Aplica\",\"Aplica\")","v":"No Aplica"},{"$f":"IF(AND(B897=\"No\"),\"No Aplica\",\"Aplica\")","v":"No Aplica"},{"$f":"IF(AND(C897=\"No\"),\"No Aplica\",\"Aplica\")","v":"No Aplica"}]
[{"$f":"IF('TABLA 3T5P7'!F31>=1,\"No es Aceptable\",\"Aceptable\")","v":"Aceptable"},{"$f":"IF('TABLA 5T5P7'!F18>=1,\"No es Aceptable\",\"Aceptable\")","v":"Aceptable"},{"$f":"IF('TABLA 7T5P7'!F18>=1,\"No es Aceptable\",\"Aceptable\")","v":"Aceptable"}]
["Resultado TABLA 4 Condición Crítica","Resultado TABLA 6 Condición Crítica","Resultado TABLA 8 Condición Crítica"]
[{"$f":"IF(AND(A901=\"No es Aceptable\"),\"Aplica\",\"No Aplica\")","v":"No Aplica"},{"$f":"IF(AND(B901=\"No es Aceptable\"),\"Aplica\",\"No Aplica\")","v":"No Aplica"},{"$f":"IF(AND(C901=\"No es Aceptable\"),\"Aplica\",\"No Aplica\")","v":"No Aplica"}]
[{"$f":"IF('TABLA 4T5P7'!F31>=1,\"Crítica\",\"No Crítica\")","v":"No Crítica"},{"$f":"IF('TABLA 6T5P7'!F21>=1,\"Crítica\",\"No Crítica\")","v":"No Crítica"},{"$f":"IF('TABLA 8T5P7'!F19>=1,\"Crítica\",\"No Crítica\")","v":"No Crítica"}]
["Resultado Tabla 3 y Tabla 4 ","Resultado Tabla 5 y Tabla 6","Resultado Tabla 7 y Tabla 8"]
[{"$f":"IF(AND(A901=\"Aceptable\"),\"Ausencia de riesgo\",\"\")","v":"Ausencia de riesgo"},{"$f":"IF(AND(B901=\"Aceptable\"),\"Ausencia de riesgo\",\"\")","v":"Ausencia de riesgo"},{"$f":"IF(AND(C901=\"Aceptable\"),\"Ausencia de riesgo\",\"\")","v":"Ausencia de riesgo"}]
[{"$f":"IF(AND(A901=\"No es Aceptable\",A904=\"No Crítica\"),\"Presencia de riesgo No Crítico\",\"\")","v":""},{"$f":"IF(AND(B901=\"No es Aceptable\",B904=\"No Crítica\"),\"Presencia de riesgo No Crítico\",\"\")","v":""},{"$f":"IF(AND(C901=\"No es Aceptable\",C904=\"No Crítica\"),\"Presencia de riesgo No Crítico\",\"\")","v":""}]
[{"$f":"IF(AND(A904=\"Crítica\"),\"Condición Crítica\",\"\")","v":""},{"$f":"IF(AND(B904=\"Crítica\"),\"Condición Crítica\",\"\")","v":""},{"$f":"IF(AND(C904=\"Crítica\"),\"Condición Crítica\",\"\")","v":""}]
[]
[]
[]
[]
[]
[]
[]
[]
[]
[]
[]
[]
[]
[]
[]
[]
[]
[]
[]
[]
[]
[]
["Razón Social",{"$f":"'Datos Empresa'!D5","v":0},"Cargo Responsable"]
["RUT Empresa",{"$f":"'Datos Empresa'!D8","v":0},{"$f":"'Datos Empresa'!D29","v":0}]
["Dirección del Centro Trabajo",{"$f":"'Datos Empresa'!D14","v":0},"Correo electrónico Responsable"]
["Región",{"$f":"'Datos Empresa'!D17","v":0},{"$f":"'Datos Empresa'!D32","v":0}]
["Comuna",{"$f":"'Datos Empresa'!D20","v":0},"Teléfono de contacto"]
["Responsable",{"$f":"'Datos Empresa'!D26","v":0},{"$f":"'Datos Empresa'!D35","v":0}]
["RUN Responsable",{"$f":"'Datos Empresa'!D23","v":0}]
[]
[]
[]
[]
[]
[]
["Puesto de Trabajo  N°  ❽",{"$f":"'Listado de Puestos de Trabajo'!D27","v":"Disponible Puesto 8"}]
["Resultado Proceso de Identificación","Acciones Proceso de Identificación","Próximo paso"]
[]
[{"$f":"IF(AND(A976=\"\",B976=\"\",C976=\"\",A992=\"\",B992=\"\",C992=\"\",A1008=\"\",B1008=\"\",C1008=\"\",A1024=\"\",B1024=\"\",C1024=\"\",A1040=\"\",B1040=\"\",C1040=\"\"),\"\",\"Condición Crítica\")","v":""},{"$f":"IF(A947=\"Condición Crítica\",\"Deberán corregir la(s) condición(es) crítica(s) dentro del plazo establecido y luego volver a aplicar tablas de identificación avanzada.\",\"\")","v":""},{"$f":"IF(A947=\"Condición Crítica\",\"Tendrán un máximo de 60 días para implementar medidas de corrección. La ACHS podrá indicar un tiempo mayor o menor, el cual en ningún caso podrá exceder a los 180 días.\",\"\")","v":""}]
[{"$f":"IF(AND(A975=\"\",B975=\"\",C975=\"\",A991=\"\",B991=\"\",C991=\"\",A1007=\"\",B1007=\"\",C1007=\"\",A1023=\"\",B1023=\"\",C1023=\"\",A1039=\"\",B1039=\"\",C1039=\"\"),\"\",\"Presencia de riesgo No Crítico\")","v":""},{"$f":"IF(A948=\"Presencia de riesgo No Crítico\",\"Deberán realizar evaluación cuantitativa especializada.\",\"\")","v":""},{"$f":"IF(A948=\"Presencia de riesgo No Crítico\",\"Deberán contar con la asesoría de un especialista en ergonomía y para ello contará con un plazo de 60 días considerando la verificación de la disminución del riesgo, mediante metodología especializada.\",\"\")","v":""}]
[{"$f":"IF(AND(A974=\"Ausencia de riesgo\",B974=\"Ausencia de riesgo\",C974=\"Ausencia de riesgo\",A990=\"Ausencia de riesgo\",B990=\"Ausencia de riesgo\",C990=\"Ausencia de riesgo\",A1006=\"Ausencia de riesgo\",B1006=\"Ausencia de riesgo\",C1006=\"Ausencia de riesgo\",A1022=\"Ausencia de riesgo\",B1022=\"Ausencia de riesgo\",C1022=\"Ausencia de riesgo\",A1038=\"Ausencia de riesgo\",B1038=\"Ausencia de riesgo\",C1038=\"Ausencia de riesgo\"),\"Ausencia de Riesgo\",\"\")","v":"Ausencia de Riesgo"},{"$f":"IF(A949=\"Ausencia de riesgo\",\"Pueden mantener y asegurar las condiciones por un periodo de 4 años o volver a identificar solo si estas cambian.\",\"\")","v":"Pueden mantener y asegurar las condiciones por un periodo de 4 años o volver a identificar solo si estas cambian."},{"$f":"IF(A949=\"Ausencia de Riesgo\",\"No será necesario continuar con evaluación de riesgo, pero si deberá realizar revisiones periódicas,principalmente cuando existan modificaciones de tareas en el puesto de trabajo.\",\"\")","v":"No será necesario continuar con evaluación de riesgo, pero si deberá realizar revisiones periódicas,principalmente cuando existan modificaciones de tareas en el puesto de trabajo."}]
[]
[]
[]
[null,null,{"$f":"IF(A948=\"Presencia de riesgo No Crítico\",\"Nota:  No se realizará la evaluación del riesgo si solo la condición no es aceptable en las preguntas relacionadas al ambiente de trabajo. Esta excepción no aplica para Tabla 8 de Manejo manual de personas/pacientes -Identificación avanzada.\",\"\")","v":""}]
[]
[]
[null,null,{"$f":"IF(A947=\"Condición Crítica\",\"Presencia de Condición Crítica\",\"0\")","v":"0"}]
[null,null,{"$f":"IF(A948=\"Presencia de riesgo No Crítico\",\"Presencia de Riesgo No Crítico\",\"0\")","v":"0"}]
[]
[]
[]
[]
["Detalle de Resultados Tarea N° 1:",{"$f":"'TABLA 1 P8'!C6","v":"NA"}]
["DETALLE IDENTIFICACIÓN INICIAL"]
["¿Existe levantamiento, descenso o transporte manual de un objeto de 3 kg o más?","¿Existe empuje o arrastre de un objeto utilizando 1 o 2 manos?","¿Existe manejo manual de personas/pacientes?"]
[{"$f":"'TABLA 1 P8'!Y6","v":"No"},{"$f":"'TABLA 1 P8'!AA6","v":"No"},{"$f":"'TABLA 1 P8'!AC6","v":"No"}]
["DETALLE IDENTIFICACIÓN AVANZADA"]
["Resultado TABLA 3 Condición Aceptable","Resultado TABLA 5 Condición Aceptable","Resultado TABLA 7 Condición Aceptable"]
[{"$f":"IF(AND(A965=\"No\"),\"No Aplica\",\"Aplica\")","v":"No Aplica"},{"$f":"IF(AND(B965=\"No\"),\"No Aplica\",\"Aplica\")","v":"No Aplica"},{"$f":"IF(AND(C965=\"No\"),\"No Aplica\",\"Aplica\")","v":"No Aplica"}]
[{"$f":"IF('TABLA 3T1P8'!F31>=1,\"No es Aceptable\",\"Aceptable\")","v":"Aceptable"},{"$f":"IF('TABLA 5T1P8'!F18>=1,\"No es Aceptable\",\"Aceptable\")","v":"Aceptable"},{"$f":"IF('TABLA 7T1P8'!F18>=1,\"No es Aceptable\",\"Aceptable\")","v":"Aceptable"}]
["Resultado TABLA 4 Condición Crítica","Resultado TABLA 6 Condición Crítica","Resultado TABLA 8 Condición Crítica"]
[{"$f":"IF(AND(A969=\"No es Aceptable\"),\"Aplica\",\"No Aplica\")","v":"No Aplica"},{"$f":"IF(AND(B969=\"No es Aceptable\"),\"Aplica\",\"No Aplica\")","v":"No Aplica"},{"$f":"IF(AND(C969=\"No es Aceptable\"),\"Aplica\",\"No Aplica\")","v":"No Aplica"}]
[{"$f":"IF('TABLA 4T1P8'!F31>=1,\"Crítica\",\"No Crítica\")","v":"No Crítica"},{"$f":"IF('TABLA 6T1P8'!F21>=1,\"Crítica\",\"No Crítica\")","v":"No Crítica"},{"$f":"IF('TABLA 8T1P8'!F19>=1,\"Crítica\",\"No Crítica\")","v":"No Crítica"}]
["Resultado Tabla 3 y Tabla 4 ","Resultado Tabla 5 y Tabla 6","Resultado Tabla 7 y Tabla 8"]
[{"$f":"IF(AND(A969=\"Aceptable\"),\"Ausencia de riesgo\",\"\")","v":"Ausencia de riesgo"},{"$f":"IF(AND(B969=\"Aceptable\"),\"Ausencia de riesgo\",\"\")","v":"Ausencia de riesgo"},{"$f":"IF(AND(C969=\"Aceptable\"),\"Ausencia de riesgo\",\"\")","v":"Ausencia de riesgo"}]
[{"$f":"IF(AND(A969=\"No es Aceptable\",A972=\"No Crítica\"),\"Presencia de riesgo No Crítico\",\"\")","v":""},{"$f":"IF(AND(B969=\"No es Aceptable\",B972=\"No Crítica\"),\"Presencia de riesgo No Crítico\",\"\")","v":""},{"$f":"IF(AND(C969=\"No es Aceptable\",C972=\"No Crítica\"),\"Presencia de riesgo No Crítico\",\"\")","v":""}]
[{"$f":"IF(AND(A972=\"Crítica\"),\"Condición Crítica\",\"\")","v":""},{"$f":"IF(AND(B972=\"Crítica\"),\"Condición Crítica\",\"\")","v":""},{"$f":"IF(AND(C972=\"Crítica\"),\"Condición Crítica\",\"\")","v":""}]
[]
["Detalle de Resultados Tarea N° 2:",{"$f":"'TABLA 1 P8'!C8","v":"NA"}]
["DETALLE IDENTIFICACIÓN INICIAL"]
["¿Existe levantamiento, descenso o transporte manual de un objeto de 3 kg o más?","¿Existe empuje o arrastre de un objeto utilizando 1 o 2 manos?","¿Existe manejo manual de personas/pacientes?"]
[{"$f":"'TABLA 1 P8'!Y8","v":"No"},{"$f":"'TABLA 1 P8'!AA8","v":"No"},{"$f":"'TABLA 1 P8'!AC8","v":"No"}]
["DETALLE IDENTIFICACIÓN AVANZADA"]
["Resultado TABLA 3 Condición Aceptable","Resultado TABLA 5 Condición Aceptable","Resultado TABLA 7 Condición Aceptable"]
[{"$f":"IF(AND(A981=\"No\"),\"No Aplica\",\"Aplica\")","v":"No Aplica"},{"$f":"IF(AND(B981=\"No\"),\"No Aplica\",\"Aplica\")","v":"No Aplica"},{"$f":"IF(AND(C981=\"No\"),\"No Aplica\",\"Aplica\")","v":"No Aplica"}]
[{"$f":"IF('TABLA 3T2P8'!F31>=1,\"No es Aceptable\",\"Aceptable\")","v":"Aceptable"},{"$f":"IF('TABLA 5T2P8'!F18>=1,\"No es Aceptable\",\"Aceptable\")","v":"Aceptable"},{"$f":"IF('TABLA 7T2P8'!F18>=1,\"No es Aceptable\",\"Aceptable\")","v":"Aceptable"}]
["Resultado TABLA 4 Condición Crítica","Resultado TABLA 6 Condición Crítica","Resultado TABLA 8 Condición Crítica"]
[{"$f":"IF(AND(A985=\"No es Aceptable\"),\"Aplica\",\"No Aplica\")","v":"No Aplica"},{"$f":"IF(AND(B985=\"No es Aceptable\"),\"Aplica\",\"No Aplica\")","v":"No Aplica"},{"$f":"IF(AND(C985=\"No es Aceptable\"),\"Aplica\",\"No Aplica\")","v":"No Aplica"}]
[{"$f":"IF('TABLA 4T2P8'!F31>=1,\"Crítica\",\"No Crítica\")","v":"No Crítica"},{"$f":"IF('TABLA 6T2P8'!F21>=1,\"Crítica\",\"No Crítica\")","v":"No Crítica"},{"$f":"IF('TABLA 8T2P8'!F19>=1,\"Crítica\",\"No Crítica\")","v":"No Crítica"}]
["Resultado Tabla 3 y Tabla 4 ","Resultado Tabla 5 y Tabla 6","Resultado Tabla 7 y Tabla 8"]
[{"$f":"IF(AND(A985=\"Aceptable\"),\"Ausencia de riesgo\",\"\")","v":"Ausencia de riesgo"},{"$f":"IF(AND(B985=\"Aceptable\"),\"Ausencia de riesgo\",\"\")","v":"Ausencia de riesgo"},{"$f":"IF(AND(C985=\"Aceptable\"),\"Ausencia de riesgo\",\"\")","v":"Ausencia de riesgo"}]
[{"$f":"IF(AND(A985=\"No es Aceptable\",A988=\"No Crítica\"),\"Presencia de riesgo No Crítico\",\"\")","v":""},{"$f":"IF(AND(B985=\"No es Aceptable\",B988=\"No Crítica\"),\"Presencia de riesgo No Crítico\",\"\")","v":""},{"$f":"IF(AND(C985=\"No es Aceptable\",C988=\"No Crítica\"),\"Presencia de riesgo No Crítico\",\"\")","v":""}]
[{"$f":"IF(AND(A988=\"Crítica\"),\"Condición Crítica\",\"\")","v":""},{"$f":"IF(AND(B988=\"Crítica\"),\"Condición Crítica\",\"\")","v":""},{"$f":"IF(AND(C988=\"Crítica\"),\"Condición Crítica\",\"\")","v":""}]
[]
["Detalle de Resultados Tarea N° 3:",{"$f":"'TABLA 1 P8'!C10","v":"NA"}]
["DETALLE IDENTIFICACIÓN INICIAL"]
["¿Existe levantamiento, descenso o transporte manual de un objeto de 3 kg o más?","¿Existe empuje o arrastre de un objeto utilizando 1 o 2 manos?","¿Existe manejo manual de personas/pacientes?"]
[{"$f":"'TABLA 1 P8'!Y10","v":"No"},{"$f":"'TABLA 1 P8'!AA10","v":"No"},{"$f":"'TABLA 1 P8'!AC10","v":"No"}]
["DETALLE IDENTIFICACIÓN AVANZADA"]
["Resultado TABLA 3 Condición Aceptable","Resultado TABLA 5 Condición Aceptable","Resultado TABLA 7 Condición Aceptable"]
[{"$f":"IF(AND(A997=\"No\"),\"No Aplica\",\"Aplica\")","v":"No Aplica"},{"$f":"IF(AND(B997=\"No\"),\"No Aplica\",\"Aplica\")","v":"No Aplica"},{"$f":"IF(AND(C997=\"No\"),\"No Aplica\",\"Aplica\")","v":"No Aplica"}]
[{"$f":"IF('TABLA 3T3P8'!F31>=1,\"No es Aceptable\",\"Aceptable\")","v":"Aceptable"},{"$f":"IF('TABLA 5T3P8'!F18=1,\"No es Aceptable\",\"Aceptable\")","v":"Aceptable"},{"$f":"IF('TABLA 7T3P8'!F18>=1,\"No es Aceptable\",\"Aceptable\")","v":"Aceptable"}]
["Resultado TABLA 4 Condición Crítica","Resultado TABLA 6 Condición Crítica","Resultado TABLA 8 Condición Crítica"]
[{"$f":"IF(AND(A1001=\"No es Aceptable\"),\"Aplica\",\"No Aplica\")","v":"No Aplica"},{"$f":"IF(AND(B1001=\"No es Aceptable\"),\"Aplica\",\"No Aplica\")","v":"No Aplica"},{"$f":"IF(AND(C1001=\"No es Aceptable\"),\"Aplica\",\"No Aplica\")","v":"No Aplica"}]
[{"$f":"IF('TABLA 4T3P8'!F31>=1,\"Crítica\",\"No Crítica\")","v":"No Crítica"},{"$f":"IF('TABLA 6T3P8'!F21>=1,\"Crítica\",\"No Crítica\")","v":"No Crítica"},{"$f":"IF('TABLA 8T3P8'!F19>=1,\"Crítica\",\"No Crítica\")","v":"No Crítica"}]
["Resultado Tabla 3 y Tabla 4 ","Resultado Tabla 5 y Tabla 6","Resultado Tabla 7 y Tabla 8"]
[{"$f":"IF(AND(A1001=\"Aceptable\"),\"Ausencia de riesgo\",\"\")","v":"Ausencia de riesgo"},{"$f":"IF(AND(B1001=\"Aceptable\"),\"Ausencia de riesgo\",\"\")","v":"Ausencia de riesgo"},{"$f":"IF(AND(C1001=\"Aceptable\"),\"Ausencia de riesgo\",\"\")","v":"Ausencia de riesgo"}]
[{"$f":"IF(AND(A1001=\"No es Aceptable\",A1004=\"No Crítica\"),\"Presencia de riesgo No Crítico\",\"\")","v":""},{"$f":"IF(AND(B1001=\"No es Aceptable\",B1004=\"No Crítica\"),\"Presencia de riesgo No Crítico\",\"\")","v":""},{"$f":"IF(AND(C1001=\"No es Aceptable\",C1004=\"No Crítica\"),\"Presencia de riesgo No Crítico\",\"\")","v":""}]
[{"$f":"IF(AND(A1004=\"Crítica\"),\"Condición Crítica\",\"\")","v":""},{"$f":"IF(AND(B1004=\"Crítica\"),\"Condición Crítica\",\"\")","v":""},{"$f":"IF(AND(C1004=\"Crítica\"),\"Condición Crítica\",\"\")","v":""}]
[]
["Detalle de Resultados Tarea N° 4:",{"$f":"'TABLA 1 P8'!C12","v":"NA"}]
["DETALLE IDENTIFICACIÓN INICIAL"]
["¿Existe levantamiento, descenso o transporte manual de un objeto de 3 kg o más?","¿Existe empuje o arrastre de un objeto utilizando 1 o 2 manos?","¿Existe manejo manual de personas/pacientes?"]
[{"$f":"'TABLA 1 P8'!Y12","v":"No"},{"$f":"'TABLA 1 P8'!AA12","v":"No"},{"$f":"'TABLA 1 P8'!AC12","v":"No"}]
["DETALLE IDENTIFICACIÓN AVANZADA"]
["Resultado TABLA 3 Condición Aceptable","Resultado TABLA 5 Condición Aceptable","Resultado TABLA 7 Condición Aceptable"]
[{"$f":"IF(AND(A1013=\"No\"),\"No Aplica\",\"Aplica\")","v":"No Aplica"},{"$f":"IF(AND(B1013=\"No\"),\"No Aplica\",\"Aplica\")","v":"No Aplica"},{"$f":"IF(AND(C1013=\"No\"),\"No Aplica\",\"Aplica\")","v":"No Aplica"}]
[{"$f":"IF('TABLA 3T4P8'!F31>=1,\"No es Aceptable\",\"Aceptable\")","v":"Aceptable"},{"$f":"IF('TABLA 5T4P8'!F18>=1,\"No es Aceptable\",\"Aceptable\")","v":"Aceptable"},{"$f":"IF('TABLA 7T4P8'!F18>=1,\"No es Aceptable\",\"Aceptable\")","v":"Aceptable"}]
["Resultado TABLA 4 Condición Crítica","Resultado TABLA 6 Condición Crítica","Resultado TABLA 8 Condición Crítica"]
[{"$f":"IF(AND(A1017=\"No es Aceptable\"),\"Aplica\",\"No Aplica\")","v":"No Aplica"},{"$f":"IF(AND(B1017=\"No es Aceptable\"),\"Aplica\",\"No Aplica\")","v":"No Aplica"},{"$f":"IF(AND(C1017=\"No es Aceptable\"),\"Aplica\",\"No Aplica\")","v":"No Aplica"}]
[{"$f":"IF('TABLA 4T4P8'!F31>=1,\"Crítica\",\"No Crítica\")","v":"No Crítica"},{"$f":"IF('TABLA 6T4P8'!F21>=1,\"Crítica\",\"No Crítica\")","v":"No Crítica"},{"$f":"IF('TABLA 8T4P8'!F19>=1,\"Crítica\",\"No Crítica\")","v":"No Crítica"}]
["Resultado Tabla 3 y Tabla 4 ","Resultado Tabla 5 y Tabla 6","Resultado Tabla 7 y Tabla 8"]
[{"$f":"IF(AND(A1017=\"Aceptable\"),\"Ausencia de riesgo\",\"\")","v":"Ausencia de riesgo"},{"$f":"IF(AND(B1017=\"Aceptable\"),\"Ausencia de riesgo\",\"\")","v":"Ausencia de riesgo"},{"$f":"IF(AND(C1017=\"Aceptable\"),\"Ausencia de riesgo\",\"\")","v":"Ausencia de riesgo"}]
[{"$f":"IF(AND(A1017=\"No es Aceptable\",A1020=\"No Crítica\"),\"Presencia de riesgo No Crítico\",\"\")","v":""},{"$f":"IF(AND(B1017=\"No es Aceptable\",B1020=\"No Crítica\"),\"Presencia de riesgo No Crítico\",\"\")","v":""},{"$f":"IF(AND(C1017=\"No es Aceptable\",C1020=\"No Crítica\"),\"Presencia de riesgo No Crítico\",\"\")","v":""}]
[{"$f":"IF(AND(A1020=\"Crítica\"),\"Condición Crítica\",\"\")","v":""},{"$f":"IF(AND(B1020=\"Crítica\"),\"Condición Crítica\",\"\")","v":""},{"$f":"IF(AND(C1020=\"Crítica\"),\"Condición Crítica\",\"\")","v":""}]
[]
["Detalle de Resultados Tarea N° 5:",{"$f":"'TABLA 1 P8'!C14","v":"NA"}]
["DETALLE IDENTIFICACIÓN INICIAL"]
["¿Existe levantamiento, descenso o transporte manual de un objeto de 3 kg o más?","¿Existe empuje o arrastre de un objeto utilizando 1 o 2 manos?","¿Existe manejo manual de personas/pacientes?"]
[{"$f":"'TABLA 1 P8'!Y14","v":"No"},{"$f":"'TABLA 1 P8'!AA14","v":"No"},{"$f":"'TABLA 1 P8'!AC14","v":"No"}]
["DETALLE IDENTIFICACIÓN AVANZADA"]
["Resultado TABLA 3 Condición Aceptable","Resultado TABLA 5 Condición Aceptable","Resultado TABLA 7 Condición Aceptable"]
[{"$f":"IF(AND(A1029=\"No\"),\"No Aplica\",\"Aplica\")","v":"No Aplica"},{"$f":"IF(AND(B1029=\"No\"),\"No Aplica\",\"Aplica\")","v":"No Aplica"},{"$f":"IF(AND(C1029=\"No\"),\"No Aplica\",\"Aplica\")","v":"No Aplica"}]
[{"$f":"IF('TABLA 3T5P8'!F31>=1,\"No es Aceptable\",\"Aceptable\")","v":"Aceptable"},{"$f":"IF('TABLA 5T5P8'!F18>=1,\"No es Aceptable\",\"Aceptable\")","v":"Aceptable"},{"$f":"IF('TABLA 7T5P8'!F18>=1,\"No es Aceptable\",\"Aceptable\")","v":"Aceptable"}]
["Resultado TABLA 4 Condición Crítica","Resultado TABLA 6 Condición Crítica","Resultado TABLA 8 Condición Crítica"]
[{"$f":"IF(AND(A1033=\"No es Aceptable\"),\"Aplica\",\"No Aplica\")","v":"No Aplica"},{"$f":"IF(AND(B1033=\"No es Aceptable\"),\"Aplica\",\"No Aplica\")","v":"No Aplica"},{"$f":"IF(AND(C1033=\"No es Aceptable\"),\"Aplica\",\"No Aplica\")","v":"No Aplica"}]
[{"$f":"IF('TABLA 4T5P8'!F31>=1,\"Crítica\",\"No Crítica\")","v":"No Crítica"},{"$f":"IF('TABLA 6T5P8'!F21>=1,\"Crítica\",\"No Crítica\")","v":"No Crítica"},{"$f":"IF('TABLA 8T5P8'!F19>=1,\"Crítica\",\"No Crítica\")","v":"No Crítica"}]
["Resultado Tabla 3 y Tabla 4 ","Resultado Tabla 5 y Tabla 6","Resultado Tabla 7 y Tabla 8"]
[{"$f":"IF(AND(A1033=\"Aceptable\"),\"Ausencia de riesgo\",\"\")","v":"Ausencia de riesgo"},{"$f":"IF(AND(B1033=\"Aceptable\"),\"Ausencia de riesgo\",\"\")","v":"Ausencia de riesgo"},{"$f":"IF(AND(C1033=\"Aceptable\"),\"Ausencia de riesgo\",\"\")","v":"Ausencia de riesgo"}]
[{"$f":"IF(AND(A1033=\"No es Aceptable\",A1036=\"No Crítica\"),\"Presencia de riesgo No Crítico\",\"\")","v":""},{"$f":"IF(AND(B1033=\"No es Aceptable\",B1036=\"No Crítica\"),\"Presencia de riesgo No Crítico\",\"\")","v":""},{"$f":"IF(AND(C1033=\"No es Aceptable\",C1036=\"No Crítica\"),\"Presencia de riesgo No Crítico\",\"\")","v":""}]
[{"$f":"IF(AND(A1036=\"Crítica\"),\"Condición Crítica\",\"\")","v":""},{"$f":"IF(AND(B1036=\"Crítica\"),\"Condición Crítica\",\"\")","v":""},{"$f":"IF(AND(C1036=\"Crítica\"),\"Condición Crítica\",\"\")","v":""}]
[]
[]
[]
[]
[]
[]
[]
[]
[]
[]
[]
[]
[]
[]
[]
[]
[]
[]
[]
[]
[]
[]
["Razón Social",{"$f":"'Datos Empresa'!D5","v":0},"Cargo Responsable"]
["RUT Empresa",{"$f":"'Datos Empresa'!D8","v":0},{"$f":"'Datos Empresa'!D29","v":0}]
["Dirección del Centro Trabajo",{"$f":"'Datos Empresa'!D14","v":0},"Correo electrónico Responsable"]
["Región",{"$f":"'Datos Empresa'!D17","v":0},{"$f":"'Datos Empresa'!D32","v":0}]
["Comuna",{"$f":"'Datos Empresa'!D20","v":0},"Teléfono de contacto"]
["Responsable",{"$f":"'Datos Empresa'!D26","v":0},{"$f":"'Datos Empresa'!D35","v":0}]
["RUN Responsable",{"$f":"'Datos Empresa'!D23","v":0}]
[]
[]
[]
[]
[]
[]
["Puesto de Trabajo  N°  ❾",{"$f":"'Listado de Puestos de Trabajo'!D30","v":"Disponible Puesto 9"}]
["Resultado Proceso de Identificación","Acciones Proceso de Identificación","Próximo paso"]
[]
[{"$f":"IF(AND(A1108=\"\",B1108=\"\",C1108=\"\",A1124=\"\",B1124=\"\",C1124=\"\",A1140=\"\",B1140=\"\",C1140=\"\",A1156=\"\",B1156=\"\",C1156=\"\",A1172=\"\",B1172=\"\",C1172=\"\"),\"\",\"Condición Crítica\")","v":""},{"$f":"IF(A1079=\"Condición Crítica\",\"Deberán corregir la(s) condición(es) crítica(s) dentro del plazo establecido y luego volver a aplicar tablas de identificación avanzada.\",\"\")","v":""},{"$f":"IF(A1079=\"Condición Crítica\",\"Tendrán un máximo de 60 días para implementar medidas de corrección. La ACHS podrá indicar un tiempo mayor o menor, el cual en ningún caso podrá exceder a los 180 días.\",\"\")","v":""}]
[{"$f":"IF(AND(A1107=\"\",B1107=\"\",C1107=\"\",A1123=\"\",B1123=\"\",C1123=\"\",A1139=\"\",B1139=\"\",C1139=\"\",A1155=\"\",B1155=\"\",C1155=\"\",A1171=\"\",B1171=\"\",C1171=\"\"),\"\",\"Presencia de riesgo No Crítico\")","v":""},{"$f":"IF(A1080=\"Presencia de riesgo No Crítico\",\"Deberán realizar evaluación cuantitativa especializada.\",\"\")","v":""},{"$f":"IF(A1080=\"Presencia de riesgo No Crítico\",\"Deberán contar con la asesoría de un especialista en ergonomía y para ello contará con un plazo de 60 días considerando la verificación de la disminución del riesgo, mediante metodología especializada.\",\"\")","v":""}]
[{"$f":"IF(AND(A1106=\"Ausencia de riesgo\",B1106=\"Ausencia de riesgo\",C1106=\"Ausencia de riesgo\",A1122=\"Ausencia de riesgo\",B1122=\"Ausencia de riesgo\",C1122=\"Ausencia de riesgo\",A1138=\"Ausencia de riesgo\",B1138=\"Ausencia de riesgo\",C1138=\"Ausencia de riesgo\",A1154=\"Ausencia de riesgo\",B1154=\"Ausencia de riesgo\",C1154=\"Ausencia de riesgo\",A1170=\"Ausencia de riesgo\",B1170=\"Ausencia de riesgo\",C1170=\"Ausencia de riesgo\"),\"Ausencia de Riesgo\",\"\")","v":"Ausencia de Riesgo"},{"$f":"IF(A1081=\"Ausencia de riesgo\",\"Pueden mantener y asegurar las condiciones por un periodo de 4 años o volver a identificar solo si estas cambian.\",\"\")","v":"Pueden mantener y asegurar las condiciones por un periodo de 4 años o volver a identificar solo si estas cambian."},{"$f":"IF(A1081=\"Ausencia de Riesgo\",\"No será necesario continuar con evaluación de riesgo, pero si deberá realizar revisiones periódicas,principalmente cuando existan modificaciones de tareas en el puesto de trabajo.\",\"\")","v":"No será necesario continuar con evaluación de riesgo, pero si deberá realizar revisiones periódicas,principalmente cuando existan modificaciones de tareas en el puesto de trabajo."}]
[]
[]
[]
[null,null,{"$f":"IF(A1080=\"Presencia de riesgo No Crítico\",\"Nota:  No se realizará la evaluación del riesgo si solo la condición no es aceptable en las preguntas relacionadas al ambiente de trabajo. Esta excepción no aplica para Tabla 8 de Manejo manual de personas/pacientes -Identificación avanzada.\",\"\")","v":""}]
[]
[]
[null,null,{"$f":"IF(A1079=\"Condición Crítica\",\"Presencia de Condición Crítica\",\"0\")","v":"0"}]
[null,null,{"$f":"IF(A1080=\"Presencia de riesgo No Crítico\",\"Presencia de Riesgo No Crítico\",\"0\")","v":"0"}]
[]
[]
[]
[]
["Detalle de Resultados Tarea N° 1:",{"$f":"'TABLA 1 P9'!C6","v":"NA"}]
["DETALLE IDENTIFICACIÓN INICIAL"]
["¿Existe levantamiento, descenso o transporte manual de un objeto de 3 kg o más?","¿Existe empuje o arrastre de un objeto utilizando 1 o 2 manos?","¿Existe manejo manual de personas/pacientes?"]
[{"$f":"'TABLA 1 P9'!Y6","v":"No"},{"$f":"'TABLA 1 P9'!AA6","v":"No"},{"$f":"'TABLA 1 P9'!AC6","v":"No"}]
["DETALLE IDENTIFICACIÓN AVANZADA"]
["Resultado TABLA 3 Condición Aceptable","Resultado TABLA 5 Condición Aceptable","Resultado TABLA 7 Condición Aceptable"]
[{"$f":"IF(AND(A1097=\"No\"),\"No Aplica\",\"Aplica\")","v":"No Aplica"},{"$f":"IF(AND(B1097=\"No\"),\"No Aplica\",\"Aplica\")","v":"No Aplica"},{"$f":"IF(AND(C1097=\"No\"),\"No Aplica\",\"Aplica\")","v":"No Aplica"}]
[{"$f":"IF('TABLA 3T1P9'!F31>=1,\"No es Aceptable\",\"Aceptable\")","v":"Aceptable"},{"$f":"IF('TABLA 5T1P9'!F18>=1,\"No es Aceptable\",\"Aceptable\")","v":"Aceptable"},{"$f":"IF('TABLA 7T1P9'!F18>=1,\"No es Aceptable\",\"Aceptable\")","v":"Aceptable"}]
["Resultado TABLA 4 Condición Crítica","Resultado TABLA 6 Condición Crítica","Resultado TABLA 8 Condición Crítica"]
[{"$f":"IF(AND(A1101=\"No es Aceptable\"),\"Aplica\",\"No Aplica\")","v":"No Aplica"},{"$f":"IF(AND(B1101=\"No es Aceptable\"),\"Aplica\",\"No Aplica\")","v":"No Aplica"},{"$f":"IF(AND(C1101=\"No es Aceptable\"),\"Aplica\",\"No Aplica\")","v":"No Aplica"}]
[{"$f":"IF('TABLA 4T1P9'!F31>=1,\"Crítica\",\"No Crítica\")","v":"No Crítica"},{"$f":"IF('TABLA 6T1P9'!F21>=1,\"Crítica\",\"No Crítica\")","v":"No Crítica"},{"$f":"IF('TABLA 8T1P9'!F19>=1,\"Crítica\",\"No Crítica\")","v":"No Crítica"}]
["Resultado Tabla 3 y Tabla 4 ","Resultado Tabla 5 y Tabla 6","Resultado Tabla 7 y Tabla 8"]
[{"$f":"IF(AND(A1101=\"Aceptable\"),\"Ausencia de riesgo\",\"\")","v":"Ausencia de riesgo"},{"$f":"IF(AND(B1101=\"Aceptable\"),\"Ausencia de riesgo\",\"\")","v":"Ausencia de riesgo"},{"$f":"IF(AND(C1101=\"Aceptable\"),\"Ausencia de riesgo\",\"\")","v":"Ausencia de riesgo"}]
[{"$f":"IF(AND(A1101=\"No es Aceptable\",A1104=\"No Crítica\"),\"Presencia de riesgo No Crítico\",\"\")","v":""},{"$f":"IF(AND(B1101=\"No es Aceptable\",B1104=\"No Crítica\"),\"Presencia de riesgo No Crítico\",\"\")","v":""},{"$f":"IF(AND(C1101=\"No es Aceptable\",C1104=\"No Crítica\"),\"Presencia de riesgo No Crítico\",\"\")","v":""}]
[{"$f":"IF(AND(A1104=\"Crítica\"),\"Condición Crítica\",\"\")","v":""},{"$f":"IF(AND(B1104=\"Crítica\"),\"Condición Crítica\",\"\")","v":""},{"$f":"IF(AND(C1104=\"Crítica\"),\"Condición Crítica\",\"\")","v":""}]
[]
["Detalle de Resultados Tarea N° 2:",{"$f":"'TABLA 1 P9'!C8","v":"NA"}]
["DETALLE IDENTIFICACIÓN INICIAL"]
["¿Existe levantamiento, descenso o transporte manual de un objeto de 3 kg o más?","¿Existe empuje o arrastre de un objeto utilizando 1 o 2 manos?","¿Existe manejo manual de personas/pacientes?"]
[{"$f":"'TABLA 1 P9'!Y8","v":"No"},{"$f":"'TABLA 1 P9'!AA8","v":"No"},{"$f":"'TABLA 1 P9'!AC8","v":"No"}]
["DETALLE IDENTIFICACIÓN AVANZADA"]
["Resultado TABLA 3 Condición Aceptable","Resultado TABLA 5 Condición Aceptable","Resultado TABLA 7 Condición Aceptable"]
[{"$f":"IF(AND(A1113=\"No\"),\"No Aplica\",\"Aplica\")","v":"No Aplica"},{"$f":"IF(AND(B1113=\"No\"),\"No Aplica\",\"Aplica\")","v":"No Aplica"},{"$f":"IF(AND(C1113=\"No\"),\"No Aplica\",\"Aplica\")","v":"No Aplica"}]
[{"$f":"IF('TABLA 3T2P9'!F31>=1,\"No es Aceptable\",\"Aceptable\")","v":"Aceptable"},{"$f":"IF('TABLA 5T2P9'!F18>=1,\"No es Aceptable\",\"Aceptable\")","v":"Aceptable"},{"$f":"IF('TABLA 7T2P9'!F18>=1,\"No es Aceptable\",\"Aceptable\")","v":"Aceptable"}]
["Resultado TABLA 4 Condición Crítica","Resultado TABLA 6 Condición Crítica","Resultado TABLA 8 Condición Crítica"]
[{"$f":"IF(AND(A1117=\"No es Aceptable\"),\"Aplica\",\"No Aplica\")","v":"No Aplica"},{"$f":"IF(AND(B1117=\"No es Aceptable\"),\"Aplica\",\"No Aplica\")","v":"No Aplica"},{"$f":"IF(AND(C1117=\"No es Aceptable\"),\"Aplica\",\"No Aplica\")","v":"No Aplica"}]
[{"$f":"IF('TABLA 4T2P9'!F31>=1,\"Crítica\",\"No Crítica\")","v":"No Crítica"},{"$f":"IF('TABLA 6T2P9'!F21>=1,\"Crítica\",\"No Crítica\")","v":"No Crítica"},{"$f":"IF('TABLA 8T2P9'!F19>=1,\"Crítica\",\"No Crítica\")","v":"No Crítica"}]
["Resultado Tabla 3 y Tabla 4 ","Resultado Tabla 5 y Tabla 6","Resultado Tabla 7 y Tabla 8"]
[{"$f":"IF(AND(A1117=\"Aceptable\"),\"Ausencia de riesgo\",\"\")","v":"Ausencia de riesgo"},{"$f":"IF(AND(B1117=\"Aceptable\"),\"Ausencia de riesgo\",\"\")","v":"Ausencia de riesgo"},{"$f":"IF(AND(C1117=\"Aceptable\"),\"Ausencia de riesgo\",\"\")","v":"Ausencia de riesgo"}]
[{"$f":"IF(AND(A1117=\"No es Aceptable\",A1120=\"No Crítica\"),\"Presencia de riesgo No Crítico\",\"\")","v":""},{"$f":"IF(AND(B1117=\"No es Aceptable\",B1120=\"No Crítica\"),\"Presencia de riesgo No Crítico\",\"\")","v":""},{"$f":"IF(AND(C1117=\"No es Aceptable\",C1120=\"No Crítica\"),\"Presencia de riesgo No Crítico\",\"\")","v":""}]
[{"$f":"IF(AND(A1120=\"Crítica\"),\"Condición Crítica\",\"\")","v":""},{"$f":"IF(AND(B1120=\"Crítica\"),\"Condición Crítica\",\"\")","v":""},{"$f":"IF(AND(C1120=\"Crítica\"),\"Condición Crítica\",\"\")","v":""}]
[]
["Detalle de Resultados Tarea N° 3:",{"$f":"'TABLA 1 P9'!C10","v":"NA"}]
["DETALLE IDENTIFICACIÓN INICIAL"]
["¿Existe levantamiento, descenso o transporte manual de un objeto de 3 kg o más?","¿Existe empuje o arrastre de un objeto utilizando 1 o 2 manos?","¿Existe manejo manual de personas/pacientes?"]
[{"$f":"'TABLA 1 P9'!Y10","v":"No"},{"$f":"'TABLA 1 P9'!AA10","v":"No"},{"$f":"'TABLA 1 P9'!AC10","v":"No"}]
["DETALLE IDENTIFICACIÓN AVANZADA"]
["Resultado TABLA 3 Condición Aceptable","Resultado TABLA 5 Condición Aceptable","Resultado TABLA 7 Condición Aceptable"]
[{"$f":"IF(AND(A1129=\"No\"),\"No Aplica\",\"Aplica\")","v":"No Aplica"},{"$f":"IF(AND(B1129=\"No\"),\"No Aplica\",\"Aplica\")","v":"No Aplica"},{"$f":"IF(AND(C1129=\"No\"),\"No Aplica\",\"Aplica\")","v":"No Aplica"}]
[{"$f":"IF('TABLA 3T3P9'!F31>=1,\"No es Aceptable\",\"Aceptable\")","v":"Aceptable"},{"$f":"IF('TABLA 5T3P9'!F18=1,\"No es Aceptable\",\"Aceptable\")","v":"Aceptable"},{"$f":"IF('TABLA 7T3P9'!F18>=1,\"No es Aceptable\",\"Aceptable\")","v":"Aceptable"}]
["Resultado TABLA 4 Condición Crítica","Resultado TABLA 6 Condición Crítica","Resultado TABLA 8 Condición Crítica"]
[{"$f":"IF(AND(A1133=\"No es Aceptable\"),\"Aplica\",\"No Aplica\")","v":"No Aplica"},{"$f":"IF(AND(B1133=\"No es Aceptable\"),\"Aplica\",\"No Aplica\")","v":"No Aplica"},{"$f":"IF(AND(C1133=\"No es Aceptable\"),\"Aplica\",\"No Aplica\")","v":"No Aplica"}]
[{"$f":"IF('TABLA 4T3P9'!F31>=1,\"Crítica\",\"No Crítica\")","v":"No Crítica"},{"$f":"IF('TABLA 6T3P9'!F21>=1,\"Crítica\",\"No Crítica\")","v":"No Crítica"},{"$f":"IF('TABLA 8T3P9'!F19>=1,\"Crítica\",\"No Crítica\")","v":"No Crítica"}]
["Resultado Tabla 3 y Tabla 4 ","Resultado Tabla 5 y Tabla 6","Resultado Tabla 7 y Tabla 8"]
[{"$f":"IF(AND(A1133=\"Aceptable\"),\"Ausencia de riesgo\",\"\")","v":"Ausencia de riesgo"},{"$f":"IF(AND(B1133=\"Aceptable\"),\"Ausencia de riesgo\",\"\")","v":"Ausencia de riesgo"},{"$f":"IF(AND(C1133=\"Aceptable\"),\"Ausencia de riesgo\",\"\")","v":"Ausencia de riesgo"}]
[{"$f":"IF(AND(A1133=\"No es Aceptable\",A1136=\"No Crítica\"),\"Presencia de riesgo No Crítico\",\"\")","v":""},{"$f":"IF(AND(B1133=\"No es Aceptable\",B1136=\"No Crítica\"),\"Presencia de riesgo No Crítico\",\"\")","v":""},{"$f":"IF(AND(C1133=\"No es Aceptable\",C1136=\"No Crítica\"),\"Presencia de riesgo No Crítico\",\"\")","v":""}]
[{"$f":"IF(AND(A1136=\"Crítica\"),\"Condición Crítica\",\"\")","v":""},{"$f":"IF(AND(B1136=\"Crítica\"),\"Condición Crítica\",\"\")","v":""},{"$f":"IF(AND(C1136=\"Crítica\"),\"Condición Crítica\",\"\")","v":""}]
[]
["Detalle de Resultados Tarea N° 4:",{"$f":"'TABLA 1 P9'!C12","v":"NA"}]
["DETALLE IDENTIFICACIÓN INICIAL"]
["¿Existe levantamiento, descenso o transporte manual de un objeto de 3 kg o más?","¿Existe empuje o arrastre de un objeto utilizando 1 o 2 manos?","¿Existe manejo manual de personas/pacientes?"]
[{"$f":"'TABLA 1 P9'!Y12","v":"No"},{"$f":"'TABLA 1 P9'!AA12","v":"No"},{"$f":"'TABLA 1 P9'!AC12","v":"No"}]
["DETALLE IDENTIFICACIÓN AVANZADA"]
["Resultado TABLA 3 Condición Aceptable","Resultado TABLA 5 Condición Aceptable","Resultado TABLA 7 Condición Aceptable"]
[{"$f":"IF(AND(A1145=\"No\"),\"No Aplica\",\"Aplica\")","v":"No Aplica"},{"$f":"IF(AND(B1145=\"No\"),\"No Aplica\",\"Aplica\")","v":"No Aplica"},{"$f":"IF(AND(C1145=\"No\"),\"No Aplica\",\"Aplica\")","v":"No Aplica"}]
[{"$f":"IF('TABLA 3T4P9'!F31>=1,\"No es Aceptable\",\"Aceptable\")","v":"Aceptable"},{"$f":"IF('TABLA 5T4P9'!F18>=1,\"No es Aceptable\",\"Aceptable\")","v":"Aceptable"},{"$f":"IF('TABLA 7T4P9'!F18>=1,\"No es Aceptable\",\"Aceptable\")","v":"Aceptable"}]
["Resultado TABLA 4 Condición Crítica","Resultado TABLA 6 Condición Crítica","Resultado TABLA 8 Condición Crítica"]
[{"$f":"IF(AND(A1149=\"No es Aceptable\"),\"Aplica\",\"No Aplica\")","v":"No Aplica"},{"$f":"IF(AND(B1149=\"No es Aceptable\"),\"Aplica\",\"No Aplica\")","v":"No Aplica"},{"$f":"IF(AND(C1149=\"No es Aceptable\"),\"Aplica\",\"No Aplica\")","v":"No Aplica"}]
[{"$f":"IF('TABLA 4T4P9'!F31>=1,\"Crítica\",\"No Crítica\")","v":"No Crítica"},{"$f":"IF('TABLA 6T4P9'!F21>=1,\"Crítica\",\"No Crítica\")","v":"No Crítica"},{"$f":"IF('TABLA 8T4P9'!F19>=1,\"Crítica\",\"No Crítica\")","v":"No Crítica"}]
["Resultado Tabla 3 y Tabla 4 ","Resultado Tabla 5 y Tabla 6","Resultado Tabla 7 y Tabla 8"]
[{"$f":"IF(AND(A1149=\"Aceptable\"),\"Ausencia de riesgo\",\"\")","v":"Ausencia de riesgo"},{"$f":"IF(AND(B1149=\"Aceptable\"),\"Ausencia de riesgo\",\"\")","v":"Ausencia de riesgo"},{"$f":"IF(AND(C1149=\"Aceptable\"),\"Ausencia de riesgo\",\"\")","v":"Ausencia de riesgo"}]
[{"$f":"IF(AND(A1149=\"No es Aceptable\",A1152=\"No Crítica\"),\"Presencia de riesgo No Crítico\",\"\")","v":""},{"$f":"IF(AND(B1149=\"No es Aceptable\",B1152=\"No Crítica\"),\"Presencia de riesgo No Crítico\",\"\")","v":""},{"$f":"IF(AND(C1149=\"No es Aceptable\",C1152=\"No Crítica\"),\"Presencia de riesgo No Crítico\",\"\")","v":""}]
[{"$f":"IF(AND(A1152=\"Crítica\"),\"Condición Crítica\",\"\")","v":""},{"$f":"IF(AND(B1152=\"Crítica\"),\"Condición Crítica\",\"\")","v":""},{"$f":"IF(AND(C1152=\"Crítica\"),\"Condición Crítica\",\"\")","v":""}]
[]
["Detalle de Resultados Tarea N° 5:",{"$f":"'TABLA 1 P9'!C14","v":"NA"}]
["DETALLE IDENTIFICACIÓN INICIAL"]
["¿Existe levantamiento, descenso o transporte manual de un objeto de 3 kg o más?","¿Existe empuje o arrastre de un objeto utilizando 1 o 2 manos?","¿Existe manejo manual de personas/pacientes?"]
[{"$f":"'TABLA 1 P9'!Y14","v":"No"},{"$f":"'TABLA 1 P9'!AA14","v":"No"},{"$f":"'TABLA 1 P9'!AC14","v":"No"}]
["DETALLE IDENTIFICACIÓN AVANZADA"]
["Resultado TABLA 3 Condición Aceptable","Resultado TABLA 5 Condición Aceptable","Resultado TABLA 7 Condición Aceptable"]
[{"$f":"IF(AND(A1161=\"No\"),\"No Aplica\",\"Aplica\")","v":"No Aplica"},{"$f":"IF(AND(B1161=\"No\"),\"No Aplica\",\"Aplica\")","v":"No Aplica"},{"$f":"IF(AND(C1161=\"No\"),\"No Aplica\",\"Aplica\")","v":"No Aplica"}]
[{"$f":"IF('TABLA 3T5P9'!F31>=1,\"No es Aceptable\",\"Aceptable\")","v":"Aceptable"},{"$f":"IF('TABLA 5T5P9'!F18>=1,\"No es Aceptable\",\"Aceptable\")","v":"Aceptable"},{"$f":"IF('TABLA 7T5P9'!F18>=1,\"No es Aceptable\",\"Aceptable\")","v":"Aceptable"}]
["Resultado TABLA 4 Condición Crítica","Resultado TABLA 6 Condición Crítica","Resultado TABLA 8 Condición Crítica"]
[{"$f":"IF(AND(A1165=\"No es Aceptable\"),\"Aplica\",\"No Aplica\")","v":"No Aplica"},{"$f":"IF(AND(B1165=\"No es Aceptable\"),\"Aplica\",\"No Aplica\")","v":"No Aplica"},{"$f":"IF(AND(C1165=\"No es Aceptable\"),\"Aplica\",\"No Aplica\")","v":"No Aplica"}]
[{"$f":"IF('TABLA 4T5P9'!F31>=1,\"Crítica\",\"No Crítica\")","v":"No Crítica"},{"$f":"IF('TABLA 6T5P9'!F21>=1,\"Crítica\",\"No Crítica\")","v":"No Crítica"},{"$f":"IF('TABLA 8T5P9'!F19>=1,\"Crítica\",\"No Crítica\")","v":"No Crítica"}]
["Resultado Tabla 3 y Tabla 4 ","Resultado Tabla 5 y Tabla 6","Resultado Tabla 7 y Tabla 8"]
[{"$f":"IF(AND(A1165=\"Aceptable\"),\"Ausencia de riesgo\",\"\")","v":"Ausencia de riesgo"},{"$f":"IF(AND(B1165=\"Aceptable\"),\"Ausencia de riesgo\",\"\")","v":"Ausencia de riesgo"},{"$f":"IF(AND(C1165=\"Aceptable\"),\"Ausencia de riesgo\",\"\")","v":"Ausencia de riesgo"}]
[{"$f":"IF(AND(A1165=\"No es Aceptable\",A1168=\"No Crítica\"),\"Presencia de riesgo No Crítico\",\"\")","v":""},{"$f":"IF(AND(B1165=\"No es Aceptable\",B1168=\"No Crítica\"),\"Presencia de riesgo No Crítico\",\"\")","v":""},{"$f":"IF(AND(C1165=\"No es Aceptable\",C1168=\"No Crítica\"),\"Presencia de riesgo No Crítico\",\"\")","v":""}]
[{"$f":"IF(AND(A1168=\"Crítica\"),\"Condición Crítica\",\"\")","v":""},{"$f":"IF(AND(B1168=\"Crítica\"),\"Condición Crítica\",\"\")","v":""},{"$f":"IF(AND(C1168=\"Crítica\"),\"Condición Crítica\",\"\")","v":""}]
[]
[]
[]
[]
[]
[]
[]
[]
[]
[]
[]
[]
[]
[]
[]
[]
[]
[]
[]
[]
[]
[]
["Razón Social",{"$f":"'Datos Empresa'!D5","v":0},"Cargo Responsable"]
["RUT Empresa",{"$f":"'Datos Empresa'!D8","v":0},{"$f":"'Datos Empresa'!D29","v":0}]
["Dirección del Centro Trabajo",{"$f":"'Datos Empresa'!D14","v":0},"Correo electrónico Responsable"]
["Región",{"$f":"'Datos Empresa'!D17","v":0},{"$f":"'Datos Empresa'!D32","v":0}]
["Comuna",{"$f":"'Datos Empresa'!D20","v":0},"Teléfono de contacto"]
["Responsable",{"$f":"'Datos Empresa'!D26","v":0},{"$f":"'Datos Empresa'!D35","v":0}]
["RUN Responsable",{"$f":"'Datos Empresa'!D23","v":0}]
[]
[]
[]
[]
[]
[]
["Puesto de Trabajo  N°  ❿",{"$f":"'Listado de Puestos de Trabajo'!D33","v":"Disponible Puesto 10"}]
["Resultado Proceso de Identificación","Acciones Proceso de Identificación","Próximo paso"]
[]
[{"$f":"IF(AND(A1240=\"\",B1240=\"\",C1240=\"\",A1256=\"\",B1256=\"\",C1256=\"\",A1272=\"\",B1272=\"\",C1272=\"\",A1288=\"\",B1288=\"\",C1288=\"\",A1304=\"\",B1304=\"\",C1304=\"\"),\"\",\"Condición Crítica\")","v":""},{"$f":"IF(A1211=\"Condición Crítica\",\"Deberán corregir la(s) condición(es) crítica(s) dentro del plazo establecido y luego volver a aplicar tablas de identificación avanzada.\",\"\")","v":""},{"$f":"IF(A1211=\"Condición Crítica\",\"Tendrán un máximo de 60 días para implementar medidas de corrección. La ACHS podrá indicar un tiempo mayor o menor, el cual en ningún caso podrá exceder a los 180 días.\",\"\")","v":""}]
[{"$f":"IF(AND(A1239=\"\",B1239=\"\",C1239=\"\",A1255=\"\",B1255=\"\",C1255=\"\",A1271=\"\",B1271=\"\",C1271=\"\",A1287=\"\",B1287=\"\",C1287=\"\",A1303=\"\",B1303=\"\",C1303=\"\"),\"\",\"Presencia de riesgo No Crítico\")","v":""},{"$f":"IF(A1212=\"Presencia de riesgo No Crítico\",\"Deberán realizar evaluación cuantitativa especializada.\",\"\")","v":""},{"$f":"IF(A1212=\"Presencia de riesgo No Crítico\",\"Deberán contar con la asesoría de un especialista en ergonomía y para ello contará con un plazo de 60 días considerando la verificación de la disminución del riesgo, mediante metodología especializada.\",\"\")","v":""}]
[{"$f":"IF(AND(A1238=\"Ausencia de riesgo\",B1238=\"Ausencia de riesgo\",C1238=\"Ausencia de riesgo\",A1254=\"Ausencia de riesgo\",B1254=\"Ausencia de riesgo\",C1254=\"Ausencia de riesgo\",A1270=\"Ausencia de riesgo\",B1270=\"Ausencia de riesgo\",C1270=\"Ausencia de riesgo\",A1286=\"Ausencia de riesgo\",B1286=\"Ausencia de riesgo\",C1286=\"Ausencia de riesgo\",A1302=\"Ausencia de riesgo\",B1302=\"Ausencia de riesgo\",C1302=\"Ausencia de riesgo\"),\"Ausencia de Riesgo\",\"\")","v":"Ausencia de Riesgo"},{"$f":"IF(A1213=\"Ausencia de riesgo\",\"Pueden mantener y asegurar las condiciones por un periodo de 4 años o volver a identificar solo si estas cambian.\",\"\")","v":"Pueden mantener y asegurar las condiciones por un periodo de 4 años o volver a identificar solo si estas cambian."},{"$f":"IF(A1213=\"Ausencia de Riesgo\",\"No será necesario continuar con evaluación de riesgo, pero si deberá realizar revisiones periódicas,principalmente cuando existan modificaciones de tareas en el puesto de trabajo.\",\"\")","v":"No será necesario continuar con evaluación de riesgo, pero si deberá realizar revisiones periódicas,principalmente cuando existan modificaciones de tareas en el puesto de trabajo."}]
[]
[]
[]
[null,null,{"$f":"IF(A1212=\"Presencia de riesgo No Crítico\",\"Nota:  No se realizará la evaluación del riesgo si solo la condición no es aceptable en las preguntas relacionadas al ambiente de trabajo. Esta excepción no aplica para Tabla 8 de Manejo manual de personas/pacientes -Identificación avanzada.\",\"\")","v":""}]
[]
[]
[null,null,{"$f":"IF(A1211=\"Condición Crítica\",\"Presencia de Condición Crítica\",\"0\")","v":"0"}]
[null,null,{"$f":"IF(A1212=\"Presencia de riesgo No Crítico\",\"Presencia de Riesgo No Crítico\",\"0\")","v":"0"}]
[]
[]
[]
[]
["Detalle de Resultados Tarea N° 1:",{"$f":"'TABLA 1 P10'!C6","v":"NA"}]
["DETALLE IDENTIFICACIÓN INICIAL"]
["¿Existe levantamiento, descenso o transporte manual de un objeto de 3 kg o más?","¿Existe empuje o arrastre de un objeto utilizando 1 o 2 manos?","¿Existe manejo manual de personas/pacientes?"]
[{"$f":"'TABLA 1 P10'!Y6","v":"No"},{"$f":"'TABLA 1 P10'!AA6","v":"No"},{"$f":"'TABLA 1 P10'!AC6","v":"No"}]
["DETALLE IDENTIFICACIÓN AVANZADA"]
["Resultado TABLA 3 Condición Aceptable","Resultado TABLA 5 Condición Aceptable","Resultado TABLA 7 Condición Aceptable"]
[{"$f":"IF(AND(A1229=\"No\"),\"No Aplica\",\"Aplica\")","v":"No Aplica"},{"$f":"IF(AND(B1229=\"No\"),\"No Aplica\",\"Aplica\")","v":"No Aplica"},{"$f":"IF(AND(C1229=\"No\"),\"No Aplica\",\"Aplica\")","v":"No Aplica"}]
[{"$f":"IF('TABLA 3T1P10'!F31>=1,\"No es Aceptable\",\"Aceptable\")","v":"Aceptable"},{"$f":"IF('TABLA 5T1P10'!F18>=1,\"No es Aceptable\",\"Aceptable\")","v":"Aceptable"},{"$f":"IF('TABLA 7T1P10'!F18>=1,\"No es Aceptable\",\"Aceptable\")","v":"Aceptable"}]
["Resultado TABLA 4 Condición Crítica","Resultado TABLA 6 Condición Crítica","Resultado TABLA 8 Condición Crítica"]
[{"$f":"IF(AND(A1233=\"No es Aceptable\"),\"Aplica\",\"No Aplica\")","v":"No Aplica"},{"$f":"IF(AND(B1233=\"No es Aceptable\"),\"Aplica\",\"No Aplica\")","v":"No Aplica"},{"$f":"IF(AND(C1233=\"No es Aceptable\"),\"Aplica\",\"No Aplica\")","v":"No Aplica"}]
[{"$f":"IF('TABLA 4T1P10'!F31>=1,\"Crítica\",\"No Crítica\")","v":"No Crítica"},{"$f":"IF('TABLA 6T1P10'!F21>=1,\"Crítica\",\"No Crítica\")","v":"No Crítica"},{"$f":"IF('TABLA 8T1P10'!F19>=1,\"Crítica\",\"No Crítica\")","v":"No Crítica"}]
["Resultado Tabla 3 y Tabla 4 ","Resultado Tabla 5 y Tabla 6","Resultado Tabla 7 y Tabla 8"]
[{"$f":"IF(AND(A1233=\"Aceptable\"),\"Ausencia de riesgo\",\"\")","v":"Ausencia de riesgo"},{"$f":"IF(AND(B1233=\"Aceptable\"),\"Ausencia de riesgo\",\"\")","v":"Ausencia de riesgo"},{"$f":"IF(AND(C1233=\"Aceptable\"),\"Ausencia de riesgo\",\"\")","v":"Ausencia de riesgo"}]
[{"$f":"IF(AND(A1233=\"No es Aceptable\",A1236=\"No Crítica\"),\"Presencia de riesgo No Crítico\",\"\")","v":""},{"$f":"IF(AND(B1233=\"No es Aceptable\",B1236=\"No Crítica\"),\"Presencia de riesgo No Crítico\",\"\")","v":""},{"$f":"IF(AND(C1233=\"No es Aceptable\",C1236=\"No Crítica\"),\"Presencia de riesgo No Crítico\",\"\")","v":""}]
[{"$f":"IF(AND(A1236=\"Crítica\"),\"Condición Crítica\",\"\")","v":""},{"$f":"IF(AND(B1236=\"Crítica\"),\"Condición Crítica\",\"\")","v":""},{"$f":"IF(AND(C1236=\"Crítica\"),\"Condición Crítica\",\"\")","v":""}]
[]
["Detalle de Resultados Tarea N° 2:",{"$f":"'TABLA 1 P10'!C8","v":"NA"}]
["DETALLE IDENTIFICACIÓN INICIAL"]
["¿Existe levantamiento, descenso o transporte manual de un objeto de 3 kg o más?","¿Existe empuje o arrastre de un objeto utilizando 1 o 2 manos?","¿Existe manejo manual de personas/pacientes?"]
[{"$f":"'TABLA 1 P10'!Y8","v":"No"},{"$f":"'TABLA 1 P9'!AA140","v":0},{"$f":"'TABLA 1 P9'!AC140","v":0}]
["DETALLE IDENTIFICACIÓN AVANZADA"]
["Resultado TABLA 3 Condición Aceptable","Resultado TABLA 5 Condición Aceptable","Resultado TABLA 7 Condición Aceptable"]
[{"$f":"IF(AND(A1245=\"No\"),\"No Aplica\",\"Aplica\")","v":"No Aplica"},{"$f":"IF(AND(B1245=\"No\"),\"No Aplica\",\"Aplica\")","v":"Aplica"},{"$f":"IF(AND(C1245=\"No\"),\"No Aplica\",\"Aplica\")","v":"Aplica"}]
[{"$f":"IF('TABLA 3T2P10'!F31>=1,\"No es Aceptable\",\"Aceptable\")","v":"Aceptable"},{"$f":"IF('TABLA 5T2P10'!F18>=1,\"No es Aceptable\",\"Aceptable\")","v":"Aceptable"},{"$f":"IF('TABLA 7T2P10'!F18>=1,\"No es Aceptable\",\"Aceptable\")","v":"Aceptable"}]
["Resultado TABLA 4 Condición Crítica","Resultado TABLA 6 Condición Crítica","Resultado TABLA 8 Condición Crítica"]
[{"$f":"IF(AND(A1249=\"No es Aceptable\"),\"Aplica\",\"No Aplica\")","v":"No Aplica"},{"$f":"IF(AND(B1249=\"No es Aceptable\"),\"Aplica\",\"No Aplica\")","v":"No Aplica"},{"$f":"IF(AND(C1249=\"No es Aceptable\"),\"Aplica\",\"No Aplica\")","v":"No Aplica"}]
[{"$f":"IF('TABLA 4T2P10'!F31>=1,\"Crítica\",\"No Crítica\")","v":"No Crítica"},{"$f":"IF('TABLA 6T2P10'!F21>=1,\"Crítica\",\"No Crítica\")","v":"No Crítica"},{"$f":"IF('TABLA 8T2P10'!F19>=1,\"Crítica\",\"No Crítica\")","v":"No Crítica"}]
["Resultado Tabla 3 y Tabla 4 ","Resultado Tabla 5 y Tabla 6","Resultado Tabla 7 y Tabla 8"]
[{"$f":"IF(AND(A1249=\"Aceptable\"),\"Ausencia de riesgo\",\"\")","v":"Ausencia de riesgo"},{"$f":"IF(AND(B1249=\"Aceptable\"),\"Ausencia de riesgo\",\"\")","v":"Ausencia de riesgo"},{"$f":"IF(AND(C1249=\"Aceptable\"),\"Ausencia de riesgo\",\"\")","v":"Ausencia de riesgo"}]
[{"$f":"IF(AND(A1249=\"No es Aceptable\",A1252=\"No Crítica\"),\"Presencia de riesgo No Crítico\",\"\")","v":""},{"$f":"IF(AND(B1249=\"No es Aceptable\",B1252=\"No Crítica\"),\"Presencia de riesgo No Crítico\",\"\")","v":""},{"$f":"IF(AND(C1249=\"No es Aceptable\",C1252=\"No Crítica\"),\"Presencia de riesgo No Crítico\",\"\")","v":""}]
[{"$f":"IF(AND(A1252=\"Crítica\"),\"Condición Crítica\",\"\")","v":""},{"$f":"IF(AND(B1252=\"Crítica\"),\"Condición Crítica\",\"\")","v":""},{"$f":"IF(AND(C1252=\"Crítica\"),\"Condición Crítica\",\"\")","v":""}]
[]
["Detalle de Resultados Tarea N° 3:",{"$f":"'TABLA 1 P10'!C10","v":"NA"}]
["DETALLE IDENTIFICACIÓN INICIAL"]
["¿Existe levantamiento, descenso o transporte manual de un objeto de 3 kg o más?","¿Existe empuje o arrastre de un objeto utilizando 1 o 2 manos?","¿Existe manejo manual de personas/pacientes?"]
[{"$f":"'TABLA 1 P10'!Y10","v":"No"},{"$f":"'TABLA 1 P10'!AA10","v":"No"},{"$f":"'TABLA 1 P10'!AC10","v":"No"}]
["DETALLE IDENTIFICACIÓN AVANZADA"]
["Resultado TABLA 3 Condición Aceptable","Resultado TABLA 5 Condición Aceptable","Resultado TABLA 7 Condición Aceptable"]
[{"$f":"IF(AND(A1261=\"No\"),\"No Aplica\",\"Aplica\")","v":"No Aplica"},{"$f":"IF(AND(B1261=\"No\"),\"No Aplica\",\"Aplica\")","v":"No Aplica"},{"$f":"IF(AND(C1261=\"No\"),\"No Aplica\",\"Aplica\")","v":"No Aplica"}]
[{"$f":"IF('TABLA 3T3P10'!F31>=1,\"No es Aceptable\",\"Aceptable\")","v":"Aceptable"},{"$f":"IF('TABLA 5T3P10'!F18=1,\"No es Aceptable\",\"Aceptable\")","v":"Aceptable"},{"$f":"IF('TABLA 7T3P10'!F18>=1,\"No es Aceptable\",\"Aceptable\")","v":"Aceptable"}]
["Resultado TABLA 4 Condición Crítica","Resultado TABLA 6 Condición Crítica","Resultado TABLA 8 Condición Crítica"]
[{"$f":"IF(AND(A1265=\"No es Aceptable\"),\"Aplica\",\"No Aplica\")","v":"No Aplica"},{"$f":"IF(AND(B1265=\"No es Aceptable\"),\"Aplica\",\"No Aplica\")","v":"No Aplica"},{"$f":"IF(AND(C1265=\"No es Aceptable\"),\"Aplica\",\"No Aplica\")","v":"No Aplica"}]
[{"$f":"IF('TABLA 4T3P10'!F31>=1,\"Crítica\",\"No Crítica\")","v":"No Crítica"},{"$f":"IF('TABLA 6T3P10'!F21>=1,\"Crítica\",\"No Crítica\")","v":"No Crítica"},{"$f":"IF('TABLA 8T3P10'!F19>=1,\"Crítica\",\"No Crítica\")","v":"No Crítica"}]
["Resultado Tabla 3 y Tabla 4 ","Resultado Tabla 5 y Tabla 6","Resultado Tabla 7 y Tabla 8"]
[{"$f":"IF(AND(A1265=\"Aceptable\"),\"Ausencia de riesgo\",\"\")","v":"Ausencia de riesgo"},{"$f":"IF(AND(B1265=\"Aceptable\"),\"Ausencia de riesgo\",\"\")","v":"Ausencia de riesgo"},{"$f":"IF(AND(C1265=\"Aceptable\"),\"Ausencia de riesgo\",\"\")","v":"Ausencia de riesgo"}]
[{"$f":"IF(AND(A1265=\"No es Aceptable\",A1268=\"No Crítica\"),\"Presencia de riesgo No Crítico\",\"\")","v":""},{"$f":"IF(AND(B1265=\"No es Aceptable\",B1268=\"No Crítica\"),\"Presencia de riesgo No Crítico\",\"\")","v":""},{"$f":"IF(AND(C1265=\"No es Aceptable\",C1268=\"No Crítica\"),\"Presencia de riesgo No Crítico\",\"\")","v":""}]
[{"$f":"IF(AND(A1268=\"Crítica\"),\"Condición Crítica\",\"\")","v":""},{"$f":"IF(AND(B1268=\"Crítica\"),\"Condición Crítica\",\"\")","v":""},{"$f":"IF(AND(C1268=\"Crítica\"),\"Condición Crítica\",\"\")","v":""}]
[]
["Detalle de Resultados Tarea N° 4:",{"$f":"'TABLA 1 P10'!C12","v":"NA"}]
["DETALLE IDENTIFICACIÓN INICIAL"]
["¿Existe levantamiento, descenso o transporte manual de un objeto de 3 kg o más?","¿Existe empuje o arrastre de un objeto utilizando 1 o 2 manos?","¿Existe manejo manual de personas/pacientes?"]
[{"$f":"'TABLA 1 P10'!Y12","v":"No"},{"$f":"'TABLA 1 P10'!AA12","v":"No"},{"$f":"'TABLA 1 P10'!AC12","v":"No"}]
["DETALLE IDENTIFICACIÓN AVANZADA"]
["Resultado TABLA 3 Condición Aceptable","Resultado TABLA 5 Condición Aceptable","Resultado TABLA 7 Condición Aceptable"]
[{"$f":"IF(AND(A1277=\"No\"),\"No Aplica\",\"Aplica\")","v":"No Aplica"},{"$f":"IF(AND(B1277=\"No\"),\"No Aplica\",\"Aplica\")","v":"No Aplica"},{"$f":"IF(AND(C1277=\"No\"),\"No Aplica\",\"Aplica\")","v":"No Aplica"}]
[{"$f":"IF('TABLA 3T4P10'!F31>=1,\"No es Aceptable\",\"Aceptable\")","v":"Aceptable"},{"$f":"IF('TABLA 5T4P10'!F18>=1,\"No es Aceptable\",\"Aceptable\")","v":"Aceptable"},{"$f":"IF('TABLA 7T4P10'!F18>=1,\"No es Aceptable\",\"Aceptable\")","v":"Aceptable"}]
["Resultado TABLA 4 Condición Crítica","Resultado TABLA 6 Condición Crítica","Resultado TABLA 8 Condición Crítica"]
[{"$f":"IF(AND(A1281=\"No es Aceptable\"),\"Aplica\",\"No Aplica\")","v":"No Aplica"},{"$f":"IF(AND(B1281=\"No es Aceptable\"),\"Aplica\",\"No Aplica\")","v":"No Aplica"},{"$f":"IF(AND(C1281=\"No es Aceptable\"),\"Aplica\",\"No Aplica\")","v":"No Aplica"}]
[{"$f":"IF('TABLA 4T4P10'!F31>=1,\"Crítica\",\"No Crítica\")","v":"No Crítica"},{"$f":"IF('TABLA 6T4P10'!F21>=1,\"Crítica\",\"No Crítica\")","v":"No Crítica"},{"$f":"IF('TABLA 8T4P10'!F19>=1,\"Crítica\",\"No Crítica\")","v":"No Crítica"}]
["Resultado Tabla 3 y Tabla 4 ","Resultado Tabla 5 y Tabla 6","Resultado Tabla 7 y Tabla 8"]
[{"$f":"IF(AND(A1281=\"Aceptable\"),\"Ausencia de riesgo\",\"\")","v":"Ausencia de riesgo"},{"$f":"IF(AND(B1281=\"Aceptable\"),\"Ausencia de riesgo\",\"\")","v":"Ausencia de riesgo"},{"$f":"IF(AND(C1281=\"Aceptable\"),\"Ausencia de riesgo\",\"\")","v":"Ausencia de riesgo"}]
[{"$f":"IF(AND(A1281=\"No es Aceptable\",A1284=\"No Crítica\"),\"Presencia de riesgo No Crítico\",\"\")","v":""},{"$f":"IF(AND(B1281=\"No es Aceptable\",B1284=\"No Crítica\"),\"Presencia de riesgo No Crítico\",\"\")","v":""},{"$f":"IF(AND(C1281=\"No es Aceptable\",C1284=\"No Crítica\"),\"Presencia de riesgo No Crítico\",\"\")","v":""}]
[{"$f":"IF(AND(A1284=\"Crítica\"),\"Condición Crítica\",\"\")","v":""},{"$f":"IF(AND(B1284=\"Crítica\"),\"Condición Crítica\",\"\")","v":""},{"$f":"IF(AND(C1284=\"Crítica\"),\"Condición Crítica\",\"\")","v":""}]
[]
["Detalle de Resultados Tarea N° 5:",{"$f":"'TABLA 1 P10'!C14","v":"NA"}]
["DETALLE IDENTIFICACIÓN INICIAL"]
["¿Existe levantamiento, descenso o transporte manual de un objeto de 3 kg o más?","¿Existe empuje o arrastre de un objeto utilizando 1 o 2 manos?","¿Existe manejo manual de personas/pacientes?"]
[{"$f":"'TABLA 1 P10'!Y14","v":"No"},{"$f":"'TABLA 1 P10'!AA14","v":"No"},{"$f":"'TABLA 1 P10'!AC14","v":"No"}]
["DETALLE IDENTIFICACIÓN AVANZADA"]
["Resultado TABLA 3 Condición Aceptable","Resultado TABLA 5 Condición Aceptable","Resultado TABLA 7 Condición Aceptable"]
[{"$f":"IF(AND(A1293=\"No\"),\"No Aplica\",\"Aplica\")","v":"No Aplica"},{"$f":"IF(AND(B1293=\"No\"),\"No Aplica\",\"Aplica\")","v":"No Aplica"},{"$f":"IF(AND(C1293=\"No\"),\"No Aplica\",\"Aplica\")","v":"No Aplica"}]
[{"$f":"IF('TABLA 3T5P10'!F31>=1,\"No es Aceptable\",\"Aceptable\")","v":"Aceptable"},{"$f":"IF('TABLA 5T5P10'!F18>=1,\"No es Aceptable\",\"Aceptable\")","v":"Aceptable"},{"$f":"IF('TABLA 7T5P10'!F18>=1,\"No es Aceptable\",\"Aceptable\")","v":"Aceptable"}]
["Resultado TABLA 4 Condición Crítica","Resultado TABLA 6 Condición Crítica","Resultado TABLA 8 Condición Crítica"]
[{"$f":"IF(AND(A1297=\"No es Aceptable\"),\"Aplica\",\"No Aplica\")","v":"No Aplica"},{"$f":"IF(AND(B1297=\"No es Aceptable\"),\"Aplica\",\"No Aplica\")","v":"No Aplica"},{"$f":"IF(AND(C1297=\"No es Aceptable\"),\"Aplica\",\"No Aplica\")","v":"No Aplica"}]
[{"$f":"IF('TABLA 4T5P10'!F31>=1,\"Crítica\",\"No Crítica\")","v":"No Crítica"},{"$f":"IF('TABLA 6T5P10'!F21>=1,\"Crítica\",\"No Crítica\")","v":"No Crítica"},{"$f":"IF('TABLA 8T5P10'!F19>=1,\"Crítica\",\"No Crítica\")","v":"No Crítica"}]
["Resultado Tabla 3 y Tabla 4 ","Resultado Tabla 5 y Tabla 6","Resultado Tabla 7 y Tabla 8"]
[{"$f":"IF(AND(A1297=\"Aceptable\"),\"Ausencia de riesgo\",\"\")","v":"Ausencia de riesgo"},{"$f":"IF(AND(B1297=\"Aceptable\"),\"Ausencia de riesgo\",\"\")","v":"Ausencia de riesgo"},{"$f":"IF(AND(C1297=\"Aceptable\"),\"Ausencia de riesgo\",\"\")","v":"Ausencia de riesgo"}]
[{"$f":"IF(AND(A1297=\"No es Aceptable\",A1300=\"No Crítica\"),\"Presencia de riesgo No Crítico\",\"\")","v":""},{"$f":"IF(AND(B1297=\"No es Aceptable\",B1300=\"No Crítica\"),\"Presencia de riesgo No Crítico\",\"\")","v":""},{"$f":"IF(AND(C1297=\"No es Aceptable\",C1300=\"No Crítica\"),\"Presencia de riesgo No Crítico\",\"\")","v":""}]
[{"$f":"IF(AND(A1300=\"Crítica\"),\"Condición Crítica\",\"\")","v":""},{"$f":"IF(AND(B1300=\"Crítica\"),\"Condición Crítica\",\"\")","v":""},{"$f":"IF(AND(C1300=\"Crítica\"),\"Condición Crítica\",\"\")","v":""}]

{"sheet":"TABLA 9 P1","index":314,"n_rows":8,"n_cols":8,"rows_kept":8,"cut":false,"hidden":false,"merged":[]}
[]
[]
[]
[]
[null,null,null,"TABLA 9 PUESTO 1 | TABLA DE RESUMEN Y SEGUIMIENTO DE LA ETAPA DE IDENTIFICACIÓN"]
[]
[]
[null,null,"Situación Crítica","Responsable de implementar medidas","Medida o solución a implementar","Fecha de implementación","Fecha de Cumplimiento","¿Da resultado? o ¿Deberá evaluar?"]

{"sheet":"TABLA 9 P2","index":315,"n_rows":8,"n_cols":8,"rows_kept":8,"cut":false,"hidden":false,"merged":[]}
[]
[]
[]
[]
[null,null,null,"TABLA 9 PUESTO 2 | TABLA DE RESUMEN Y SEGUIMIENTO DE LA ETAPA DE IDENTIFICACIÓN"]
[]
[]
[null,null,"Situación Crítica","Responsable de implementar medidas","Medida o solución a implementar","Fecha de implementación","Fecha de Cumplimiento","¿Da resultado? o ¿Deberá evaluar?"]

{"sheet":"TABLA 9 P3","index":316,"n_rows":8,"n_cols":8,"rows_kept":8,"cut":false,"hidden":false,"merged":[]}
[]
[]
[]
[]
[null,null,null,"TABLA 9 PUESTO 3 | TABLA DE RESUMEN Y SEGUIMIENTO DE LA ETAPA DE IDENTIFICACIÓN"]
[]
[]
[null,null,"Situación Crítica","Responsable de implementar medidas","Medida o solución a implementar","Fecha de implementación","Fecha de Cumplimiento","¿Da resultado? o ¿Deberá evaluar?"]

{"sheet":"TABLA 9 P4","index":317,"n_rows":8,"n_cols":8,"rows_kept":8,"cut":false,"hidden":false,"merged":[]}
[]
[]
[]
[]
[null,null,null,"TABLA 9 PUESTO 4 | TABLA DE RESUMEN Y SEGUIMIENTO DE LA ETAPA DE IDENTIFICACIÓN"]
[]
[]
[null,null,"Situación Crítica","Responsable de implementar medidas","Medida o solución a implementar","Fecha de implementación","Fecha de Cumplimiento","¿Da resultado? o ¿Deberá evaluar?"]

{"sheet":"TABLA 9 P5","index":318,"n_rows":8,"n_cols":8,"rows_kept":8,"cut":false,"hidden":false,"merged":[]}
[]
[]
[]
[]
[null,null,null,"TABLA 9 PUESTO 5 | TABLA DE RESUMEN Y SEGUIMIENTO DE LA ETAPA DE IDENTIFICACIÓN"]
[]
[]
[null,null,"Situación Crítica","Responsable de implementar medidas","Medida o solución a implementar","Fecha de implementación","Fecha de Cumplimiento","¿Da resultado? o ¿Deberá evaluar?"]

{"sheet":"TABLA 9 P6","index":319,"n_rows":8,"n_cols":8,"rows_kept":8,"cut":false,"hidden":false,"merged":[]}
[]
[]
[]
[]
[null,null,null,"TABLA 9 PUESTO 6 | TABLA DE RESUMEN Y SEGUIMIENTO DE LA ETAPA DE IDENTIFICACIÓN"]
[]
[]
[null,null,"Situación Crítica","Responsable de implementar medidas","Medida o solución a implementar","Fecha de implementación","Fecha de Cumplimiento","¿Da resultado? o ¿Deberá evaluar?"]

{"sheet":"TABLA 9 P7","index":320,"n_rows":8,"n_cols":8,"rows_kept":8,"cut":false,"hidden":false,"merged":[]}
[]
[]
[]
[]
[null,null,null,"TABLA 9 PUESTO 7 | TABLA DE RESUMEN Y SEGUIMIENTO DE LA ETAPA DE IDENTIFICACIÓN"]
[]
[]
[null,null,"Situación Crítica","Responsable de implementar medidas","Medida o solución a implementar","Fecha de implementación","Fecha de Cumplimiento","¿Da resultado? o ¿Deberá evaluar?"]

{"sheet":"TABLA 9 P8","index":321,"n_rows":8,"n_cols":8,"rows_kept":8,"cut":false,"hidden":false,"merged":[]}
[]
[]
[]
[]
[null,null,null,"TABLA 9 PUESTO 8| TABLA DE RESUMEN Y SEGUIMIENTO DE LA ETAPA DE IDENTIFICACIÓN"]
[]
[]
[null,null,"Situación Crítica","Responsable de implementar medidas","Medida o solución a implementar","Fecha de implementación","Fecha de Cumplimiento","¿Da resultado? o ¿Deberá evaluar?"]

{"sheet":"TABLA 9 P9","index":322,"n_rows":8,"n_cols":8,"rows_kept":8,"cut":false,"hidden":false,"merged":[]}
[]
[]
[]
[]
[null,null,null,"TABLA 9 PUESTO 9| TABLA DE RESUMEN Y SEGUIMIENTO DE LA ETAPA DE IDENTIFICACIÓN"]
[]
[]
[null,null,"Situación Crítica","Responsable de implementar medidas","Medida o solución a implementar","Fecha de implementación","Fecha de Cumplimiento","¿Da resultado? o ¿Deberá evaluar?"]

{"sheet":"TABLA 9 P10","index":323,"n_rows":8,"n_cols":8,"rows_kept":8,"cut":false,"hidden":false,"merged":[]}
[]
[]
[]
[]
[null,null,null,"TABLA 9 PUESTO 10| TABLA DE RESUMEN Y SEGUIMIENTO DE LA ETAPA DE IDENTIFICACIÓN"]
[]
[]
[null,null,"Situación Crítica","Responsable de implementar medidas","Medida o solución a implementar","Fecha de implementación","Fecha de Cumplimiento","¿Da resultado? o ¿Deberá evaluar?"]

{"sheet":"MEDIDAS DE CONTROL","index":324,"n_rows":115,"n_cols":6,"rows_kept":115,"cut":false,"hidden":false,"merged":[[59,3,67,3],[69,3,74,3],[11,3,19,3],[20,3,24,3],[40,3,42,3]]}
[]
[]
[]
[]
[]
[]
[]
[]
[]
[]
[null,null,"Mecanismo(s)","Ítem","Condición","Alternativas de Medida de control "]
[null,null,null,"Ambiente de trabajo ","Presencia de temperatura extrema (bajo 16° o superior a los 26°) y sin ropa adecuada","En caso de exposición a frío, considere el uso de ropa térmica adecuada para el entorno."]
[null,null,null,null,null,"En caso de exposición a frío utilice  herramientas provistas de\nmaterial aislante"]
[null,null,null,null,null,"En caso de exposición a calor Implemente sistemas de\nventilación y de control de fuentes de calor radiante."]
[null,null,null,null,null,"En caso de exposición a calor mantenga puntos de hidratación a disposición."]
[null,null,null,null,"Presencia de suelo resbaladizo, irregular o inestable ","Mantenga pisos secos, limpios y en buenas condiciones de mantención."]
[null,null,null,null,null,"Considerar un programa de mantención preventiva que incluya actividades de limpieza y\nreparación de las vías de transporte"]
[null,null,null,null,null,"Eliminar las diferencias de altura en pisos. Las ruedas más grandes generalmente son mejores que las de menor diámetro, ya que pueden superar más fácilmente un obstáculo. Una buena práctica es rellenar las zonas desniveladas."]
[null,null,null,null,null,"Emplear medios mecánicos para transportar personas/animales tales como: sillas accionadas, escaleras mecánicas, ascensores, etc.. En caso de implementar rampas que estas no superen una pendiente mayor al 5 u 8%"]
[null,null,null,null,"Presencia de espacio insuficiente para el levantamiento/descenso y transporte de carga que genera posturas incomodas o restricción en el movimiento.","El espacio debe permitir una buena técnica de manipulación de carga. En caso de no ser posible,evalúe mecanizar la tarea. "]
[null,null,null,"Característica de la carga ","El tamaño de la carga reduce la visión del trabajador y/o dificulta su movimiento ","En caso que la geometría de la carga no permita una manipulación segura. Evalúe mecanizar esta tarea."]
[null,null,null,null,"El centro de gravedad de la carga no es estable (ej.: líquidos, elementos que se mueven dentro de la carga) ","En caso que la geometría de la carga no permita una manipulación segura. Evalúe mecanizar esta tarea."]
[null,null,null,null,"La forma/configuración de la carga presenta bordes, superficies o protuberancias afiladas ","En caso que la geometría de la carga no permita una manipulación segura. Evalúe mecanizar esta tarea."]
[null,null,null,null,null,"Utilice guantes acorde de tamaño ajustado a la mano del trabajador."]
[null,null,null,null,"Las superficies de contacto son demasiado frías o demasiado calientes","Utilice  herramientas provistas de\nmaterial aislante"]
[null,null,null,"Horas de trabajo ","La tarea de levantamiento/descenso o transporte de carga dura más de 8 hrs. ","Evalúe mecanizar esta tarea o parte de ella."]
[null,null,null,null,null,"Realizar Pausas suficientes ante sintomas de fatiga. Rotación con tareas más livianas y de menor exigencias físicas."]
[]
[]
[]
[null,null,null,"Posición vertical","La ubicación de las manos al inicio o final del Levantamiento/descenso de una carga es superior a 155 cm o inferior a 20 cm ","Emplear mesa plegable para levar altura de la carga. Rediseñar el puesto de trabajo, bajando altura destino a la altura de codo-cintura y/o subir el origen o punto de tomada de la carga a nivel similar de altura destino."]
[null,null,null,null,null," Emplear técnica correcta para trasladar la carga al manipular antes de cargar (capacitación)."]
[null,null,null,"Desplazamiento vertical ","La distancia vertical entre el origen y el destino del objeto manipulado es mayor a 135cm","Emplear mesa plegable para levar altura de la carga. Rediseñar el puesto de trabajo, bajando altura destino a la altura de codo-cintura y/o subir el origen o punto de tomada de la carga a nivel similar de altura destino."]
[null,null,null,null,null," Emplear técnica correcta para trasladar la carga al manipular antes de cargar (capacitación)."]
[null,null,null,"Distancia horizontal","La distancia horizontal entre el cuerpo y las manos (nudillos) es superior a 63 cm","Emplear brazo accionado en forma neumatica para tomar y mover la carga."]
[null,null,null,null,null,"Emplear técnica adecuada (capacitación), tomando y ubicando la carga lo más cerca posible del cuerpo para reducir la fuerza de compresión y de cizalla a nivel de columna lumbar."]
[null,null,null,"Asimetría","Rotación o inclinación extrema del tronco sin movimientos de los pies ","Modificar la localización de los materiales de modo que la tarea se realice en la zona de alcance\nfuncional del trabajador, evitando inclinación, torsión o lateralización de tronco"]
[null,null,null,null,null,"Emplear técnica adecuada (capacitación), tomando y ubicando la carga lo más cerca posible del cuerpo para reducir la fuerza de compresión y de cizalla a nivel de columna lumbar."]
[null,null,null,null,null,"Despejar la zona de trabajo de forma que se disponga de espacio suficiente para los pies."]
[null,null,null,null,null,"Si fuese posible, para evitar la torsión de tronco durante el manejo de la carga el trabajador debería dar un paso en el sentido del movimiento."]
[null,null,null,"Frecuencia","Corta duración: más de 15 Levantamientos/descensos por minuto, en una tarea que no supere los 60 minutos seguidos en el turno de trabajo y seguida de al menos 60 minutos de descanso o tarea liviana (que no implique MMC)","Evalúe mecanizar esta tarea o parte de ella. En su defecto, aumente la dotación en períodos peak para disminuir la frecuencia de manipulación"]
[null,null,null,null,"Media duración: más de 12 Levantamientos/descensos por minuto, en una tarea que no supere los 120 minutos seguidos en el turno de trabajo y seguida de al menos 30 minutos de descanso o tarea liviana (que no implique MMC)","Evalúe mecanizar esta tarea o parte de ella. En su defecto, aumente la dotación en períodos peak para disminuir la frecuencia de manipulación."]
[null,null,null,null,"Larga duración: más de 8 Levantamientos/descensos por minuto, en una tarea que supere los 120 minutos seguidos en el turno de trabajo. ","Evalúe mecanizar esta tarea o parte de ella. En su defecto, aumente la dotación en períodos peak para disminuir la frecuencia de manipulación"]
[]
[]
[]
[null,null,null,"Hombres (18-45 años)","25 Kgs ","Emplear ayudas mecánicas como carros auxiliares, transpaletas, grúas u otro medio mecánico para el movimiento."]
[null,null,null,"Mujeres (18-45 años) ","20 Kgs ","Emplear ayudas mecánicas como carros auxiliares, transpaletas, grúas u otro medio mecánico para el movimiento."]
[null,null,null,"Hombres (<18 o >45 años) ","20 Kgs ","Emplear ayudas mecánicas como carros auxiliares, transpaletas, grúas u otro medio mecánico para el movimiento."]
[null,null,null,"Mujeres (<18 o >45 años)","15 Kgs ","Emplear ayudas mecánicas como carros auxiliares, transpaletas, grúas u otro medio mecánico para el movimiento."]
[null,null,null,"Mujer embarazada","3 Kgs ","Emplear ayudas mecánicas como carros auxiliares, transpaletas, grúas u otro medio mecánico para el movimiento."]
[]
[]
[]
[null,null,null,"Distancia de transporte de 20 mts o más ","6.000 Kgs en 8 hrs","Emplear ayudas mecánicas como carros auxiliares, transpaletas, grúas u otro medio mecánico para el movimiento."]
[null,null,null,"Distancia de transporte menos a 20 mts ","10.000 Kgs en 8 hrs","Emplear ayudas mecánicas como carros auxiliares, transpaletas, grúas u otro medio mecánico para el movimiento."]
[]
[]
[]
[null,null,null,"Ambiente de trabajo ","Presencia de temperatura extrema (bajo 16° o superior a los 26°) y sin ropa adecuada","En caso de exposición a frío, considere el uso de ropa térmica adecuada para el entorno."]
[null,null,null,null,null,"En caso de exposición a frío utilice  herramientas provistas de\nmaterial aislante"]
[null,null,null,null,null,"En caso de exposición a calor Implemente sistemas de\nventilación y de control de fuentes de calor radiante."]
[null,null,null,null,null,"En caso de exposición a calor mantenga puntos de hidratación a disposición."]
[null,null,null,null,"Presencia de suelo resbaladizo, irregular o inestable ","Mantenga pisos secos, limpios y en buenas condiciones de mantención."]
[null,null,null,null,null,"Considerar un programa de mantención preventiva que incluya actividades de limpieza y reparación de las vías de transporte"]
[null,null,null,null,null,"Eliminar las diferencias de altura en pisos. Las ruedas más grandes generalmente son mejores que las de menor diámetro, ya que pueden superar más fácilmente un obstáculo. Una buena práctica es rellenar las zonas desniveladas."]
[null,null,null,null,null,"Emplear medios mecánicos para transportar personas/animales tales como: sillas accionadas, escaleras mecánicas, ascensores, etc.. En caso de implementar rampas que estas no superen una pendiente mayor al 5 u 8%"]
[null,null,null,null,"Presencia de vías/caminos donde se restringen los movimientos","Elimine obstáculos en la ruta que dificulten el tránsito "]
[null,null,null,null,null,"Mantenga las rutas de tránsito debidamente señalizadas y en dimensiones que permitan un buen desplazamiento de la carga."]
[null,null,null,"Características de la carga","El carro o transpaleta reduce la vista del operador y/o dificulta su movimiento","La altura recomendada del carro es de 120 centímetros, con el fin\nde permitir una buena visibilidad. También se puede utilizar como\ncriterio técnico que la altura del carro o carga nunca debe superar la altura ojo-suelo de la persona menos 20 cm (como límite superior)."]
[null,null,null,null,null,"Ordenar la carga sobre el carro, evitando almacenar\npor sobre la altura señalada en el punto anterior.los 120 cm"]
[null,null,null,null,"La carga es inestable","Para mayor seguridad, los carros o carretillas altas se deben mover con un usuario en cada extremo con el fin de evitar riesgos de accidentes."]
[null,null,null,null,"El carro o transpaleta tienen condiciones peligrosas (bordes, superficies o protuberancias afiladas, etc) que pueden lesionar al trabajador","Genere un programa periódico de mantención de carros así como un sistema de notificación que permita resolver en el corto tiempo problemas asociados a bordes o superficies que pueden lesionar al trabajador. "]
[null,null,null,null,"Presencia de ruedas grandes o pequeñas en mal estado, rotas, desgastadas o con poca mantención","Genere un programa periódico de mantención de carros así como un sistema de notificación que permita resolver en el corto tiempo problemas asociados a ruedas en mal estado o desgastadas. "]
[null,null,null,null,"Presencia de ruedas grandes o pequeñas inadecuadas al tipo de carro, peso de la carga y vías de desplazamiento.","El diámetro mínimo de las ruedas para carros cargados sobre 200 kg, o que se ocupen en el exterior, es de 20 cm."]
[null,null,null,null,null,"Diámetros pequeños (7,5-10cm) pueden ser aceptables para cargas livianas o distancias cortas, sobre pisos lisos y sin obstrucciones"]
[null,null,null,"Horas de trabajo ","La tarea de levantamiento/descenso o transporte de carga dura más de 8 hrs. ","Evalúe mecanizar esta tarea o parte de ella. En su defecto, aumente la dotación en períodos peak para disminuir la frecuencia de manipulación"]
[null,null,null,"Magnitud de la Fuerza ","Método dinamómetro (*):\n1. Fuerza inicial es superior a 36 kgs. (Hombres) o 24 kgs.\n(Mujeres).\n2. Fuerza de sustentación es superior a 25 kgs. (Hombres)\ny 15 kgs. (Mujeres).\nMétodo Escala de Borg: los trabajadores perciben alto nivel\nde esfuerzo físico (valor 8 o más en escala de Borg) durante\nla (s) tarea (s) de empuje y arrastre de carga (Para obtener la\ninformación debe preguntar a los trabajadores utilizando la\nescala de Borg","Utilizar medio mecánicos como carros accionados, grúas, cintas transportadoras para el traslado de la carga."]
[null,null,null,null,null,"Solicitar ayuda a colegas para realizar el empuje/arrastre. Tomar Pausas suficientes ante sintomas de fatiga. Rotación con tareas más livianas y de menor exigencias físicas. "]
[null,null,null,"Dirección de la Fuerza ","Durante el desplazamiento la carga requiere de un levantamiento parcial, mientras se empuja o arrastra. ","Priorizar el uso de medio mecánicos como carros accionados, grúas o cintas transportadoras para el traslado de la carga."]
[null,null,null,null,null," Emplear carros traccionados para el transporte (o bien: ascensores, cintas móviles, grúas, etc.).Evitar pendientes con inclinación mayor a  5 u 8%."]
[null,null,null,"Esfuerzo Físico","La fuerza de empuje o arrastre es realizada con movimientos bruscos o de manera poco controlada. ","Priorizar el uso de medio mecánicos como carros accionados, grúas o cintas transportadoras para el traslado de la carga."]
[null,null,null,null,null,"Realizar movimientos suaves y lentos, tanto el frenar como al salir del reposo el carro. Tomar pausas suficientes ante sintomas de fatiga. Rotación con tareas más livianas y de menor exigencias físicas.  "]
[null,null,null,"Postura","La fuerza de empuje o arrastre es aplicada con el tronco en flexión o torsión significativa ","Evalúe si la postura que adopta el trabajador está asociada a un mal diseño del carro o posición de las asas. En este caso, modifique dicha condición. "]
[null,null,null,null,null,"Para empujar o arrastrar un carro ubiquese frente a sus asas, evitando posturas de torsión de tronco. "]
[null,null,null,"Zona de Agarre","Las manos no están delante del cuerpo o fuera del ancho de los hombros cuando se realiza la fuerza de empuje o arrastre. ","La capacidad de trabajo y fuerza se reducen cuando las manos de ubican muy por debajo de la cintura o muy por sobre el nivel de los hombros, siendo ideal que las manos queden a nivel de la cintura para su mayor\neficiencia biomecánica."]
[null,null,null,null,null,"Las asas pueden estar posicionadas vertical o horizontalmente. Si son verticales deben estar espaciadas 50 cm entre ellas (percentil\n95 ancho entre hombros)."]
[null,null,null,"Altura aplicación de la fuerza","La fuerza de empuje o arrastre es aplicada sobre los 150 cm o bajo los 60 cm. ","La capacidad de trabajo y fuerza se reducen cuando las manos de ubican muy por debajo de la cintura o muy por sobre el nivel de los hombros, siendo ideal que las manos queden a nivel de la cintura para su mayor\neficiencia biomecánica."]
[null,null,null,null,null,"Considerar el uso de  asas verticales que  permiten a los usuarios encontrar sus alturas óptimas."]
[null,null,null,"Duración","La(s) tarea(s) de empuje y arrastre de carga duran más de 8 hrs diaria. ","Evalúe mecanizar esta tarea o parte de ella. En su defecto, aumente la dotación en períodos peak para disminuir la frecuencia de manipulación."]
[]
[]
[]
[null,null,null,"Altura aplicación de la fuerza","En promedio, por turno, el trabajador realiza 12 o más MMP (paciente no cooperador o parcialmente cooperador).","Para movilizar pacientes no colaboradores (estado de conciencia alterado, patología que contraindique manipulación manual o peso excesivo) se debe utilizar un elemento mecanizado tipo grúa mecánica (tecle). "]
[null,null,null,null,null,"Es recomendable generar un sistema de rotación de turnos en el cual el trabajador pueda alternar turnos de mayor demanda de MMP (Ej. pacientes tetrapléjicos) con otros en los cuales los pacientes sean más autovalentes. "]
[null,null,null,null,null,"Capacitar a los trabajadores que realizan tareas de manipulación de pacientes en técnicas básicas. Se debe incluir a los Supervisores del área o sector a abordar. "]
[null,null,null,null,"El MMP se realiza bajo las rodillas o sobre la altura codo suelo ","Utilice algún elemento de ayuda que permita mejorar la postura de manipulación (regulación de altura vertical, como por ejemplo camas y camillas regulables en altura) "]
[null,null,null,null,null,"Para aplicar cualquier técnica de movilización de pacientes se deben respetar los principios básicos de uso de mecánica corporal: paciente cerca del cuerpo, espalda recta, piernas flexionadas, base de sustentación amplia, utilizar puntos de apoyo y utilizar el peso del paciente como contrapeso. "]
[null,null,null,null,null,"Capacitar a los trabajadores que realizan tareas de manipulación de pacientes en técnicas básicas. Se debe incluir a los Supervisores del área o sector a abordar. "]
[null,null,null,null,"La distancia horizontal entre el cuerpo y el paciente manipulado es superior a 63 cm","Utilice algún elemento de ayuda que permita mejorar la postura de manipulación (regulación de distancia horizontal, como por ejemplo superficies deslizantes, cinturones con asas, bipedestadores) "]
[null,null,null,null,null,"Para aplicar cualquier técnica de movilización de pacientes se deben respetar los principios básicos de uso de mecánica corporal: paciente cerca del cuerpo, espalda recta, piernas flexionadas, base de sustentación amplia, utilizar puntos de apoyo y utilizar el peso del paciente como contrapeso. "]
[null,null,null,null,null,"Capacitar a los trabajadores que realizan tareas de manipulación de pacientes en técnicas básicas. Se debe incluir a los Supervisores del área o sector a abordar. "]
[null,null,null,null,"Torsión extrema del tronco sin movimientos de los pies ","Utilice algún elemento de ayuda que permita mejorar la postura de manipulación (para evitar torsión de tronco, como por ejemplo discos bajo el paciente, cinturones con asas) "]
[null,null,null,null,null,"Para aplicar cualquier técnica de movilización de pacientes se deben respetar los principios básicos de uso de mecánica corporal: paciente cerca del cuerpo, espalda recta, piernas flexionadas, base de sustentación amplia, utilizar puntos de apoyo y utilizar el peso del paciente como contrapeso. "]
[null,null,null,null,null,"Capacitar a los trabajadores que realizan tareas de manipulación de pacientes en técnicas básicas. Se debe incluir a los Supervisores del área o sector a abordar. "]
[null,null,null,"Equipamiento","Las camas tienen ninguna o solo 2 ruedas","Para evitar las posturas forzadas del trabajador se recomienda que las camas tengan las siguientes características:\n-Regulable en altura. De esta manera el trabajador (a) puede adecuar la altura a la maniobra requerida. Generalmente a nivel de su cintura. \n-Con baranda abatible. Esto con el objetivo de evitar al trabajador adoptar posturas forzadas y sobreesfuerzos en la manipulación del paciente.\n-Reclinable. Esto con el objetivo mejorar el alcance evitando de esta manera inclinaciones excesivas de tronco en la manipulación del paciente."]
[null,null,null,null,"El trabajador hace todo el esfuerzo en el manejo del paciente ya que no se utilizan ningún tipo de ayudas mecánicas","Poner a disposición del trabajador ayudas técnicas (simples o mecanizadas) según la condición del paciente a movilizar."]
[null,null,null,null,null,"Capacitar a los trabajadores que realizan tareas de manipulación de pacientes en el uso de ayudas técnicas. Se debe incluir a los Supervisores del área o sector a abordar. "]
[null,null,null,null,"No existe programa de mantenimiento de las ayudas mecánicas ni de sillas de rueda o camillas","La empresa debe contar con un programa de mantención preventivo de los equipos técnicos que se utilicen para la manipulación de pacientes (tecles, bidepestadores, tablas, superficies deslizantes, etc.). La mantención de estos equipos, debe realizarse según el uso y los reportes de los trabajadores respecto a su correcto funcionamiento. "]
[null,null,null,null,null,"Generar un procedimiento de notificación en la cual el trabajador pueda informar condiciones de los equipos."]
[null,null,null,"Organización","La organización carece de un sistema de clasificación del paciente (según nivel de asistencia, peso, etc.).","Es recomendable generar un sistema de rotación de turnos en el cual el trabajador pueda alternar turnos de mayor demanda de MMP. Previo a esto se debe clasificar a los pacientes según su nivel de asistencia, peso, etc.) "]
[null,null,null,null,"La organización no cuenta con procedimientos escritos e informados de MMP de acuerdo al peso y características del paciente","Se deben generar procedimientos escritos, que contemplen la forma de movilizar al paciente, las ayudas mecánicas a utilizar y los turnos definidos. "]
[null,null,null,null,"La organización del trabajo genera concentración de tareas de MMP en ciertos horarios de trabajo y no cuenta con pausas de descanso durante la jornada","En los períodos críticos que presentan mayor frecuencia de labores de manejo de pacientes, se recomienda considerar personal de apoyo, por ejemplo, para los turnos donde se debe levantar y acostar a los pacientes."]
[null,null,null,null,null,"Se deben generar pausas de descanso previo a la aparición de fatiga en los trabajadores. "]
[null,null,null,"Entrenamiento","Un 50 % o menos de los trabajadores del servicio/unidad recibieron capacitación teórico-práctico en MMP en los últimos 18 meses","Capacitar a los trabajadores que realizan tareas de manipulación de pacientes en técnicas básicas. Se debe incluir a los Supervisores del área o sector a abordar. "]

{"sheet":"RESUMEN","index":325,"n_rows":12,"n_cols":6,"rows_kept":12,"cut":false,"hidden":false,"merged":[]}
[]
[null,"PUESTO",null,"RESULTADO IDENTIFICACIÓN",null,"ESTADO (validación del proceso)"]
[null,{"$f":"'FICHA RESULTADOS PUESTOS'!B21","v":"Disponible Puesto 1"},{"$f":"IF(AND(E3=\"0\",D3=\"0\"),\"Ausencia de Riesgo\",\"\")","v":"Ausencia de Riesgo"},{"$f":"'FICHA RESULTADOS PUESTOS'!C33","v":"0"},{"$f":"'FICHA RESULTADOS PUESTOS'!C32","v":"0"},"NA"]
[null,{"$f":"'FICHA RESULTADOS PUESTOS'!B152","v":"Disponible Puesto 2"},"Ausencia de Riesgo",{"$f":"'FICHA RESULTADOS PUESTOS'!C165","v":"0"},{"$f":"'FICHA RESULTADOS PUESTOS'!C164","v":"0"},"NA"]
[null,{"$f":"'FICHA RESULTADOS PUESTOS'!B284","v":"Disponible Puesto 3"},"Ausencia de Riesgo",{"$f":"'FICHA RESULTADOS PUESTOS'!C297","v":"0"},{"$f":"'FICHA RESULTADOS PUESTOS'!C296","v":"0"},"NA"]
[null,{"$f":"'FICHA RESULTADOS PUESTOS'!B416","v":"Disponible Puesto 4"},"Ausencia de Riesgo",{"$f":"'FICHA RESULTADOS PUESTOS'!C429","v":"0"},{"$f":"'FICHA RESULTADOS PUESTOS'!C428","v":"0"},"NA"]
[null,{"$f":"'FICHA RESULTADOS PUESTOS'!B548","v":"Disponible Puesto 5"},"Ausencia de Riesgo",{"$f":"'FICHA RESULTADOS PUESTOS'!C561","v":"0"},{"$f":"'FICHA RESULTADOS PUESTOS'!C560","v":"0"},"NA"]
[null,{"$f":"'FICHA RESULTADOS PUESTOS'!B680","v":"Disponible Puesto 6"},"Ausencia de Riesgo",{"$f":"'FICHA RESULTADOS PUESTOS'!C693","v":"0"},{"$f":"'FICHA RESULTADOS PUESTOS'!C692","v":"0"},"NA"]
[null,{"$f":"'FICHA RESULTADOS PUESTOS'!B812","v":"Disponible Puesto 7"},"Ausencia de Riesgo",{"$f":"'FICHA RESULTADOS PUESTOS'!C825","v":"0"},{"$f":"'FICHA RESULTADOS PUESTOS'!C824","v":"0"},"NA"]
[null,{"$f":"'FICHA RESULTADOS PUESTOS'!B944","v":"Disponible Puesto 8"},"Ausencia de Riesgo",{"$f":"'FICHA RESULTADOS PUESTOS'!C957","v":"0"},{"$f":"'FICHA RESULTADOS PUESTOS'!C956","v":"0"},"NA"]
[null,{"$f":"'FICHA RESULTADOS PUESTOS'!B1076","v":"Disponible Puesto 9"},"Ausencia de Riesgo",{"$f":"'FICHA RESULTADOS PUESTOS'!C1089","v":"0"},{"$f":"'FICHA RESULTADOS PUESTOS'!C1088","v":"0"},"NA"]
[null,{"$f":"'FICHA RESULTADOS PUESTOS'!B1208","v":"Disponible Puesto 10"},"Ausencia de Riesgo",{"$f":"'FICHA RESULTADOS PUESTOS'!C1221","v":"0"},{"$f":"'FICHA RESULTADOS PUESTOS'!C1220","v":"0"},"NA"]

{"sheet":"DATA","index":326,"n_rows":393,"n_cols":49,"rows_kept":393,"cut":false,"hidden":true,"merged":[]}
[null,null,null,null,null,null,null,"Si",null,null,null,null,"NA",null,"NA",null,"NA","NA","NA","NA",null,"NA",null,"Si existe",null,null,null,null,null,null,null,null,null,null,null,null,null,null,null,null,null,null,0,0,"NA","NA",null,null,"NA"]
["Aplique Tabla 3 y Tabla 4",null,"Si","Debe   realizar  Identificación Avanzada",null,null,null,"No",null,"Si",1,null,"1 Mano sin asistencia mecanizada",null,"Entre 3 y 5 [Kg]",null,"Menos de 2 [m]","Entre 1 y 5","Veces/ min",1,null,0,null,"No existe",null,null,null,null,null,null,null,null,null,"Sin MMC/MMP",null,">>Seleccionar desde lista desplegable<<",null,null,null,null,">>Seleccionar desde lista desplegable<<",">>Seleccionar desde lista desplegable<<",1,1,"< 17","< 17",null,null,"VALIDADO"]
["Aplique Tabla 5 y Tabla 6",null,"No","Proceso de identificación terminado",null,null,null,"NA",null,"No",2,null,"2 Manos sin asistencia mecanizada",null,"Entre 5,1 y 10 [kg]",null,"Entre 2 y 4 [m]","Entre 6 y 10","Veces/hr",2,null,0.5,null,null,null,null,null,null,null,null,null,null,null,"Condición Aceptable",null,"AGRICULTURA",null,null,null,null,"Región de Tarapacá","Aisén",2,2,18,18,null,null,"INCORPORAR"]
["Aplique Tabla 7 y Tabla 8",null,null,null,null,null,null,null,null,null,3,null,"1 Mano con asistencia mecanizada",null,"Entre 10,1 y 25 [kg]",null,"Entre 4 y 10 [m]","Más de 10","Veces/Jornada",3,null,1,null,null,null,null,null,null,null,null,null,null,null,"Condición No Crítica",null,"GANADERÍA",null,null,null,null,"Región de Antofagasta","Algarrobo",3,3,19,19,null,null,"CORREGIR"]
["Aplique NT-TMERT-EESS",null,null,null,null,null,null,null,null,null,4,null,"2 Manos con asistencia mecanizada",null,"Más de 25 [kg]",null,"Entre 10 y 30 [m]",null,null,4,null,2,null,null,null,null,null,null,null,null,null,null,null,"Condición Crítica",null,"CAZA Y ACTIVIDADES CONEXAS",null,null,null,null,"Región de Atacama","Alhué",4,4,20,20,null,null,"ELIMINAR"]
[null,null,null,null,null,null,null,null,null,null,5,null,null,null,null,null,"Más de 30 [m]",null,null,5,null,3,null,null,null,null,null,null,null,null,null,null,null,null,null,"SILVICULTURA Y EXTRACCIÓN DE MADERA",null,null,null,null,"Región de Coquimbo","Alto Biobío",5,5,21,21]
[null,null,null,null,null,null,null,null,null,null,6,null,null,null,null,null,null,null,null,6,null,4,null,null,null,null,null,null,null,null,null,null,null,null,null,"PESCA",null,null,null,null,"Región de Valparaíso","Alto del Carmen",6,6,22,22]
[null,null,null,null,null,null,null,null,null,null,7,null,null,null,null,null,null,null,null,7,null,5,null,null,null,null,null,null,null,null,null,null,null,null,null,"ACUICULTURA",null,null,null,null,"Región del Libertador General Bernardo O’Higgins","Alto Hospicio",7,7,23,23]
[null,null,null,null,null,null,null,null,null,null,8,null,null,null,null,null,null,null,null,8,null,6,null,null,null,null,null,null,null,null,null,null,null,null,null,"EXTRACCIÓN DE MINERALES",null,null,null,null,"Región del Maule","Ancud",8,8,24,24]
[null,null,null,null,null,null,null,null,null,null,9,null,null,null,null,null,null,null,null,9,null,7,null,null,null,null,null,null,null,null,null,null,null,null,null,"EXTRACCIÓN Y REFINACIÓNDE PETRÓLEO CRUDO Y GAS NATURAL",null,null,null,null,"Región del Biobío","Andacollo",9,9,25,25]
[null,null,null,null,null,null,null,null,null,null,10,null,null,null,null,null,null,null,null,10,null,8,null,null,null,null,null,null,null,null,null,null,null,null,null,"ELABORACIÓN DE ALIMENTOS Y BEBIDAS",null,null,null,null,"Región de La Araucanía","Angol",10,10,26,26]
[null,null,null,null,null,null,null,null,null,null,null,null,null,null,null,null,null,null,null,null,null,9,null,null,null,null,null,null,null,null,null,null,null,null,null,"ELABORACIÓN DE PRODUCTOS DE TABACO",null,null,null,null,"Región de Los Lagos","Antártica",11,11,27,27]
[null,null,null,null,null,null,null,null,null,null,null,null,null,null,null,null,null,null,null,null,null,10,null,null,null,null,null,null,null,null,null,null,null,null,null,"FABRICACIÓN DE PRODUCTOS TEXTILES Y CUEROS",null,null,null,null,"Región Aysén del General Carlos Ibáñez del Campo","Antofagasta",12,12,28,28]
[null,null,null,null,null,null,null,null,null,null,null,null,null,null,null,null,null,null,null,null,null,null,null,null,null,null,null,null,null,null,null,null,null,null,null,"PRODUCCIÓN DE MADERA Y FABRICACIÓN DE PRODUCTOS DE MADERA Y CORCHO",null,null,null,null,"Región de Magallanes y Antártica Chilena","Antuco",13,13,29,29]
[null,null,null,null,null,null,null,null,null,null,null,null,null,null,null,null,null,null,null,null,null,null,null,null,null,null,null,null,null,null,null,null,null,null,null,"FABRICACIÓN DE PAPEL Y DE PRODUCTOS DE PAPEL",null,null,null,null,"Región Metropolitana de Santiago","Arauco",14,14,30,30]
[null,null,null,null,null,null,null,null,null,null,null,null,null,null,null,null,null,null,null,null,null,null,null,null,null,null,null,null,null,null,null,null,null,null,null,"IMPRESIÓN Y REPRODUCCIÓN DE GRABACIONES",null,null,null,null,"Región de Los Ríos","Arica",15,15,31,31]
[null,null,null,null,null,null,null,null,null,null,null,null,null,null,null,null,null,null,null,null,null,null,null,null,null,null,null,null,null,null,null,null,null,null,null,"FABRICACIÓN DE SUBSTANCIAS Y PRODUCTOS QUÍMICOS",null,null,null,null,"Región de Arica y Parinacota","Buin",16,16,32,32]
[null,null,null,null,null,null,null,null,null,null,null,null,null,null,null,null,null,null,null,null,null,null,null,null,null,null,null,null,null,null,null,null,null,null,null,"FABRICACIÓN DE PRODUCTOS FARMACÉUTICOS",null,null,null,null,"Región de Ñuble","Bulnes",17,17,33,33]
[null,null,null,null,null,null,null,null,null,null,null,null,null,null,null,null,null,null,null,null,null,null,null,null,null,null,null,null,null,null,null,null,null,null,null,"FABRICACIÓN DE PRODUCTOS DE CAUCHO Y PLÁSTICO",null,null,null,null,null,"Cabildo",18,18,34,34]
[null,null,null,null,null,null,null,null,null,null,null,null,null,null,null,null,null,null,null,null,null,null,null,null,null,null,null,null,null,null,null,null,null,null,null,"FABRICACIÓN DE OTROS PRODUCTOS MINERALES NO METÁLICOS",null,null,null,null,null,"Cabo de Hornos",19,19,35,35]
[null,null,null,null,null,null,null,null,null,null,null,null,null,null,null,null,null,null,null,null,null,null,null,null,null,null,null,null,null,null,null,null,null,null,null,"FABRICACIÓN DE OTROS PRODUCTOS METÁLICOS",null,null,null,null,null,"Cabrero",20,20,36,36]
[null,null,null,null,null,null,null,null,null,null,null,null,null,null,null,null,null,null,null,null,null,null,null,null,null,null,null,null,null,null,null,null,null,null,null,"FABRICACIÓN DE PRODUCTOS DE INFORMÁTICA, ELECTRÓNICA Y ÓPTICA",null,null,null,null,null,"Calama",21,21,37,37]
[null,null,null,null,null,null,null,null,null,null,null,null,null,null,null,null,null,null,null,null,null,null,null,null,null,null,null,null,null,null,null,null,null,null,null,"FABRICACIÓN DE EQUIPO ELÉCTRICO",null,null,null,null,null,"Calbuco",22,22,38,38]
[null,null,null,null,null,null,null,null,null,null,null,null,null,null,null,null,null,null,null,null,null,null,null,null,null,null,null,null,null,null,null,null,null,null,null,"FABRICACIÓN DE MUEBLES",null,null,null,null,null,"Caldera",23,23,39,39]
[null,null,null,null,null,null,null,null,null,null,null,null,null,null,null,null,null,null,null,null,null,null,null,null,null,null,null,null,null,null,null,null,null,null,null,"OTRAS INDUSTRIAS MANUFACTURERAS",null,null,null,null,null,"Calera",24,24,40,40]
[null,null,null,null,null,null,null,null,null,null,null,null,null,null,null,null,null,null,null,null,null,null,null,null,null,null,null,null,null,null,null,null,null,null,null,"REPARACIÓN E INSTALACIÓN DE MAQUINARIA Y EQUIPO",null,null,null,null,null,"Calera de Tango",25,25,41,41]
[null,null,null,null,null,null,null,null,null,null,null,null,null,null,null,null,null,null,null,null,null,null,null,null,null,null,null,null,null,null,null,null,null,null,null,"SUMINISTROS BÁSICOS",null,null,null,null,null,"Calle Larga",26,26,42,42]
[null,null,null,null,null,null,null,null,null,null,null,null,null,null,null,null,null,null,null,null,null,null,null,null,null,null,null,null,null,null,null,null,null,null,null,"TELECOMUNICACIONES",null,null,null,null,null,"Camarones",27,27,43,43]
[null,null,null,null,null,null,null,null,null,null,null,null,null,null,null,null,null,null,null,null,null,null,null,null,null,null,null,null,null,null,null,null,null,null,null,"RESIDUOS",null,null,null,null,null,"Camiña",28,28,44,44]
[null,null,null,null,null,null,null,null,null,null,null,null,null,null,null,null,null,null,null,null,null,null,null,null,null,null,null,null,null,null,null,null,null,null,null,"CONSTRUCCIÓN",null,null,null,null,null,"Canela",29,29,45,45]
[null,null,null,null,null,null,null,null,null,null,null,null,null,null,null,null,null,null,null,null,null,null,null,null,null,null,null,null,null,null,null,null,null,null,null,"COMERCIO Y REPARACIÓN DE VEHÍCULOS (AUTOMOTORES Y MOTOCICLETAS)",null,null,null,null,null,"Cañete",30,30,46,46]
[null,null,null,null,null,null,null,null,null,null,null,null,null,null,null,null,null,null,null,null,null,null,null,null,null,null,null,null,null,null,null,null,null,null,null,"COMERCIO AL POR MAYOR (EXCEPTO EL DE VEHÍCULOS AUTOMOTORES Y MOTOCICLETAS)",null,null,null,null,null,"Carahue",31,31,47,47]
[null,null,null,null,null,null,null,null,null,null,null,null,null,null,null,null,null,null,null,null,null,null,null,null,null,null,null,null,null,null,null,null,null,null,null,"COMERCIO AL POR MENOR (EXCEPTO EL DE VEHÍCULOS AUTOMOTORES Y MOTOCICLETAS)",null,null,null,null,null,"Cartagena",32,32,48,48]
[null,null,null,null,null,null,null,null,null,null,null,null,null,null,null,null,null,null,null,null,null,null,null,null,null,null,null,null,null,null,null,null,null,null,null,"TRANSPORTE POR VÍA TERRESTRE Y POR TUBERÍAS",null,null,null,null,null,"Casablanca",33,33,49,49]
[null,null,null,null,null,null,null,null,null,null,null,null,null,null,null,null,null,null,null,null,null,null,null,null,null,null,null,null,null,null,null,null,null,null,null,"TRANSPORTE POR VÍA ACUÁTICA",null,null,null,null,null,"Castro",34,34,50,50]
[null,null,null,null,null,null,null,null,null,null,null,null,null,null,null,null,null,null,null,null,null,null,null,null,null,null,null,null,null,null,null,null,null,null,null,"TRANSPORTE POR VÍA AÉREA",null,null,null,null,null,"Catemu",35,35,51,51]
[null,null,null,null,null,null,null,null,null,null,null,null,null,null,null,null,null,null,null,null,null,null,null,null,null,null,null,null,null,null,null,null,null,null,null,"ALMACENAMIENTO Y ACTIVIDADES DE APOYO AL TRANSPORTE",null,null,null,null,null,"Cauquenes",36,36,52,52]
[null,null,null,null,null,null,null,null,null,null,null,null,null,null,null,null,null,null,null,null,null,null,null,null,null,null,null,null,null,null,null,null,null,null,null,"DELIVERY Y MENSAJERÍA",null,null,null,null,null,"Cerrillos",37,37,53,53]
[null,null,null,null,null,null,null,null,null,null,null,null,null,null,null,null,null,null,null,null,null,null,null,null,null,null,null,null,null,null,null,null,null,null,null,"ACTIVIDADES DE ALOJAMIENTO",null,null,null,null,null,"Cerro Navia",38,38,54,54]
[null,null,null,null,null,null,null,null,null,null,null,null,null,null,null,null,null,null,null,null,null,null,null,null,null,null,null,null,null,null,null,null,null,null,null,"ACTIVIDADES DE SERVICIOS DE COMIDAS Y BEBIDAS",null,null,null,null,null,"Chaitén",39,39,55,55]
[null,null,null,null,null,null,null,null,null,null,null,null,null,null,null,null,null,null,null,null,null,null,null,null,null,null,null,null,null,null,null,null,null,null,null,"ACTIVIDADES DE PUBLICACIÓN, PROGRAMACIÓN Y TRANSMISIÓN",null,null,null,null,null,"Chanco",40,40,56,56]
[null,null,null,null,null,null,null,null,null,null,null,null,null,null,null,null,null,null,null,null,null,null,null,null,null,null,null,null,null,null,null,null,null,null,null,"ACTIVIDADES DE PRODUCCIÓN DE PELÍCULAS CINEMATOGRÁFICAS, VÍDEOS Y PROGRAMAS DE TELEVISIÓN, GRABACIÓN DE SONIDO Y EDICIÓN DE MÚSICA",null,null,null,null,null,"Chañaral",41,41,57,57]
[null,null,null,null,null,null,null,null,null,null,null,null,null,null,null,null,null,null,null,null,null,null,null,null,null,null,null,null,null,null,null,null,null,null,null,"SERVICIOS INFORMÁTICOS",null,null,null,null,null,"Chépica",42,42,58,58]
[null,null,null,null,null,null,null,null,null,null,null,null,null,null,null,null,null,null,null,null,null,null,null,null,null,null,null,null,null,null,null,null,null,null,null,"ACTIVIDADES FINANCIERAS Y DE SEGUROS",null,null,null,null,null,"Chiguayante",43,43,59,59]
[null,null,null,null,null,null,null,null,null,null,null,null,null,null,null,null,null,null,null,null,null,null,null,null,null,null,null,null,null,null,null,null,null,null,null,"ACTIVIDADES PROFESIONALES, CIENTÍFICAS Y TÉCNICAS",null,null,null,null,null,"Chile Chico",44,44,60,60]
[null,null,null,null,null,null,null,null,null,null,null,null,null,null,null,null,null,null,null,null,null,null,null,null,null,null,null,null,null,null,null,null,null,null,null,"ACTIVIDADES VETERINARIAS(SALUD)",null,null,null,null,null,"Chillán",45,45,61,61]
[null,null,null,null,null,null,null,null,null,null,null,null,null,null,null,null,null,null,null,null,null,null,null,null,null,null,null,null,null,null,null,null,null,null,null,"ACTIVIDADES DE SEGURIDAD (VIGILANTE, GUARDIA, TRANSPORTE DE VALORES)",null,null,null,null,null,"Chillán Viejo",46,46,62,62]
[null,null,null,null,null,null,null,null,null,null,null,null,null,null,null,null,null,null,null,null,null,null,null,null,null,null,null,null,null,null,null,null,null,null,null,"ACTIVIDADES DE LIMPIEZA, ASEO Y ORNATO",null,null,null,null,null,"Chimbarongo",47,47,63,63]
[null,null,null,null,null,null,null,null,null,null,null,null,null,null,null,null,null,null,null,null,null,null,null,null,null,null,null,null,null,null,null,null,null,null,null,"ACTIVIDADES DE LA ADMINISTRACIÓN PÚBLICA DEL ESTADO",null,null,null,null,null,"Cholchol",48,48,64,64]
[null,null,null,null,null,null,null,null,null,null,null,null,null,null,null,null,null,null,null,null,null,null,null,null,null,null,null,null,null,null,null,null,null,null,null,"EDUCACIÓN PRE ESCOLAR",null,null,null,null,null,"Chonchi",49,49,"65 >","65 >"]
[null,null,null,null,null,null,null,null,null,null,null,null,null,null,null,null,null,null,null,null,null,null,null,null,null,null,null,null,null,null,null,null,null,null,null,"EDUCACIÓN ESCOLAR",null,null,null,null,null,"Cisnes",50,50]
[null,null,null,null,null,null,null,null,null,null,null,null,null,null,null,null,null,null,null,null,null,null,null,null,null,null,null,null,null,null,null,null,null,null,null,"EDUCACIÓN SUPERIOR",null,null,null,null,null,"Cobquecura",51,51]
[null,null,null,null,null,null,null,null,null,null,null,null,null,null,null,null,null,null,null,null,null,null,null,null,null,null,null,null,null,null,null,null,null,null,null,"SALUD PÚBLICA",null,null,null,null,null,"Cochamó",52,52]
[null,null,null,null,null,null,null,null,null,null,null,null,null,null,null,null,null,null,null,null,null,null,null,null,null,null,null,null,null,null,null,null,null,null,null,"ACTIVIDAD DE ATENCIÓN EN INSTITUCIONES CON ALOJAMIENTO",null,null,null,null,null,"Cochrane",53,53]
[null,null,null,null,null,null,null,null,null,null,null,null,null,null,null,null,null,null,null,null,null,null,null,null,null,null,null,null,null,null,null,null,null,null,null,"ACTIVIDADES CREATIVAS, ARTÍSTICAS Y DE ENTRETENIMIENTO",null,null,null,null,null,"Codegua",54,54]
[null,null,null,null,null,null,null,null,null,null,null,null,null,null,null,null,null,null,null,null,null,null,null,null,null,null,null,null,null,null,null,null,null,null,null,"ACTIVIDADES DE BIBLIOTECAS, ARCHIVOS, MUSEOS Y OTRAS ACTIVIDADES CULTURALES",null,null,null,null,null,"Coelemu",55,55]
[null,null,null,null,null,null,null,null,null,null,null,null,null,null,null,null,null,null,null,null,null,null,null,null,null,null,null,null,null,null,null,null,null,null,null,"ACTIVIDADES DE JUEGOS DE AZAR Y APUESTAS",null,null,null,null,null,"Coihaique",56,56]
[null,null,null,null,null,null,null,null,null,null,null,null,null,null,null,null,null,null,null,null,null,null,null,null,null,null,null,null,null,null,null,null,null,null,null,"ACTIVIDADES DEPORTIVAS, DE ESPARCIMIENTO Y RECREATIVAS",null,null,null,null,null,"Coihueco",57,57]
[null,null,null,null,null,null,null,null,null,null,null,null,null,null,null,null,null,null,null,null,null,null,null,null,null,null,null,null,null,null,null,null,null,null,null,"OTRAS ACTIVIDADES DE SERVICIOS PERSONALES",null,null,null,null,null,"Coinco",58,58]
[null,null,null,null,null,null,null,null,null,null,null,null,null,null,null,null,null,null,null,null,null,null,null,null,null,null,null,null,null,null,null,null,null,null,null,"CEMENTERIOS Y FUNERARIAS",null,null,null,null,null,"Colbún",59,59]
[null,null,null,null,null,null,null,null,null,null,null,null,null,null,null,null,null,null,null,null,null,null,null,null,null,null,null,null,null,null,null,null,null,null,null,"SERVICIOS DOMÉSTICOS",null,null,null,null,null,"Colchane",60,60]
[null,null,null,null,null,null,null,null,null,null,null,null,null,null,null,null,null,null,null,null,null,null,null,null,null,null,null,null,null,null,null,null,null,null,null,null,null,null,null,null,null,"Colina",61,61]
[null,null,null,null,null,null,null,null,null,null,null,null,null,null,null,null,null,null,null,null,null,null,null,null,null,null,null,null,null,null,null,null,null,null,null,null,null,null,null,null,null,"Collipulli",62,62]
[null,null,null,null,null,null,null,null,null,null,null,null,null,null,null,null,null,null,null,null,null,null,null,null,null,null,null,null,null,null,null,null,null,null,null,null,null,null,null,null,null,"Coltauco",63,63]
[null,null,null,null,null,null,null,null,null,null,null,null,null,null,null,null,null,null,null,null,null,null,null,null,null,null,null,null,null,null,null,null,null,null,null,null,null,null,null,null,null,"Combarbalá",64,64]
[null,null,null,null,null,null,null,null,null,null,null,null,null,null,null,null,null,null,null,null,null,null,null,null,null,null,null,null,null,null,null,null,null,null,null,null,null,null,null,null,null,"Concepción",65,65]
[null,null,null,null,null,null,null,null,null,null,null,null,null,null,null,null,null,null,null,null,null,null,null,null,null,null,null,null,null,null,null,null,null,null,null,null,null,null,null,null,null,"Conchalí",66,66]
[null,null,null,null,null,null,null,null,null,null,null,null,null,null,null,null,null,null,null,null,null,null,null,null,null,null,null,null,null,null,null,null,null,null,null,null,null,null,null,null,null,"Concón",67,67]
[null,null,null,null,null,null,null,null,null,null,null,null,null,null,null,null,null,null,null,null,null,null,null,null,null,null,null,null,null,null,null,null,null,null,null,null,null,null,null,null,null,"Constitución",68,68]
[null,null,null,null,null,null,null,null,null,null,null,null,null,null,null,null,null,null,null,null,null,null,null,null,null,null,null,null,null,null,null,null,null,null,null,null,null,null,null,null,null,"Contulmo",69,69]
[null,null,null,null,null,null,null,null,null,null,null,null,null,null,null,null,null,null,null,null,null,null,null,null,null,null,null,null,null,null,null,null,null,null,null,null,null,null,null,null,null,"Copiapó",70,70]
[null,null,null,null,null,null,null,null,null,null,null,null,null,null,null,null,null,null,null,null,null,null,null,null,null,null,null,null,null,null,null,null,null,null,null,null,null,null,null,null,null,"Coquimbo",71,71]
[null,null,null,null,null,null,null,null,null,null,null,null,null,null,null,null,null,null,null,null,null,null,null,null,null,null,null,null,null,null,null,null,null,null,null,null,null,null,null,null,null,"Coronel",72,72]
[null,null,null,null,null,null,null,null,null,null,null,null,null,null,null,null,null,null,null,null,null,null,null,null,null,null,null,null,null,null,null,null,null,null,null,null,null,null,null,null,null,"Corral",73,73]
[null,null,null,null,null,null,null,null,null,null,null,null,null,null,null,null,null,null,null,null,null,null,null,null,null,null,null,null,null,null,null,null,null,null,null,null,null,null,null,null,null,"Cunco",74,74]
[null,null,null,null,null,null,null,null,null,null,null,null,null,null,null,null,null,null,null,null,null,null,null,null,null,null,null,null,null,null,null,null,null,null,null,null,null,null,null,null,null,"Curacautín",75,75]
[null,null,null,null,null,null,null,null,null,null,null,null,null,null,null,null,null,null,null,null,null,null,null,null,null,null,null,null,null,null,null,null,null,null,null,null,null,null,null,null,null,"Curacaví",76,76]
[null,null,null,null,null,null,null,null,null,null,null,null,null,null,null,null,null,null,null,null,null,null,null,null,null,null,null,null,null,null,null,null,null,null,null,null,null,null,null,null,null,"Curaco de Vélez",77,77]
[null,null,null,null,null,null,null,null,null,null,null,null,null,null,null,null,null,null,null,null,null,null,null,null,null,null,null,null,null,null,null,null,null,null,null,null,null,null,null,null,null,"Curanilahue",78,78]
[null,null,null,null,null,null,null,null,null,null,null,null,null,null,null,null,null,null,null,null,null,null,null,null,null,null,null,null,null,null,null,null,null,null,null,null,null,null,null,null,null,"Curarrehue",79,79]
[null,null,null,null,null,null,null,null,null,null,null,null,null,null,null,null,null,null,null,null,null,null,null,null,null,null,null,null,null,null,null,null,null,null,null,null,null,null,null,null,null,"Curepto",80,80]
[null,null,null,null,null,null,null,null,null,null,null,null,null,null,null,null,null,null,null,null,null,null,null,null,null,null,null,null,null,null,null,null,null,null,null,null,null,null,null,null,null,"Curicó",81,81]
[null,null,null,null,null,null,null,null,null,null,null,null,null,null,null,null,null,null,null,null,null,null,null,null,null,null,null,null,null,null,null,null,null,null,null,null,null,null,null,null,null,"Dalcahue",82,82]
[null,null,null,null,null,null,null,null,null,null,null,null,null,null,null,null,null,null,null,null,null,null,null,null,null,null,null,null,null,null,null,null,null,null,null,null,null,null,null,null,null,"Diego de Almagro",83,83]
[null,null,null,null,null,null,null,null,null,null,null,null,null,null,null,null,null,null,null,null,null,null,null,null,null,null,null,null,null,null,null,null,null,null,null,null,null,null,null,null,null,"Doñihue",84,84]
[null,null,null,null,null,null,null,null,null,null,null,null,null,null,null,null,null,null,null,null,null,null,null,null,null,null,null,null,null,null,null,null,null,null,null,null,null,null,null,null,null,"El Bosque",85,85]
[null,null,null,null,null,null,null,null,null,null,null,null,null,null,null,null,null,null,null,null,null,null,null,null,null,null,null,null,null,null,null,null,null,null,null,null,null,null,null,null,null,"El Carmen",86,86]
[null,null,null,null,null,null,null,null,null,null,null,null,null,null,null,null,null,null,null,null,null,null,null,null,null,null,null,null,null,null,null,null,null,null,null,null,null,null,null,null,null,"El Monte",87,87]
[null,null,null,null,null,null,null,null,null,null,null,null,null,null,null,null,null,null,null,null,null,null,null,null,null,null,null,null,null,null,null,null,null,null,null,null,null,null,null,null,null,"El Quisco",88,88]
[null,null,null,null,null,null,null,null,null,null,null,null,null,null,null,null,null,null,null,null,null,null,null,null,null,null,null,null,null,null,null,null,null,null,null,null,null,null,null,null,null,"El Tabo",89,89]
[null,null,null,null,null,null,null,null,null,null,null,null,null,null,null,null,null,null,null,null,null,null,null,null,null,null,null,null,null,null,null,null,null,null,null,null,null,null,null,null,null,"Empedrado",90,90]
[null,null,null,null,null,null,null,null,null,null,null,null,null,null,null,null,null,null,null,null,null,null,null,null,null,null,null,null,null,null,null,null,null,null,null,null,null,null,null,null,null,"Ercilla",91,91]
[null,null,null,null,null,null,null,null,null,null,null,null,null,null,null,null,null,null,null,null,null,null,null,null,null,null,null,null,null,null,null,null,null,null,null,null,null,null,null,null,null,"Estación Central",92,92]
[null,null,null,null,null,null,null,null,null,null,null,null,null,null,null,null,null,null,null,null,null,null,null,null,null,null,null,null,null,null,null,null,null,null,null,null,null,null,null,null,null,"Florida",93,93]
[null,null,null,null,null,null,null,null,null,null,null,null,null,null,null,null,null,null,null,null,null,null,null,null,null,null,null,null,null,null,null,null,null,null,null,null,null,null,null,null,null,"Freire",94,94]
[null,null,null,null,null,null,null,null,null,null,null,null,null,null,null,null,null,null,null,null,null,null,null,null,null,null,null,null,null,null,null,null,null,null,null,null,null,null,null,null,null,"Freirina",95,95]
[null,null,null,null,null,null,null,null,null,null,null,null,null,null,null,null,null,null,null,null,null,null,null,null,null,null,null,null,null,null,null,null,null,null,null,null,null,null,null,null,null,"Fresia",96,96]
[null,null,null,null,null,null,null,null,null,null,null,null,null,null,null,null,null,null,null,null,null,null,null,null,null,null,null,null,null,null,null,null,null,null,null,null,null,null,null,null,null,"Frutillar",97,97]
[null,null,null,null,null,null,null,null,null,null,null,null,null,null,null,null,null,null,null,null,null,null,null,null,null,null,null,null,null,null,null,null,null,null,null,null,null,null,null,null,null,"Futaleufú",98,98]
[null,null,null,null,null,null,null,null,null,null,null,null,null,null,null,null,null,null,null,null,null,null,null,null,null,null,null,null,null,null,null,null,null,null,null,null,null,null,null,null,null,"Futrono",99,99]
[null,null,null,null,null,null,null,null,null,null,null,null,null,null,null,null,null,null,null,null,null,null,null,null,null,null,null,null,null,null,null,null,null,null,null,null,null,null,null,null,null,"Galvarino","100>","100>"]
[null,null,null,null,null,null,null,null,null,null,null,null,null,null,null,null,null,null,null,null,null,null,null,null,null,null,null,null,null,null,null,null,null,null,null,null,null,null,null,null,null,"General Lagos"]
[null,null,null,null,null,null,null,null,null,null,null,null,null,null,null,null,null,null,null,null,null,null,null,null,null,null,null,null,null,null,null,null,null,null,null,null,null,null,null,null,null,"Gorbea"]
[null,null,null,null,null,null,null,null,null,null,null,null,null,null,null,null,null,null,null,null,null,null,null,null,null,null,null,null,null,null,null,null,null,null,null,null,null,null,null,null,null,"Graneros"]
[null,null,null,null,null,null,null,null,null,null,null,null,null,null,null,null,null,null,null,null,null,null,null,null,null,null,null,null,null,null,null,null,null,null,null,null,null,null,null,null,null,"Guaitecas"]
[null,null,null,null,null,null,null,null,null,null,null,null,null,null,null,null,null,null,null,null,null,null,null,null,null,null,null,null,null,null,null,null,null,null,null,null,null,null,null,null,null,"Hijuelas"]
[null,null,null,null,null,null,null,null,null,null,null,null,null,null,null,null,null,null,null,null,null,null,null,null,null,null,null,null,null,null,null,null,null,null,null,null,null,null,null,null,null,"Hualaihué"]
[null,null,null,null,null,null,null,null,null,null,null,null,null,null,null,null,null,null,null,null,null,null,null,null,null,null,null,null,null,null,null,null,null,null,null,null,null,null,null,null,null,"Hualañé"]
[null,null,null,null,null,null,null,null,null,null,null,null,null,null,null,null,null,null,null,null,null,null,null,null,null,null,null,null,null,null,null,null,null,null,null,null,null,null,null,null,null,"Hualpén"]
[null,null,null,null,null,null,null,null,null,null,null,null,null,null,null,null,null,null,null,null,null,null,null,null,null,null,null,null,null,null,null,null,null,null,null,null,null,null,null,null,null,"Hualqui"]
[null,null,null,null,null,null,null,null,null,null,null,null,null,null,null,null,null,null,null,null,null,null,null,null,null,null,null,null,null,null,null,null,null,null,null,null,null,null,null,null,null,"Huara"]
[null,null,null,null,null,null,null,null,null,null,null,null,null,null,null,null,null,null,null,null,null,null,null,null,null,null,null,null,null,null,null,null,null,null,null,null,null,null,null,null,null,"Huasco"]
[null,null,null,null,null,null,null,null,null,null,null,null,null,null,null,null,null,null,null,null,null,null,null,null,null,null,null,null,null,null,null,null,null,null,null,null,null,null,null,null,null,"Huechuraba"]
[null,null,null,null,null,null,null,null,null,null,null,null,null,null,null,null,null,null,null,null,null,null,null,null,null,null,null,null,null,null,null,null,null,null,null,null,null,null,null,null,null,"Illapel"]
[null,null,null,null,null,null,null,null,null,null,null,null,null,null,null,null,null,null,null,null,null,null,null,null,null,null,null,null,null,null,null,null,null,null,null,null,null,null,null,null,null,"Independencia"]
[null,null,null,null,null,null,null,null,null,null,null,null,null,null,null,null,null,null,null,null,null,null,null,null,null,null,null,null,null,null,null,null,null,null,null,null,null,null,null,null,null,"Iquique"]
[null,null,null,null,null,null,null,null,null,null,null,null,null,null,null,null,null,null,null,null,null,null,null,null,null,null,null,null,null,null,null,null,null,null,null,null,null,null,null,null,null,"Isla de Maipo"]
[null,null,null,null,null,null,null,null,null,null,null,null,null,null,null,null,null,null,null,null,null,null,null,null,null,null,null,null,null,null,null,null,null,null,null,null,null,null,null,null,null,"Isla de Pascua"]
[null,null,null,null,null,null,null,null,null,null,null,null,null,null,null,null,null,null,null,null,null,null,null,null,null,null,null,null,null,null,null,null,null,null,null,null,null,null,null,null,null,"Juan Fernández"]
[null,null,null,null,null,null,null,null,null,null,null,null,null,null,null,null,null,null,null,null,null,null,null,null,null,null,null,null,null,null,null,null,null,null,null,null,null,null,null,null,null,"La Cisterna"]
[null,null,null,null,null,null,null,null,null,null,null,null,null,null,null,null,null,null,null,null,null,null,null,null,null,null,null,null,null,null,null,null,null,null,null,null,null,null,null,null,null,"La Cruz"]
[null,null,null,null,null,null,null,null,null,null,null,null,null,null,null,null,null,null,null,null,null,null,null,null,null,null,null,null,null,null,null,null,null,null,null,null,null,null,null,null,null,"La Estrella"]
[null,null,null,null,null,null,null,null,null,null,null,null,null,null,null,null,null,null,null,null,null,null,null,null,null,null,null,null,null,null,null,null,null,null,null,null,null,null,null,null,null,"La Florida"]
[null,null,null,null,null,null,null,null,null,null,null,null,null,null,null,null,null,null,null,null,null,null,null,null,null,null,null,null,null,null,null,null,null,null,null,null,null,null,null,null,null,"La Granja"]
[null,null,null,null,null,null,null,null,null,null,null,null,null,null,null,null,null,null,null,null,null,null,null,null,null,null,null,null,null,null,null,null,null,null,null,null,null,null,null,null,null,"La Higuera"]
[null,null,null,null,null,null,null,null,null,null,null,null,null,null,null,null,null,null,null,null,null,null,null,null,null,null,null,null,null,null,null,null,null,null,null,null,null,null,null,null,null,"La Ligua"]
[null,null,null,null,null,null,null,null,null,null,null,null,null,null,null,null,null,null,null,null,null,null,null,null,null,null,null,null,null,null,null,null,null,null,null,null,null,null,null,null,null,"La Pintana"]
[null,null,null,null,null,null,null,null,null,null,null,null,null,null,null,null,null,null,null,null,null,null,null,null,null,null,null,null,null,null,null,null,null,null,null,null,null,null,null,null,null,"La Reina"]
[null,null,null,null,null,null,null,null,null,null,null,null,null,null,null,null,null,null,null,null,null,null,null,null,null,null,null,null,null,null,null,null,null,null,null,null,null,null,null,null,null,"La Serena"]
[null,null,null,null,null,null,null,null,null,null,null,null,null,null,null,null,null,null,null,null,null,null,null,null,null,null,null,null,null,null,null,null,null,null,null,null,null,null,null,null,null,"La Unión"]
[null,null,null,null,null,null,null,null,null,null,null,null,null,null,null,null,null,null,null,null,null,null,null,null,null,null,null,null,null,null,null,null,null,null,null,null,null,null,null,null,null,"Lago Ranco"]
[null,null,null,null,null,null,null,null,null,null,null,null,null,null,null,null,null,null,null,null,null,null,null,null,null,null,null,null,null,null,null,null,null,null,null,null,null,null,null,null,null,"Lago Verde"]
[null,null,null,null,null,null,null,null,null,null,null,null,null,null,null,null,null,null,null,null,null,null,null,null,null,null,null,null,null,null,null,null,null,null,null,null,null,null,null,null,null,"Laguna Blanca"]
[null,null,null,null,null,null,null,null,null,null,null,null,null,null,null,null,null,null,null,null,null,null,null,null,null,null,null,null,null,null,null,null,null,null,null,null,null,null,null,null,null,"Laja"]
[null,null,null,null,null,null,null,null,null,null,null,null,null,null,null,null,null,null,null,null,null,null,null,null,null,null,null,null,null,null,null,null,null,null,null,null,null,null,null,null,null,"Lampa"]
[null,null,null,null,null,null,null,null,null,null,null,null,null,null,null,null,null,null,null,null,null,null,null,null,null,null,null,null,null,null,null,null,null,null,null,null,null,null,null,null,null,"Lanco"]
[null,null,null,null,null,null,null,null,null,null,null,null,null,null,null,null,null,null,null,null,null,null,null,null,null,null,null,null,null,null,null,null,null,null,null,null,null,null,null,null,null,"Las Cabras"]
[null,null,null,null,null,null,null,null,null,null,null,null,null,null,null,null,null,null,null,null,null,null,null,null,null,null,null,null,null,null,null,null,null,null,null,null,null,null,null,null,null,"Las Condes"]
[null,null,null,null,null,null,null,null,null,null,null,null,null,null,null,null,null,null,null,null,null,null,null,null,null,null,null,null,null,null,null,null,null,null,null,null,null,null,null,null,null,"Lautaro"]
[null,null,null,null,null,null,null,null,null,null,null,null,null,null,null,null,null,null,null,null,null,null,null,null,null,null,null,null,null,null,null,null,null,null,null,null,null,null,null,null,null,"Lebu"]
[null,null,null,null,null,null,null,null,null,null,null,null,null,null,null,null,null,null,null,null,null,null,null,null,null,null,null,null,null,null,null,null,null,null,null,null,null,null,null,null,null,"Licantén"]
[null,null,null,null,null,null,null,null,null,null,null,null,null,null,null,null,null,null,null,null,null,null,null,null,null,null,null,null,null,null,null,null,null,null,null,null,null,null,null,null,null,"Limache"]
[null,null,null,null,null,null,null,null,null,null,null,null,null,null,null,null,null,null,null,null,null,null,null,null,null,null,null,null,null,null,null,null,null,null,null,null,null,null,null,null,null,"Linares"]
[null,null,null,null,null,null,null,null,null,null,null,null,null,null,null,null,null,null,null,null,null,null,null,null,null,null,null,null,null,null,null,null,null,null,null,null,null,null,null,null,null,"Litueche"]
[null,null,null,null,null,null,null,null,null,null,null,null,null,null,null,null,null,null,null,null,null,null,null,null,null,null,null,null,null,null,null,null,null,null,null,null,null,null,null,null,null,"Llaillay"]
[null,null,null,null,null,null,null,null,null,null,null,null,null,null,null,null,null,null,null,null,null,null,null,null,null,null,null,null,null,null,null,null,null,null,null,null,null,null,null,null,null,"Llanquihue"]
[null,null,null,null,null,null,null,null,null,null,null,null,null,null,null,null,null,null,null,null,null,null,null,null,null,null,null,null,null,null,null,null,null,null,null,null,null,null,null,null,null,"Lo Barnechea"]
[null,null,null,null,null,null,null,null,null,null,null,null,null,null,null,null,null,null,null,null,null,null,null,null,null,null,null,null,null,null,null,null,null,null,null,null,null,null,null,null,null,"Lo Espejo"]
[null,null,null,null,null,null,null,null,null,null,null,null,null,null,null,null,null,null,null,null,null,null,null,null,null,null,null,null,null,null,null,null,null,null,null,null,null,null,null,null,null,"Lo Prado"]
[null,null,null,null,null,null,null,null,null,null,null,null,null,null,null,null,null,null,null,null,null,null,null,null,null,null,null,null,null,null,null,null,null,null,null,null,null,null,null,null,null,"Lolol"]
[null,null,null,null,null,null,null,null,null,null,null,null,null,null,null,null,null,null,null,null,null,null,null,null,null,null,null,null,null,null,null,null,null,null,null,null,null,null,null,null,null,"Loncoche"]
[null,null,null,null,null,null,null,null,null,null,null,null,null,null,null,null,null,null,null,null,null,null,null,null,null,null,null,null,null,null,null,null,null,null,null,null,null,null,null,null,null,"Longaví"]
[null,null,null,null,null,null,null,null,null,null,null,null,null,null,null,null,null,null,null,null,null,null,null,null,null,null,null,null,null,null,null,null,null,null,null,null,null,null,null,null,null,"Lonquimay"]
[null,null,null,null,null,null,null,null,null,null,null,null,null,null,null,null,null,null,null,null,null,null,null,null,null,null,null,null,null,null,null,null,null,null,null,null,null,null,null,null,null,"Los Alamos"]
[null,null,null,null,null,null,null,null,null,null,null,null,null,null,null,null,null,null,null,null,null,null,null,null,null,null,null,null,null,null,null,null,null,null,null,null,null,null,null,null,null,"Los Andes"]
[null,null,null,null,null,null,null,null,null,null,null,null,null,null,null,null,null,null,null,null,null,null,null,null,null,null,null,null,null,null,null,null,null,null,null,null,null,null,null,null,null,"Los Angeles"]
[null,null,null,null,null,null,null,null,null,null,null,null,null,null,null,null,null,null,null,null,null,null,null,null,null,null,null,null,null,null,null,null,null,null,null,null,null,null,null,null,null,"Los Lagos"]
[null,null,null,null,null,null,null,null,null,null,null,null,null,null,null,null,null,null,null,null,null,null,null,null,null,null,null,null,null,null,null,null,null,null,null,null,null,null,null,null,null,"Los Muermos"]
[null,null,null,null,null,null,null,null,null,null,null,null,null,null,null,null,null,null,null,null,null,null,null,null,null,null,null,null,null,null,null,null,null,null,null,null,null,null,null,null,null,"Los Sauces"]
[null,null,null,null,null,null,null,null,null,null,null,null,null,null,null,null,null,null,null,null,null,null,null,null,null,null,null,null,null,null,null,null,null,null,null,null,null,null,null,null,null,"Los Vilos"]
[null,null,null,null,null,null,null,null,null,null,null,null,null,null,null,null,null,null,null,null,null,null,null,null,null,null,null,null,null,null,null,null,null,null,null,null,null,null,null,null,null,"Lota"]
[null,null,null,null,null,null,null,null,null,null,null,null,null,null,null,null,null,null,null,null,null,null,null,null,null,null,null,null,null,null,null,null,null,null,null,null,null,null,null,null,null,"Lumaco"]
[null,null,null,null,null,null,null,null,null,null,null,null,null,null,null,null,null,null,null,null,null,null,null,null,null,null,null,null,null,null,null,null,null,null,null,null,null,null,null,null,null,"Machalí"]
[null,null,null,null,null,null,null,null,null,null,null,null,null,null,null,null,null,null,null,null,null,null,null,null,null,null,null,null,null,null,null,null,null,null,null,null,null,null,null,null,null,"Macul"]
[null,null,null,null,null,null,null,null,null,null,null,null,null,null,null,null,null,null,null,null,null,null,null,null,null,null,null,null,null,null,null,null,null,null,null,null,null,null,null,null,null,"Máfil"]
[null,null,null,null,null,null,null,null,null,null,null,null,null,null,null,null,null,null,null,null,null,null,null,null,null,null,null,null,null,null,null,null,null,null,null,null,null,null,null,null,null,"Maipú"]
[null,null,null,null,null,null,null,null,null,null,null,null,null,null,null,null,null,null,null,null,null,null,null,null,null,null,null,null,null,null,null,null,null,null,null,null,null,null,null,null,null,"Malloa"]
[null,null,null,null,null,null,null,null,null,null,null,null,null,null,null,null,null,null,null,null,null,null,null,null,null,null,null,null,null,null,null,null,null,null,null,null,null,null,null,null,null,"Marchihue"]
[null,null,null,null,null,null,null,null,null,null,null,null,null,null,null,null,null,null,null,null,null,null,null,null,null,null,null,null,null,null,null,null,null,null,null,null,null,null,null,null,null,"María Elena"]
[null,null,null,null,null,null,null,null,null,null,null,null,null,null,null,null,null,null,null,null,null,null,null,null,null,null,null,null,null,null,null,null,null,null,null,null,null,null,null,null,null,"María Pinto"]
[null,null,null,null,null,null,null,null,null,null,null,null,null,null,null,null,null,null,null,null,null,null,null,null,null,null,null,null,null,null,null,null,null,null,null,null,null,null,null,null,null,"Mariquina"]
[null,null,null,null,null,null,null,null,null,null,null,null,null,null,null,null,null,null,null,null,null,null,null,null,null,null,null,null,null,null,null,null,null,null,null,null,null,null,null,null,null,"Maule"]
[null,null,null,null,null,null,null,null,null,null,null,null,null,null,null,null,null,null,null,null,null,null,null,null,null,null,null,null,null,null,null,null,null,null,null,null,null,null,null,null,null,"Maullín"]
[null,null,null,null,null,null,null,null,null,null,null,null,null,null,null,null,null,null,null,null,null,null,null,null,null,null,null,null,null,null,null,null,null,null,null,null,null,null,null,null,null,"Mejillones"]
[null,null,null,null,null,null,null,null,null,null,null,null,null,null,null,null,null,null,null,null,null,null,null,null,null,null,null,null,null,null,null,null,null,null,null,null,null,null,null,null,null,"Melipeuco"]
[null,null,null,null,null,null,null,null,null,null,null,null,null,null,null,null,null,null,null,null,null,null,null,null,null,null,null,null,null,null,null,null,null,null,null,null,null,null,null,null,null,"Melipilla"]
[null,null,null,null,null,null,null,null,null,null,null,null,null,null,null,null,null,null,null,null,null,null,null,null,null,null,null,null,null,null,null,null,null,null,null,null,null,null,null,null,null,"Molina"]
[null,null,null,null,null,null,null,null,null,null,null,null,null,null,null,null,null,null,null,null,null,null,null,null,null,null,null,null,null,null,null,null,null,null,null,null,null,null,null,null,null,"Monte Patria"]
[null,null,null,null,null,null,null,null,null,null,null,null,null,null,null,null,null,null,null,null,null,null,null,null,null,null,null,null,null,null,null,null,null,null,null,null,null,null,null,null,null,"Mostazal"]
[null,null,null,null,null,null,null,null,null,null,null,null,null,null,null,null,null,null,null,null,null,null,null,null,null,null,null,null,null,null,null,null,null,null,null,null,null,null,null,null,null,"Mulchén"]
[null,null,null,null,null,null,null,null,null,null,null,null,null,null,null,null,null,null,null,null,null,null,null,null,null,null,null,null,null,null,null,null,null,null,null,null,null,null,null,null,null,"Nacimiento"]
[null,null,null,null,null,null,null,null,null,null,null,null,null,null,null,null,null,null,null,null,null,null,null,null,null,null,null,null,null,null,null,null,null,null,null,null,null,null,null,null,null,"Nancagua"]
[null,null,null,null,null,null,null,null,null,null,null,null,null,null,null,null,null,null,null,null,null,null,null,null,null,null,null,null,null,null,null,null,null,null,null,null,null,null,null,null,null,"Natales"]
[null,null,null,null,null,null,null,null,null,null,null,null,null,null,null,null,null,null,null,null,null,null,null,null,null,null,null,null,null,null,null,null,null,null,null,null,null,null,null,null,null,"Navidad"]
[null,null,null,null,null,null,null,null,null,null,null,null,null,null,null,null,null,null,null,null,null,null,null,null,null,null,null,null,null,null,null,null,null,null,null,null,null,null,null,null,null,"Negrete"]
[null,null,null,null,null,null,null,null,null,null,null,null,null,null,null,null,null,null,null,null,null,null,null,null,null,null,null,null,null,null,null,null,null,null,null,null,null,null,null,null,null,"Ninhue"]
[null,null,null,null,null,null,null,null,null,null,null,null,null,null,null,null,null,null,null,null,null,null,null,null,null,null,null,null,null,null,null,null,null,null,null,null,null,null,null,null,null,"Nogales"]
[null,null,null,null,null,null,null,null,null,null,null,null,null,null,null,null,null,null,null,null,null,null,null,null,null,null,null,null,null,null,null,null,null,null,null,null,null,null,null,null,null,"Nueva Imperial"]
[null,null,null,null,null,null,null,null,null,null,null,null,null,null,null,null,null,null,null,null,null,null,null,null,null,null,null,null,null,null,null,null,null,null,null,null,null,null,null,null,null,"Ñiquén"]
[null,null,null,null,null,null,null,null,null,null,null,null,null,null,null,null,null,null,null,null,null,null,null,null,null,null,null,null,null,null,null,null,null,null,null,null,null,null,null,null,null,"Ñuñoa"]
[null,null,null,null,null,null,null,null,null,null,null,null,null,null,null,null,null,null,null,null,null,null,null,null,null,null,null,null,null,null,null,null,null,null,null,null,null,null,null,null,null,"O'Higgins"]
[null,null,null,null,null,null,null,null,null,null,null,null,null,null,null,null,null,null,null,null,null,null,null,null,null,null,null,null,null,null,null,null,null,null,null,null,null,null,null,null,null,"Olivar"]
[null,null,null,null,null,null,null,null,null,null,null,null,null,null,null,null,null,null,null,null,null,null,null,null,null,null,null,null,null,null,null,null,null,null,null,null,null,null,null,null,null,"Ollagüe"]
[null,null,null,null,null,null,null,null,null,null,null,null,null,null,null,null,null,null,null,null,null,null,null,null,null,null,null,null,null,null,null,null,null,null,null,null,null,null,null,null,null,"Olmué"]
[null,null,null,null,null,null,null,null,null,null,null,null,null,null,null,null,null,null,null,null,null,null,null,null,null,null,null,null,null,null,null,null,null,null,null,null,null,null,null,null,null,"Osorno"]
[null,null,null,null,null,null,null,null,null,null,null,null,null,null,null,null,null,null,null,null,null,null,null,null,null,null,null,null,null,null,null,null,null,null,null,null,null,null,null,null,null,"Ovalle"]
[null,null,null,null,null,null,null,null,null,null,null,null,null,null,null,null,null,null,null,null,null,null,null,null,null,null,null,null,null,null,null,null,null,null,null,null,null,null,null,null,null,"Padre Hurtado"]
[null,null,null,null,null,null,null,null,null,null,null,null,null,null,null,null,null,null,null,null,null,null,null,null,null,null,null,null,null,null,null,null,null,null,null,null,null,null,null,null,null,"Padre Las Casas"]
[null,null,null,null,null,null,null,null,null,null,null,null,null,null,null,null,null,null,null,null,null,null,null,null,null,null,null,null,null,null,null,null,null,null,null,null,null,null,null,null,null,"Paiguano"]
[null,null,null,null,null,null,null,null,null,null,null,null,null,null,null,null,null,null,null,null,null,null,null,null,null,null,null,null,null,null,null,null,null,null,null,null,null,null,null,null,null,"Paillaco"]
[null,null,null,null,null,null,null,null,null,null,null,null,null,null,null,null,null,null,null,null,null,null,null,null,null,null,null,null,null,null,null,null,null,null,null,null,null,null,null,null,null,"Paine"]
[null,null,null,null,null,null,null,null,null,null,null,null,null,null,null,null,null,null,null,null,null,null,null,null,null,null,null,null,null,null,null,null,null,null,null,null,null,null,null,null,null,"Palena"]
[null,null,null,null,null,null,null,null,null,null,null,null,null,null,null,null,null,null,null,null,null,null,null,null,null,null,null,null,null,null,null,null,null,null,null,null,null,null,null,null,null,"Palmilla"]
[null,null,null,null,null,null,null,null,null,null,null,null,null,null,null,null,null,null,null,null,null,null,null,null,null,null,null,null,null,null,null,null,null,null,null,null,null,null,null,null,null,"Panguipulli"]
[null,null,null,null,null,null,null,null,null,null,null,null,null,null,null,null,null,null,null,null,null,null,null,null,null,null,null,null,null,null,null,null,null,null,null,null,null,null,null,null,null,"Panquehue"]
[null,null,null,null,null,null,null,null,null,null,null,null,null,null,null,null,null,null,null,null,null,null,null,null,null,null,null,null,null,null,null,null,null,null,null,null,null,null,null,null,null,"Papudo"]
[null,null,null,null,null,null,null,null,null,null,null,null,null,null,null,null,null,null,null,null,null,null,null,null,null,null,null,null,null,null,null,null,null,null,null,null,null,null,null,null,null,"Paredones"]
[null,null,null,null,null,null,null,null,null,null,null,null,null,null,null,null,null,null,null,null,null,null,null,null,null,null,null,null,null,null,null,null,null,null,null,null,null,null,null,null,null,"Parral"]
[null,null,null,null,null,null,null,null,null,null,null,null,null,null,null,null,null,null,null,null,null,null,null,null,null,null,null,null,null,null,null,null,null,null,null,null,null,null,null,null,null,"Pedro Aguirre Cerda"]
[null,null,null,null,null,null,null,null,null,null,null,null,null,null,null,null,null,null,null,null,null,null,null,null,null,null,null,null,null,null,null,null,null,null,null,null,null,null,null,null,null,"Pelarco"]
[null,null,null,null,null,null,null,null,null,null,null,null,null,null,null,null,null,null,null,null,null,null,null,null,null,null,null,null,null,null,null,null,null,null,null,null,null,null,null,null,null,"Pelluhue"]
[null,null,null,null,null,null,null,null,null,null,null,null,null,null,null,null,null,null,null,null,null,null,null,null,null,null,null,null,null,null,null,null,null,null,null,null,null,null,null,null,null,"Pemuco"]
[null,null,null,null,null,null,null,null,null,null,null,null,null,null,null,null,null,null,null,null,null,null,null,null,null,null,null,null,null,null,null,null,null,null,null,null,null,null,null,null,null,"Pencahue"]
[null,null,null,null,null,null,null,null,null,null,null,null,null,null,null,null,null,null,null,null,null,null,null,null,null,null,null,null,null,null,null,null,null,null,null,null,null,null,null,null,null,"Penco"]
[null,null,null,null,null,null,null,null,null,null,null,null,null,null,null,null,null,null,null,null,null,null,null,null,null,null,null,null,null,null,null,null,null,null,null,null,null,null,null,null,null,"Peñaflor"]
[null,null,null,null,null,null,null,null,null,null,null,null,null,null,null,null,null,null,null,null,null,null,null,null,null,null,null,null,null,null,null,null,null,null,null,null,null,null,null,null,null,"Peñalolén"]
[null,null,null,null,null,null,null,null,null,null,null,null,null,null,null,null,null,null,null,null,null,null,null,null,null,null,null,null,null,null,null,null,null,null,null,null,null,null,null,null,null,"Peralillo"]
[null,null,null,null,null,null,null,null,null,null,null,null,null,null,null,null,null,null,null,null,null,null,null,null,null,null,null,null,null,null,null,null,null,null,null,null,null,null,null,null,null,"Perquenco"]
[null,null,null,null,null,null,null,null,null,null,null,null,null,null,null,null,null,null,null,null,null,null,null,null,null,null,null,null,null,null,null,null,null,null,null,null,null,null,null,null,null,"Petorca"]
[null,null,null,null,null,null,null,null,null,null,null,null,null,null,null,null,null,null,null,null,null,null,null,null,null,null,null,null,null,null,null,null,null,null,null,null,null,null,null,null,null,"Peumo"]
[null,null,null,null,null,null,null,null,null,null,null,null,null,null,null,null,null,null,null,null,null,null,null,null,null,null,null,null,null,null,null,null,null,null,null,null,null,null,null,null,null,"Pica"]
[null,null,null,null,null,null,null,null,null,null,null,null,null,null,null,null,null,null,null,null,null,null,null,null,null,null,null,null,null,null,null,null,null,null,null,null,null,null,null,null,null,"Pichidegua"]
[null,null,null,null,null,null,null,null,null,null,null,null,null,null,null,null,null,null,null,null,null,null,null,null,null,null,null,null,null,null,null,null,null,null,null,null,null,null,null,null,null,"Pichilemu"]
[null,null,null,null,null,null,null,null,null,null,null,null,null,null,null,null,null,null,null,null,null,null,null,null,null,null,null,null,null,null,null,null,null,null,null,null,null,null,null,null,null,"Pinto"]
[null,null,null,null,null,null,null,null,null,null,null,null,null,null,null,null,null,null,null,null,null,null,null,null,null,null,null,null,null,null,null,null,null,null,null,null,null,null,null,null,null,"Pirque"]
[null,null,null,null,null,null,null,null,null,null,null,null,null,null,null,null,null,null,null,null,null,null,null,null,null,null,null,null,null,null,null,null,null,null,null,null,null,null,null,null,null,"Pitrufquén"]
[null,null,null,null,null,null,null,null,null,null,null,null,null,null,null,null,null,null,null,null,null,null,null,null,null,null,null,null,null,null,null,null,null,null,null,null,null,null,null,null,null,"Placilla"]
[null,null,null,null,null,null,null,null,null,null,null,null,null,null,null,null,null,null,null,null,null,null,null,null,null,null,null,null,null,null,null,null,null,null,null,null,null,null,null,null,null,"Portezuelo"]
[null,null,null,null,null,null,null,null,null,null,null,null,null,null,null,null,null,null,null,null,null,null,null,null,null,null,null,null,null,null,null,null,null,null,null,null,null,null,null,null,null,"Porvenir"]
[null,null,null,null,null,null,null,null,null,null,null,null,null,null,null,null,null,null,null,null,null,null,null,null,null,null,null,null,null,null,null,null,null,null,null,null,null,null,null,null,null,"Pozo Almonte"]
[null,null,null,null,null,null,null,null,null,null,null,null,null,null,null,null,null,null,null,null,null,null,null,null,null,null,null,null,null,null,null,null,null,null,null,null,null,null,null,null,null,"Primavera"]
[null,null,null,null,null,null,null,null,null,null,null,null,null,null,null,null,null,null,null,null,null,null,null,null,null,null,null,null,null,null,null,null,null,null,null,null,null,null,null,null,null,"Providencia"]
[null,null,null,null,null,null,null,null,null,null,null,null,null,null,null,null,null,null,null,null,null,null,null,null,null,null,null,null,null,null,null,null,null,null,null,null,null,null,null,null,null,"Puchuncaví"]
[null,null,null,null,null,null,null,null,null,null,null,null,null,null,null,null,null,null,null,null,null,null,null,null,null,null,null,null,null,null,null,null,null,null,null,null,null,null,null,null,null,"Pucón"]
[null,null,null,null,null,null,null,null,null,null,null,null,null,null,null,null,null,null,null,null,null,null,null,null,null,null,null,null,null,null,null,null,null,null,null,null,null,null,null,null,null,"Pudahuel"]
[null,null,null,null,null,null,null,null,null,null,null,null,null,null,null,null,null,null,null,null,null,null,null,null,null,null,null,null,null,null,null,null,null,null,null,null,null,null,null,null,null,"Puente Alto"]
[null,null,null,null,null,null,null,null,null,null,null,null,null,null,null,null,null,null,null,null,null,null,null,null,null,null,null,null,null,null,null,null,null,null,null,null,null,null,null,null,null,"Puerto Montt"]
[null,null,null,null,null,null,null,null,null,null,null,null,null,null,null,null,null,null,null,null,null,null,null,null,null,null,null,null,null,null,null,null,null,null,null,null,null,null,null,null,null,"Puerto Octay"]
[null,null,null,null,null,null,null,null,null,null,null,null,null,null,null,null,null,null,null,null,null,null,null,null,null,null,null,null,null,null,null,null,null,null,null,null,null,null,null,null,null,"Puerto Varas"]
[null,null,null,null,null,null,null,null,null,null,null,null,null,null,null,null,null,null,null,null,null,null,null,null,null,null,null,null,null,null,null,null,null,null,null,null,null,null,null,null,null,"Pumanque"]
[null,null,null,null,null,null,null,null,null,null,null,null,null,null,null,null,null,null,null,null,null,null,null,null,null,null,null,null,null,null,null,null,null,null,null,null,null,null,null,null,null,"Punitaqui"]
[null,null,null,null,null,null,null,null,null,null,null,null,null,null,null,null,null,null,null,null,null,null,null,null,null,null,null,null,null,null,null,null,null,null,null,null,null,null,null,null,null,"Punta Arenas"]
[null,null,null,null,null,null,null,null,null,null,null,null,null,null,null,null,null,null,null,null,null,null,null,null,null,null,null,null,null,null,null,null,null,null,null,null,null,null,null,null,null,"Puqueldón"]
[null,null,null,null,null,null,null,null,null,null,null,null,null,null,null,null,null,null,null,null,null,null,null,null,null,null,null,null,null,null,null,null,null,null,null,null,null,null,null,null,null,"Purén"]
[null,null,null,null,null,null,null,null,null,null,null,null,null,null,null,null,null,null,null,null,null,null,null,null,null,null,null,null,null,null,null,null,null,null,null,null,null,null,null,null,null,"Purranque"]
[null,null,null,null,null,null,null,null,null,null,null,null,null,null,null,null,null,null,null,null,null,null,null,null,null,null,null,null,null,null,null,null,null,null,null,null,null,null,null,null,null,"Putaendo"]
[null,null,null,null,null,null,null,null,null,null,null,null,null,null,null,null,null,null,null,null,null,null,null,null,null,null,null,null,null,null,null,null,null,null,null,null,null,null,null,null,null,"Putre"]
[null,null,null,null,null,null,null,null,null,null,null,null,null,null,null,null,null,null,null,null,null,null,null,null,null,null,null,null,null,null,null,null,null,null,null,null,null,null,null,null,null,"Puyehue"]
[null,null,null,null,null,null,null,null,null,null,null,null,null,null,null,null,null,null,null,null,null,null,null,null,null,null,null,null,null,null,null,null,null,null,null,null,null,null,null,null,null,"Queilén"]
[null,null,null,null,null,null,null,null,null,null,null,null,null,null,null,null,null,null,null,null,null,null,null,null,null,null,null,null,null,null,null,null,null,null,null,null,null,null,null,null,null,"Quellón"]
[null,null,null,null,null,null,null,null,null,null,null,null,null,null,null,null,null,null,null,null,null,null,null,null,null,null,null,null,null,null,null,null,null,null,null,null,null,null,null,null,null,"Quemchi"]
[null,null,null,null,null,null,null,null,null,null,null,null,null,null,null,null,null,null,null,null,null,null,null,null,null,null,null,null,null,null,null,null,null,null,null,null,null,null,null,null,null,"Quilaco"]
[null,null,null,null,null,null,null,null,null,null,null,null,null,null,null,null,null,null,null,null,null,null,null,null,null,null,null,null,null,null,null,null,null,null,null,null,null,null,null,null,null,"Quilicura"]
[null,null,null,null,null,null,null,null,null,null,null,null,null,null,null,null,null,null,null,null,null,null,null,null,null,null,null,null,null,null,null,null,null,null,null,null,null,null,null,null,null,"Quilleco"]
[null,null,null,null,null,null,null,null,null,null,null,null,null,null,null,null,null,null,null,null,null,null,null,null,null,null,null,null,null,null,null,null,null,null,null,null,null,null,null,null,null,"Quillón"]
[null,null,null,null,null,null,null,null,null,null,null,null,null,null,null,null,null,null,null,null,null,null,null,null,null,null,null,null,null,null,null,null,null,null,null,null,null,null,null,null,null,"Quillota"]
[null,null,null,null,null,null,null,null,null,null,null,null,null,null,null,null,null,null,null,null,null,null,null,null,null,null,null,null,null,null,null,null,null,null,null,null,null,null,null,null,null,"Quilpué"]
[null,null,null,null,null,null,null,null,null,null,null,null,null,null,null,null,null,null,null,null,null,null,null,null,null,null,null,null,null,null,null,null,null,null,null,null,null,null,null,null,null,"Quinchao"]
[null,null,null,null,null,null,null,null,null,null,null,null,null,null,null,null,null,null,null,null,null,null,null,null,null,null,null,null,null,null,null,null,null,null,null,null,null,null,null,null,null,"Quinta de Tilcoco"]
[null,null,null,null,null,null,null,null,null,null,null,null,null,null,null,null,null,null,null,null,null,null,null,null,null,null,null,null,null,null,null,null,null,null,null,null,null,null,null,null,null,"Quinta Normal"]
[null,null,null,null,null,null,null,null,null,null,null,null,null,null,null,null,null,null,null,null,null,null,null,null,null,null,null,null,null,null,null,null,null,null,null,null,null,null,null,null,null,"Quintero"]
[null,null,null,null,null,null,null,null,null,null,null,null,null,null,null,null,null,null,null,null,null,null,null,null,null,null,null,null,null,null,null,null,null,null,null,null,null,null,null,null,null,"Quirihue"]
[null,null,null,null,null,null,null,null,null,null,null,null,null,null,null,null,null,null,null,null,null,null,null,null,null,null,null,null,null,null,null,null,null,null,null,null,null,null,null,null,null,"Rancagua"]
[null,null,null,null,null,null,null,null,null,null,null,null,null,null,null,null,null,null,null,null,null,null,null,null,null,null,null,null,null,null,null,null,null,null,null,null,null,null,null,null,null,"Ranquil"]
[null,null,null,null,null,null,null,null,null,null,null,null,null,null,null,null,null,null,null,null,null,null,null,null,null,null,null,null,null,null,null,null,null,null,null,null,null,null,null,null,null,"Rauco"]
[null,null,null,null,null,null,null,null,null,null,null,null,null,null,null,null,null,null,null,null,null,null,null,null,null,null,null,null,null,null,null,null,null,null,null,null,null,null,null,null,null,"Recoleta"]
[null,null,null,null,null,null,null,null,null,null,null,null,null,null,null,null,null,null,null,null,null,null,null,null,null,null,null,null,null,null,null,null,null,null,null,null,null,null,null,null,null,"Renaico"]
[null,null,null,null,null,null,null,null,null,null,null,null,null,null,null,null,null,null,null,null,null,null,null,null,null,null,null,null,null,null,null,null,null,null,null,null,null,null,null,null,null,"Renca"]
[null,null,null,null,null,null,null,null,null,null,null,null,null,null,null,null,null,null,null,null,null,null,null,null,null,null,null,null,null,null,null,null,null,null,null,null,null,null,null,null,null,"Rengo"]
[null,null,null,null,null,null,null,null,null,null,null,null,null,null,null,null,null,null,null,null,null,null,null,null,null,null,null,null,null,null,null,null,null,null,null,null,null,null,null,null,null,"Requínoa"]
[null,null,null,null,null,null,null,null,null,null,null,null,null,null,null,null,null,null,null,null,null,null,null,null,null,null,null,null,null,null,null,null,null,null,null,null,null,null,null,null,null,"Retiro"]
[null,null,null,null,null,null,null,null,null,null,null,null,null,null,null,null,null,null,null,null,null,null,null,null,null,null,null,null,null,null,null,null,null,null,null,null,null,null,null,null,null,"Rinconada"]
[null,null,null,null,null,null,null,null,null,null,null,null,null,null,null,null,null,null,null,null,null,null,null,null,null,null,null,null,null,null,null,null,null,null,null,null,null,null,null,null,null,"Río Bueno"]
[null,null,null,null,null,null,null,null,null,null,null,null,null,null,null,null,null,null,null,null,null,null,null,null,null,null,null,null,null,null,null,null,null,null,null,null,null,null,null,null,null,"Río Claro"]
[null,null,null,null,null,null,null,null,null,null,null,null,null,null,null,null,null,null,null,null,null,null,null,null,null,null,null,null,null,null,null,null,null,null,null,null,null,null,null,null,null,"Río Hurtado"]
[null,null,null,null,null,null,null,null,null,null,null,null,null,null,null,null,null,null,null,null,null,null,null,null,null,null,null,null,null,null,null,null,null,null,null,null,null,null,null,null,null,"Río Ibáñez"]
[null,null,null,null,null,null,null,null,null,null,null,null,null,null,null,null,null,null,null,null,null,null,null,null,null,null,null,null,null,null,null,null,null,null,null,null,null,null,null,null,null,"Río Negro"]
[null,null,null,null,null,null,null,null,null,null,null,null,null,null,null,null,null,null,null,null,null,null,null,null,null,null,null,null,null,null,null,null,null,null,null,null,null,null,null,null,null,"Río Verde"]
[null,null,null,null,null,null,null,null,null,null,null,null,null,null,null,null,null,null,null,null,null,null,null,null,null,null,null,null,null,null,null,null,null,null,null,null,null,null,null,null,null,"Romeral"]
[null,null,null,null,null,null,null,null,null,null,null,null,null,null,null,null,null,null,null,null,null,null,null,null,null,null,null,null,null,null,null,null,null,null,null,null,null,null,null,null,null,"Saavedra"]
[null,null,null,null,null,null,null,null,null,null,null,null,null,null,null,null,null,null,null,null,null,null,null,null,null,null,null,null,null,null,null,null,null,null,null,null,null,null,null,null,null,"Sagrada Familia"]
[null,null,null,null,null,null,null,null,null,null,null,null,null,null,null,null,null,null,null,null,null,null,null,null,null,null,null,null,null,null,null,null,null,null,null,null,null,null,null,null,null,"Salamanca"]
[null,null,null,null,null,null,null,null,null,null,null,null,null,null,null,null,null,null,null,null,null,null,null,null,null,null,null,null,null,null,null,null,null,null,null,null,null,null,null,null,null,"San Antonio"]
[null,null,null,null,null,null,null,null,null,null,null,null,null,null,null,null,null,null,null,null,null,null,null,null,null,null,null,null,null,null,null,null,null,null,null,null,null,null,null,null,null,"San Bernardo"]
[null,null,null,null,null,null,null,null,null,null,null,null,null,null,null,null,null,null,null,null,null,null,null,null,null,null,null,null,null,null,null,null,null,null,null,null,null,null,null,null,null,"San Carlos"]
[null,null,null,null,null,null,null,null,null,null,null,null,null,null,null,null,null,null,null,null,null,null,null,null,null,null,null,null,null,null,null,null,null,null,null,null,null,null,null,null,null,"San Clemente"]
[null,null,null,null,null,null,null,null,null,null,null,null,null,null,null,null,null,null,null,null,null,null,null,null,null,null,null,null,null,null,null,null,null,null,null,null,null,null,null,null,null,"San Esteban"]
[null,null,null,null,null,null,null,null,null,null,null,null,null,null,null,null,null,null,null,null,null,null,null,null,null,null,null,null,null,null,null,null,null,null,null,null,null,null,null,null,null,"San Fabián"]
[null,null,null,null,null,null,null,null,null,null,null,null,null,null,null,null,null,null,null,null,null,null,null,null,null,null,null,null,null,null,null,null,null,null,null,null,null,null,null,null,null,"San Felipe"]
[null,null,null,null,null,null,null,null,null,null,null,null,null,null,null,null,null,null,null,null,null,null,null,null,null,null,null,null,null,null,null,null,null,null,null,null,null,null,null,null,null,"San Fernando"]
[null,null,null,null,null,null,null,null,null,null,null,null,null,null,null,null,null,null,null,null,null,null,null,null,null,null,null,null,null,null,null,null,null,null,null,null,null,null,null,null,null,"San Gregorio"]
[null,null,null,null,null,null,null,null,null,null,null,null,null,null,null,null,null,null,null,null,null,null,null,null,null,null,null,null,null,null,null,null,null,null,null,null,null,null,null,null,null,"San Ignacio"]
[null,null,null,null,null,null,null,null,null,null,null,null,null,null,null,null,null,null,null,null,null,null,null,null,null,null,null,null,null,null,null,null,null,null,null,null,null,null,null,null,null,"San Javier"]
[null,null,null,null,null,null,null,null,null,null,null,null,null,null,null,null,null,null,null,null,null,null,null,null,null,null,null,null,null,null,null,null,null,null,null,null,null,null,null,null,null,"San Joaquín"]
[null,null,null,null,null,null,null,null,null,null,null,null,null,null,null,null,null,null,null,null,null,null,null,null,null,null,null,null,null,null,null,null,null,null,null,null,null,null,null,null,null,"San José de Maipo"]
[null,null,null,null,null,null,null,null,null,null,null,null,null,null,null,null,null,null,null,null,null,null,null,null,null,null,null,null,null,null,null,null,null,null,null,null,null,null,null,null,null,"San Juan de la Costa"]
[null,null,null,null,null,null,null,null,null,null,null,null,null,null,null,null,null,null,null,null,null,null,null,null,null,null,null,null,null,null,null,null,null,null,null,null,null,null,null,null,null,"San Miguel"]
[null,null,null,null,null,null,null,null,null,null,null,null,null,null,null,null,null,null,null,null,null,null,null,null,null,null,null,null,null,null,null,null,null,null,null,null,null,null,null,null,null,"San Nicolás"]
[null,null,null,null,null,null,null,null,null,null,null,null,null,null,null,null,null,null,null,null,null,null,null,null,null,null,null,null,null,null,null,null,null,null,null,null,null,null,null,null,null,"San Pablo"]
[null,null,null,null,null,null,null,null,null,null,null,null,null,null,null,null,null,null,null,null,null,null,null,null,null,null,null,null,null,null,null,null,null,null,null,null,null,null,null,null,null,"San Pedro"]
[null,null,null,null,null,null,null,null,null,null,null,null,null,null,null,null,null,null,null,null,null,null,null,null,null,null,null,null,null,null,null,null,null,null,null,null,null,null,null,null,null,"San Pedro de Atacama"]
[null,null,null,null,null,null,null,null,null,null,null,null,null,null,null,null,null,null,null,null,null,null,null,null,null,null,null,null,null,null,null,null,null,null,null,null,null,null,null,null,null,"San Pedro de la Paz"]
[null,null,null,null,null,null,null,null,null,null,null,null,null,null,null,null,null,null,null,null,null,null,null,null,null,null,null,null,null,null,null,null,null,null,null,null,null,null,null,null,null,"San Rafael"]
[null,null,null,null,null,null,null,null,null,null,null,null,null,null,null,null,null,null,null,null,null,null,null,null,null,null,null,null,null,null,null,null,null,null,null,null,null,null,null,null,null,"San Ramón"]
[null,null,null,null,null,null,null,null,null,null,null,null,null,null,null,null,null,null,null,null,null,null,null,null,null,null,null,null,null,null,null,null,null,null,null,null,null,null,null,null,null,"San Rosendo"]
[null,null,null,null,null,null,null,null,null,null,null,null,null,null,null,null,null,null,null,null,null,null,null,null,null,null,null,null,null,null,null,null,null,null,null,null,null,null,null,null,null,"San Vicente"]
[null,null,null,null,null,null,null,null,null,null,null,null,null,null,null,null,null,null,null,null,null,null,null,null,null,null,null,null,null,null,null,null,null,null,null,null,null,null,null,null,null,"Santa Bárbara"]
[null,null,null,null,null,null,null,null,null,null,null,null,null,null,null,null,null,null,null,null,null,null,null,null,null,null,null,null,null,null,null,null,null,null,null,null,null,null,null,null,null,"Santa Cruz"]
[null,null,null,null,null,null,null,null,null,null,null,null,null,null,null,null,null,null,null,null,null,null,null,null,null,null,null,null,null,null,null,null,null,null,null,null,null,null,null,null,null,"Santa Juana"]
[null,null,null,null,null,null,null,null,null,null,null,null,null,null,null,null,null,null,null,null,null,null,null,null,null,null,null,null,null,null,null,null,null,null,null,null,null,null,null,null,null,"Santa María"]
[null,null,null,null,null,null,null,null,null,null,null,null,null,null,null,null,null,null,null,null,null,null,null,null,null,null,null,null,null,null,null,null,null,null,null,null,null,null,null,null,null,"Santiago"]
[null,null,null,null,null,null,null,null,null,null,null,null,null,null,null,null,null,null,null,null,null,null,null,null,null,null,null,null,null,null,null,null,null,null,null,null,null,null,null,null,null,"Santo Domingo"]
[null,null,null,null,null,null,null,null,null,null,null,null,null,null,null,null,null,null,null,null,null,null,null,null,null,null,null,null,null,null,null,null,null,null,null,null,null,null,null,null,null,"Sierra Gorda"]
[null,null,null,null,null,null,null,null,null,null,null,null,null,null,null,null,null,null,null,null,null,null,null,null,null,null,null,null,null,null,null,null,null,null,null,null,null,null,null,null,null,"Talagante"]
[null,null,null,null,null,null,null,null,null,null,null,null,null,null,null,null,null,null,null,null,null,null,null,null,null,null,null,null,null,null,null,null,null,null,null,null,null,null,null,null,null,"Talca"]
[null,null,null,null,null,null,null,null,null,null,null,null,null,null,null,null,null,null,null,null,null,null,null,null,null,null,null,null,null,null,null,null,null,null,null,null,null,null,null,null,null,"Talcahuano"]
[null,null,null,null,null,null,null,null,null,null,null,null,null,null,null,null,null,null,null,null,null,null,null,null,null,null,null,null,null,null,null,null,null,null,null,null,null,null,null,null,null,"Taltal"]
[null,null,null,null,null,null,null,null,null,null,null,null,null,null,null,null,null,null,null,null,null,null,null,null,null,null,null,null,null,null,null,null,null,null,null,null,null,null,null,null,null,"Temuco"]
[null,null,null,null,null,null,null,null,null,null,null,null,null,null,null,null,null,null,null,null,null,null,null,null,null,null,null,null,null,null,null,null,null,null,null,null,null,null,null,null,null,"Teno"]
[null,null,null,null,null,null,null,null,null,null,null,null,null,null,null,null,null,null,null,null,null,null,null,null,null,null,null,null,null,null,null,null,null,null,null,null,null,null,null,null,null,"Teodoro Schmidt"]
[null,null,null,null,null,null,null,null,null,null,null,null,null,null,null,null,null,null,null,null,null,null,null,null,null,null,null,null,null,null,null,null,null,null,null,null,null,null,null,null,null,"Tierra Amarilla"]
[null,null,null,null,null,null,null,null,null,null,null,null,null,null,null,null,null,null,null,null,null,null,null,null,null,null,null,null,null,null,null,null,null,null,null,null,null,null,null,null,null,"Tiltil"]
[null,null,null,null,null,null,null,null,null,null,null,null,null,null,null,null,null,null,null,null,null,null,null,null,null,null,null,null,null,null,null,null,null,null,null,null,null,null,null,null,null,"Timaukel"]
[null,null,null,null,null,null,null,null,null,null,null,null,null,null,null,null,null,null,null,null,null,null,null,null,null,null,null,null,null,null,null,null,null,null,null,null,null,null,null,null,null,"Tirúa"]
[null,null,null,null,null,null,null,null,null,null,null,null,null,null,null,null,null,null,null,null,null,null,null,null,null,null,null,null,null,null,null,null,null,null,null,null,null,null,null,null,null,"Tocopilla"]
[null,null,null,null,null,null,null,null,null,null,null,null,null,null,null,null,null,null,null,null,null,null,null,null,null,null,null,null,null,null,null,null,null,null,null,null,null,null,null,null,null,"Toltén"]
[null,null,null,null,null,null,null,null,null,null,null,null,null,null,null,null,null,null,null,null,null,null,null,null,null,null,null,null,null,null,null,null,null,null,null,null,null,null,null,null,null,"Tomé"]
[null,null,null,null,null,null,null,null,null,null,null,null,null,null,null,null,null,null,null,null,null,null,null,null,null,null,null,null,null,null,null,null,null,null,null,null,null,null,null,null,null,"Torres del Paine"]
[null,null,null,null,null,null,null,null,null,null,null,null,null,null,null,null,null,null,null,null,null,null,null,null,null,null,null,null,null,null,null,null,null,null,null,null,null,null,null,null,null,"Tortel"]
[null,null,null,null,null,null,null,null,null,null,null,null,null,null,null,null,null,null,null,null,null,null,null,null,null,null,null,null,null,null,null,null,null,null,null,null,null,null,null,null,null,"Traiguén"]
[null,null,null,null,null,null,null,null,null,null,null,null,null,null,null,null,null,null,null,null,null,null,null,null,null,null,null,null,null,null,null,null,null,null,null,null,null,null,null,null,null,"Treguaco"]
[null,null,null,null,null,null,null,null,null,null,null,null,null,null,null,null,null,null,null,null,null,null,null,null,null,null,null,null,null,null,null,null,null,null,null,null,null,null,null,null,null,"Tucapel"]
[null,null,null,null,null,null,null,null,null,null,null,null,null,null,null,null,null,null,null,null,null,null,null,null,null,null,null,null,null,null,null,null,null,null,null,null,null,null,null,null,null,"Valdivia"]
[null,null,null,null,null,null,null,null,null,null,null,null,null,null,null,null,null,null,null,null,null,null,null,null,null,null,null,null,null,null,null,null,null,null,null,null,null,null,null,null,null,"Vallenar"]
[null,null,null,null,null,null,null,null,null,null,null,null,null,null,null,null,null,null,null,null,null,null,null,null,null,null,null,null,null,null,null,null,null,null,null,null,null,null,null,null,null,"Valparaíso"]
[null,null,null,null,null,null,null,null,null,null,null,null,null,null,null,null,null,null,null,null,null,null,null,null,null,null,null,null,null,null,null,null,null,null,null,null,null,null,null,null,null,"Vichuquén"]
[null,null,null,null,null,null,null,null,null,null,null,null,null,null,null,null,null,null,null,null,null,null,null,null,null,null,null,null,null,null,null,null,null,null,null,null,null,null,null,null,null,"Victoria"]
[null,null,null,null,null,null,null,null,null,null,null,null,null,null,null,null,null,null,null,null,null,null,null,null,null,null,null,null,null,null,null,null,null,null,null,null,null,null,null,null,null,"Vicuña"]
[null,null,null,null,null,null,null,null,null,null,null,null,null,null,null,null,null,null,null,null,null,null,null,null,null,null,null,null,null,null,null,null,null,null,null,null,null,null,null,null,null,"Vilcún"]
[null,null,null,null,null,null,null,null,null,null,null,null,null,null,null,null,null,null,null,null,null,null,null,null,null,null,null,null,null,null,null,null,null,null,null,null,null,null,null,null,null,"Villa Alegre"]
[null,null,null,null,null,null,null,null,null,null,null,null,null,null,null,null,null,null,null,null,null,null,null,null,null,null,null,null,null,null,null,null,null,null,null,null,null,null,null,null,null,"Villa Alemana"]
[null,null,null,null,null,null,null,null,null,null,null,null,null,null,null,null,null,null,null,null,null,null,null,null,null,null,null,null,null,null,null,null,null,null,null,null,null,null,null,null,null,"Villarrica"]
[null,null,null,null,null,null,null,null,null,null,null,null,null,null,null,null,null,null,null,null,null,null,null,null,null,null,null,null,null,null,null,null,null,null,null,null,null,null,null,null,null,"Viña del Mar"]
[null,null,null,null,null,null,null,null,null,null,null,null,null,null,null,null,null,null,null,null,null,null,null,null,null,null,null,null,null,null,null,null,null,null,null,null,null,null,null,null,null,"Vitacura"]
[null,null,null,null,null,null,null,null,null,null,null,null,null,null,null,null,null,null,null,null,null,null,null,null,null,null,null,null,null,null,null,null,null,null,null,null,null,null,null,null,null,"Yerbas Buenas"]
[null,null,null,null,null,null,null,null,null,null,null,null,null,null,null,null,null,null,null,null,null,null,null,null,null,null,null,null,null,null,null,null,null,null,null,null,null,null,null,null,null,"Yumbel"]
[null,null,null,null,null,null,null,null,null,null,null,null,null,null,null,null,null,null,null,null,null,null,null,null,null,null,null,null,null,null,null,null,null,null,null,null,null,null,null,null,null,"Yungay"]
[null,null,null,null,null,null,null,null,null,null,null,null,null,null,null,null,null,null,null,null,null,null,null,null,null,null,null,null,null,null,null,null,null,null,null,null,null,null,null,null,null,"Zapallar"]
[]
[]
[]
[null,null,null,null,null,null,null,null,null,null,null,null,null,null,null,null,null,null,null,null,null,null,null,null,null,null,null,null,null,null,null,null,null,null,null,null,null,null,null,null,null,">>Seleccionar Sugerencias  desde lista desplegable<<"]
[null,null,null,null,null,null,null,null,null,null,null,null,null,null,null,null,null,null,null,null,null,null,null,null,null,null,null,null,null,null,null,null,null,null,null,null,null,null,null,null,null," Emplear carros traccionados para el transporte (o bien: ascensores, cintas móviles, grúas, etc.).Evitar pendientes con inclinación mayor a  5 u 8%."]
[null,null,null,null,null,null,null,null,null,null,null,null,null,null,null,null,null,null,null,null,null,null,null,null,null,null,null,null,null,null,null,null,null,null,null,null,null,null,null,null,null," Emplear técnica correcta para trasladar la carga al manipular antes de cargar (capacitación)."]
[null,null,null,null,null,null,null,null,null,null,null,null,null,null,null,null,null,null,null,null,null,null,null,null,null,null,null,null,null,null,null,null,null,null,null,null,null,null,null,null,null,"Considerar el uso de  asas verticales que  permiten a los usuarios encontrar sus alturas óptimas."]
[null,null,null,null,null,null,null,null,null,null,null,null,null,null,null,null,null,null,null,null,null,null,null,null,null,null,null,null,null,null,null,null,null,null,null,null,null,null,null,null,null,"Considerar un programa de mantención preventiva que incluya actividades de limpieza y reparación de las vías de transporte"]
[null,null,null,null,null,null,null,null,null,null,null,null,null,null,null,null,null,null,null,null,null,null,null,null,null,null,null,null,null,null,null,null,null,null,null,null,null,null,null,null,null,"Despejar la zona de trabajo de forma que se disponga de espacio suficiente para los pies."]
[null,null,null,null,null,null,null,null,null,null,null,null,null,null,null,null,null,null,null,null,null,null,null,null,null,null,null,null,null,null,null,null,null,null,null,null,null,null,null,null,null,"Diámetros pequeños (7,5-10cm) pueden ser aceptables para cargas livianas o distancias cortas, sobre pisos lisos y sin obstrucciones"]
[null,null,null,null,null,null,null,null,null,null,null,null,null,null,null,null,null,null,null,null,null,null,null,null,null,null,null,null,null,null,null,null,null,null,null,null,null,null,null,null,null,"El diámetro mínimo de las ruedas para carros cargados sobre 200 kg, o que se ocupen en el exterior, es de 20 cm."]
[null,null,null,null,null,null,null,null,null,null,null,null,null,null,null,null,null,null,null,null,null,null,null,null,null,null,null,null,null,null,null,null,null,null,null,null,null,null,null,null,null,"El espacio debe permitir una buena técnica de manipulación de carga. En caso de no ser posible,evalúe mecanizar la tarea. "]
[null,null,null,null,null,null,null,null,null,null,null,null,null,null,null,null,null,null,null,null,null,null,null,null,null,null,null,null,null,null,null,null,null,null,null,null,null,null,null,null,null,"Eliminar las diferencias de altura en pisos. Las ruedas más grandes generalmente son mejores que las de menor diámetro, ya que pueden superar más fácilmente un obstáculo. Una buena práctica es rellenar las zonas desniveladas."]
[null,null,null,null,null,null,null,null,null,null,null,null,null,null,null,null,null,null,null,null,null,null,null,null,null,null,null,null,null,null,null,null,null,null,null,null,null,null,null,null,null,"Elimine obstáculos en la ruta que dificulten el tránsito "]
[null,null,null,null,null,null,null,null,null,null,null,null,null,null,null,null,null,null,null,null,null,null,null,null,null,null,null,null,null,null,null,null,null,null,null,null,null,null,null,null,null,"Emplear ayudas mecánicas como carros auxiliares, transpaletas, grúas u otro medio mecánico para el movimiento."]
[null,null,null,null,null,null,null,null,null,null,null,null,null,null,null,null,null,null,null,null,null,null,null,null,null,null,null,null,null,null,null,null,null,null,null,null,null,null,null,null,null,"Emplear brazo accionado en forma neumatica para tomar y mover la carga."]
[null,null,null,null,null,null,null,null,null,null,null,null,null,null,null,null,null,null,null,null,null,null,null,null,null,null,null,null,null,null,null,null,null,null,null,null,null,null,null,null,null,"Emplear medios mecánicos para transportar personas/animales tales como: sillas accionadas, escaleras mecánicas, ascensores, etc.. En caso de implementar rampas que estas no superen una pendiente mayor al 5 u 8%"]
[null,null,null,null,null,null,null,null,null,null,null,null,null,null,null,null,null,null,null,null,null,null,null,null,null,null,null,null,null,null,null,null,null,null,null,null,null,null,null,null,null,"Emplear mesa plegable para levar altura de la carga. Rediseñar el puesto de trabajo, bajando altura destino a la altura de codo-cintura y/o subir el origen o punto de tomada de la carga a nivel similar de altura destino."]
[null,null,null,null,null,null,null,null,null,null,null,null,null,null,null,null,null,null,null,null,null,null,null,null,null,null,null,null,null,null,null,null,null,null,null,null,null,null,null,null,null,"Emplear técnica adecuada (capacitación), tomando y ubicando la carga lo más cerca posible del cuerpo para reducir la fuerza de compresión y de cizalla a nivel de columna lumbar."]
[null,null,null,null,null,null,null,null,null,null,null,null,null,null,null,null,null,null,null,null,null,null,null,null,null,null,null,null,null,null,null,null,null,null,null,null,null,null,null,null,null,"En caso de exposición a calor Implemente sistemas de\nventilación y de control de fuentes de calor radiante."]
[null,null,null,null,null,null,null,null,null,null,null,null,null,null,null,null,null,null,null,null,null,null,null,null,null,null,null,null,null,null,null,null,null,null,null,null,null,null,null,null,null,"En caso de exposición a calor mantenga puntos de hidratación a disposición."]
[null,null,null,null,null,null,null,null,null,null,null,null,null,null,null,null,null,null,null,null,null,null,null,null,null,null,null,null,null,null,null,null,null,null,null,null,null,null,null,null,null,"En caso de exposición a frío utilice  herramientas provistas de\nmaterial aislante"]
[null,null,null,null,null,null,null,null,null,null,null,null,null,null,null,null,null,null,null,null,null,null,null,null,null,null,null,null,null,null,null,null,null,null,null,null,null,null,null,null,null,"En caso de exposición a frío, considere el uso de ropa térmica adecuada para el entorno."]
[null,null,null,null,null,null,null,null,null,null,null,null,null,null,null,null,null,null,null,null,null,null,null,null,null,null,null,null,null,null,null,null,null,null,null,null,null,null,null,null,null,"En caso que la geometría de la carga no permita una manipulación segura. Evalúe mecanizar esta tarea."]
[null,null,null,null,null,null,null,null,null,null,null,null,null,null,null,null,null,null,null,null,null,null,null,null,null,null,null,null,null,null,null,null,null,null,null,null,null,null,null,null,null,"Evalúe mecanizar esta tarea o parte de ella."]
[null,null,null,null,null,null,null,null,null,null,null,null,null,null,null,null,null,null,null,null,null,null,null,null,null,null,null,null,null,null,null,null,null,null,null,null,null,null,null,null,null,"Evalúe mecanizar esta tarea o parte de ella. En su defecto, aumente la dotación en períodos peak para disminuir la frecuencia de manipulación"]
[null,null,null,null,null,null,null,null,null,null,null,null,null,null,null,null,null,null,null,null,null,null,null,null,null,null,null,null,null,null,null,null,null,null,null,null,null,null,null,null,null,"Evalúe si la postura que adopta el trabajador está asociada a un mal diseño del carro o posición de las asas. En este caso, modifique dicha condición. "]
[null,null,null,null,null,null,null,null,null,null,null,null,null,null,null,null,null,null,null,null,null,null,null,null,null,null,null,null,null,null,null,null,null,null,null,null,null,null,null,null,null,"Genere un programa periódico de mantención de carros así como un sistema de notificación que permita resolver en el corto tiempo problemas asociados a ruedas en mal estado o desgastadas. "]
[null,null,null,null,null,null,null,null,null,null,null,null,null,null,null,null,null,null,null,null,null,null,null,null,null,null,null,null,null,null,null,null,null,null,null,null,null,null,null,null,null,"La altura recomendada del carro es de 120 centímetros, con el fin\nde permitir una buena visibilidad. También se puede utilizar como\ncriterio técnico que la altura del carro o carga nunca debe superar la altura ojo-suelo de la persona menos 20 cm (como límite superior)."]
[null,null,null,null,null,null,null,null,null,null,null,null,null,null,null,null,null,null,null,null,null,null,null,null,null,null,null,null,null,null,null,null,null,null,null,null,null,null,null,null,null,"La capacidad de trabajo y fuerza se reducen cuando las manos de ubican muy por debajo de la cintura o muy por sobre el nivel de los hombros, siendo ideal que las manos queden a nivel de la cintura para su mayor\neficiencia biomecánica."]
[null,null,null,null,null,null,null,null,null,null,null,null,null,null,null,null,null,null,null,null,null,null,null,null,null,null,null,null,null,null,null,null,null,null,null,null,null,null,null,null,null,"Las asas pueden estar posicionadas vertical o horizontalmente. Si son verticales deben estar espaciadas 50 cm entre ellas (percentil\n95 ancho entre hombros)."]
[null,null,null,null,null,null,null,null,null,null,null,null,null,null,null,null,null,null,null,null,null,null,null,null,null,null,null,null,null,null,null,null,null,null,null,null,null,null,null,null,null,"Mantenga las rutas de tránsito debidamente señalizadas y en dimensiones que permitan un buen desplazamiento de la carga."]
[null,null,null,null,null,null,null,null,null,null,null,null,null,null,null,null,null,null,null,null,null,null,null,null,null,null,null,null,null,null,null,null,null,null,null,null,null,null,null,null,null,"Mantenga pisos secos, limpios y en buenas condiciones de mantención."]
[null,null,null,null,null,null,null,null,null,null,null,null,null,null,null,null,null,null,null,null,null,null,null,null,null,null,null,null,null,null,null,null,null,null,null,null,null,null,null,null,null,"Modificar la localización de los materiales de modo que la tarea se realice en la zona de alcance\nfuncional del trabajador, evitando inclinación, torsión o lateralización de tronco"]
[null,null,null,null,null,null,null,null,null,null,null,null,null,null,null,null,null,null,null,null,null,null,null,null,null,null,null,null,null,null,null,null,null,null,null,null,null,null,null,null,null,"Ordenar la carga sobre el carro, evitando almacenar\npor sobre la altura señalada en el punto anterior.los 120 cm"]
[null,null,null,null,null,null,null,null,null,null,null,null,null,null,null,null,null,null,null,null,null,null,null,null,null,null,null,null,null,null,null,null,null,null,null,null,null,null,null,null,null,"Para empujar o arrastrar un carro ubiquese frente a sus asas, evitando posturas de torsión de tronco. "]
[null,null,null,null,null,null,null,null,null,null,null,null,null,null,null,null,null,null,null,null,null,null,null,null,null,null,null,null,null,null,null,null,null,null,null,null,null,null,null,null,null,"Para mayor seguridad, los carros o carretillas altas se deben mover con un usuario en cada extremo con el fin de evitar riesgos de accidentes."]
[null,null,null,null,null,null,null,null,null,null,null,null,null,null,null,null,null,null,null,null,null,null,null,null,null,null,null,null,null,null,null,null,null,null,null,null,null,null,null,null,null,"Priorizar el uso de medio mecánicos como carros accionados, grúas o cintas transportadoras para el traslado de la carga."]
[null,null,null,null,null,null,null,null,null,null,null,null,null,null,null,null,null,null,null,null,null,null,null,null,null,null,null,null,null,null,null,null,null,null,null,null,null,null,null,null,null,"Realizar movimientos suaves y lentos, tanto el frenar como al salir del reposo el carro. Tomar pausas suficientes ante sintomas de fatiga. Rotación con tareas más livianas y de menor exigencias físicas.  "]
[null,null,null,null,null,null,null,null,null,null,null,null,null,null,null,null,null,null,null,null,null,null,null,null,null,null,null,null,null,null,null,null,null,null,null,null,null,null,null,null,null,"Realizar Pausas suficientes ante sintomas de fatiga. Rotación con tareas más livianas y de menor exigencias físicas."]
[null,null,null,null,null,null,null,null,null,null,null,null,null,null,null,null,null,null,null,null,null,null,null,null,null,null,null,null,null,null,null,null,null,null,null,null,null,null,null,null,null,"Si fuese posible, para evitar la torsión de tronco durante el manejo de la carga el trabajador debería dar un paso en el sentido del movimiento."]
[null,null,null,null,null,null,null,null,null,null,null,null,null,null,null,null,null,null,null,null,null,null,null,null,null,null,null,null,null,null,null,null,null,null,null,null,null,null,null,null,null,"Solicitar ayuda a colegas para realizar el empuje/arrastre. Tomar Pausas suficientes ante sintomas de fatiga. Rotación con tareas más livianas y de menor exigencias físicas. "]
[null,null,null,null,null,null,null,null,null,null,null,null,null,null,null,null,null,null,null,null,null,null,null,null,null,null,null,null,null,null,null,null,null,null,null,null,null,null,null,null,null,"Utilice  herramientas provistas de\nmaterial aislante"]
[null,null,null,null,null,null,null,null,null,null,null,null,null,null,null,null,null,null,null,null,null,null,null,null,null,null,null,null,null,null,null,null,null,null,null,null,null,null,null,null,null,"Utilice guantes acorde de tamaño ajustado a la mano del trabajador."]
[null,null,null,null,null,null,null,null,null,null,null,null,null,null,null,null,null,null,null,null,null,null,null,null,null,null,null,null,null,null,null,null,null,null,null,null,null,null,null,null,null,"Utilizar medio mecánicos como carros accionados, grúas, cintas transportadoras para el traslado de la carga."]